{"text_format":"1","workbook":"xlsx","n_sheets":10,"sheets":["Startside","Dine valg","Registerdata","Indtastningsark","Nøgletalsanalyse","Skyggetabeller","Hjælpefane","Rapport","Infotekster","Data"],"not_rendered":{"charts":41,"images":56,"macros":1,"external_links":2,"defined_names":100,"comments":0,"pivot_tables":0},"unopened":[],"bounds":{"document_bytes":16777216,"sheet_cells":100000,"rows_first":2000,"rows_last":500,"rows_between":2000,"halvings":0,"cell_chars":16384,"cell_head_chars":4096},"cells_cut":0,"cells_raw":0,"read":"whole","date_system":"1900"}

{"sheet":"Startside","index":0,"n_rows":16,"n_cols":2,"rows_kept":16,"cut":false,"hidden":false,"merged":[[14,1,14,12],[15,1,15,12]]}
[]
[]
[]
[]
[]
[]
[]
[null,"Indsatstrappens Nøgletal"]
[]
[]
[null,"Version 2.1"]
[]
[]
[]
[null,"Velkommen til Indsatstrappens Nøgletal.\n\nIndsatstrappens Nøgletal er et redskab til at følge kommunernes foranstaltningsmønster på indsatstrappens trin.\n\nRedskabet indeholder data om anbringelser og forebyggende foranstaltninger på området for udsatte børn og unge fra 2017 og frem til nyeste offentliggjorte år i de nationale registre. Data stammer fra anbringelsesstatistikken hos Danmarks Statistik. \n\nDu har mulighed for at se en enkelt kommunes nøgletal samt at sammenligne med udvalgte sammenligningskommuner, og hele landet. Du kan desuden se udviklingen i nøgletallene over tid.\n\nIndsatstrappens trin er illustreret i figuren til højre. Du kan se, hvordan de enkelte nøgletal er defineret ved at bruge infoknapperne ved opgørelserne.\n\nPå Socialstyrelsens hjemmeside kan du finde en vejledning til, hvordan du bruger redskabet. \nDu kan tilgå sidenvia linket nedenfor. I selve redskabet er der også \nvejledninger til hvert trin, ligesom du kan få yderligere informationer ved at trykke på info-boksene."]
[null,"Gå til mere information på Social.dk"]

{"sheet":"Dine valg","index":1,"n_rows":78,"n_cols":25,"rows_kept":78,"cut":false,"hidden":false,"merged":[[40,1,40,6],[70,3,70,4],[22,5,22,6],[4,1,14,3]]}
[]
[]
[null,"Dine valg"]
[]
[null,"Før du går i gang med at bruge redskabet, skal du tage stilling til hvilken kommune, du ønsker at se nøgletal for.\n\n\nNår du har foretaget dit valg, har du tre muligheder: \n1. Du kan se nøgletallene over tid og sammenligne med andre aktører ved at bruge knappen \"Nøgletalsanalyse\".\n2. Du kan se datagrundlaget for de nøgletal, der kan understøttes af registerdata ved at bruge knappen \"Registerdata\". \n3. Du kan se datagrundlaget for de nøgletal, som ikke er registerunderstøttede ved at bruge knappen \"Egne indtastninger\"."]
[]
[null,null,null,null,null,null,null,null,null,null,null,null,null,null,null,null,null,null,null,null,null,null,null,null,"Aarhus"]
[]
[]
[]
[]
[]
[]
[]
[]
[]
[]
[]
[]
[]
[]
[]
[null,"Vælg kommune",null,"Vælg sammenligningsgruppe",null,"Valgte kommuner"]
[null,{"$f":"VLOOKUP(Kom_valg,Data!B1674:C1771,2,FALSE)","v":"København"},null,null,null,"1.",{"$f":"IF($Y$7=\"\",\"\",$Y$7)","v":"Aarhus"}]
[null,null,null,null,null,"2.",{"$f":"IF($Y$8=\"\",\"\",$Y$8)","v":""}]
[null,null,null,null,null,"3.",{"$f":"IF($Y$9=\"\",\"\",$Y$9)","v":""}]
[null,null,null,null,null,"4.",{"$f":"IF($Y$10=\"\",\"\",$Y$10)","v":""}]
[null,null,null,null,null,"5.",{"$f":"IF($Y$11=\"\",\"\",$Y$11)","v":""}]
[null,null,null,null,null,"6.",{"$f":"IF($Y$12=\"\",\"\",$Y$12)","v":""}]
[null,null,null,null,null,"7.",{"$f":"IF($Y$13=\"\",\"\",$Y$13)","v":""}]
[]
[]
[]
[]
[]
[]
[]
[]
[]
[]
[]
[]
[]
[]
[]
[]
[]
[]
[]
[]
[]
[]
[]
[]
[]
[]
[]
[]
[]
[]
[]
[]
[]
[]
[]
[]
[]
[]
[]
[]
[null,null,null,"Vælg sammenligningsgruppe",null,null,"Valgte kommuner"]
[null,null,null,null,null,null,{"$f":"IF(K8=\"\",\"\",K8)","v":""}]
[null,null,null,null,null,null,""]
[null,null,null,null,null,null,""]
[null,null,null,null,null,null,""]
[null,null,null,null,null,null,""]
[null,null,null,null,null,null,""]
[null,null,null,null,null,null,""]

{"sheet":"Registerdata","index":2,"n_rows":381,"n_cols":18,"rows_kept":381,"cut":false,"hidden":false,"merged":[[2,3,3,3],[5,1,5,4],[9,1,9,2]]}
[]
[]
[null,"Registerdata"]
[]
[]
[null,"En række af nøgletallene i redskabet er baseret på registerdata. På denne side kan du se de registerbaserede nøgletal, og hvordan de for din valgte kommune ændrer sig over tid. \n\nDu kan vælge ét nøgletal af gangen, ved at vælge nøgletallet i rullemenuen nedenfor. Du kan se definitionen af det enkelte nøgletal, ved at klikke på infoknappen til venstre for tabellen.\n\nNøgletallet vil blive opgjort fra 2016 og frem til nyeste offentliggjorte data.\n\nDu kan se alle nøgletal over tid og sammenligne med andre aktører ved at vælge knappen \"Nøgletalsanalyse\".\n\nBemærk, at nøgletallet angives med *, hvis antallet af observationer er mindre end 3 individer."]
[null,null,null,null,{"$f":"IF(L10=\"\",\"\",L10)","v":""}]
[null,null,null,null,{"$f":"IF(L11=\"\",\"\",L11)","v":""},{"$f":"IF(M18=\"\",\"\",M18)","v":""}]
[null,null,null,null,null,{"$f":"IF(M86=\"\",\"\",M86)","v":""}]
[null,"Vælg nøgletal"]
[null,{"$f":"VLOOKUP(regNT_valg,Data!F1692:G1700,2,FALSE)","v":"Vis alle"}]
[]
[]
[]
[null,{"$f":"Skyggetabeller!B6","v":"Nøgletal 1: Institutionsanbringelser"}]
[]
[null,{"$f":"Skyggetabeller!B9","v":"Nøgletal 1: \nInstitutionsanbringelser"},null,"2017-01-01","2017-07-01","2018-01-01","2018-07-01","2019-01-01","2019-07-01","2020-01-01","2020-07-01","2021-01-01","2021-07-01","2022-01-01","2022-07-01","2023-01-01","2023-07-01","2024-01-01"]
[null,{"$f":"Skyggetabeller!B10","v":"København"}]
[null,{"$f":"Skyggetabeller!B11","v":"Antal anbragte"},null,{"$f":"Skyggetabeller!D11","v":225},{"$f":"Skyggetabeller!E11","v":227},{"$f":"Skyggetabeller!F11","v":215},{"$f":"Skyggetabeller!G11","v":219},{"$f":"Skyggetabeller!H11","v":206},{"$f":"Skyggetabeller!I11","v":195},{"$f":"Skyggetabeller!J11","v":162},{"$f":"Skyggetabeller!K11","v":183},{"$f":"Skyggetabeller!L11","v":203},{"$f":"Skyggetabeller!M11","v":221},{"$f":"Skyggetabeller!N11","v":220},{"$f":"Skyggetabeller!O11","v":246},{"$f":"Skyggetabeller!P11","v":252},{"$f":"Skyggetabeller!Q11","v":274},{"$f":"Skyggetabeller!R11","v":254}]
[null,{"$f":"Skyggetabeller!B12","v":"Antal 0-17-årige"},null,{"$f":"Skyggetabeller!D12","v":105885},{"$f":"Skyggetabeller!E12","v":106913},{"$f":"Skyggetabeller!F12","v":107770},{"$f":"Skyggetabeller!G12","v":108734},{"$f":"Skyggetabeller!H12","v":109335},{"$f":"Skyggetabeller!I12","v":110138},{"$f":"Skyggetabeller!J12","v":110822},{"$f":"Skyggetabeller!K12","v":111068},{"$f":"Skyggetabeller!L12","v":110927},{"$f":"Skyggetabeller!M12","v":110614},{"$f":"Skyggetabeller!N12","v":110513},{"$f":"Skyggetabeller!O12","v":110692},{"$f":"Skyggetabeller!P12","v":110835},{"$f":"Skyggetabeller!Q12","v":111075},{"$f":"Skyggetabeller!R12","v":110571}]
[null,{"$f":"Skyggetabeller!B13","v":"Andel"},null,{"$f":"Skyggetabeller!D13","v":2.1249468763280914},{"$f":"Skyggetabeller!E13","v":2.1232216849213845},{"$f":"Skyggetabeller!F13","v":1.9949893291268441},{"$f":"Skyggetabeller!G13","v":2.0140894292493612},{"$f":"Skyggetabeller!H13","v":1.8841176201582293},{"$f":"Skyggetabeller!I13","v":1.7705060923568614},{"$f":"Skyggetabeller!J13","v":1.4618036130010286},{"$f":"Skyggetabeller!K13","v":1.6476392840422083},{"$f":"Skyggetabeller!L13","v":1.8300323636265292},{"$f":"Skyggetabeller!M13","v":1.9979387780931888},{"$f":"Skyggetabeller!N13","v":1.9907160243591249},{"$f":"Skyggetabeller!O13","v":2.2223828280273192},{"$f":"Skyggetabeller!P13","v":2.2736500203004466},{"$f":"Skyggetabeller!Q13","v":2.4668017105559308},{"$f":"Skyggetabeller!R13","v":2.297166526485245}]
[null,{"$f":"Skyggetabeller!B14","v":"Sammenligningsgruppe, gns."}]
[null,{"$f":"Skyggetabeller!B15","v":"Antal anbragte"},null,{"$f":"Skyggetabeller!D15","v":188},{"$f":"Skyggetabeller!E15","v":186},{"$f":"Skyggetabeller!F15","v":178},{"$f":"Skyggetabeller!G15","v":166},{"$f":"Skyggetabeller!H15","v":173},{"$f":"Skyggetabeller!I15","v":173},{"$f":"Skyggetabeller!J15","v":166},{"$f":"Skyggetabeller!K15","v":168},{"$f":"Skyggetabeller!L15","v":169},{"$f":"Skyggetabeller!M15","v":168},{"$f":"Skyggetabeller!N15","v":154},{"$f":"Skyggetabeller!O15","v":168},{"$f":"Skyggetabeller!P15","v":162},{"$f":"Skyggetabeller!Q15","v":161},{"$f":"Skyggetabeller!R15","v":152}]
[null,{"$f":"Skyggetabeller!B16","v":"Antal 0-17-årige"},null,{"$f":"Skyggetabeller!D16","v":62903},{"$f":"Skyggetabeller!E16","v":63077},{"$f":"Skyggetabeller!F16","v":63245},{"$f":"Skyggetabeller!G16","v":63510},{"$f":"Skyggetabeller!H16","v":63607},{"$f":"Skyggetabeller!I16","v":63704},{"$f":"Skyggetabeller!J16","v":63890},{"$f":"Skyggetabeller!K16","v":64128},{"$f":"Skyggetabeller!L16","v":64334},{"$f":"Skyggetabeller!M16","v":64307},{"$f":"Skyggetabeller!N16","v":64049},{"$f":"Skyggetabeller!O16","v":64356},{"$f":"Skyggetabeller!P16","v":64420},{"$f":"Skyggetabeller!Q16","v":64601},{"$f":"Skyggetabeller!R16","v":64665}]
[null,{"$f":"Skyggetabeller!B17","v":"Andel"},null,{"$f":"Skyggetabeller!D17","v":2.9887286774875603},{"$f":"Skyggetabeller!E17","v":2.9487768917354975},{"$f":"Skyggetabeller!F17","v":2.8144517353150444},{"$f":"Skyggetabeller!G17","v":2.6137616123445127},{"$f":"Skyggetabeller!H17","v":2.7198264341974938},{"$f":"Skyggetabeller!I17","v":2.7156850433253799},{"$f":"Skyggetabeller!J17","v":2.5982156832055097},{"$f":"Skyggetabeller!K17","v":2.6197604790419158},{"$f":"Skyggetabeller!L17","v":2.6269157832561318},{"$f":"Skyggetabeller!M17","v":2.6124683160464648},{"$f":"Skyggetabeller!N17","v":2.4044091242642351},{"$f":"Skyggetabeller!O17","v":2.6104792093977252},{"$f":"Skyggetabeller!P17","v":2.5147469729897547},{"$f":"Skyggetabeller!Q17","v":2.4922214826395876},{"$f":"Skyggetabeller!R17","v":2.3505760457743756}]
[null,{"$f":"Skyggetabeller!B18","v":"Hele landet"}]
[null,{"$f":"Skyggetabeller!B19","v":"Antal anbragte"},null,{"$f":"Skyggetabeller!D19","v":3383},{"$f":"Skyggetabeller!E19","v":3460},{"$f":"Skyggetabeller!F19","v":3369},{"$f":"Skyggetabeller!G19","v":3409},{"$f":"Skyggetabeller!H19","v":3309},{"$f":"Skyggetabeller!I19","v":3282},{"$f":"Skyggetabeller!J19","v":3274},{"$f":"Skyggetabeller!K19","v":3343},{"$f":"Skyggetabeller!L19","v":3404},{"$f":"Skyggetabeller!M19","v":3494},{"$f":"Skyggetabeller!N19","v":3486},{"$f":"Skyggetabeller!O19","v":3675},{"$f":"Skyggetabeller!P19","v":3708},{"$f":"Skyggetabeller!Q19","v":3769},{"$f":"Skyggetabeller!R19","v":3790}]
[null,{"$f":"Skyggetabeller!B20","v":"Antal 0-17-årige"},null,{"$f":"Skyggetabeller!D20","v":1168201},{"$f":"Skyggetabeller!E20","v":1165363},{"$f":"Skyggetabeller!F20","v":1165475},{"$f":"Skyggetabeller!G20","v":1162195},{"$f":"Skyggetabeller!H20","v":1160360},{"$f":"Skyggetabeller!I20","v":1156537},{"$f":"Skyggetabeller!J20","v":1156116},{"$f":"Skyggetabeller!K20","v":1153027},{"$f":"Skyggetabeller!L20","v":1152972},{"$f":"Skyggetabeller!M20","v":1151374},{"$f":"Skyggetabeller!N20","v":1151704},{"$f":"Skyggetabeller!O20","v":1157254},{"$f":"Skyggetabeller!P20","v":1155814},{"$f":"Skyggetabeller!Q20","v":1151415},{"$f":"Skyggetabeller!R20","v":1148490}]
[null,{"$f":"Skyggetabeller!B21","v":"Andel"},null,{"$f":"Skyggetabeller!D21","v":2.8959057559443968},{"$f":"Skyggetabeller!E21","v":2.9690319668635436},{"$f":"Skyggetabeller!F21","v":2.8906668954718033},{"$f":"Skyggetabeller!G21","v":2.9332427002353305},{"$f":"Skyggetabeller!H21","v":2.8517011961804957},{"$f":"Skyggetabeller!I21","v":2.8377821029504462},{"$f":"Skyggetabeller!J21","v":2.8318957613249878},{"$f":"Skyggetabeller!K21","v":2.8993249941241621},{"$f":"Skyggetabeller!L21","v":2.9523700488823668},{"$f":"Skyggetabeller!M21","v":3.0346351402758791},{"$f":"Skyggetabeller!N21","v":3.0268193910935448},{"$f":"Skyggetabeller!O21","v":3.1756209094978285},{"$f":"Skyggetabeller!P21","v":3.2081286435360705},{"$f":"Skyggetabeller!Q21","v":3.2733636438642888},{"$f":"Skyggetabeller!R21","v":3.2999851979555763}]
[null,"Anm.: Hvis nøgletallet er angivet med * er der foretaget en diskretionering af data, da der er for få observationer. "]
[null,{"$f":"IF('Dine valg'!$G$24=\"\",\"Ingen sammenligningsgruppe valgt.\",\"Anm.: Valgte kommuner i sammenligningsgruppen: \"&'Dine valg'!$G$24&\" \"&'Dine valg'!$G$25&\" \"&'Dine valg'!$G$26&\" \"&'Dine valg'!$G$27&\" \"&'Dine valg'!$G$28&\" \"&'Dine valg'!$G$29&\" \"&'Dine valg'!$G$30)","v":"Anm.: Valgte kommuner i sammenligningsgruppen: Aarhus      "}]
[null,"Kilde: Socialstyrelsens egne beregninger baseret på registerdata fra Danmarks Statistik."]
[]
[null,"Undernøgletal - Institutionsanbringelser"]
[]
[null,{"$f":"Skyggetabeller!B24","v":"Nøgletal 1.1\nAnbragte på døgninstitutioner"},null,"2017-01-01","2017-07-01","2018-01-01","2018-07-01","2019-01-01","2019-07-01","2020-01-01","2020-07-01","2021-01-01","2021-07-01","2022-01-01","2022-07-01","2023-01-01","2023-07-01","2024-01-01"]
[null,{"$f":"Skyggetabeller!B25","v":"København"}]
[null,{"$f":"Skyggetabeller!B26","v":"Antal anbragte"},null,{"$f":"Skyggetabeller!D26","v":172},{"$f":"Skyggetabeller!E26","v":183},{"$f":"Skyggetabeller!F26","v":176},{"$f":"Skyggetabeller!G26","v":176},{"$f":"Skyggetabeller!H26","v":164},{"$f":"Skyggetabeller!I26","v":155},{"$f":"Skyggetabeller!J26","v":139},{"$f":"Skyggetabeller!K26","v":148},{"$f":"Skyggetabeller!L26","v":159},{"$f":"Skyggetabeller!M26","v":164},{"$f":"Skyggetabeller!N26","v":171},{"$f":"Skyggetabeller!O26","v":194},{"$f":"Skyggetabeller!P26","v":200},{"$f":"Skyggetabeller!Q26","v":220},{"$f":"Skyggetabeller!R26","v":189}]
[null,{"$f":"Skyggetabeller!B27","v":"Antal 0-17-årige"},null,{"$f":"Skyggetabeller!D27","v":225},{"$f":"Skyggetabeller!E27","v":227},{"$f":"Skyggetabeller!F27","v":215},{"$f":"Skyggetabeller!G27","v":219},{"$f":"Skyggetabeller!H27","v":206},{"$f":"Skyggetabeller!I27","v":195},{"$f":"Skyggetabeller!J27","v":162},{"$f":"Skyggetabeller!K27","v":183},{"$f":"Skyggetabeller!L27","v":203},{"$f":"Skyggetabeller!M27","v":221},{"$f":"Skyggetabeller!N27","v":220},{"$f":"Skyggetabeller!O27","v":246},{"$f":"Skyggetabeller!P27","v":252},{"$f":"Skyggetabeller!Q27","v":274},{"$f":"Skyggetabeller!R27","v":254}]
[null,{"$f":"Skyggetabeller!B28","v":"Andel"},null,{"$f":"Skyggetabeller!D28","v":0.76444444444444448},{"$f":"Skyggetabeller!E28","v":0.80616740088105732},{"$f":"Skyggetabeller!F28","v":0.81860465116279069},{"$f":"Skyggetabeller!G28","v":0.80365296803652964},{"$f":"Skyggetabeller!H28","v":0.79611650485436891},{"$f":"Skyggetabeller!I28","v":0.79487179487179482},{"$f":"Skyggetabeller!J28","v":0.85802469135802473},{"$f":"Skyggetabeller!K28","v":0.80874316939890711},{"$f":"Skyggetabeller!L28","v":0.78325123152709364},{"$f":"Skyggetabeller!M28","v":0.74208144796380093},{"$f":"Skyggetabeller!N28","v":0.77727272727272723},{"$f":"Skyggetabeller!O28","v":0.78861788617886175},{"$f":"Skyggetabeller!P28","v":0.79365079365079361},{"$f":"Skyggetabeller!Q28","v":0.8029197080291971},{"$f":"Skyggetabeller!R28","v":0.74409448818897639}]
[null,{"$f":"Skyggetabeller!B29","v":"Sammenligningsgruppe, gns."}]
[null,{"$f":"Skyggetabeller!B30","v":"Antal anbragte"},null,{"$f":"Skyggetabeller!D30","v":129},{"$f":"Skyggetabeller!E30","v":130},{"$f":"Skyggetabeller!F30","v":116},{"$f":"Skyggetabeller!G30","v":113},{"$f":"Skyggetabeller!H30","v":116},{"$f":"Skyggetabeller!I30","v":122},{"$f":"Skyggetabeller!J30","v":116},{"$f":"Skyggetabeller!K30","v":121},{"$f":"Skyggetabeller!L30","v":115},{"$f":"Skyggetabeller!M30","v":112},{"$f":"Skyggetabeller!N30","v":102},{"$f":"Skyggetabeller!O30","v":105},{"$f":"Skyggetabeller!P30","v":103},{"$f":"Skyggetabeller!Q30","v":110},{"$f":"Skyggetabeller!R30","v":101}]
[null,{"$f":"Skyggetabeller!B31","v":"Antal 0-17-årige"},null,{"$f":"Skyggetabeller!D31","v":188},{"$f":"Skyggetabeller!E31","v":186},{"$f":"Skyggetabeller!F31","v":178},{"$f":"Skyggetabeller!G31","v":166},{"$f":"Skyggetabeller!H31","v":173},{"$f":"Skyggetabeller!I31","v":173},{"$f":"Skyggetabeller!J31","v":166},{"$f":"Skyggetabeller!K31","v":168},{"$f":"Skyggetabeller!L31","v":169},{"$f":"Skyggetabeller!M31","v":168},{"$f":"Skyggetabeller!N31","v":154},{"$f":"Skyggetabeller!O31","v":168},{"$f":"Skyggetabeller!P31","v":162},{"$f":"Skyggetabeller!Q31","v":161},{"$f":"Skyggetabeller!R31","v":152}]
[null,{"$f":"Skyggetabeller!B32","v":"Andel"},null,{"$f":"Skyggetabeller!D32","v":0.68617021276595747},{"$f":"Skyggetabeller!E32","v":0.69892473118279574},{"$f":"Skyggetabeller!F32","v":0.651685393258427},{"$f":"Skyggetabeller!G32","v":0.68072289156626509},{"$f":"Skyggetabeller!H32","v":0.67052023121387283},{"$f":"Skyggetabeller!I32","v":0.7052023121387283},{"$f":"Skyggetabeller!J32","v":0.6987951807228916},{"$f":"Skyggetabeller!K32","v":0.72023809523809523},{"$f":"Skyggetabeller!L32","v":0.68047337278106512},{"$f":"Skyggetabeller!M32","v":0.66666666666666663},{"$f":"Skyggetabeller!N32","v":0.66233766233766234},{"$f":"Skyggetabeller!O32","v":0.625},{"$f":"Skyggetabeller!P32","v":0.63580246913580252},{"$f":"Skyggetabeller!Q32","v":0.68322981366459623},{"$f":"Skyggetabeller!R32","v":0.66447368421052633}]
[null,{"$f":"Skyggetabeller!B33","v":"Hele landet"}]
[null,{"$f":"Skyggetabeller!B34","v":"Antal anbragte"},null,{"$f":"Skyggetabeller!D34","v":1818},{"$f":"Skyggetabeller!E34","v":1809},{"$f":"Skyggetabeller!F34","v":1761},{"$f":"Skyggetabeller!G34","v":1780},{"$f":"Skyggetabeller!H34","v":1704},{"$f":"Skyggetabeller!I34","v":1695},{"$f":"Skyggetabeller!J34","v":1680},{"$f":"Skyggetabeller!K34","v":1669},{"$f":"Skyggetabeller!L34","v":1694},{"$f":"Skyggetabeller!M34","v":1680},{"$f":"Skyggetabeller!N34","v":1689},{"$f":"Skyggetabeller!O34","v":1762},{"$f":"Skyggetabeller!P34","v":1768},{"$f":"Skyggetabeller!Q34","v":1815},{"$f":"Skyggetabeller!R34","v":1800}]
[null,{"$f":"Skyggetabeller!B35","v":"Antal 0-17-årige"},null,{"$f":"Skyggetabeller!D35","v":3383},{"$f":"Skyggetabeller!E35","v":3460},{"$f":"Skyggetabeller!F35","v":3369},{"$f":"Skyggetabeller!G35","v":3409},{"$f":"Skyggetabeller!H35","v":3309},{"$f":"Skyggetabeller!I35","v":3282},{"$f":"Skyggetabeller!J35","v":3274},{"$f":"Skyggetabeller!K35","v":3343},{"$f":"Skyggetabeller!L35","v":3404},{"$f":"Skyggetabeller!M35","v":3494},{"$f":"Skyggetabeller!N35","v":3486},{"$f":"Skyggetabeller!O35","v":3675},{"$f":"Skyggetabeller!P35","v":3708},{"$f":"Skyggetabeller!Q35","v":3769},{"$f":"Skyggetabeller!R35","v":3790}]
[null,{"$f":"Skyggetabeller!B36","v":"Andel"},null,{"$f":"Skyggetabeller!D36","v":0.5373928465858705},{"$f":"Skyggetabeller!E36","v":0.52283236994219651},{"$f":"Skyggetabeller!F36","v":0.52270703472840607},{"$f":"Skyggetabeller!G36","v":0.52214725726019362},{"$f":"Skyggetabeller!H36","v":0.51495920217588398},{"$f":"Skyggetabeller!I36","v":0.51645338208409508},{"$f":"Skyggetabeller!J36","v":0.51313378130726939},{"$f":"Skyggetabeller!K36","v":0.49925216871073885},{"$f":"Skyggetabeller!L36","v":0.49764982373678024},{"$f":"Skyggetabeller!M36","v":0.48082427017744706},{"$f":"Skyggetabeller!N36","v":0.48450946643717729},{"$f":"Skyggetabeller!O36","v":0.47945578231292518},{"$f":"Skyggetabeller!P36","v":0.47680690399136999},{"$f":"Skyggetabeller!Q36","v":0.481560095516052},{"$f":"Skyggetabeller!R36","v":0.47493403693931396}]
[null,"Anm.: Hvis nøgletallet er angivet med * er der foretaget en diskretionering af data, da der er for få observationer. "]
[null,{"$f":"IF('Dine valg'!$G$24=\"\",\"Ingen sammenligningsgruppe valgt.\",\"Anm.: Valgte kommuner i sammenligningsgruppen: \"&'Dine valg'!$G$24&\" \"&'Dine valg'!$G$25&\" \"&'Dine valg'!$G$26&\" \"&'Dine valg'!$G$27&\" \"&'Dine valg'!$G$28&\" \"&'Dine valg'!$G$29&\" \"&'Dine valg'!$G$30)","v":"Anm.: Valgte kommuner i sammenligningsgruppen: Aarhus      "}]
[null,"Kilde: Socialstyrelsens egne beregninger baseret på registerdata fra Danmarks Statistik."]
[]
[null,{"$f":"Skyggetabeller!B39","v":"Nøgletal 1.2\nAnbragte på sikrede døgninstitutioner"},null,"2017-01-01","2017-07-01","2018-01-01","2018-07-01","2019-01-01","2019-07-01","2020-01-01","2020-07-01","2021-01-01","2021-07-01","2022-01-01","2022-07-01","2023-01-01","2023-07-01","2024-01-01"]
[null,{"$f":"Skyggetabeller!B40","v":"København"}]
[null,{"$f":"Skyggetabeller!B41","v":"Antal anbragte"},null,{"$f":"Skyggetabeller!D41","v":7},{"$f":"Skyggetabeller!E41","v":6},{"$f":"Skyggetabeller!F41","v":6},{"$f":"Skyggetabeller!G41","v":11},{"$f":"Skyggetabeller!H41","v":9},{"$f":"Skyggetabeller!I41","v":4},{"$f":"Skyggetabeller!J41","v":"*"},{"$f":"Skyggetabeller!K41","v":9},{"$f":"Skyggetabeller!L41","v":17},{"$f":"Skyggetabeller!M41","v":23},{"$f":"Skyggetabeller!N41","v":18},{"$f":"Skyggetabeller!O41","v":16},{"$f":"Skyggetabeller!P41","v":11},{"$f":"Skyggetabeller!Q41","v":12},{"$f":"Skyggetabeller!R41","v":12}]
[null,{"$f":"Skyggetabeller!B42","v":"Antal 0-17-årige"},null,{"$f":"Skyggetabeller!D42","v":225},{"$f":"Skyggetabeller!E42","v":227},{"$f":"Skyggetabeller!F42","v":215},{"$f":"Skyggetabeller!G42","v":219},{"$f":"Skyggetabeller!H42","v":206},{"$f":"Skyggetabeller!I42","v":195},{"$f":"Skyggetabeller!J42","v":162},{"$f":"Skyggetabeller!K42","v":183},{"$f":"Skyggetabeller!L42","v":203},{"$f":"Skyggetabeller!M42","v":221},{"$f":"Skyggetabeller!N42","v":220},{"$f":"Skyggetabeller!O42","v":246},{"$f":"Skyggetabeller!P42","v":252},{"$f":"Skyggetabeller!Q42","v":274},{"$f":"Skyggetabeller!R42","v":254}]
[null,{"$f":"Skyggetabeller!B43","v":"Andel"},null,{"$f":"Skyggetabeller!D43","v":3.111111111111111E-2},{"$f":"Skyggetabeller!E43","v":2.643171806167401E-2},{"$f":"Skyggetabeller!F43","v":2.7906976744186046E-2},{"$f":"Skyggetabeller!G43","v":5.0228310502283102E-2},{"$f":"Skyggetabeller!H43","v":4.3689320388349516E-2},{"$f":"Skyggetabeller!I43","v":2.0512820512820513E-2},{"$f":"Skyggetabeller!J43","v":"*"},{"$f":"Skyggetabeller!K43","v":4.9180327868852458E-2},{"$f":"Skyggetabeller!L43","v":8.3743842364532015E-2},{"$f":"Skyggetabeller!M43","v":0.10407239819004525},{"$f":"Skyggetabeller!N43","v":8.1818181818181818E-2},{"$f":"Skyggetabeller!O43","v":6.5040650406504072E-2},{"$f":"Skyggetabeller!P43","v":4.3650793650793648E-2},{"$f":"Skyggetabeller!Q43","v":4.3795620437956206E-2},{"$f":"Skyggetabeller!R43","v":4.7244094488188976E-2}]
[null,{"$f":"Skyggetabeller!B44","v":"Sammenligningsgruppe, gns."}]
[null,{"$f":"Skyggetabeller!B45","v":"Antal anbragte"},null,{"$f":"Skyggetabeller!D45","v":3},{"$f":"Skyggetabeller!E45","v":4},{"$f":"Skyggetabeller!F45","v":4},{"$f":"Skyggetabeller!G45","v":7},{"$f":"Skyggetabeller!H45","v":10},{"$f":"Skyggetabeller!I45","v":8},{"$f":"Skyggetabeller!J45","v":15},{"$f":"Skyggetabeller!K45","v":10},{"$f":"Skyggetabeller!L45","v":14},{"$f":"Skyggetabeller!M45","v":11},{"$f":"Skyggetabeller!N45","v":11},{"$f":"Skyggetabeller!O45","v":14},{"$f":"Skyggetabeller!P45","v":10},{"$f":"Skyggetabeller!Q45","v":13},{"$f":"Skyggetabeller!R45","v":8}]
[null,{"$f":"Skyggetabeller!B46","v":"Antal 0-17-årige"},null,{"$f":"Skyggetabeller!D46","v":188},{"$f":"Skyggetabeller!E46","v":186},{"$f":"Skyggetabeller!F46","v":178},{"$f":"Skyggetabeller!G46","v":166},{"$f":"Skyggetabeller!H46","v":173},{"$f":"Skyggetabeller!I46","v":173},{"$f":"Skyggetabeller!J46","v":166},{"$f":"Skyggetabeller!K46","v":168},{"$f":"Skyggetabeller!L46","v":169},{"$f":"Skyggetabeller!M46","v":168},{"$f":"Skyggetabeller!N46","v":154},{"$f":"Skyggetabeller!O46","v":168},{"$f":"Skyggetabeller!P46","v":162},{"$f":"Skyggetabeller!Q46","v":161},{"$f":"Skyggetabeller!R46","v":152}]
[null,{"$f":"Skyggetabeller!B47","v":"Andel"},null,{"$f":"Skyggetabeller!D47","v":1.5957446808510637E-2},{"$f":"Skyggetabeller!E47","v":2.1505376344086023E-2},{"$f":"Skyggetabeller!F47","v":2.247191011235955E-2},{"$f":"Skyggetabeller!G47","v":4.2168674698795178E-2},{"$f":"Skyggetabeller!H47","v":5.7803468208092484E-2},{"$f":"Skyggetabeller!I47","v":4.6242774566473986E-2},{"$f":"Skyggetabeller!J47","v":9.036144578313253E-2},{"$f":"Skyggetabeller!K47","v":5.9523809523809521E-2},{"$f":"Skyggetabeller!L47","v":8.2840236686390539E-2},{"$f":"Skyggetabeller!M47","v":6.5476190476190479E-2},{"$f":"Skyggetabeller!N47","v":7.1428571428571425E-2},{"$f":"Skyggetabeller!O47","v":8.3333333333333329E-2},{"$f":"Skyggetabeller!P47","v":6.1728395061728392E-2},{"$f":"Skyggetabeller!Q47","v":8.0745341614906832E-2},{"$f":"Skyggetabeller!R47","v":5.2631578947368418E-2}]
[null,{"$f":"Skyggetabeller!B48","v":"Hele landet"}]
[null,{"$f":"Skyggetabeller!B49","v":"Antal anbragte"},null,{"$f":"Skyggetabeller!D49","v":81},{"$f":"Skyggetabeller!E49","v":80},{"$f":"Skyggetabeller!F49","v":64},{"$f":"Skyggetabeller!G49","v":85},{"$f":"Skyggetabeller!H49","v":76},{"$f":"Skyggetabeller!I49","v":71},{"$f":"Skyggetabeller!J49","v":77},{"$f":"Skyggetabeller!K49","v":82},{"$f":"Skyggetabeller!L49","v":95},{"$f":"Skyggetabeller!M49","v":97},{"$f":"Skyggetabeller!N49","v":84},{"$f":"Skyggetabeller!O49","v":87},{"$f":"Skyggetabeller!P49","v":86},{"$f":"Skyggetabeller!Q49","v":91},{"$f":"Skyggetabeller!R49","v":95}]
[null,{"$f":"Skyggetabeller!B50","v":"Antal 0-17-årige"},null,{"$f":"Skyggetabeller!D50","v":3383},{"$f":"Skyggetabeller!E50","v":3460},{"$f":"Skyggetabeller!F50","v":3369},{"$f":"Skyggetabeller!G50","v":3409},{"$f":"Skyggetabeller!H50","v":3309},{"$f":"Skyggetabeller!I50","v":3282},{"$f":"Skyggetabeller!J50","v":3274},{"$f":"Skyggetabeller!K50","v":3343},{"$f":"Skyggetabeller!L50","v":3404},{"$f":"Skyggetabeller!M50","v":3494},{"$f":"Skyggetabeller!N50","v":3486},{"$f":"Skyggetabeller!O50","v":3675},{"$f":"Skyggetabeller!P50","v":3708},{"$f":"Skyggetabeller!Q50","v":3769},{"$f":"Skyggetabeller!R50","v":3790}]
[null,{"$f":"Skyggetabeller!B51","v":"Andel"},null,{"$f":"Skyggetabeller!D51","v":2.3943245639964528E-2},{"$f":"Skyggetabeller!E51","v":2.3121387283236993E-2},{"$f":"Skyggetabeller!F51","v":1.8996734936182844E-2},{"$f":"Skyggetabeller!G51","v":2.4933998239953067E-2},{"$f":"Skyggetabeller!H51","v":2.2967663946811726E-2},{"$f":"Skyggetabeller!I51","v":2.1633150517976842E-2},{"$f":"Skyggetabeller!J51","v":2.3518631643249847E-2},{"$f":"Skyggetabeller!K51","v":2.4528866287765481E-2},{"$f":"Skyggetabeller!L51","v":2.7908343125734428E-2},{"$f":"Skyggetabeller!M51","v":2.7761877504293073E-2},{"$f":"Skyggetabeller!N51","v":2.4096385542168676E-2},{"$f":"Skyggetabeller!O51","v":2.3673469387755101E-2},{"$f":"Skyggetabeller!P51","v":2.3193096008629989E-2},{"$f":"Skyggetabeller!Q51","v":2.4144335367471476E-2},{"$f":"Skyggetabeller!R51","v":2.5065963060686015E-2}]
[null,"Anm.: Hvis nøgletallet er angivet med * er der foretaget en diskretionering af data, da der er for få observationer. "]
[null,{"$f":"IF('Dine valg'!$G$24=\"\",\"Ingen sammenligningsgruppe valgt.\",\"Anm.: Valgte kommuner i sammenligningsgruppen: \"&'Dine valg'!$G$24&\" \"&'Dine valg'!$G$25&\" \"&'Dine valg'!$G$26&\" \"&'Dine valg'!$G$27&\" \"&'Dine valg'!$G$28&\" \"&'Dine valg'!$G$29&\" \"&'Dine valg'!$G$30)","v":"Anm.: Valgte kommuner i sammenligningsgruppen: Aarhus      "}]
[null,"Kilde: Socialstyrelsens egne beregninger baseret på registerdata fra Danmarks Statistik."]
[]
[null,{"$f":"Skyggetabeller!B55","v":"Nøgletal 1.3\nAnbragte på socialpædagogiske opholdssteder"},null,"2017-01-01","2017-07-01","2018-01-01","2018-07-01","2019-01-01","2019-07-01","2020-01-01","2020-07-01","2021-01-01","2021-07-01","2022-01-01","2022-07-01","2023-01-01","2023-07-01","2024-01-01"]
[null,{"$f":"Skyggetabeller!B56","v":"København"}]
[null,{"$f":"Skyggetabeller!B57","v":"Antal anbragte"},null,{"$f":"Skyggetabeller!D57","v":46},{"$f":"Skyggetabeller!E57","v":38},{"$f":"Skyggetabeller!F57","v":33},{"$f":"Skyggetabeller!G57","v":32},{"$f":"Skyggetabeller!H57","v":33},{"$f":"Skyggetabeller!I57","v":36},{"$f":"Skyggetabeller!J57","v":"*"},{"$f":"Skyggetabeller!K57","v":26},{"$f":"Skyggetabeller!L57","v":27},{"$f":"Skyggetabeller!M57","v":34},{"$f":"Skyggetabeller!N57","v":31},{"$f":"Skyggetabeller!O57","v":36},{"$f":"Skyggetabeller!P57","v":41},{"$f":"Skyggetabeller!Q57","v":42},{"$f":"Skyggetabeller!R57","v":53}]
[null,{"$f":"Skyggetabeller!B58","v":"Antal 0-17-årige"},null,{"$f":"Skyggetabeller!D58","v":225},{"$f":"Skyggetabeller!E58","v":227},{"$f":"Skyggetabeller!F58","v":215},{"$f":"Skyggetabeller!G58","v":219},{"$f":"Skyggetabeller!H58","v":206},{"$f":"Skyggetabeller!I58","v":195},{"$f":"Skyggetabeller!J58","v":162},{"$f":"Skyggetabeller!K58","v":183},{"$f":"Skyggetabeller!L58","v":203},{"$f":"Skyggetabeller!M58","v":221},{"$f":"Skyggetabeller!N58","v":220},{"$f":"Skyggetabeller!O58","v":246},{"$f":"Skyggetabeller!P58","v":252},{"$f":"Skyggetabeller!Q58","v":274},{"$f":"Skyggetabeller!R58","v":254}]
[null,{"$f":"Skyggetabeller!B59","v":"Andel"},null,{"$f":"Skyggetabeller!D59","v":0.20444444444444446},{"$f":"Skyggetabeller!E59","v":0.16740088105726872},{"$f":"Skyggetabeller!F59","v":0.15348837209302327},{"$f":"Skyggetabeller!G59","v":0.14611872146118721},{"$f":"Skyggetabeller!H59","v":0.16019417475728157},{"$f":"Skyggetabeller!I59","v":0.18461538461538463},{"$f":"Skyggetabeller!J59","v":"*"},{"$f":"Skyggetabeller!K59","v":0.14207650273224043},{"$f":"Skyggetabeller!L59","v":0.13300492610837439},{"$f":"Skyggetabeller!M59","v":0.15384615384615385},{"$f":"Skyggetabeller!N59","v":0.1409090909090909},{"$f":"Skyggetabeller!O59","v":0.14634146341463414},{"$f":"Skyggetabeller!P59","v":0.1626984126984127},{"$f":"Skyggetabeller!Q59","v":0.15328467153284672},{"$f":"Skyggetabeller!R59","v":0.20866141732283464}]
[null,{"$f":"Skyggetabeller!B60","v":"Sammenligningsgruppe, gns."}]
[null,{"$f":"Skyggetabeller!B61","v":"Antal anbragte"},null,{"$f":"Skyggetabeller!D61","v":56},{"$f":"Skyggetabeller!E61","v":52},{"$f":"Skyggetabeller!F61","v":58},{"$f":"Skyggetabeller!G61","v":46},{"$f":"Skyggetabeller!H61","v":47},{"$f":"Skyggetabeller!I61","v":43},{"$f":"Skyggetabeller!J61","v":35},{"$f":"Skyggetabeller!K61","v":37},{"$f":"Skyggetabeller!L61","v":40},{"$f":"Skyggetabeller!M61","v":45},{"$f":"Skyggetabeller!N61","v":41},{"$f":"Skyggetabeller!O61","v":49},{"$f":"Skyggetabeller!P61","v":49},{"$f":"Skyggetabeller!Q61","v":38},{"$f":"Skyggetabeller!R61","v":43}]
[null,{"$f":"Skyggetabeller!B62","v":"Antal 0-17-årige"},null,{"$f":"Skyggetabeller!D62","v":188},{"$f":"Skyggetabeller!E62","v":186},{"$f":"Skyggetabeller!F62","v":178},{"$f":"Skyggetabeller!G62","v":166},{"$f":"Skyggetabeller!H62","v":173},{"$f":"Skyggetabeller!I62","v":173},{"$f":"Skyggetabeller!J62","v":166},{"$f":"Skyggetabeller!K62","v":168},{"$f":"Skyggetabeller!L62","v":169},{"$f":"Skyggetabeller!M62","v":168},{"$f":"Skyggetabeller!N62","v":154},{"$f":"Skyggetabeller!O62","v":168},{"$f":"Skyggetabeller!P62","v":162},{"$f":"Skyggetabeller!Q62","v":161},{"$f":"Skyggetabeller!R62","v":152}]
[null,{"$f":"Skyggetabeller!B63","v":"Andel"},null,{"$f":"Skyggetabeller!D63","v":0.2978723404255319},{"$f":"Skyggetabeller!E63","v":0.27956989247311825},{"$f":"Skyggetabeller!F63","v":0.3258426966292135},{"$f":"Skyggetabeller!G63","v":0.27710843373493976},{"$f":"Skyggetabeller!H63","v":0.27167630057803466},{"$f":"Skyggetabeller!I63","v":0.24855491329479767},{"$f":"Skyggetabeller!J63","v":0.21084337349397592},{"$f":"Skyggetabeller!K63","v":0.22023809523809523},{"$f":"Skyggetabeller!L63","v":0.23668639053254437},{"$f":"Skyggetabeller!M63","v":0.26785714285714285},{"$f":"Skyggetabeller!N63","v":0.26623376623376621},{"$f":"Skyggetabeller!O63","v":0.29166666666666669},{"$f":"Skyggetabeller!P63","v":0.30246913580246915},{"$f":"Skyggetabeller!Q63","v":0.2360248447204969},{"$f":"Skyggetabeller!R63","v":0.28289473684210525}]
[null,{"$f":"Skyggetabeller!B64","v":"Hele landet"}]
[null,{"$f":"Skyggetabeller!B65","v":"Antal anbragte"},null,{"$f":"Skyggetabeller!D65","v":1484},{"$f":"Skyggetabeller!E65","v":1571},{"$f":"Skyggetabeller!F65","v":1544},{"$f":"Skyggetabeller!G65","v":1544},{"$f":"Skyggetabeller!H65","v":1529},{"$f":"Skyggetabeller!I65","v":1516},{"$f":"Skyggetabeller!J65","v":1517},{"$f":"Skyggetabeller!K65","v":1592},{"$f":"Skyggetabeller!L65","v":1615},{"$f":"Skyggetabeller!M65","v":1717},{"$f":"Skyggetabeller!N65","v":1713},{"$f":"Skyggetabeller!O65","v":1826},{"$f":"Skyggetabeller!P65","v":1854},{"$f":"Skyggetabeller!Q65","v":1863},{"$f":"Skyggetabeller!R65","v":1895}]
[null,{"$f":"Skyggetabeller!B66","v":"Antal 0-17-årige"},null,{"$f":"Skyggetabeller!D66","v":3383},{"$f":"Skyggetabeller!E66","v":3460},{"$f":"Skyggetabeller!F66","v":3369},{"$f":"Skyggetabeller!G66","v":3409},{"$f":"Skyggetabeller!H66","v":3309},{"$f":"Skyggetabeller!I66","v":3282},{"$f":"Skyggetabeller!J66","v":3274},{"$f":"Skyggetabeller!K66","v":3343},{"$f":"Skyggetabeller!L66","v":3404},{"$f":"Skyggetabeller!M66","v":3494},{"$f":"Skyggetabeller!N66","v":3486},{"$f":"Skyggetabeller!O66","v":3675},{"$f":"Skyggetabeller!P66","v":3708},{"$f":"Skyggetabeller!Q66","v":3769},{"$f":"Skyggetabeller!R66","v":3790}]
[null,{"$f":"Skyggetabeller!B67","v":"Andel"},null,{"$f":"Skyggetabeller!D67","v":0.43866390777416492},{"$f":"Skyggetabeller!E67","v":0.45404624277456646},{"$f":"Skyggetabeller!F67","v":0.45829623033541111},{"$f":"Skyggetabeller!G67","v":0.45291874449985331},{"$f":"Skyggetabeller!H67","v":0.46207313387730431},{"$f":"Skyggetabeller!I67","v":0.4619134673979281},{"$f":"Skyggetabeller!J67","v":0.46334758704948076},{"$f":"Skyggetabeller!K67","v":0.47621896500149569},{"$f":"Skyggetabeller!L67","v":0.47444183313748534},{"$f":"Skyggetabeller!M67","v":0.49141385231825985},{"$f":"Skyggetabeller!N67","v":0.49139414802065406},{"$f":"Skyggetabeller!O67","v":0.49687074829931971},{"$f":"Skyggetabeller!P67","v":0.5},{"$f":"Skyggetabeller!Q67","v":0.49429556911647654},{"$f":"Skyggetabeller!R67","v":0.5}]
[null,"Anm.: Hvis nøgletallet er angivet med * er der foretaget en diskretionering af data, da der er for få observationer. "]
[null,{"$f":"IF('Dine valg'!$G$24=\"\",\"Ingen sammenligningsgruppe valgt.\",\"Anm.: Valgte kommuner i sammenligningsgruppen: \"&'Dine valg'!$G$24&\" \"&'Dine valg'!$G$25&\" \"&'Dine valg'!$G$26&\" \"&'Dine valg'!$G$27&\" \"&'Dine valg'!$G$28&\" \"&'Dine valg'!$G$29&\" \"&'Dine valg'!$G$30)","v":"Anm.: Valgte kommuner i sammenligningsgruppen: Aarhus      "}]
[null,"Kilde: Socialstyrelsens egne beregninger baseret på registerdata fra Danmarks Statistik."]
[]
[null,{"$f":"Skyggetabeller!B90","v":"Nøgletal 2: Varighed af institutionsanbringelser"}]
[]
[null,{"$f":"Skyggetabeller!B93","v":"Nøgletal 2: \nGennemsnitlig varighed af igangværende institutionsanbringelser"},null,"2017-01-01","2017-07-01","2018-01-01","2018-07-01","2019-01-01","2019-07-01","2020-01-01","2020-07-01","2021-01-01","2021-07-01","2022-01-01","2022-07-01","2023-01-01","2023-07-01","2024-01-01"]
[null,{"$f":"Skyggetabeller!B94","v":"København"}]
[null,{"$f":"Skyggetabeller!B95","v":"Samlet antal dage"},null,{"$f":"Skyggetabeller!D95","v":183355},{"$f":"Skyggetabeller!E95","v":171090},{"$f":"Skyggetabeller!F95","v":161575},{"$f":"Skyggetabeller!G95","v":163682},{"$f":"Skyggetabeller!H95","v":156703},{"$f":"Skyggetabeller!I95","v":158572},{"$f":"Skyggetabeller!J95","v":133661},{"$f":"Skyggetabeller!K95","v":132974},{"$f":"Skyggetabeller!L95","v":133256},{"$f":"Skyggetabeller!M95","v":137290},{"$f":"Skyggetabeller!N95","v":135855},{"$f":"Skyggetabeller!O95","v":140964},{"$f":"Skyggetabeller!P95","v":151891},{"$f":"Skyggetabeller!Q95","v":170292},{"$f":"Skyggetabeller!R95","v":181227}]
[null,{"$f":"Skyggetabeller!B96","v":"Antal anbragte"},null,{"$f":"Skyggetabeller!D96","v":225},{"$f":"Skyggetabeller!E96","v":227},{"$f":"Skyggetabeller!F96","v":215},{"$f":"Skyggetabeller!G96","v":219},{"$f":"Skyggetabeller!H96","v":206},{"$f":"Skyggetabeller!I96","v":195},{"$f":"Skyggetabeller!J96","v":162},{"$f":"Skyggetabeller!K96","v":183},{"$f":"Skyggetabeller!L96","v":203},{"$f":"Skyggetabeller!M96","v":221},{"$f":"Skyggetabeller!N96","v":220},{"$f":"Skyggetabeller!O96","v":246},{"$f":"Skyggetabeller!P96","v":252},{"$f":"Skyggetabeller!Q96","v":274},{"$f":"Skyggetabeller!R96","v":254}]
[null,{"$f":"Skyggetabeller!B97","v":"Gennemsnitlig varighed"},null,{"$f":"Skyggetabeller!D97","v":814.91111111111115},{"$f":"Skyggetabeller!E97","v":753.70044052863432},{"$f":"Skyggetabeller!F97","v":751.51162790697674},{"$f":"Skyggetabeller!G97","v":747.40639269406392},{"$f":"Skyggetabeller!H97","v":760.69417475728153},{"$f":"Skyggetabeller!I97","v":813.18974358974356},{"$f":"Skyggetabeller!J97","v":825.0679012345679},{"$f":"Skyggetabeller!K97","v":726.63387978142077},{"$f":"Skyggetabeller!L97","v":656.43349753694577},{"$f":"Skyggetabeller!M97","v":621.22171945701359},{"$f":"Skyggetabeller!N97","v":617.52272727272725},{"$f":"Skyggetabeller!O97","v":573.02439024390242},{"$f":"Skyggetabeller!P97","v":602.74206349206349},{"$f":"Skyggetabeller!Q97","v":621.50364963503648},{"$f":"Skyggetabeller!R97","v":713.49212598425197}]
[null,{"$f":"Skyggetabeller!B98","v":"Sammenligningsgruppe, gns."}]
[null,{"$f":"Skyggetabeller!B99","v":"Samlet antal dage"},null,{"$f":"Skyggetabeller!D99","v":197062},{"$f":"Skyggetabeller!E99","v":192986},{"$f":"Skyggetabeller!F99","v":180503},{"$f":"Skyggetabeller!G99","v":156486},{"$f":"Skyggetabeller!H99","v":144862},{"$f":"Skyggetabeller!I99","v":158343},{"$f":"Skyggetabeller!J99","v":156232},{"$f":"Skyggetabeller!K99","v":140915},{"$f":"Skyggetabeller!L99","v":147293},{"$f":"Skyggetabeller!M99","v":149129},{"$f":"Skyggetabeller!N99","v":145303},{"$f":"Skyggetabeller!O99","v":150498},{"$f":"Skyggetabeller!P99","v":140834},{"$f":"Skyggetabeller!Q99","v":134907},{"$f":"Skyggetabeller!R99","v":131601}]
[null,{"$f":"Skyggetabeller!B100","v":"Antal anbragte"},null,{"$f":"Skyggetabeller!D100","v":188},{"$f":"Skyggetabeller!E100","v":186},{"$f":"Skyggetabeller!F100","v":178},{"$f":"Skyggetabeller!G100","v":166},{"$f":"Skyggetabeller!H100","v":173},{"$f":"Skyggetabeller!I100","v":173},{"$f":"Skyggetabeller!J100","v":166},{"$f":"Skyggetabeller!K100","v":168},{"$f":"Skyggetabeller!L100","v":169},{"$f":"Skyggetabeller!M100","v":168},{"$f":"Skyggetabeller!N100","v":154},{"$f":"Skyggetabeller!O100","v":168},{"$f":"Skyggetabeller!P100","v":162},{"$f":"Skyggetabeller!Q100","v":161},{"$f":"Skyggetabeller!R100","v":152}]
[null,{"$f":"Skyggetabeller!B101","v":"Gennemsnitlig varighed"},null,{"$f":"Skyggetabeller!D101","v":1048.2021276595744},{"$f":"Skyggetabeller!E101","v":1037.5591397849462},{"$f":"Skyggetabeller!F101","v":1014.061797752809},{"$f":"Skyggetabeller!G101","v":942.68674698795178},{"$f":"Skyggetabeller!H101","v":837.35260115606934},{"$f":"Skyggetabeller!I101","v":915.27745664739882},{"$f":"Skyggetabeller!J101","v":941.15662650602405},{"$f":"Skyggetabeller!K101","v":838.77976190476193},{"$f":"Skyggetabeller!L101","v":871.55621301775147},{"$f":"Skyggetabeller!M101","v":887.67261904761904},{"$f":"Skyggetabeller!N101","v":943.52597402597405},{"$f":"Skyggetabeller!O101","v":895.82142857142856},{"$f":"Skyggetabeller!P101","v":869.34567901234573},{"$f":"Skyggetabeller!Q101","v":837.93167701863354},{"$f":"Skyggetabeller!R101","v":865.79605263157896}]
[null,{"$f":"Skyggetabeller!B102","v":"Hele landet"}]
[null,{"$f":"Skyggetabeller!B103","v":"Samlet antal dage"},null,{"$f":"Skyggetabeller!D103","v":2919506},{"$f":"Skyggetabeller!E103","v":2864697},{"$f":"Skyggetabeller!F103","v":2780084},{"$f":"Skyggetabeller!G103","v":2671592},{"$f":"Skyggetabeller!H103","v":2549944},{"$f":"Skyggetabeller!I103","v":2520675},{"$f":"Skyggetabeller!J103","v":2479646},{"$f":"Skyggetabeller!K103","v":2518184},{"$f":"Skyggetabeller!L103","v":2519364},{"$f":"Skyggetabeller!M103","v":2533338},{"$f":"Skyggetabeller!N103","v":2554433},{"$f":"Skyggetabeller!O103","v":2587666},{"$f":"Skyggetabeller!P103","v":2626422},{"$f":"Skyggetabeller!Q103","v":2688953},{"$f":"Skyggetabeller!R103","v":2761895}]
[null,{"$f":"Skyggetabeller!B104","v":"Antal anbragte"},null,{"$f":"Skyggetabeller!D104","v":3383},{"$f":"Skyggetabeller!E104","v":3460},{"$f":"Skyggetabeller!F104","v":3369},{"$f":"Skyggetabeller!G104","v":3409},{"$f":"Skyggetabeller!H104","v":3309},{"$f":"Skyggetabeller!I104","v":3282},{"$f":"Skyggetabeller!J104","v":3274},{"$f":"Skyggetabeller!K104","v":3343},{"$f":"Skyggetabeller!L104","v":3404},{"$f":"Skyggetabeller!M104","v":3494},{"$f":"Skyggetabeller!N104","v":3486},{"$f":"Skyggetabeller!O104","v":3675},{"$f":"Skyggetabeller!P104","v":3708},{"$f":"Skyggetabeller!Q104","v":3769},{"$f":"Skyggetabeller!R104","v":3790}]
[null,{"$f":"Skyggetabeller!B105","v":"Gennemsnitlig varighed"},null,{"$f":"Skyggetabeller!D105","v":862.99320130062074},{"$f":"Skyggetabeller!E105","v":827.94710982658955},{"$f":"Skyggetabeller!F105","v":825.19560700504599},{"$f":"Skyggetabeller!G105","v":783.687885010267},{"$f":"Skyggetabeller!H105","v":770.60864309459055},{"$f":"Skyggetabeller!I105","v":768.03016453382088},{"$f":"Skyggetabeller!J105","v":757.3750763591936},{"$f":"Skyggetabeller!K105","v":753.27071492671257},{"$f":"Skyggetabeller!L105","v":740.11868390129257},{"$f":"Skyggetabeller!M105","v":725.05380652547228},{"$f":"Skyggetabeller!N105","v":732.76907630522089},{"$f":"Skyggetabeller!O105","v":704.12680272108844},{"$f":"Skyggetabeller!P105","v":708.3122977346278},{"$f":"Skyggetabeller!Q105","v":713.43937383921468},{"$f":"Skyggetabeller!R105","v":728.73218997361482}]
[null,"Anm.: Hvis nøgletallet er angivet med * er der foretaget en diskretionering af data, da der er for få observationer. "]
[null,{"$f":"IF('Dine valg'!$G$24=\"\",\"Ingen sammenligningsgruppe valgt.\",\"Anm.: Valgte kommuner i sammenligningsgruppen: \"&'Dine valg'!$G$24&\" \"&'Dine valg'!$G$25&\" \"&'Dine valg'!$G$26&\" \"&'Dine valg'!$G$27&\" \"&'Dine valg'!$G$28&\" \"&'Dine valg'!$G$29&\" \"&'Dine valg'!$G$30)","v":"Anm.: Valgte kommuner i sammenligningsgruppen: Aarhus      "}]
[null,"Kilde: Socialstyrelsens egne beregninger baseret på registerdata fra Danmarks Statistik."]
[]
[null,"Undernøgletal - Varighed af igangværende institutionsanbringelser"]
[]
[null,{"$f":"Skyggetabeller!B108","v":"Nøgletal 2.1\nGennemsnitlig varighed af igangværende anbringelser på døgninstitution"},null,"2017-01-01","2017-07-01","2018-01-01","2018-07-01","2019-01-01","2019-07-01","2020-01-01","2020-07-01","2021-01-01","2021-07-01","2022-01-01","2022-07-01","2023-01-01","2023-07-01","2024-01-01"]
[null,{"$f":"Skyggetabeller!B109","v":"København"}]
[null,{"$f":"Skyggetabeller!B110","v":"Samlet antal dage"},null,{"$f":"Skyggetabeller!D110","v":134446},{"$f":"Skyggetabeller!E110","v":126745},{"$f":"Skyggetabeller!F110","v":117497},{"$f":"Skyggetabeller!G110","v":118319},{"$f":"Skyggetabeller!H110","v":112040},{"$f":"Skyggetabeller!I110","v":110718},{"$f":"Skyggetabeller!J110","v":102261},{"$f":"Skyggetabeller!K110","v":97534},{"$f":"Skyggetabeller!L110","v":99356},{"$f":"Skyggetabeller!M110","v":99035},{"$f":"Skyggetabeller!N110","v":99578},{"$f":"Skyggetabeller!O110","v":101578},{"$f":"Skyggetabeller!P110","v":118164},{"$f":"Skyggetabeller!Q110","v":135596},{"$f":"Skyggetabeller!R110","v":142911}]
[null,{"$f":"Skyggetabeller!B111","v":"Antal anbragte"},null,{"$f":"Skyggetabeller!D111","v":172},{"$f":"Skyggetabeller!E111","v":183},{"$f":"Skyggetabeller!F111","v":176},{"$f":"Skyggetabeller!G111","v":176},{"$f":"Skyggetabeller!H111","v":164},{"$f":"Skyggetabeller!I111","v":155},{"$f":"Skyggetabeller!J111","v":139},{"$f":"Skyggetabeller!K111","v":148},{"$f":"Skyggetabeller!L111","v":159},{"$f":"Skyggetabeller!M111","v":164},{"$f":"Skyggetabeller!N111","v":171},{"$f":"Skyggetabeller!O111","v":194},{"$f":"Skyggetabeller!P111","v":200},{"$f":"Skyggetabeller!Q111","v":220},{"$f":"Skyggetabeller!R111","v":189}]
[null,{"$f":"Skyggetabeller!B112","v":"Gennemsnitlig varighed"},null,{"$f":"Skyggetabeller!D112","v":781.66279069767438},{"$f":"Skyggetabeller!E112","v":692.59562841530055},{"$f":"Skyggetabeller!F112","v":667.59659090909088},{"$f":"Skyggetabeller!G112","v":672.2670454545455},{"$f":"Skyggetabeller!H112","v":683.17073170731703},{"$f":"Skyggetabeller!I112","v":714.30967741935478},{"$f":"Skyggetabeller!J112","v":735.69064748201436},{"$f":"Skyggetabeller!K112","v":659.01351351351354},{"$f":"Skyggetabeller!L112","v":624.88050314465409},{"$f":"Skyggetabeller!M112","v":603.8719512195122},{"$f":"Skyggetabeller!N112","v":582.32748538011697},{"$f":"Skyggetabeller!O112","v":523.59793814432987},{"$f":"Skyggetabeller!P112","v":590.82000000000005},{"$f":"Skyggetabeller!Q112","v":616.34545454545457},{"$f":"Skyggetabeller!R112","v":756.14285714285711}]
[null,{"$f":"Skyggetabeller!B113","v":"Sammenligningsgruppe, gns."}]
[null,{"$f":"Skyggetabeller!B114","v":"Samlet antal dage"},null,{"$f":"Skyggetabeller!D114","v":150304},{"$f":"Skyggetabeller!E114","v":150184},{"$f":"Skyggetabeller!F114","v":134878},{"$f":"Skyggetabeller!G114","v":119397},{"$f":"Skyggetabeller!H114","v":110606},{"$f":"Skyggetabeller!I114","v":122426},{"$f":"Skyggetabeller!J114","v":124048},{"$f":"Skyggetabeller!K114","v":115596},{"$f":"Skyggetabeller!L114","v":119524},{"$f":"Skyggetabeller!M114","v":125178},{"$f":"Skyggetabeller!N114","v":122621},{"$f":"Skyggetabeller!O114","v":121875},{"$f":"Skyggetabeller!P114","v":114322},{"$f":"Skyggetabeller!Q114","v":111343},{"$f":"Skyggetabeller!R114","v":109315}]
[null,{"$f":"Skyggetabeller!B115","v":"Antal anbragte"},null,{"$f":"Skyggetabeller!D115","v":129},{"$f":"Skyggetabeller!E115","v":130},{"$f":"Skyggetabeller!F115","v":116},{"$f":"Skyggetabeller!G115","v":113},{"$f":"Skyggetabeller!H115","v":116},{"$f":"Skyggetabeller!I115","v":122},{"$f":"Skyggetabeller!J115","v":116},{"$f":"Skyggetabeller!K115","v":121},{"$f":"Skyggetabeller!L115","v":115},{"$f":"Skyggetabeller!M115","v":112},{"$f":"Skyggetabeller!N115","v":102},{"$f":"Skyggetabeller!O115","v":105},{"$f":"Skyggetabeller!P115","v":103},{"$f":"Skyggetabeller!Q115","v":110},{"$f":"Skyggetabeller!R115","v":101}]
[null,{"$f":"Skyggetabeller!B116","v":"Gennemsnitlig varighed"},null,{"$f":"Skyggetabeller!D116","v":1165.1472868217054},{"$f":"Skyggetabeller!E116","v":1155.2615384615385},{"$f":"Skyggetabeller!F116","v":1162.7413793103449},{"$f":"Skyggetabeller!G116","v":1056.6106194690265},{"$f":"Skyggetabeller!H116","v":953.5},{"$f":"Skyggetabeller!I116","v":1003.4918032786885},{"$f":"Skyggetabeller!J116","v":1069.3793103448277},{"$f":"Skyggetabeller!K116","v":955.3388429752066},{"$f":"Skyggetabeller!L116","v":1039.3391304347826},{"$f":"Skyggetabeller!M116","v":1117.6607142857142},{"$f":"Skyggetabeller!N116","v":1202.1666666666667},{"$f":"Skyggetabeller!O116","v":1160.7142857142858},{"$f":"Skyggetabeller!P116","v":1109.9223300970873},{"$f":"Skyggetabeller!Q116","v":1012.2090909090909},{"$f":"Skyggetabeller!R116","v":1082.3267326732673}]
[null,{"$f":"Skyggetabeller!B117","v":"Hele landet"}]
[null,{"$f":"Skyggetabeller!B118","v":"Samlet antal dage"},null,{"$f":"Skyggetabeller!D118","v":1742648},{"$f":"Skyggetabeller!E118","v":1681708},{"$f":"Skyggetabeller!F118","v":1627312},{"$f":"Skyggetabeller!G118","v":1556475},{"$f":"Skyggetabeller!H118","v":1474692},{"$f":"Skyggetabeller!I118","v":1472207},{"$f":"Skyggetabeller!J118","v":1450623},{"$f":"Skyggetabeller!K118","v":1435480},{"$f":"Skyggetabeller!L118","v":1423295},{"$f":"Skyggetabeller!M118","v":1404018},{"$f":"Skyggetabeller!N118","v":1404124},{"$f":"Skyggetabeller!O118","v":1421269},{"$f":"Skyggetabeller!P118","v":1443374},{"$f":"Skyggetabeller!Q118","v":1489560},{"$f":"Skyggetabeller!R118","v":1543409}]
[null,{"$f":"Skyggetabeller!B119","v":"Antal anbragte"},null,{"$f":"Skyggetabeller!D119","v":1818},{"$f":"Skyggetabeller!E119","v":1809},{"$f":"Skyggetabeller!F119","v":1761},{"$f":"Skyggetabeller!G119","v":1780},{"$f":"Skyggetabeller!H119","v":1704},{"$f":"Skyggetabeller!I119","v":1695},{"$f":"Skyggetabeller!J119","v":1680},{"$f":"Skyggetabeller!K119","v":1669},{"$f":"Skyggetabeller!L119","v":1694},{"$f":"Skyggetabeller!M119","v":1680},{"$f":"Skyggetabeller!N119","v":1689},{"$f":"Skyggetabeller!O119","v":1762},{"$f":"Skyggetabeller!P119","v":1768},{"$f":"Skyggetabeller!Q119","v":1815},{"$f":"Skyggetabeller!R119","v":1800}]
[null,{"$f":"Skyggetabeller!B120","v":"Gennemsnitlig varighed"},null,{"$f":"Skyggetabeller!D120","v":958.55225522552257},{"$f":"Skyggetabeller!E120","v":929.63405196241013},{"$f":"Skyggetabeller!F120","v":924.08404315729695},{"$f":"Skyggetabeller!G120","v":874.42415730337075},{"$f":"Skyggetabeller!H120","v":865.42957746478874},{"$f":"Skyggetabeller!I120","v":868.55870206489681},{"$f":"Skyggetabeller!J120","v":863.46607142857147},{"$f":"Skyggetabeller!K120","v":860.08388256440981},{"$f":"Skyggetabeller!L120","v":840.19775678866586},{"$f":"Skyggetabeller!M120","v":835.72500000000002},{"$f":"Skyggetabeller!N120","v":831.3345174659562},{"$f":"Skyggetabeller!O120","v":806.62258796821789},{"$f":"Skyggetabeller!P120","v":816.3880090497737},{"$f":"Skyggetabeller!Q120","v":820.69421487603302},{"$f":"Skyggetabeller!R120","v":857.44944444444445}]
[null,"Anm.: Hvis nøgletallet er angivet med * er der foretaget en diskretionering af data, da der er for få observationer. "]
[null,{"$f":"IF('Dine valg'!$G$24=\"\",\"Ingen sammenligningsgruppe valgt.\",\"Anm.: Valgte kommuner i sammenligningsgruppen: \"&'Dine valg'!$G$24&\" \"&'Dine valg'!$G$25&\" \"&'Dine valg'!$G$26&\" \"&'Dine valg'!$G$27&\" \"&'Dine valg'!$G$28&\" \"&'Dine valg'!$G$29&\" \"&'Dine valg'!$G$30)","v":"Anm.: Valgte kommuner i sammenligningsgruppen: Aarhus      "}]
[null,"Kilde: Socialstyrelsens egne beregninger baseret på registerdata fra Danmarks Statistik."]
[]
[null,{"$f":"Skyggetabeller!B123","v":"Nøgletal 2.2: \nGennemsnitlig varighed af igangværende anbringelser på sikret døgninstitution"},null,"2017-01-01","2017-07-01","2018-01-01","2018-07-01","2019-01-01","2019-07-01","2020-01-01","2020-07-01","2021-01-01","2021-07-01","2022-01-01","2022-07-01","2023-01-01","2023-07-01","2024-01-01"]
[null,{"$f":"Skyggetabeller!B124","v":"København"}]
[null,{"$f":"Skyggetabeller!B125","v":"Samlet antal dage"},null,{"$f":"Skyggetabeller!D125","v":2067},{"$f":"Skyggetabeller!E125","v":2443},{"$f":"Skyggetabeller!F125","v":2098},{"$f":"Skyggetabeller!G125","v":3026},{"$f":"Skyggetabeller!H125","v":2960},{"$f":"Skyggetabeller!I125","v":"*"},{"$f":"Skyggetabeller!J125","v":"*"},{"$f":"Skyggetabeller!K125","v":801},{"$f":"Skyggetabeller!L125","v":1693},{"$f":"Skyggetabeller!M125","v":2581},{"$f":"Skyggetabeller!N125","v":2750},{"$f":"Skyggetabeller!O125","v":2047},{"$f":"Skyggetabeller!P125","v":2600},{"$f":"Skyggetabeller!Q125","v":2483},{"$f":"Skyggetabeller!R125","v":3671}]
[null,{"$f":"Skyggetabeller!B126","v":"Antal anbragte"},null,{"$f":"Skyggetabeller!D126","v":7},{"$f":"Skyggetabeller!E126","v":6},{"$f":"Skyggetabeller!F126","v":6},{"$f":"Skyggetabeller!G126","v":11},{"$f":"Skyggetabeller!H126","v":9},{"$f":"Skyggetabeller!I126","v":4},{"$f":"Skyggetabeller!J126","v":"*"},{"$f":"Skyggetabeller!K126","v":9},{"$f":"Skyggetabeller!L126","v":17},{"$f":"Skyggetabeller!M126","v":23},{"$f":"Skyggetabeller!N126","v":18},{"$f":"Skyggetabeller!O126","v":16},{"$f":"Skyggetabeller!P126","v":11},{"$f":"Skyggetabeller!Q126","v":12},{"$f":"Skyggetabeller!R126","v":12}]
[null,{"$f":"Skyggetabeller!B127","v":"Gennemsnitlig varighed"},null,{"$f":"Skyggetabeller!D127","v":295.28571428571428},{"$f":"Skyggetabeller!E127","v":407.16666666666669},{"$f":"Skyggetabeller!F127","v":349.66666666666669},{"$f":"Skyggetabeller!G127","v":275.09090909090907},{"$f":"Skyggetabeller!H127","v":328.88888888888891},{"$f":"Skyggetabeller!I127","v":"*"},{"$f":"Skyggetabeller!J127","v":"*"},{"$f":"Skyggetabeller!K127","v":89},{"$f":"Skyggetabeller!L127","v":99.588235294117652},{"$f":"Skyggetabeller!M127","v":112.21739130434783},{"$f":"Skyggetabeller!N127","v":152.77777777777777},{"$f":"Skyggetabeller!O127","v":127.9375},{"$f":"Skyggetabeller!P127","v":236.36363636363637},{"$f":"Skyggetabeller!Q127","v":206.91666666666666},{"$f":"Skyggetabeller!R127","v":305.91666666666669}]
[null,{"$f":"Skyggetabeller!B128","v":"Sammenligningsgruppe, gns."}]
[null,{"$f":"Skyggetabeller!B129","v":"Samlet antal dage"},null,{"$f":"Skyggetabeller!D129","v":0},{"$f":"Skyggetabeller!E129","v":0},{"$f":"Skyggetabeller!F129","v":0},{"$f":"Skyggetabeller!G129","v":902},{"$f":"Skyggetabeller!H129","v":1195},{"$f":"Skyggetabeller!I129","v":2404},{"$f":"Skyggetabeller!J129","v":3592},{"$f":"Skyggetabeller!K129","v":1665},{"$f":"Skyggetabeller!L129","v":1624},{"$f":"Skyggetabeller!M129","v":2319},{"$f":"Skyggetabeller!N129","v":2424},{"$f":"Skyggetabeller!O129","v":3638},{"$f":"Skyggetabeller!P129","v":3109},{"$f":"Skyggetabeller!Q129","v":2546},{"$f":"Skyggetabeller!R129","v":2065}]
[null,{"$f":"Skyggetabeller!B130","v":"Antal anbragte"},null,{"$f":"Skyggetabeller!D130","v":3},{"$f":"Skyggetabeller!E130","v":4},{"$f":"Skyggetabeller!F130","v":4},{"$f":"Skyggetabeller!G130","v":7},{"$f":"Skyggetabeller!H130","v":10},{"$f":"Skyggetabeller!I130","v":8},{"$f":"Skyggetabeller!J130","v":15},{"$f":"Skyggetabeller!K130","v":10},{"$f":"Skyggetabeller!L130","v":14},{"$f":"Skyggetabeller!M130","v":11},{"$f":"Skyggetabeller!N130","v":11},{"$f":"Skyggetabeller!O130","v":14},{"$f":"Skyggetabeller!P130","v":10},{"$f":"Skyggetabeller!Q130","v":13},{"$f":"Skyggetabeller!R130","v":8}]
[null,{"$f":"Skyggetabeller!B131","v":"Gennemsnitlig varighed"},null,{"$f":"Skyggetabeller!D131","v":0},{"$f":"Skyggetabeller!E131","v":0},{"$f":"Skyggetabeller!F131","v":0},{"$f":"Skyggetabeller!G131","v":128.85714285714286},{"$f":"Skyggetabeller!H131","v":119.5},{"$f":"Skyggetabeller!I131","v":300.5},{"$f":"Skyggetabeller!J131","v":239.46666666666667},{"$f":"Skyggetabeller!K131","v":166.5},{"$f":"Skyggetabeller!L131","v":116},{"$f":"Skyggetabeller!M131","v":210.81818181818181},{"$f":"Skyggetabeller!N131","v":220.36363636363637},{"$f":"Skyggetabeller!O131","v":259.85714285714283},{"$f":"Skyggetabeller!P131","v":310.89999999999998},{"$f":"Skyggetabeller!Q131","v":195.84615384615384},{"$f":"Skyggetabeller!R131","v":258.125}]
[null,{"$f":"Skyggetabeller!B132","v":"Hele landet"}]
[null,{"$f":"Skyggetabeller!B133","v":"Samlet antal dage"},null,{"$f":"Skyggetabeller!D133","v":24418},{"$f":"Skyggetabeller!E133","v":26592},{"$f":"Skyggetabeller!F133","v":18299},{"$f":"Skyggetabeller!G133","v":18279},{"$f":"Skyggetabeller!H133","v":20518},{"$f":"Skyggetabeller!I133","v":23313},{"$f":"Skyggetabeller!J133","v":20262},{"$f":"Skyggetabeller!K133","v":20696},{"$f":"Skyggetabeller!L133","v":18628},{"$f":"Skyggetabeller!M133","v":21549},{"$f":"Skyggetabeller!N133","v":18321},{"$f":"Skyggetabeller!O133","v":18630},{"$f":"Skyggetabeller!P133","v":16479},{"$f":"Skyggetabeller!Q133","v":16033},{"$f":"Skyggetabeller!R133","v":20710}]
[null,{"$f":"Skyggetabeller!B134","v":"Antal anbragte"},null,{"$f":"Skyggetabeller!D134","v":81},{"$f":"Skyggetabeller!E134","v":80},{"$f":"Skyggetabeller!F134","v":64},{"$f":"Skyggetabeller!G134","v":85},{"$f":"Skyggetabeller!H134","v":76},{"$f":"Skyggetabeller!I134","v":71},{"$f":"Skyggetabeller!J134","v":77},{"$f":"Skyggetabeller!K134","v":82},{"$f":"Skyggetabeller!L134","v":95},{"$f":"Skyggetabeller!M134","v":97},{"$f":"Skyggetabeller!N134","v":84},{"$f":"Skyggetabeller!O134","v":87},{"$f":"Skyggetabeller!P134","v":86},{"$f":"Skyggetabeller!Q134","v":91},{"$f":"Skyggetabeller!R134","v":95}]
[null,{"$f":"Skyggetabeller!B135","v":"Gennemsnitlig varighed"},null,{"$f":"Skyggetabeller!D135","v":301.45679012345681},{"$f":"Skyggetabeller!E135","v":332.4},{"$f":"Skyggetabeller!F135","v":285.921875},{"$f":"Skyggetabeller!G135","v":215.04705882352943},{"$f":"Skyggetabeller!H135","v":269.9736842105263},{"$f":"Skyggetabeller!I135","v":328.35211267605632},{"$f":"Skyggetabeller!J135","v":263.14285714285717},{"$f":"Skyggetabeller!K135","v":252.39024390243901},{"$f":"Skyggetabeller!L135","v":196.08421052631579},{"$f":"Skyggetabeller!M135","v":222.15463917525773},{"$f":"Skyggetabeller!N135","v":218.10714285714286},{"$f":"Skyggetabeller!O135","v":214.13793103448276},{"$f":"Skyggetabeller!P135","v":191.61627906976744},{"$f":"Skyggetabeller!Q135","v":176.1868131868132},{"$f":"Skyggetabeller!R135","v":218}]
[null,"Anm.: Hvis nøgletallet er angivet med * er der foretaget en diskretionering af data, da der er for få observationer. "]
[null,{"$f":"IF('Dine valg'!$G$24=\"\",\"Ingen sammenligningsgruppe valgt.\",\"Anm.: Valgte kommuner i sammenligningsgruppen: \"&'Dine valg'!$G$24&\" \"&'Dine valg'!$G$25&\" \"&'Dine valg'!$G$26&\" \"&'Dine valg'!$G$27&\" \"&'Dine valg'!$G$28&\" \"&'Dine valg'!$G$29&\" \"&'Dine valg'!$G$30)","v":"Anm.: Valgte kommuner i sammenligningsgruppen: Aarhus      "}]
[null,"Kilde: Socialstyrelsens egne beregninger baseret på registerdata fra Danmarks Statistik."]
[]
[null,{"$f":"Skyggetabeller!B138","v":"Nøgletal 2.3: \nGennemsnitlig varighed af igangværende anbringelser på socialpædagogisk opholdssted"},null,"2017-01-01","2017-07-01","2018-01-01","2018-07-01","2019-01-01","2019-07-01","2020-01-01","2020-07-01","2021-01-01","2021-07-01","2022-01-01","2022-07-01","2023-01-01","2023-07-01","2024-01-01"]
[null,{"$f":"Skyggetabeller!B139","v":"København"}]
[null,{"$f":"Skyggetabeller!B140","v":"Samlet antal dage"},null,{"$f":"Skyggetabeller!D140","v":46842},{"$f":"Skyggetabeller!E140","v":41902},{"$f":"Skyggetabeller!F140","v":41980},{"$f":"Skyggetabeller!G140","v":42337},{"$f":"Skyggetabeller!H140","v":41703},{"$f":"Skyggetabeller!I140","v":"*"},{"$f":"Skyggetabeller!J140","v":"*"},{"$f":"Skyggetabeller!K140","v":34639},{"$f":"Skyggetabeller!L140","v":32207},{"$f":"Skyggetabeller!M140","v":35674},{"$f":"Skyggetabeller!N140","v":33527},{"$f":"Skyggetabeller!O140","v":37339},{"$f":"Skyggetabeller!P140","v":31127},{"$f":"Skyggetabeller!Q140","v":32213},{"$f":"Skyggetabeller!R140","v":34645}]
[null,{"$f":"Skyggetabeller!B141","v":"Antal anbragte"},null,{"$f":"Skyggetabeller!D141","v":46},{"$f":"Skyggetabeller!E141","v":38},{"$f":"Skyggetabeller!F141","v":33},{"$f":"Skyggetabeller!G141","v":32},{"$f":"Skyggetabeller!H141","v":33},{"$f":"Skyggetabeller!I141","v":36},{"$f":"Skyggetabeller!J141","v":"*"},{"$f":"Skyggetabeller!K141","v":26},{"$f":"Skyggetabeller!L141","v":27},{"$f":"Skyggetabeller!M141","v":34},{"$f":"Skyggetabeller!N141","v":31},{"$f":"Skyggetabeller!O141","v":36},{"$f":"Skyggetabeller!P141","v":41},{"$f":"Skyggetabeller!Q141","v":42},{"$f":"Skyggetabeller!R141","v":53}]
[null,{"$f":"Skyggetabeller!B142","v":"Gennemsnitlig varighed"},null,{"$f":"Skyggetabeller!D142","v":1018.304347826087},{"$f":"Skyggetabeller!E142","v":1102.6842105263158},{"$f":"Skyggetabeller!F142","v":1272.121212121212},{"$f":"Skyggetabeller!G142","v":1323.03125},{"$f":"Skyggetabeller!H142","v":1263.7272727272727},{"$f":"Skyggetabeller!I142","v":"*"},{"$f":"Skyggetabeller!J142","v":"*"},{"$f":"Skyggetabeller!K142","v":1332.2692307692307},{"$f":"Skyggetabeller!L142","v":1192.851851851852},{"$f":"Skyggetabeller!M142","v":1049.2352941176471},{"$f":"Skyggetabeller!N142","v":1081.516129032258},{"$f":"Skyggetabeller!O142","v":1037.1944444444443},{"$f":"Skyggetabeller!P142","v":759.19512195121956},{"$f":"Skyggetabeller!Q142","v":766.97619047619048},{"$f":"Skyggetabeller!R142","v":653.67924528301887}]
[null,{"$f":"Skyggetabeller!B143","v":"Sammenligningsgruppe, gns."}]
[null,{"$f":"Skyggetabeller!B144","v":"Samlet antal dage"},null,{"$f":"Skyggetabeller!D144","v":0},{"$f":"Skyggetabeller!E144","v":0},{"$f":"Skyggetabeller!F144","v":0},{"$f":"Skyggetabeller!G144","v":36187},{"$f":"Skyggetabeller!H144","v":33061},{"$f":"Skyggetabeller!I144","v":33513},{"$f":"Skyggetabeller!J144","v":28592},{"$f":"Skyggetabeller!K144","v":23654},{"$f":"Skyggetabeller!L144","v":26145},{"$f":"Skyggetabeller!M144","v":21632},{"$f":"Skyggetabeller!N144","v":20258},{"$f":"Skyggetabeller!O144","v":24985},{"$f":"Skyggetabeller!P144","v":23403},{"$f":"Skyggetabeller!Q144","v":21018},{"$f":"Skyggetabeller!R144","v":20221}]
[null,{"$f":"Skyggetabeller!B145","v":"Antal anbragte"},null,{"$f":"Skyggetabeller!D145","v":56},{"$f":"Skyggetabeller!E145","v":52},{"$f":"Skyggetabeller!F145","v":58},{"$f":"Skyggetabeller!G145","v":46},{"$f":"Skyggetabeller!H145","v":47},{"$f":"Skyggetabeller!I145","v":43},{"$f":"Skyggetabeller!J145","v":35},{"$f":"Skyggetabeller!K145","v":37},{"$f":"Skyggetabeller!L145","v":40},{"$f":"Skyggetabeller!M145","v":45},{"$f":"Skyggetabeller!N145","v":41},{"$f":"Skyggetabeller!O145","v":49},{"$f":"Skyggetabeller!P145","v":49},{"$f":"Skyggetabeller!Q145","v":38},{"$f":"Skyggetabeller!R145","v":43}]
[null,{"$f":"Skyggetabeller!B146","v":"Gennemsnitlig varighed"},null,{"$f":"Skyggetabeller!D146","v":0},{"$f":"Skyggetabeller!E146","v":0},{"$f":"Skyggetabeller!F146","v":0},{"$f":"Skyggetabeller!G146","v":786.67391304347825},{"$f":"Skyggetabeller!H146","v":703.42553191489367},{"$f":"Skyggetabeller!I146","v":779.37209302325584},{"$f":"Skyggetabeller!J146","v":816.91428571428571},{"$f":"Skyggetabeller!K146","v":639.29729729729729},{"$f":"Skyggetabeller!L146","v":653.625},{"$f":"Skyggetabeller!M146","v":480.71111111111111},{"$f":"Skyggetabeller!N146","v":494.09756097560978},{"$f":"Skyggetabeller!O146","v":509.89795918367349},{"$f":"Skyggetabeller!P146","v":477.61224489795916},{"$f":"Skyggetabeller!Q146","v":553.10526315789468},{"$f":"Skyggetabeller!R146","v":470.25581395348837}]
[null,{"$f":"Skyggetabeller!B147","v":"Hele landet"}]
[null,{"$f":"Skyggetabeller!B148","v":"Samlet antal dage"},null,{"$f":"Skyggetabeller!D148","v":1152440},{"$f":"Skyggetabeller!E148","v":1156397},{"$f":"Skyggetabeller!F148","v":1134473},{"$f":"Skyggetabeller!G148","v":1096838},{"$f":"Skyggetabeller!H148","v":1054734},{"$f":"Skyggetabeller!I148","v":1025155},{"$f":"Skyggetabeller!J148","v":1008761},{"$f":"Skyggetabeller!K148","v":1062008},{"$f":"Skyggetabeller!L148","v":1077441},{"$f":"Skyggetabeller!M148","v":1107771},{"$f":"Skyggetabeller!N148","v":1131988},{"$f":"Skyggetabeller!O148","v":1147767},{"$f":"Skyggetabeller!P148","v":1166569},{"$f":"Skyggetabeller!Q148","v":1183360},{"$f":"Skyggetabeller!R148","v":1197776}]
[null,{"$f":"Skyggetabeller!B149","v":"Antal anbragte"},null,{"$f":"Skyggetabeller!D149","v":1484},{"$f":"Skyggetabeller!E149","v":1571},{"$f":"Skyggetabeller!F149","v":1544},{"$f":"Skyggetabeller!G149","v":1544},{"$f":"Skyggetabeller!H149","v":1529},{"$f":"Skyggetabeller!I149","v":1516},{"$f":"Skyggetabeller!J149","v":1517},{"$f":"Skyggetabeller!K149","v":1592},{"$f":"Skyggetabeller!L149","v":1615},{"$f":"Skyggetabeller!M149","v":1717},{"$f":"Skyggetabeller!N149","v":1713},{"$f":"Skyggetabeller!O149","v":1826},{"$f":"Skyggetabeller!P149","v":1854},{"$f":"Skyggetabeller!Q149","v":1863},{"$f":"Skyggetabeller!R149","v":1895}]
[null,{"$f":"Skyggetabeller!B150","v":"Gennemsnitlig varighed"},null,{"$f":"Skyggetabeller!D150","v":776.57681940700809},{"$f":"Skyggetabeller!E150","v":736.08975175047738},{"$f":"Skyggetabeller!F150","v":734.76230569948189},{"$f":"Skyggetabeller!G150","v":710.38730569948189},{"$f":"Skyggetabeller!H150","v":689.81948986265536},{"$f":"Skyggetabeller!I150","v":676.22361477572565},{"$f":"Skyggetabeller!J150","v":664.97099538562952},{"$f":"Skyggetabeller!K150","v":667.0904522613065},{"$f":"Skyggetabeller!L150","v":667.14613003095974},{"$f":"Skyggetabeller!M150","v":645.17821782178214},{"$f":"Skyggetabeller!N150","v":660.8219497956801},{"$f":"Skyggetabeller!O150","v":628.56900328587074},{"$f":"Skyggetabeller!P150","v":629.21736785329017},{"$f":"Skyggetabeller!Q150","v":635.19055287171227},{"$f":"Skyggetabeller!R150","v":632.07176781002636}]
[null,"Anm.: Hvis nøgletallet er angivet med * er der foretaget en diskretionering af data, da der er for få observationer. "]
[null,{"$f":"IF('Dine valg'!$G$24=\"\",\"Ingen sammenligningsgruppe valgt.\",\"Anm.: Valgte kommuner i sammenligningsgruppen: \"&'Dine valg'!$G$24&\" \"&'Dine valg'!$G$25&\" \"&'Dine valg'!$G$26&\" \"&'Dine valg'!$G$27&\" \"&'Dine valg'!$G$28&\" \"&'Dine valg'!$G$29&\" \"&'Dine valg'!$G$30)","v":"Anm.: Valgte kommuner i sammenligningsgruppen: Aarhus      "}]
[null,"Kilde: Socialstyrelsens egne beregninger baseret på registerdata fra Danmarks Statistik."]
[]
[null,{"$f":"Skyggetabeller!B153","v":"Nøgletal 3: Anbragte i plejefamilie"}]
[]
[null,{"$f":"Skyggetabeller!B156","v":"Nøgletal 3: \nAnbragte i plejefamilie"},null,"2017-01-01","2017-07-01","2018-01-01","2018-07-01","2019-01-01","2019-07-01","2020-01-01","2020-07-01","2021-01-01","2021-07-01","2022-01-01","2022-07-01","2023-01-01","2023-07-01","2024-01-01"]
[null,{"$f":"Skyggetabeller!B157","v":"København"}]
[null,{"$f":"Skyggetabeller!B158","v":"Antal anbragte"},null,{"$f":"Skyggetabeller!D158","v":357},{"$f":"Skyggetabeller!E158","v":349},{"$f":"Skyggetabeller!F158","v":349},{"$f":"Skyggetabeller!G158","v":353},{"$f":"Skyggetabeller!H158","v":340},{"$f":"Skyggetabeller!I158","v":326},{"$f":"Skyggetabeller!J158","v":314},{"$f":"Skyggetabeller!K158","v":296},{"$f":"Skyggetabeller!L158","v":287},{"$f":"Skyggetabeller!M158","v":284},{"$f":"Skyggetabeller!N158","v":272},{"$f":"Skyggetabeller!O158","v":265},{"$f":"Skyggetabeller!P158","v":271},{"$f":"Skyggetabeller!Q158","v":261},{"$f":"Skyggetabeller!R158","v":242}]
[null,{"$f":"Skyggetabeller!B159","v":"Antal 0-17-årige"},null,{"$f":"Skyggetabeller!D159","v":105885},{"$f":"Skyggetabeller!E159","v":106913},{"$f":"Skyggetabeller!F159","v":107770},{"$f":"Skyggetabeller!G159","v":108734},{"$f":"Skyggetabeller!H159","v":109335},{"$f":"Skyggetabeller!I159","v":110138},{"$f":"Skyggetabeller!J159","v":110822},{"$f":"Skyggetabeller!K159","v":111068},{"$f":"Skyggetabeller!L159","v":110927},{"$f":"Skyggetabeller!M159","v":110614},{"$f":"Skyggetabeller!N159","v":110513},{"$f":"Skyggetabeller!O159","v":110692},{"$f":"Skyggetabeller!P159","v":110835},{"$f":"Skyggetabeller!Q159","v":111075},{"$f":"Skyggetabeller!R159","v":110571}]
[null,{"$f":"Skyggetabeller!B160","v":"Andel"},null,{"$f":"Skyggetabeller!D160","v":3.3715823771072388},{"$f":"Skyggetabeller!E160","v":3.2643364230729661},{"$f":"Skyggetabeller!F160","v":3.2383780272803193},{"$f":"Skyggetabeller!G160","v":3.246454650799198},{"$f":"Skyggetabeller!H160","v":3.1097086934650386},{"$f":"Skyggetabeller!I160","v":2.9599230056837786},{"$f":"Skyggetabeller!J160","v":2.8333724350760678},{"$f":"Skyggetabeller!K160","v":2.6650340332048836},{"$f":"Skyggetabeller!L160","v":2.5872871347823345},{"$f":"Skyggetabeller!M160","v":2.5674869365541433},{"$f":"Skyggetabeller!N160","v":2.4612489028440092},{"$f":"Skyggetabeller!O160","v":2.3940302822245512},{"$f":"Skyggetabeller!P160","v":2.445076013894528},{"$f":"Skyggetabeller!Q160","v":2.3497636731937881},{"$f":"Skyggetabeller!R160","v":2.1886389740528709}]
[null,{"$f":"Skyggetabeller!B161","v":"Sammenligningsgruppe, gns."}]
[null,{"$f":"Skyggetabeller!B162","v":"Antal anbragte"},null,{"$f":"Skyggetabeller!D162","v":228},{"$f":"Skyggetabeller!E162","v":243},{"$f":"Skyggetabeller!F162","v":244},{"$f":"Skyggetabeller!G162","v":255},{"$f":"Skyggetabeller!H162","v":253},{"$f":"Skyggetabeller!I162","v":252},{"$f":"Skyggetabeller!J162","v":248},{"$f":"Skyggetabeller!K162","v":248},{"$f":"Skyggetabeller!L162","v":242},{"$f":"Skyggetabeller!M162","v":232},{"$f":"Skyggetabeller!N162","v":231},{"$f":"Skyggetabeller!O162","v":230},{"$f":"Skyggetabeller!P162","v":221},{"$f":"Skyggetabeller!Q162","v":225},{"$f":"Skyggetabeller!R162","v":221}]
[null,{"$f":"Skyggetabeller!B163","v":"Antal 0-17-årige"},null,{"$f":"Skyggetabeller!D163","v":62903},{"$f":"Skyggetabeller!E163","v":63077},{"$f":"Skyggetabeller!F163","v":63245},{"$f":"Skyggetabeller!G163","v":63510},{"$f":"Skyggetabeller!H163","v":63607},{"$f":"Skyggetabeller!I163","v":63704},{"$f":"Skyggetabeller!J163","v":63890},{"$f":"Skyggetabeller!K163","v":64128},{"$f":"Skyggetabeller!L163","v":64334},{"$f":"Skyggetabeller!M163","v":64307},{"$f":"Skyggetabeller!N163","v":64049},{"$f":"Skyggetabeller!O163","v":64356},{"$f":"Skyggetabeller!P163","v":64420},{"$f":"Skyggetabeller!Q163","v":64601},{"$f":"Skyggetabeller!R163","v":64665}]
[null,{"$f":"Skyggetabeller!B164","v":"Andel"},null,{"$f":"Skyggetabeller!D164","v":3.6246283961019348},{"$f":"Skyggetabeller!E164","v":3.8524343262996021},{"$f":"Skyggetabeller!F164","v":3.8580124911060163},{"$f":"Skyggetabeller!G164","v":4.0151157298063298},{"$f":"Skyggetabeller!H164","v":3.9775496407628097},{"$f":"Skyggetabeller!I164","v":3.9557955544392818},{"$f":"Skyggetabeller!J164","v":3.8816716231022066},{"$f":"Skyggetabeller!K164","v":3.8672654690618762},{"$f":"Skyggetabeller!L164","v":3.7616190505797866},{"$f":"Skyggetabeller!M164","v":3.6076943412070226},{"$f":"Skyggetabeller!N164","v":3.6066136863963529},{"$f":"Skyggetabeller!O164","v":3.5738703461992665},{"$f":"Skyggetabeller!P164","v":3.4306116113008382},{"$f":"Skyggetabeller!Q164","v":3.482918221080169},{"$f":"Skyggetabeller!R164","v":3.4176138560272173}]
[null,{"$f":"Skyggetabeller!B165","v":"Hele landet"}]
[null,{"$f":"Skyggetabeller!B166","v":"Antal anbragte"},null,{"$f":"Skyggetabeller!D166","v":6754},{"$f":"Skyggetabeller!E166","v":6801},{"$f":"Skyggetabeller!F166","v":6761},{"$f":"Skyggetabeller!G166","v":6807},{"$f":"Skyggetabeller!H166","v":6779},{"$f":"Skyggetabeller!I166","v":6771},{"$f":"Skyggetabeller!J166","v":6665},{"$f":"Skyggetabeller!K166","v":6603},{"$f":"Skyggetabeller!L166","v":6547},{"$f":"Skyggetabeller!M166","v":6540},{"$f":"Skyggetabeller!N166","v":6449},{"$f":"Skyggetabeller!O166","v":6384},{"$f":"Skyggetabeller!P166","v":6297},{"$f":"Skyggetabeller!Q166","v":6295},{"$f":"Skyggetabeller!R166","v":6187}]
[null,{"$f":"Skyggetabeller!B167","v":"Antal 0-17-årige"},null,{"$f":"Skyggetabeller!D167","v":1168201},{"$f":"Skyggetabeller!E167","v":1165363},{"$f":"Skyggetabeller!F167","v":1165475},{"$f":"Skyggetabeller!G167","v":1162195},{"$f":"Skyggetabeller!H167","v":1160360},{"$f":"Skyggetabeller!I167","v":1156537},{"$f":"Skyggetabeller!J167","v":1156116},{"$f":"Skyggetabeller!K167","v":1153027},{"$f":"Skyggetabeller!L167","v":1152972},{"$f":"Skyggetabeller!M167","v":1151374},{"$f":"Skyggetabeller!N167","v":1151704},{"$f":"Skyggetabeller!O167","v":1157254},{"$f":"Skyggetabeller!P167","v":1155814},{"$f":"Skyggetabeller!Q167","v":1151415},{"$f":"Skyggetabeller!R167","v":1148490}]
[null,{"$f":"Skyggetabeller!B168","v":"Andel"},null,{"$f":"Skyggetabeller!D168","v":5.7815393070199397},{"$f":"Skyggetabeller!E168","v":5.8359498285083706},{"$f":"Skyggetabeller!F168","v":5.8010682339818525},{"$f":"Skyggetabeller!G168","v":5.8570205516286},{"$f":"Skyggetabeller!H168","v":5.8421524354510677},{"$f":"Skyggetabeller!I168","v":5.8545468065440183},{"$f":"Skyggetabeller!J168","v":5.7649924402049617},{"$f":"Skyggetabeller!K168","v":5.7266655507633386},{"$f":"Skyggetabeller!L168","v":5.6783685987170545},{"$f":"Skyggetabeller!M168","v":5.6801699534642962},{"$f":"Skyggetabeller!N168","v":5.5995290456575653},{"$f":"Skyggetabeller!O168","v":5.5165071799276566},{"$f":"Skyggetabeller!P168","v":5.4481084326716926},{"$f":"Skyggetabeller!Q168","v":5.4671860276268767},{"$f":"Skyggetabeller!R168","v":5.3870734616757652}]
[null,"Anm.: Hvis nøgletallet er angivet med * er der foretaget en diskretionering af data, da der er for få observationer. "]
[null,{"$f":"IF('Dine valg'!$G$24=\"\",\"Ingen sammenligningsgruppe valgt.\",\"Anm.: Valgte kommuner i sammenligningsgruppen: \"&'Dine valg'!$G$24&\" \"&'Dine valg'!$G$25&\" \"&'Dine valg'!$G$26&\" \"&'Dine valg'!$G$27&\" \"&'Dine valg'!$G$28&\" \"&'Dine valg'!$G$29&\" \"&'Dine valg'!$G$30)","v":"Anm.: Valgte kommuner i sammenligningsgruppen: Aarhus      "}]
[null,"Kilde: Socialstyrelsens egne beregninger baseret på registerdata fra Danmarks Statistik."]
[]
[null,{"$f":"Skyggetabeller!B171","v":"Nøgletal 4: Anbragte i netværksplejefamilie"}]
[]
[null,{"$f":"Skyggetabeller!B174","v":"Nøgletal 4: \nAnbragte i netværksplejefamilie"},null,"2017-01-01","2017-07-01","2018-01-01","2018-07-01","2019-01-01","2019-07-01","2020-01-01","2020-07-01","2021-01-01","2021-07-01","2022-01-01","2022-07-01","2023-01-01","2023-07-01","2024-01-01"]
[null,{"$f":"Skyggetabeller!B175","v":"København"}]
[null,{"$f":"Skyggetabeller!B176","v":"Antal anbragte"},null,{"$f":"Skyggetabeller!D176","v":106},{"$f":"Skyggetabeller!E176","v":113},{"$f":"Skyggetabeller!F176","v":111},{"$f":"Skyggetabeller!G176","v":108},{"$f":"Skyggetabeller!H176","v":113},{"$f":"Skyggetabeller!I176","v":108},{"$f":"Skyggetabeller!J176","v":109},{"$f":"Skyggetabeller!K176","v":109},{"$f":"Skyggetabeller!L176","v":116},{"$f":"Skyggetabeller!M176","v":114},{"$f":"Skyggetabeller!N176","v":113},{"$f":"Skyggetabeller!O176","v":112},{"$f":"Skyggetabeller!P176","v":113},{"$f":"Skyggetabeller!Q176","v":107},{"$f":"Skyggetabeller!R176","v":118}]
[null,{"$f":"Skyggetabeller!B177","v":"Antal 0-17-årige"},null,{"$f":"Skyggetabeller!D177","v":105885},{"$f":"Skyggetabeller!E177","v":106913},{"$f":"Skyggetabeller!F177","v":107770},{"$f":"Skyggetabeller!G177","v":108734},{"$f":"Skyggetabeller!H177","v":109335},{"$f":"Skyggetabeller!I177","v":110138},{"$f":"Skyggetabeller!J177","v":110822},{"$f":"Skyggetabeller!K177","v":111068},{"$f":"Skyggetabeller!L177","v":110927},{"$f":"Skyggetabeller!M177","v":110614},{"$f":"Skyggetabeller!N177","v":110513},{"$f":"Skyggetabeller!O177","v":110692},{"$f":"Skyggetabeller!P177","v":110835},{"$f":"Skyggetabeller!Q177","v":111075},{"$f":"Skyggetabeller!R177","v":110571}]
[null,{"$f":"Skyggetabeller!B178","v":"Andel"},null,{"$f":"Skyggetabeller!D178","v":1.0010860839590121},{"$f":"Skyggetabeller!E178","v":1.0569341427141694},{"$f":"Skyggetabeller!F178","v":1.02997123503758},{"$f":"Skyggetabeller!G178","v":0.99324958154762999},{"$f":"Skyggetabeller!H178","v":1.0335208304751453},{"$f":"Skyggetabeller!I178","v":0.98058798961303084},{"$f":"Skyggetabeller!J178","v":0.98355922109328464},{"$f":"Skyggetabeller!K178","v":0.98138077574098748},{"$f":"Skyggetabeller!L178","v":1.0457327792151596},{"$f":"Skyggetabeller!M178","v":1.0306109534055363},{"$f":"Skyggetabeller!N178","v":1.0225041397844596},{"$f":"Skyggetabeller!O178","v":1.011816572109999},{"$f":"Skyggetabeller!P178","v":1.0195335408490098},{"$f":"Skyggetabeller!Q178","v":0.96331307674994371},{"$f":"Skyggetabeller!R178","v":1.0671875989183421}]
[null,{"$f":"Skyggetabeller!B179","v":"Sammenligningsgruppe, gns."}]
[null,{"$f":"Skyggetabeller!B180","v":"Antal anbragte"},null,{"$f":"Skyggetabeller!D180","v":41},{"$f":"Skyggetabeller!E180","v":35},{"$f":"Skyggetabeller!F180","v":31},{"$f":"Skyggetabeller!G180","v":25},{"$f":"Skyggetabeller!H180","v":23},{"$f":"Skyggetabeller!I180","v":23},{"$f":"Skyggetabeller!J180","v":22},{"$f":"Skyggetabeller!K180","v":24},{"$f":"Skyggetabeller!L180","v":26},{"$f":"Skyggetabeller!M180","v":25},{"$f":"Skyggetabeller!N180","v":22},{"$f":"Skyggetabeller!O180","v":22},{"$f":"Skyggetabeller!P180","v":25},{"$f":"Skyggetabeller!Q180","v":26},{"$f":"Skyggetabeller!R180","v":27}]
[null,{"$f":"Skyggetabeller!B181","v":"Antal 0-17-årige"},null,{"$f":"Skyggetabeller!D181","v":62903},{"$f":"Skyggetabeller!E181","v":63077},{"$f":"Skyggetabeller!F181","v":63245},{"$f":"Skyggetabeller!G181","v":63510},{"$f":"Skyggetabeller!H181","v":63607},{"$f":"Skyggetabeller!I181","v":63704},{"$f":"Skyggetabeller!J181","v":63890},{"$f":"Skyggetabeller!K181","v":64128},{"$f":"Skyggetabeller!L181","v":64334},{"$f":"Skyggetabeller!M181","v":64307},{"$f":"Skyggetabeller!N181","v":64049},{"$f":"Skyggetabeller!O181","v":64356},{"$f":"Skyggetabeller!P181","v":64420},{"$f":"Skyggetabeller!Q181","v":64601},{"$f":"Skyggetabeller!R181","v":64665}]
[null,{"$f":"Skyggetabeller!B182","v":"Andel"},null,{"$f":"Skyggetabeller!D182","v":0.6517972115797338},{"$f":"Skyggetabeller!E182","v":0.55487737210076571},{"$f":"Skyggetabeller!F182","v":0.4901573246896988},{"$f":"Skyggetabeller!G182","v":0.39363879703983623},{"$f":"Skyggetabeller!H182","v":0.36159542188752808},{"$f":"Skyggetabeller!I182","v":0.36104483234961698},{"$f":"Skyggetabeller!J182","v":0.34434183753326031},{"$f":"Skyggetabeller!K182","v":0.37425149700598803},{"$f":"Skyggetabeller!L182","v":0.40414088973171264},{"$f":"Skyggetabeller!M182","v":0.38876016607834296},{"$f":"Skyggetabeller!N182","v":0.34348701775203361},{"$f":"Skyggetabeller!O182","v":0.34184846789732115},{"$f":"Skyggetabeller!P182","v":0.38807823657249302},{"$f":"Skyggetabeller!Q182","v":0.40247054999148618},{"$f":"Skyggetabeller!R182","v":0.41753653444676414}]
[null,{"$f":"Skyggetabeller!B183","v":"Hele landet"}]
[null,{"$f":"Skyggetabeller!B184","v":"Antal anbragte"},null,{"$f":"Skyggetabeller!D184","v":955},{"$f":"Skyggetabeller!E184","v":1000},{"$f":"Skyggetabeller!F184","v":965},{"$f":"Skyggetabeller!G184","v":944},{"$f":"Skyggetabeller!H184","v":944},{"$f":"Skyggetabeller!I184","v":917},{"$f":"Skyggetabeller!J184","v":899},{"$f":"Skyggetabeller!K184","v":922},{"$f":"Skyggetabeller!L184","v":947},{"$f":"Skyggetabeller!M184","v":952},{"$f":"Skyggetabeller!N184","v":935},{"$f":"Skyggetabeller!O184","v":963},{"$f":"Skyggetabeller!P184","v":1006},{"$f":"Skyggetabeller!Q184","v":1009},{"$f":"Skyggetabeller!R184","v":1030}]
[null,{"$f":"Skyggetabeller!B185","v":"Antal 0-17-årige"},null,{"$f":"Skyggetabeller!D185","v":1168201},{"$f":"Skyggetabeller!E185","v":1165363},{"$f":"Skyggetabeller!F185","v":1165475},{"$f":"Skyggetabeller!G185","v":1162195},{"$f":"Skyggetabeller!H185","v":1160360},{"$f":"Skyggetabeller!I185","v":1156537},{"$f":"Skyggetabeller!J185","v":1156116},{"$f":"Skyggetabeller!K185","v":1153027},{"$f":"Skyggetabeller!L185","v":1152972},{"$f":"Skyggetabeller!M185","v":1151374},{"$f":"Skyggetabeller!N185","v":1151704},{"$f":"Skyggetabeller!O185","v":1157254},{"$f":"Skyggetabeller!P185","v":1155814},{"$f":"Skyggetabeller!Q185","v":1151415},{"$f":"Skyggetabeller!R185","v":1148490}]
[null,{"$f":"Skyggetabeller!B186","v":"Andel"},null,{"$f":"Skyggetabeller!D186","v":0.81749630414628993},{"$f":"Skyggetabeller!E186","v":0.85810172452703581},{"$f":"Skyggetabeller!F186","v":0.82798858834380828},{"$f":"Skyggetabeller!G186","v":0.81225611880966619},{"$f":"Skyggetabeller!H186","v":0.81354062532317561},{"$f":"Skyggetabeller!I186","v":0.79288427434660547},{"$f":"Skyggetabeller!J186","v":0.77760363146950651},{"$f":"Skyggetabeller!K186","v":0.79963435374887148},{"$f":"Skyggetabeller!L186","v":0.8213555923300826},{"$f":"Skyggetabeller!M186","v":0.82683819506085776},{"$f":"Skyggetabeller!N186","v":0.81184054236157899},{"$f":"Skyggetabeller!O186","v":0.83214229546841056},{"$f":"Skyggetabeller!P186","v":0.87038225873713249},{"$f":"Skyggetabeller!Q186","v":0.87631305828046357},{"$f":"Skyggetabeller!R186","v":0.89682975036787427}]
[null,"Anm.: Hvis nøgletallet er angivet med * er der foretaget en diskretionering af data, da der er for få observationer. "]
[null,{"$f":"IF('Dine valg'!$G$24=\"\",\"Ingen sammenligningsgruppe valgt.\",\"Anm.: Valgte kommuner i sammenligningsgruppen: \"&'Dine valg'!$G$24&\" \"&'Dine valg'!$G$25&\" \"&'Dine valg'!$G$26&\" \"&'Dine valg'!$G$27&\" \"&'Dine valg'!$G$28&\" \"&'Dine valg'!$G$29&\" \"&'Dine valg'!$G$30)","v":"Anm.: Valgte kommuner i sammenligningsgruppen: Aarhus      "}]
[null,"Kilde: Socialstyrelsens egne beregninger baseret på registerdata fra Danmarks Statistik."]
[]
[null,{"$f":"Skyggetabeller!B189","v":"Nøgletal 5: Hjemmebaserede foranstaltninger"}]
[]
[null,{"$f":"Skyggetabeller!B192","v":"Nøgletal 5: \nModtagere af hjemmebaserede foranstaltninger"},null,"2017-01-01","2017-07-01","2018-01-01","2018-07-01","2019-01-01","2019-07-01","2020-01-01","2020-07-01","2021-01-01","2021-07-01","2022-01-01","2022-07-01","2023-01-01","2023-07-01","2024-01-01"]
[null,{"$f":"Skyggetabeller!B193","v":"København"}]
[null,{"$f":"Skyggetabeller!B194","v":"Antal modtagere"},null,{"$f":"Skyggetabeller!D194","v":1925},{"$f":"Skyggetabeller!E194","v":1657},{"$f":"Skyggetabeller!F194","v":1461},{"$f":"Skyggetabeller!G194","v":1940},{"$f":"Skyggetabeller!H194","v":2166},{"$f":"Skyggetabeller!I194","v":2143},{"$f":"Skyggetabeller!J194","v":2113},{"$f":"Skyggetabeller!K194","v":2108},{"$f":"Skyggetabeller!L194","v":2035},{"$f":"Skyggetabeller!M194","v":2297},{"$f":"Skyggetabeller!N194","v":2306},{"$f":"Skyggetabeller!O194","v":2428},{"$f":"Skyggetabeller!P194","v":2458},{"$f":"Skyggetabeller!Q194","v":2428},{"$f":"Skyggetabeller!R194","v":2405}]
[null,{"$f":"Skyggetabeller!B195","v":"Antal 0-17-årige"},null,{"$f":"Skyggetabeller!D195","v":105885},{"$f":"Skyggetabeller!E195","v":106913},{"$f":"Skyggetabeller!F195","v":107770},{"$f":"Skyggetabeller!G195","v":108734},{"$f":"Skyggetabeller!H195","v":109335},{"$f":"Skyggetabeller!I195","v":110138},{"$f":"Skyggetabeller!J195","v":110822},{"$f":"Skyggetabeller!K195","v":111068},{"$f":"Skyggetabeller!L195","v":110927},{"$f":"Skyggetabeller!M195","v":110614},{"$f":"Skyggetabeller!N195","v":110513},{"$f":"Skyggetabeller!O195","v":110692},{"$f":"Skyggetabeller!P195","v":110835},{"$f":"Skyggetabeller!Q195","v":111075},{"$f":"Skyggetabeller!R195","v":110571}]
[null,{"$f":"Skyggetabeller!B196","v":"Andel"},null,{"$f":"Skyggetabeller!D196","v":18.18010105302923},{"$f":"Skyggetabeller!E196","v":15.498582959976803},{"$f":"Skyggetabeller!F196","v":13.556648417927068},{"$f":"Skyggetabeller!G196","v":17.841705446318542},{"$f":"Skyggetabeller!H196","v":19.810673617780218},{"$f":"Skyggetabeller!I196","v":19.457407979080788},{"$f":"Skyggetabeller!J196","v":19.066611322661565},{"$f":"Skyggetabeller!K196","v":18.979363993229374},{"$f":"Skyggetabeller!L196","v":18.345398325024565},{"$f":"Skyggetabeller!M196","v":20.76590666642559},{"$f":"Skyggetabeller!N196","v":20.866323418964285},{"$f":"Skyggetabeller!O196","v":21.934737831098904},{"$f":"Skyggetabeller!P196","v":22.177110118644833},{"$f":"Skyggetabeller!Q196","v":21.859104208867883},{"$f":"Skyggetabeller!R196","v":21.750730299988241}]
[null,{"$f":"Skyggetabeller!B197","v":"Sammenligningsgruppe, gns."}]
[null,{"$f":"Skyggetabeller!B198","v":"Antal modtagere"},null,{"$f":"Skyggetabeller!D198","v":1124},{"$f":"Skyggetabeller!E198","v":1070},{"$f":"Skyggetabeller!F198","v":1155},{"$f":"Skyggetabeller!G198","v":1193},{"$f":"Skyggetabeller!H198","v":1295},{"$f":"Skyggetabeller!I198","v":1286},{"$f":"Skyggetabeller!J198","v":1289},{"$f":"Skyggetabeller!K198","v":1262},{"$f":"Skyggetabeller!L198","v":1246},{"$f":"Skyggetabeller!M198","v":1220},{"$f":"Skyggetabeller!N198","v":1147},{"$f":"Skyggetabeller!O198","v":1115},{"$f":"Skyggetabeller!P198","v":1094},{"$f":"Skyggetabeller!Q198","v":1062},{"$f":"Skyggetabeller!R198","v":1012}]
[null,{"$f":"Skyggetabeller!B199","v":"Antal 0-17-årige"},null,{"$f":"Skyggetabeller!D199","v":62903},{"$f":"Skyggetabeller!E199","v":63077},{"$f":"Skyggetabeller!F199","v":63245},{"$f":"Skyggetabeller!G199","v":63510},{"$f":"Skyggetabeller!H199","v":63607},{"$f":"Skyggetabeller!I199","v":63704},{"$f":"Skyggetabeller!J199","v":63890},{"$f":"Skyggetabeller!K199","v":64128},{"$f":"Skyggetabeller!L199","v":64334},{"$f":"Skyggetabeller!M199","v":64307},{"$f":"Skyggetabeller!N199","v":64049},{"$f":"Skyggetabeller!O199","v":64356},{"$f":"Skyggetabeller!P199","v":64420},{"$f":"Skyggetabeller!Q199","v":64601},{"$f":"Skyggetabeller!R199","v":64665}]
[null,{"$f":"Skyggetabeller!B200","v":"Andel"},null,{"$f":"Skyggetabeller!D200","v":17.868782093063924},{"$f":"Skyggetabeller!E200","v":16.963393947080554},{"$f":"Skyggetabeller!F200","v":18.262313226342002},{"$f":"Skyggetabeller!G200","v":18.784443394740983},{"$f":"Skyggetabeller!H200","v":20.359394406276039},{"$f":"Skyggetabeller!I200","v":20.187115408765539},{"$f":"Skyggetabeller!J200","v":20.175301299107844},{"$f":"Skyggetabeller!K200","v":19.67939121756487},{"$f":"Skyggetabeller!L200","v":19.367674946373612},{"$f":"Skyggetabeller!M200","v":18.971496104623139},{"$f":"Skyggetabeller!N200","v":17.908164061890115},{"$f":"Skyggetabeller!O200","v":17.325501895705138},{"$f":"Skyggetabeller!P200","v":16.982303632412293},{"$f":"Skyggetabeller!Q200","v":16.439374003498401},{"$f":"Skyggetabeller!R200","v":15.649887883708343}]
[null,{"$f":"Skyggetabeller!B201","v":"Hele landet"}]
[null,{"$f":"Skyggetabeller!B202","v":"Antal modtagere"},null,{"$f":"Skyggetabeller!D202","v":23714},{"$f":"Skyggetabeller!E202","v":23377},{"$f":"Skyggetabeller!F202","v":23399},{"$f":"Skyggetabeller!G202","v":23289},{"$f":"Skyggetabeller!H202","v":24047},{"$f":"Skyggetabeller!I202","v":23855},{"$f":"Skyggetabeller!J202","v":24683},{"$f":"Skyggetabeller!K202","v":24731},{"$f":"Skyggetabeller!L202","v":25218},{"$f":"Skyggetabeller!M202","v":26148},{"$f":"Skyggetabeller!N202","v":26528},{"$f":"Skyggetabeller!O202","v":26834},{"$f":"Skyggetabeller!P202","v":27394},{"$f":"Skyggetabeller!Q202","v":27599},{"$f":"Skyggetabeller!R202","v":27256}]
[null,{"$f":"Skyggetabeller!B203","v":"Antal 0-17-årige"},null,{"$f":"Skyggetabeller!D203","v":1168201},{"$f":"Skyggetabeller!E203","v":1165363},{"$f":"Skyggetabeller!F203","v":1165475},{"$f":"Skyggetabeller!G203","v":1162195},{"$f":"Skyggetabeller!H203","v":1160360},{"$f":"Skyggetabeller!I203","v":1156537},{"$f":"Skyggetabeller!J203","v":1156116},{"$f":"Skyggetabeller!K203","v":1153027},{"$f":"Skyggetabeller!L203","v":1152972},{"$f":"Skyggetabeller!M203","v":1151374},{"$f":"Skyggetabeller!N203","v":1151704},{"$f":"Skyggetabeller!O203","v":1157254},{"$f":"Skyggetabeller!P203","v":1155814},{"$f":"Skyggetabeller!Q203","v":1151415},{"$f":"Skyggetabeller!R203","v":1148490}]
[null,{"$f":"Skyggetabeller!B204","v":"Andel"},null,{"$f":"Skyggetabeller!D204","v":20.299588855000124},{"$f":"Skyggetabeller!E204","v":20.059844014268517},{"$f":"Skyggetabeller!F204","v":20.076792723996654},{"$f":"Skyggetabeller!G204","v":20.038805880252454},{"$f":"Skyggetabeller!H204","v":20.72374090799407},{"$f":"Skyggetabeller!I204","v":20.62623158619223},{"$f":"Skyggetabeller!J204","v":21.349933743672782},{"$f":"Skyggetabeller!K204","v":21.44876052338757},{"$f":"Skyggetabeller!L204","v":21.872170356261904},{"$f":"Skyggetabeller!M204","v":22.710257483667341},{"$f":"Skyggetabeller!N204","v":23.033696158040609},{"$f":"Skyggetabeller!O204","v":23.187649383799926},{"$f":"Skyggetabeller!P204","v":23.701045323901596},{"$f":"Skyggetabeller!Q204","v":23.969637359249273},{"$f":"Skyggetabeller!R204","v":23.732030753424059}]
[null,"Anm.: Hvis nøgletallet er angivet med * er der foretaget en diskretionering af data, da der er for få observationer. "]
[null,{"$f":"IF('Dine valg'!$G$24=\"\",\"Ingen sammenligningsgruppe valgt.\",\"Anm.: Valgte kommuner i sammenligningsgruppen: \"&'Dine valg'!$G$24&\" \"&'Dine valg'!$G$25&\" \"&'Dine valg'!$G$26&\" \"&'Dine valg'!$G$27&\" \"&'Dine valg'!$G$28&\" \"&'Dine valg'!$G$29&\" \"&'Dine valg'!$G$30)","v":"Anm.: Valgte kommuner i sammenligningsgruppen: Aarhus      "}]
[null,"Kilde: Socialstyrelsens egne beregninger baseret på registerdata fra Danmarks Statistik."]
[]
[null,"Undernøgletal - Hjemmebaserede foranstaltninger"]
[]
[null,{"$f":"Skyggetabeller!B207","v":"Nøgletal 5.1\nModtagere af døgnophold for både forældremyndigheds-indehaveren, barnet eller den unge og andre medlemmer af familien"},null,"2017-01-01","2017-07-01","2018-01-01","2018-07-01","2019-01-01","2019-07-01","2020-01-01","2020-07-01","2021-01-01","2021-07-01","2022-01-01","2022-07-01","2023-01-01","2023-07-01","2024-01-01"]
[null,{"$f":"Skyggetabeller!B208","v":"København"}]
[null,{"$f":"Skyggetabeller!B209","v":"Antal modtagere"},null,{"$f":"Skyggetabeller!D209","v":8},{"$f":"Skyggetabeller!E209","v":6},{"$f":"Skyggetabeller!F209","v":4},{"$f":"Skyggetabeller!G209","v":12},{"$f":"Skyggetabeller!H209","v":14},{"$f":"Skyggetabeller!I209","v":9},{"$f":"Skyggetabeller!J209","v":15},{"$f":"Skyggetabeller!K209","v":8},{"$f":"Skyggetabeller!L209","v":6},{"$f":"Skyggetabeller!M209","v":"*"},{"$f":"Skyggetabeller!N209","v":12},{"$f":"Skyggetabeller!O209","v":10},{"$f":"Skyggetabeller!P209","v":11},{"$f":"Skyggetabeller!Q209","v":9},{"$f":"Skyggetabeller!R209","v":14}]
[null,{"$f":"Skyggetabeller!B210","v":"Antal 0-17-årige"},null,{"$f":"Skyggetabeller!D210","v":105885},{"$f":"Skyggetabeller!E210","v":106913},{"$f":"Skyggetabeller!F210","v":107770},{"$f":"Skyggetabeller!G210","v":108734},{"$f":"Skyggetabeller!H210","v":109335},{"$f":"Skyggetabeller!I210","v":110138},{"$f":"Skyggetabeller!J210","v":110822},{"$f":"Skyggetabeller!K210","v":111068},{"$f":"Skyggetabeller!L210","v":110927},{"$f":"Skyggetabeller!M210","v":110614},{"$f":"Skyggetabeller!N210","v":110513},{"$f":"Skyggetabeller!O210","v":110692},{"$f":"Skyggetabeller!P210","v":110835},{"$f":"Skyggetabeller!Q210","v":111075},{"$f":"Skyggetabeller!R210","v":110571}]
[null,{"$f":"Skyggetabeller!B211","v":"Andel"},null,{"$f":"Skyggetabeller!D211","v":7.5553666713887704E-2},{"$f":"Skyggetabeller!E211","v":5.6120396958274484E-2},{"$f":"Skyggetabeller!F211","v":3.7116080541894775E-2},{"$f":"Skyggetabeller!G211","v":0.11036106461640333},{"$f":"Skyggetabeller!H211","v":0.12804682855444277},{"$f":"Skyggetabeller!I211","v":8.1715665801085913E-2},{"$f":"Skyggetabeller!J211","v":0.13535218638898416},{"$f":"Skyggetabeller!K211","v":7.2027946843375226E-2},{"$f":"Skyggetabeller!L211","v":5.408962651112894E-2},{"$f":"Skyggetabeller!M211","v":"*"},{"$f":"Skyggetabeller!N211","v":0.10858451041958865},{"$f":"Skyggetabeller!O211","v":9.0340765366964185E-2},{"$f":"Skyggetabeller!P211","v":9.9246627870257592E-2},{"$f":"Skyggetabeller!Q211","v":8.1026333558406494E-2},{"$f":"Skyggetabeller!R211","v":0.12661547783776939}]
[null,{"$f":"Skyggetabeller!B212","v":"Sammenligningsgruppe, gns."}]
[null,{"$f":"Skyggetabeller!B213","v":"Antal modtagere"},null,{"$f":"Skyggetabeller!D213","v":0},{"$f":"Skyggetabeller!E213","v":0},{"$f":"Skyggetabeller!F213","v":0},{"$f":"Skyggetabeller!G213","v":0},{"$f":"Skyggetabeller!H213","v":3},{"$f":"Skyggetabeller!I213","v":0},{"$f":"Skyggetabeller!J213","v":0},{"$f":"Skyggetabeller!K213","v":0},{"$f":"Skyggetabeller!L213","v":0},{"$f":"Skyggetabeller!M213","v":0},{"$f":"Skyggetabeller!N213","v":0},{"$f":"Skyggetabeller!O213","v":0},{"$f":"Skyggetabeller!P213","v":0},{"$f":"Skyggetabeller!Q213","v":0},{"$f":"Skyggetabeller!R213","v":0}]
[null,{"$f":"Skyggetabeller!B214","v":"Antal 0-17-årige"},null,{"$f":"Skyggetabeller!D214","v":62903},{"$f":"Skyggetabeller!E214","v":63077},{"$f":"Skyggetabeller!F214","v":63245},{"$f":"Skyggetabeller!G214","v":63510},{"$f":"Skyggetabeller!H214","v":63607},{"$f":"Skyggetabeller!I214","v":63704},{"$f":"Skyggetabeller!J214","v":63890},{"$f":"Skyggetabeller!K214","v":64128},{"$f":"Skyggetabeller!L214","v":64334},{"$f":"Skyggetabeller!M214","v":64307},{"$f":"Skyggetabeller!N214","v":64049},{"$f":"Skyggetabeller!O214","v":64356},{"$f":"Skyggetabeller!P214","v":64420},{"$f":"Skyggetabeller!Q214","v":64601},{"$f":"Skyggetabeller!R214","v":64665}]
[null,{"$f":"Skyggetabeller!B215","v":"Andel"},null,{"$f":"Skyggetabeller!D215","v":0},{"$f":"Skyggetabeller!E215","v":0},{"$f":"Skyggetabeller!F215","v":0},{"$f":"Skyggetabeller!G215","v":0},{"$f":"Skyggetabeller!H215","v":4.7164620246199315E-2},{"$f":"Skyggetabeller!I215","v":0},{"$f":"Skyggetabeller!J215","v":0},{"$f":"Skyggetabeller!K215","v":0},{"$f":"Skyggetabeller!L215","v":0},{"$f":"Skyggetabeller!M215","v":0},{"$f":"Skyggetabeller!N215","v":0},{"$f":"Skyggetabeller!O215","v":0},{"$f":"Skyggetabeller!P215","v":0},{"$f":"Skyggetabeller!Q215","v":0},{"$f":"Skyggetabeller!R215","v":0}]
[null,{"$f":"Skyggetabeller!B216","v":"Hele landet"}]
[null,{"$f":"Skyggetabeller!B217","v":"Antal modtagere"},null,{"$f":"Skyggetabeller!D217","v":82},{"$f":"Skyggetabeller!E217","v":74},{"$f":"Skyggetabeller!F217","v":56},{"$f":"Skyggetabeller!G217","v":80},{"$f":"Skyggetabeller!H217","v":77},{"$f":"Skyggetabeller!I217","v":69},{"$f":"Skyggetabeller!J217","v":87},{"$f":"Skyggetabeller!K217","v":84},{"$f":"Skyggetabeller!L217","v":74},{"$f":"Skyggetabeller!M217","v":62},{"$f":"Skyggetabeller!N217","v":71},{"$f":"Skyggetabeller!O217","v":61},{"$f":"Skyggetabeller!P217","v":72},{"$f":"Skyggetabeller!Q217","v":84},{"$f":"Skyggetabeller!R217","v":75}]
[null,{"$f":"Skyggetabeller!B218","v":"Antal 0-17-årige"},null,{"$f":"Skyggetabeller!D218","v":1168201},{"$f":"Skyggetabeller!E218","v":1165363},{"$f":"Skyggetabeller!F218","v":1165475},{"$f":"Skyggetabeller!G218","v":1162195},{"$f":"Skyggetabeller!H218","v":1160360},{"$f":"Skyggetabeller!I218","v":1156537},{"$f":"Skyggetabeller!J218","v":1156116},{"$f":"Skyggetabeller!K218","v":1153027},{"$f":"Skyggetabeller!L218","v":1152972},{"$f":"Skyggetabeller!M218","v":1151374},{"$f":"Skyggetabeller!N218","v":1151704},{"$f":"Skyggetabeller!O218","v":1157254},{"$f":"Skyggetabeller!P218","v":1155814},{"$f":"Skyggetabeller!Q218","v":1151415},{"$f":"Skyggetabeller!R218","v":1148490}]
[null,{"$f":"Skyggetabeller!B219","v":"Andel"},null,{"$f":"Skyggetabeller!D219","v":7.0193399937168346E-2},{"$f":"Skyggetabeller!E219","v":6.3499527615000648E-2},{"$f":"Skyggetabeller!F219","v":4.8049078701816857E-2},{"$f":"Skyggetabeller!G219","v":6.883526430590392E-2},{"$f":"Skyggetabeller!H219","v":6.6358716260470893E-2},{"$f":"Skyggetabeller!I219","v":5.9660866881042288E-2},{"$f":"Skyggetabeller!J219","v":7.5251964335758689E-2},{"$f":"Skyggetabeller!K219","v":7.2851719864322345E-2},{"$f":"Skyggetabeller!L219","v":6.4181957584399263E-2},{"$f":"Skyggetabeller!M219","v":5.3848705980854179E-2},{"$f":"Skyggetabeller!N219","v":6.1647784500184079E-2},{"$f":"Skyggetabeller!O219","v":5.271098652499797E-2},{"$f":"Skyggetabeller!P219","v":6.2293760068661566E-2},{"$f":"Skyggetabeller!Q219","v":7.2953713474290333E-2},{"$f":"Skyggetabeller!R219","v":6.5303137162709302E-2}]
[null,"Anm.: Hvis nøgletallet er angivet med * er der foretaget en diskretionering af data, da der er for få observationer. "]
[null,{"$f":"IF('Dine valg'!$G$24=\"\",\"Ingen sammenligningsgruppe valgt.\",\"Anm.: Valgte kommuner i sammenligningsgruppen: \"&'Dine valg'!$G$24&\" \"&'Dine valg'!$G$25&\" \"&'Dine valg'!$G$26&\" \"&'Dine valg'!$G$27&\" \"&'Dine valg'!$G$28&\" \"&'Dine valg'!$G$29&\" \"&'Dine valg'!$G$30)","v":"Anm.: Valgte kommuner i sammenligningsgruppen: Aarhus      "}]
[null,"Kilde: Socialstyrelsens egne beregninger baseret på registerdata fra Danmarks Statistik."]
[]
[null,{"$f":"Skyggetabeller!B222","v":"Nøgletal 5.2: \nModtagere af hjemmebaserede anbringelser"},null,"2017-01-01","2017-07-01","2018-01-01","2018-07-01","2019-01-01","2019-07-01","2020-01-01","2020-07-01","2021-01-01","2021-07-01","2022-01-01","2022-07-01","2023-01-01","2023-07-01","2024-01-01"]
[null,{"$f":"Skyggetabeller!B223","v":"København"}]
[null,{"$f":"Skyggetabeller!B224","v":"Antal modtagere"},null,{"$f":"Skyggetabeller!D224","v":25},{"$f":"Skyggetabeller!E224","v":26},{"$f":"Skyggetabeller!F224","v":25},{"$f":"Skyggetabeller!G224","v":16},{"$f":"Skyggetabeller!H224","v":19},{"$f":"Skyggetabeller!I224","v":9},{"$f":"Skyggetabeller!J224","v":10},{"$f":"Skyggetabeller!K224","v":9},{"$f":"Skyggetabeller!L224","v":14},{"$f":"Skyggetabeller!M224","v":15},{"$f":"Skyggetabeller!N224","v":14},{"$f":"Skyggetabeller!O224","v":9},{"$f":"Skyggetabeller!P224","v":11},{"$f":"Skyggetabeller!Q224","v":10},{"$f":"Skyggetabeller!R224","v":13}]
[null,{"$f":"Skyggetabeller!B225","v":"Antal 0-17-årige"},null,{"$f":"Skyggetabeller!D225","v":105885},{"$f":"Skyggetabeller!E225","v":106913},{"$f":"Skyggetabeller!F225","v":107770},{"$f":"Skyggetabeller!G225","v":108734},{"$f":"Skyggetabeller!H225","v":109335},{"$f":"Skyggetabeller!I225","v":110138},{"$f":"Skyggetabeller!J225","v":110822},{"$f":"Skyggetabeller!K225","v":111068},{"$f":"Skyggetabeller!L225","v":110927},{"$f":"Skyggetabeller!M225","v":110614},{"$f":"Skyggetabeller!N225","v":110513},{"$f":"Skyggetabeller!O225","v":110692},{"$f":"Skyggetabeller!P225","v":110835},{"$f":"Skyggetabeller!Q225","v":111075},{"$f":"Skyggetabeller!R225","v":110571}]
[null,{"$f":"Skyggetabeller!B226","v":"Andel"},null,{"$f":"Skyggetabeller!D226","v":0.23610520848089908},{"$f":"Skyggetabeller!E226","v":0.24318838681918942},{"$f":"Skyggetabeller!F226","v":0.23197550338684234},{"$f":"Skyggetabeller!G226","v":0.14714808615520444},{"$f":"Skyggetabeller!H226","v":0.17377783875245806},{"$f":"Skyggetabeller!I226","v":8.1715665801085913E-2},{"$f":"Skyggetabeller!J226","v":9.0234790925989419E-2},{"$f":"Skyggetabeller!K226","v":8.1031440198797142E-2},{"$f":"Skyggetabeller!L226","v":0.12620912852596752},{"$f":"Skyggetabeller!M226","v":0.13560670439546529},{"$f":"Skyggetabeller!N226","v":0.12668192882285342},{"$f":"Skyggetabeller!O226","v":8.1306688830267759E-2},{"$f":"Skyggetabeller!P226","v":9.9246627870257592E-2},{"$f":"Skyggetabeller!Q226","v":9.0029259509340528E-2},{"$f":"Skyggetabeller!R226","v":0.11757151513507158}]
[null,{"$f":"Skyggetabeller!B227","v":"Sammenligningsgruppe, gns."}]
[null,{"$f":"Skyggetabeller!B228","v":"Antal modtagere"},null,{"$f":"Skyggetabeller!D228","v":24},{"$f":"Skyggetabeller!E228","v":25},{"$f":"Skyggetabeller!F228","v":18},{"$f":"Skyggetabeller!G228","v":0},{"$f":"Skyggetabeller!H228","v":7},{"$f":"Skyggetabeller!I228","v":5},{"$f":"Skyggetabeller!J228","v":0},{"$f":"Skyggetabeller!K228","v":0},{"$f":"Skyggetabeller!L228","v":0},{"$f":"Skyggetabeller!M228","v":0},{"$f":"Skyggetabeller!N228","v":0},{"$f":"Skyggetabeller!O228","v":0},{"$f":"Skyggetabeller!P228","v":0},{"$f":"Skyggetabeller!Q228","v":0},{"$f":"Skyggetabeller!R228","v":0}]
[null,{"$f":"Skyggetabeller!B229","v":"Antal 0-17-årige"},null,{"$f":"Skyggetabeller!D229","v":62903},{"$f":"Skyggetabeller!E229","v":63077},{"$f":"Skyggetabeller!F229","v":63245},{"$f":"Skyggetabeller!G229","v":63510},{"$f":"Skyggetabeller!H229","v":63607},{"$f":"Skyggetabeller!I229","v":63704},{"$f":"Skyggetabeller!J229","v":63890},{"$f":"Skyggetabeller!K229","v":64128},{"$f":"Skyggetabeller!L229","v":64334},{"$f":"Skyggetabeller!M229","v":64307},{"$f":"Skyggetabeller!N229","v":64049},{"$f":"Skyggetabeller!O229","v":64356},{"$f":"Skyggetabeller!P229","v":64420},{"$f":"Skyggetabeller!Q229","v":64601},{"$f":"Skyggetabeller!R229","v":64665}]
[null,{"$f":"Skyggetabeller!B230","v":"Andel"},null,{"$f":"Skyggetabeller!D230","v":0.38153983116862472},{"$f":"Skyggetabeller!E230","v":0.39634098007197555},{"$f":"Skyggetabeller!F230","v":0.28460747885208321},{"$f":"Skyggetabeller!G230","v":0},{"$f":"Skyggetabeller!H230","v":0.11005078057446507},{"$f":"Skyggetabeller!I230","v":7.8488007032525425E-2},{"$f":"Skyggetabeller!J230","v":0},{"$f":"Skyggetabeller!K230","v":0},{"$f":"Skyggetabeller!L230","v":0},{"$f":"Skyggetabeller!M230","v":0},{"$f":"Skyggetabeller!N230","v":0},{"$f":"Skyggetabeller!O230","v":0},{"$f":"Skyggetabeller!P230","v":0},{"$f":"Skyggetabeller!Q230","v":0},{"$f":"Skyggetabeller!R230","v":0}]
[null,{"$f":"Skyggetabeller!B231","v":"Hele landet"}]
[null,{"$f":"Skyggetabeller!B232","v":"Antal modtagere"},null,{"$f":"Skyggetabeller!D232","v":362},{"$f":"Skyggetabeller!E232","v":340},{"$f":"Skyggetabeller!F232","v":323},{"$f":"Skyggetabeller!G232","v":256},{"$f":"Skyggetabeller!H232","v":256},{"$f":"Skyggetabeller!I232","v":226},{"$f":"Skyggetabeller!J232","v":255},{"$f":"Skyggetabeller!K232","v":237},{"$f":"Skyggetabeller!L232","v":249},{"$f":"Skyggetabeller!M232","v":242},{"$f":"Skyggetabeller!N232","v":251},{"$f":"Skyggetabeller!O232","v":247},{"$f":"Skyggetabeller!P232","v":247},{"$f":"Skyggetabeller!Q232","v":242},{"$f":"Skyggetabeller!R232","v":264}]
[null,{"$f":"Skyggetabeller!B233","v":"Antal 0-17-årige"},null,{"$f":"Skyggetabeller!D233","v":1168201},{"$f":"Skyggetabeller!E233","v":1165363},{"$f":"Skyggetabeller!F233","v":1165475},{"$f":"Skyggetabeller!G233","v":1162195},{"$f":"Skyggetabeller!H233","v":1160360},{"$f":"Skyggetabeller!I233","v":1156537},{"$f":"Skyggetabeller!J233","v":1156116},{"$f":"Skyggetabeller!K233","v":1153027},{"$f":"Skyggetabeller!L233","v":1152972},{"$f":"Skyggetabeller!M233","v":1151374},{"$f":"Skyggetabeller!N233","v":1151704},{"$f":"Skyggetabeller!O233","v":1157254},{"$f":"Skyggetabeller!P233","v":1155814},{"$f":"Skyggetabeller!Q233","v":1151415},{"$f":"Skyggetabeller!R233","v":1148490}]
[null,{"$f":"Skyggetabeller!B234","v":"Andel"},null,{"$f":"Skyggetabeller!D234","v":0.30987818021042607},{"$f":"Skyggetabeller!E234","v":0.29175458633919216},{"$f":"Skyggetabeller!F234","v":0.27714022179797937},{"$f":"Skyggetabeller!G234","v":0.2202728457788925},{"$f":"Skyggetabeller!H234","v":0.2206211865283188},{"$f":"Skyggetabeller!I234","v":0.1954109552915298},{"$f":"Skyggetabeller!J234","v":0.22056610236343066},{"$f":"Skyggetabeller!K234","v":0.20554592390290949},{"$f":"Skyggetabeller!L234","v":0.21596361403399214},{"$f":"Skyggetabeller!M234","v":0.21018365882849535},{"$f":"Skyggetabeller!N234","v":0.2179379423879747},{"$f":"Skyggetabeller!O234","v":0.21343628969958192},{"$f":"Skyggetabeller!P234","v":0.21370220467999176},{"$f":"Skyggetabeller!Q234","v":0.21017617453307452},{"$f":"Skyggetabeller!R234","v":0.22986704281273673}]
[null,"Anm.: Hvis nøgletallet er angivet med * er der foretaget en diskretionering af data, da der er for få observationer. "]
[null,{"$f":"IF('Dine valg'!$G$24=\"\",\"Ingen sammenligningsgruppe valgt.\",\"Anm.: Valgte kommuner i sammenligningsgruppen: \"&'Dine valg'!$G$24&\" \"&'Dine valg'!$G$25&\" \"&'Dine valg'!$G$26&\" \"&'Dine valg'!$G$27&\" \"&'Dine valg'!$G$28&\" \"&'Dine valg'!$G$29&\" \"&'Dine valg'!$G$30)","v":"Anm.: Valgte kommuner i sammenligningsgruppen: Aarhus      "}]
[null,"Kilde: Socialstyrelsens egne beregninger baseret på registerdata fra Danmarks Statistik."]
[]
[null,{"$f":"Skyggetabeller!B237","v":"Nøgletal 5.3: \nBørn og unge, der modtager ikke-forældrerettede forebyggende foranstaltninger"},null,"2017-01-01","2017-07-01","2018-01-01","2018-07-01","2019-01-01","2019-07-01","2020-01-01","2020-07-01","2021-01-01","2021-07-01","2022-01-01","2022-07-01","2023-01-01","2023-07-01","2024-01-01"]
[null,{"$f":"Skyggetabeller!B238","v":"København"}]
[null,{"$f":"Skyggetabeller!B239","v":"Antal modtagere"},null,{"$f":"Skyggetabeller!D239","v":1887},{"$f":"Skyggetabeller!E239","v":1622},{"$f":"Skyggetabeller!F239","v":1428},{"$f":"Skyggetabeller!G239","v":1909},{"$f":"Skyggetabeller!H239","v":2130},{"$f":"Skyggetabeller!I239","v":2122},{"$f":"Skyggetabeller!J239","v":2083},{"$f":"Skyggetabeller!K239","v":2082},{"$f":"Skyggetabeller!L239","v":2003},{"$f":"Skyggetabeller!M239","v":2268},{"$f":"Skyggetabeller!N239","v":2267},{"$f":"Skyggetabeller!O239","v":2396},{"$f":"Skyggetabeller!P239","v":2419},{"$f":"Skyggetabeller!Q239","v":2395},{"$f":"Skyggetabeller!R239","v":2362}]
[null,{"$f":"Skyggetabeller!B240","v":"Antal 0-17-årige"},null,{"$f":"Skyggetabeller!D240","v":105885},{"$f":"Skyggetabeller!E240","v":106913},{"$f":"Skyggetabeller!F240","v":107770},{"$f":"Skyggetabeller!G240","v":108734},{"$f":"Skyggetabeller!H240","v":109335},{"$f":"Skyggetabeller!I240","v":110138},{"$f":"Skyggetabeller!J240","v":110822},{"$f":"Skyggetabeller!K240","v":111068},{"$f":"Skyggetabeller!L240","v":110927},{"$f":"Skyggetabeller!M240","v":110614},{"$f":"Skyggetabeller!N240","v":110513},{"$f":"Skyggetabeller!O240","v":110692},{"$f":"Skyggetabeller!P240","v":110835},{"$f":"Skyggetabeller!Q240","v":111075},{"$f":"Skyggetabeller!R240","v":110571}]
[null,{"$f":"Skyggetabeller!B241","v":"Andel"},null,{"$f":"Skyggetabeller!D241","v":17.821221136138263},{"$f":"Skyggetabeller!E241","v":15.171213977720203},{"$f":"Skyggetabeller!F241","v":13.250440753456434},{"$f":"Skyggetabeller!G241","v":17.556606029392832},{"$f":"Skyggetabeller!H241","v":19.481410344354508},{"$f":"Skyggetabeller!I241","v":19.266738092211586},{"$f":"Skyggetabeller!J241","v":18.795906949883598},{"$f":"Skyggetabeller!K241","v":18.745273165988404},{"$f":"Skyggetabeller!L241","v":18.056920316965211},{"$f":"Skyggetabeller!M241","v":20.503733704594353},{"$f":"Skyggetabeller!N241","v":20.513423760100622},{"$f":"Skyggetabeller!O241","v":21.645647381924622},{"$f":"Skyggetabeller!P241","v":21.825235710741193},{"$f":"Skyggetabeller!Q241","v":21.562007652487058},{"$f":"Skyggetabeller!R241","v":21.361839903772239}]
[null,{"$f":"Skyggetabeller!B242","v":"Sammenligningsgruppe, gns."}]
[null,{"$f":"Skyggetabeller!B243","v":"Antal modtagere"},null,{"$f":"Skyggetabeller!D243","v":1090},{"$f":"Skyggetabeller!E243","v":1034},{"$f":"Skyggetabeller!F243","v":1125},{"$f":"Skyggetabeller!G243","v":1168},{"$f":"Skyggetabeller!H243","v":1274},{"$f":"Skyggetabeller!I243","v":1273},{"$f":"Skyggetabeller!J243","v":1274},{"$f":"Skyggetabeller!K243","v":1250},{"$f":"Skyggetabeller!L243","v":1231},{"$f":"Skyggetabeller!M243","v":1207},{"$f":"Skyggetabeller!N243","v":1130},{"$f":"Skyggetabeller!O243","v":1101},{"$f":"Skyggetabeller!P243","v":1081},{"$f":"Skyggetabeller!Q243","v":1047},{"$f":"Skyggetabeller!R243","v":993}]
[null,{"$f":"Skyggetabeller!B244","v":"Antal 0-17-årige"},null,{"$f":"Skyggetabeller!D244","v":62903},{"$f":"Skyggetabeller!E244","v":63077},{"$f":"Skyggetabeller!F244","v":63245},{"$f":"Skyggetabeller!G244","v":63510},{"$f":"Skyggetabeller!H244","v":63607},{"$f":"Skyggetabeller!I244","v":63704},{"$f":"Skyggetabeller!J244","v":63890},{"$f":"Skyggetabeller!K244","v":64128},{"$f":"Skyggetabeller!L244","v":64334},{"$f":"Skyggetabeller!M244","v":64307},{"$f":"Skyggetabeller!N244","v":64049},{"$f":"Skyggetabeller!O244","v":64356},{"$f":"Skyggetabeller!P244","v":64420},{"$f":"Skyggetabeller!Q244","v":64601},{"$f":"Skyggetabeller!R244","v":64665}]
[null,{"$f":"Skyggetabeller!B245","v":"Andel"},null,{"$f":"Skyggetabeller!D245","v":17.328267332241705},{"$f":"Skyggetabeller!E245","v":16.392662935776904},{"$f":"Skyggetabeller!F245","v":17.787967428255197},{"$f":"Skyggetabeller!G245","v":18.390804597701148},{"$f":"Skyggetabeller!H245","v":20.029242064552644},{"$f":"Skyggetabeller!I245","v":19.983046590480974},{"$f":"Skyggetabeller!J245","v":19.940522773516982},{"$f":"Skyggetabeller!K245","v":19.492265469061877},{"$f":"Skyggetabeller!L245","v":19.134516740759164},{"$f":"Skyggetabeller!M245","v":18.769340818262396},{"$f":"Skyggetabeller!N245","v":17.642742275445361},{"$f":"Skyggetabeller!O245","v":17.107961961588664},{"$f":"Skyggetabeller!P245","v":16.780502949394595},{"$f":"Skyggetabeller!Q245","v":16.207179455426385},{"$f":"Skyggetabeller!R245","v":15.356065877986547}]
[null,{"$f":"Skyggetabeller!B246","v":"Hele landet"}]
[null,{"$f":"Skyggetabeller!B247","v":"Antal modtagere"},null,{"$f":"Skyggetabeller!D247","v":22944},{"$f":"Skyggetabeller!E247","v":22668},{"$f":"Skyggetabeller!F247","v":22731},{"$f":"Skyggetabeller!G247","v":22685},{"$f":"Skyggetabeller!H247","v":23481},{"$f":"Skyggetabeller!I247","v":23358},{"$f":"Skyggetabeller!J247","v":24142},{"$f":"Skyggetabeller!K247","v":24211},{"$f":"Skyggetabeller!L247","v":24678},{"$f":"Skyggetabeller!M247","v":25657},{"$f":"Skyggetabeller!N247","v":26024},{"$f":"Skyggetabeller!O247","v":26344},{"$f":"Skyggetabeller!P247","v":26869},{"$f":"Skyggetabeller!Q247","v":27053},{"$f":"Skyggetabeller!R247","v":26668}]
[null,{"$f":"Skyggetabeller!B248","v":"Antal 0-17-årige"},null,{"$f":"Skyggetabeller!D248","v":1168201},{"$f":"Skyggetabeller!E248","v":1165363},{"$f":"Skyggetabeller!F248","v":1165475},{"$f":"Skyggetabeller!G248","v":1162195},{"$f":"Skyggetabeller!H248","v":1160360},{"$f":"Skyggetabeller!I248","v":1156537},{"$f":"Skyggetabeller!J248","v":1156116},{"$f":"Skyggetabeller!K248","v":1153027},{"$f":"Skyggetabeller!L248","v":1152972},{"$f":"Skyggetabeller!M248","v":1151374},{"$f":"Skyggetabeller!N248","v":1151704},{"$f":"Skyggetabeller!O248","v":1157254},{"$f":"Skyggetabeller!P248","v":1155814},{"$f":"Skyggetabeller!Q248","v":1151415},{"$f":"Skyggetabeller!R248","v":1148490}]
[null,{"$f":"Skyggetabeller!B249","v":"Andel"},null,{"$f":"Skyggetabeller!D249","v":19.640455709248663},{"$f":"Skyggetabeller!E249","v":19.451449891578847},{"$f":"Skyggetabeller!F249","v":19.503635856624982},{"$f":"Skyggetabeller!G249","v":19.519099634742879},{"$f":"Skyggetabeller!H249","v":20.235961253404117},{"$f":"Skyggetabeller!I249","v":20.19650041459979},{"$f":"Skyggetabeller!J249","v":20.881987620619384},{"$f":"Skyggetabeller!K249","v":20.997773686132241},{"$f":"Skyggetabeller!L249","v":21.403815530646018},{"$f":"Skyggetabeller!M249","v":22.283810473399608},{"$f":"Skyggetabeller!N249","v":22.596083715954794},{"$f":"Skyggetabeller!O249","v":22.764233262533548},{"$f":"Skyggetabeller!P249","v":23.246819990067607},{"$f":"Skyggetabeller!Q249","v":23.495438221666383},{"$f":"Skyggetabeller!R249","v":23.220054158068418}]
[null,"Anm.: Hvis nøgletallet er angivet med * er der foretaget en diskretionering af data, da der er for få observationer. "]
[null,{"$f":"IF('Dine valg'!$G$24=\"\",\"Ingen sammenligningsgruppe valgt.\",\"Anm.: Valgte kommuner i sammenligningsgruppen: \"&'Dine valg'!$G$24&\" \"&'Dine valg'!$G$25&\" \"&'Dine valg'!$G$26&\" \"&'Dine valg'!$G$27&\" \"&'Dine valg'!$G$28&\" \"&'Dine valg'!$G$29&\" \"&'Dine valg'!$G$30)","v":"Anm.: Valgte kommuner i sammenligningsgruppen: Aarhus      "}]
[null,"Kilde: Socialstyrelsens egne beregninger baseret på registerdata fra Danmarks Statistik."]
[]
[null,{"$f":"Skyggetabeller!B252","v":"Nøgletal 5.4: \nModtagere af forældrerettede indsatser"},null,"2017-01-01","2017-07-01","2018-01-01","2018-07-01","2019-01-01","2019-07-01","2020-01-01","2020-07-01","2021-01-01","2021-07-01","2022-01-01","2022-07-01","2023-01-01","2023-07-01","2024-01-01"]
[null,{"$f":"Skyggetabeller!B253","v":"København"}]
[null,{"$f":"Skyggetabeller!B254","v":"Antal modtagere"},null,{"$f":"Skyggetabeller!D254","v":5},{"$f":"Skyggetabeller!E254","v":3},{"$f":"Skyggetabeller!F254","v":4},{"$f":"Skyggetabeller!G254","v":3},{"$f":"Skyggetabeller!H254","v":3},{"$f":"Skyggetabeller!I254","v":3},{"$f":"Skyggetabeller!J254","v":5},{"$f":"Skyggetabeller!K254","v":9},{"$f":"Skyggetabeller!L254","v":12},{"$f":"Skyggetabeller!M254","v":"*"},{"$f":"Skyggetabeller!N254","v":13},{"$f":"Skyggetabeller!O254","v":13},{"$f":"Skyggetabeller!P254","v":17},{"$f":"Skyggetabeller!Q254","v":14},{"$f":"Skyggetabeller!R254","v":16}]
[null,{"$f":"Skyggetabeller!B255","v":"Antal 0-17-årige"},null,{"$f":"Skyggetabeller!D255","v":105885},{"$f":"Skyggetabeller!E255","v":106913},{"$f":"Skyggetabeller!F255","v":107770},{"$f":"Skyggetabeller!G255","v":108734},{"$f":"Skyggetabeller!H255","v":109335},{"$f":"Skyggetabeller!I255","v":110138},{"$f":"Skyggetabeller!J255","v":110822},{"$f":"Skyggetabeller!K255","v":111068},{"$f":"Skyggetabeller!L255","v":110927},{"$f":"Skyggetabeller!M255","v":110614},{"$f":"Skyggetabeller!N255","v":110513},{"$f":"Skyggetabeller!O255","v":110692},{"$f":"Skyggetabeller!P255","v":110835},{"$f":"Skyggetabeller!Q255","v":111075},{"$f":"Skyggetabeller!R255","v":110571}]
[null,{"$f":"Skyggetabeller!B256","v":"Andel"},null,{"$f":"Skyggetabeller!D256","v":4.7221041696179814E-2},{"$f":"Skyggetabeller!E256","v":2.8060198479137242E-2},{"$f":"Skyggetabeller!F256","v":3.7116080541894775E-2},{"$f":"Skyggetabeller!G256","v":2.7590266154100831E-2},{"$f":"Skyggetabeller!H256","v":2.7438606118809165E-2},{"$f":"Skyggetabeller!I256","v":2.723855526702864E-2},{"$f":"Skyggetabeller!J256","v":4.511739546299471E-2},{"$f":"Skyggetabeller!K256","v":8.1031440198797142E-2},{"$f":"Skyggetabeller!L256","v":0.10817925302225788},{"$f":"Skyggetabeller!M256","v":"*"},{"$f":"Skyggetabeller!N256","v":0.11763321962122103},{"$f":"Skyggetabeller!O256","v":0.11744299497705345},{"$f":"Skyggetabeller!P256","v":0.15338115216312537},{"$f":"Skyggetabeller!Q256","v":0.12604096331307674},{"$f":"Skyggetabeller!R256","v":0.14470340324316502}]
[null,{"$f":"Skyggetabeller!B257","v":"Sammenligningsgruppe, gns."}]
[null,{"$f":"Skyggetabeller!B258","v":"Antal modtagere"},null,{"$f":"Skyggetabeller!D258","v":0},{"$f":"Skyggetabeller!E258","v":0},{"$f":"Skyggetabeller!F258","v":0},{"$f":"Skyggetabeller!G258","v":13},{"$f":"Skyggetabeller!H258","v":11},{"$f":"Skyggetabeller!I258","v":8},{"$f":"Skyggetabeller!J258","v":8},{"$f":"Skyggetabeller!K258","v":8},{"$f":"Skyggetabeller!L258","v":11},{"$f":"Skyggetabeller!M258","v":10},{"$f":"Skyggetabeller!N258","v":14},{"$f":"Skyggetabeller!O258","v":10},{"$f":"Skyggetabeller!P258","v":13},{"$f":"Skyggetabeller!Q258","v":10},{"$f":"Skyggetabeller!R258","v":14}]
[null,{"$f":"Skyggetabeller!B259","v":"Antal 0-17-årige"},null,{"$f":"Skyggetabeller!D259","v":62903},{"$f":"Skyggetabeller!E259","v":63077},{"$f":"Skyggetabeller!F259","v":63245},{"$f":"Skyggetabeller!G259","v":63510},{"$f":"Skyggetabeller!H259","v":63607},{"$f":"Skyggetabeller!I259","v":63704},{"$f":"Skyggetabeller!J259","v":63890},{"$f":"Skyggetabeller!K259","v":64128},{"$f":"Skyggetabeller!L259","v":64334},{"$f":"Skyggetabeller!M259","v":64307},{"$f":"Skyggetabeller!N259","v":64049},{"$f":"Skyggetabeller!O259","v":64356},{"$f":"Skyggetabeller!P259","v":64420},{"$f":"Skyggetabeller!Q259","v":64601},{"$f":"Skyggetabeller!R259","v":64665}]
[null,{"$f":"Skyggetabeller!B260","v":"Andel"},null,{"$f":"Skyggetabeller!D260","v":0},{"$f":"Skyggetabeller!E260","v":0},{"$f":"Skyggetabeller!F260","v":0},{"$f":"Skyggetabeller!G260","v":0.20469217446071486},{"$f":"Skyggetabeller!H260","v":0.17293694090273085},{"$f":"Skyggetabeller!I260","v":0.12558081125204071},{"$f":"Skyggetabeller!J260","v":0.12521521364845831},{"$f":"Skyggetabeller!K260","v":0.124750499001996},{"$f":"Skyggetabeller!L260","v":0.17098268411726303},{"$f":"Skyggetabeller!M260","v":0.15550406643133718},{"$f":"Skyggetabeller!N260","v":0.21858264766038502},{"$f":"Skyggetabeller!O260","v":0.15538566722605507},{"$f":"Skyggetabeller!P260","v":0.20180068301769635},{"$f":"Skyggetabeller!Q260","v":0.15479636538134084},{"$f":"Skyggetabeller!R260","v":0.21650042526869251}]
[null,{"$f":"Skyggetabeller!B261","v":"Hele landet"}]
[null,{"$f":"Skyggetabeller!B262","v":"Antal modtagere"},null,{"$f":"Skyggetabeller!D262","v":326},{"$f":"Skyggetabeller!E262","v":295},{"$f":"Skyggetabeller!F262","v":289},{"$f":"Skyggetabeller!G262","v":268},{"$f":"Skyggetabeller!H262","v":233},{"$f":"Skyggetabeller!I262","v":202},{"$f":"Skyggetabeller!J262","v":199},{"$f":"Skyggetabeller!K262","v":199},{"$f":"Skyggetabeller!L262","v":217},{"$f":"Skyggetabeller!M262","v":187},{"$f":"Skyggetabeller!N262","v":182},{"$f":"Skyggetabeller!O262","v":182},{"$f":"Skyggetabeller!P262","v":206},{"$f":"Skyggetabeller!Q262","v":220},{"$f":"Skyggetabeller!R262","v":249}]
[null,{"$f":"Skyggetabeller!B263","v":"Antal 0-17-årige"},null,{"$f":"Skyggetabeller!D263","v":1168201},{"$f":"Skyggetabeller!E263","v":1165363},{"$f":"Skyggetabeller!F263","v":1165475},{"$f":"Skyggetabeller!G263","v":1162195},{"$f":"Skyggetabeller!H263","v":1160360},{"$f":"Skyggetabeller!I263","v":1156537},{"$f":"Skyggetabeller!J263","v":1156116},{"$f":"Skyggetabeller!K263","v":1153027},{"$f":"Skyggetabeller!L263","v":1152972},{"$f":"Skyggetabeller!M263","v":1151374},{"$f":"Skyggetabeller!N263","v":1151704},{"$f":"Skyggetabeller!O263","v":1157254},{"$f":"Skyggetabeller!P263","v":1155814},{"$f":"Skyggetabeller!Q263","v":1151415},{"$f":"Skyggetabeller!R263","v":1148490}]
[null,{"$f":"Skyggetabeller!B264","v":"Andel"},null,{"$f":"Skyggetabeller!D264","v":0.27906156560386441},{"$f":"Skyggetabeller!E264","v":0.25314000873547554},{"$f":"Skyggetabeller!F264","v":0.24796756687187629},{"$f":"Skyggetabeller!G264","v":0.23059813542477814},{"$f":"Skyggetabeller!H264","v":0.20079975180116513},{"$f":"Skyggetabeller!I264","v":0.17465934941986291},{"$f":"Skyggetabeller!J264","v":0.17212805635420667},{"$f":"Skyggetabeller!K264","v":0.17258919348809698},{"$f":"Skyggetabeller!L264","v":0.18820925399749516},{"$f":"Skyggetabeller!M264","v":0.16241464545838274},{"$f":"Skyggetabeller!N264","v":0.15802671519765493},{"$f":"Skyggetabeller!O264","v":0.15726884504179722},{"$f":"Skyggetabeller!P264","v":0.17822936908533726},{"$f":"Skyggetabeller!Q264","v":0.19106924957552229},{"$f":"Skyggetabeller!R264","v":0.21680641538019488}]
[null,"Anm.: Hvis nøgletallet er angivet med * er der foretaget en diskretionering af data, da der er for få observationer. "]
[null,{"$f":"IF('Dine valg'!$G$24=\"\",\"Ingen sammenligningsgruppe valgt.\",\"Anm.: Valgte kommuner i sammenligningsgruppen: \"&'Dine valg'!$G$24&\" \"&'Dine valg'!$G$25&\" \"&'Dine valg'!$G$26&\" \"&'Dine valg'!$G$27&\" \"&'Dine valg'!$G$28&\" \"&'Dine valg'!$G$29&\" \"&'Dine valg'!$G$30)","v":"Anm.: Valgte kommuner i sammenligningsgruppen: Aarhus      "}]
[null,"Kilde: Socialstyrelsens egne beregninger baseret på registerdata fra Danmarks Statistik."]
[]
[null,{"$f":"Skyggetabeller!B289","v":"Nøgletal 7: Fra institutionsanbringelse og ned ad trappen"}]
[]
[null,{"$f":"Skyggetabeller!B292","v":"Nøgletal 7: \nBørn og unge, der ved forrige opgørelse var institutionsanbragt eller anbragt på socialpædagogisk opholdssted, og som nu ikke er anbragt eller anbragt i anden form"},null,"2017-01-01","2017-07-01","2018-01-01","2018-07-01","2019-01-01","2019-07-01","2020-01-01","2020-07-01","2021-01-01","2021-07-01","2022-01-01","2022-07-01","2023-01-01","2023-07-01","2024-01-01"]
[null,{"$f":"Skyggetabeller!B293","v":"København"}]
[null,{"$f":"Skyggetabeller!B294","v":"Antal, der har bevæget sig"},null,{"$f":"Skyggetabeller!D294","v":46},{"$f":"Skyggetabeller!E294","v":50},{"$f":"Skyggetabeller!F294","v":60},{"$f":"Skyggetabeller!G294","v":50},{"$f":"Skyggetabeller!H294","v":49},{"$f":"Skyggetabeller!I294","v":51},{"$f":"Skyggetabeller!J294","v":72},{"$f":"Skyggetabeller!K294","v":32},{"$f":"Skyggetabeller!L294","v":38},{"$f":"Skyggetabeller!M294","v":43},{"$f":"Skyggetabeller!N294","v":56},{"$f":"Skyggetabeller!O294","v":55},{"$f":"Skyggetabeller!P294","v":49},{"$f":"Skyggetabeller!Q294","v":47},{"$f":"Skyggetabeller!R294","v":69}]
[null,{"$f":"Skyggetabeller!B295","v":"Antal tidligere institutionsanbragte"},null,{"$f":"Skyggetabeller!D295","v":234},{"$f":"Skyggetabeller!E295","v":225},{"$f":"Skyggetabeller!F295","v":227},{"$f":"Skyggetabeller!G295","v":215},{"$f":"Skyggetabeller!H295","v":219},{"$f":"Skyggetabeller!I295","v":206},{"$f":"Skyggetabeller!J295","v":195},{"$f":"Skyggetabeller!K295","v":162},{"$f":"Skyggetabeller!L295","v":183},{"$f":"Skyggetabeller!M295","v":203},{"$f":"Skyggetabeller!N295","v":221},{"$f":"Skyggetabeller!O295","v":220},{"$f":"Skyggetabeller!P295","v":246},{"$f":"Skyggetabeller!Q295","v":252},{"$f":"Skyggetabeller!R295","v":274}]
[null,{"$f":"Skyggetabeller!B296","v":"Andel"},null,{"$f":"Skyggetabeller!D296","v":0.19658119658119658},{"$f":"Skyggetabeller!E296","v":0.22222222222222221},{"$f":"Skyggetabeller!F296","v":0.26431718061674009},{"$f":"Skyggetabeller!G296","v":0.23255813953488372},{"$f":"Skyggetabeller!H296","v":0.22374429223744291},{"$f":"Skyggetabeller!I296","v":0.24757281553398058},{"$f":"Skyggetabeller!J296","v":0.36923076923076925},{"$f":"Skyggetabeller!K296","v":0.19753086419753085},{"$f":"Skyggetabeller!L296","v":0.20765027322404372},{"$f":"Skyggetabeller!M296","v":0.21182266009852216},{"$f":"Skyggetabeller!N296","v":0.25339366515837103},{"$f":"Skyggetabeller!O296","v":0.25},{"$f":"Skyggetabeller!P296","v":0.1991869918699187},{"$f":"Skyggetabeller!Q296","v":0.18650793650793651},{"$f":"Skyggetabeller!R296","v":0.2518248175182482}]
[null,{"$f":"Skyggetabeller!B297","v":"Sammenligningsgruppe, gns."}]
[null,{"$f":"Skyggetabeller!B298","v":"Antal, der har bevæget sig"},null,{"$f":"Skyggetabeller!D298","v":36},{"$f":"Skyggetabeller!E298","v":36},{"$f":"Skyggetabeller!F298","v":35},{"$f":"Skyggetabeller!G298","v":37},{"$f":"Skyggetabeller!H298","v":28},{"$f":"Skyggetabeller!I298","v":25},{"$f":"Skyggetabeller!J298","v":31},{"$f":"Skyggetabeller!K298","v":47},{"$f":"Skyggetabeller!L298","v":28},{"$f":"Skyggetabeller!M298","v":31},{"$f":"Skyggetabeller!N298","v":40},{"$f":"Skyggetabeller!O298","v":20},{"$f":"Skyggetabeller!P298","v":33},{"$f":"Skyggetabeller!Q298","v":30},{"$f":"Skyggetabeller!R298","v":34}]
[null,{"$f":"Skyggetabeller!B299","v":"Antal tidligere institutionsanbragte"},null,{"$f":"Skyggetabeller!D299","v":200},{"$f":"Skyggetabeller!E299","v":188},{"$f":"Skyggetabeller!F299","v":186},{"$f":"Skyggetabeller!G299","v":178},{"$f":"Skyggetabeller!H299","v":166},{"$f":"Skyggetabeller!I299","v":173},{"$f":"Skyggetabeller!J299","v":173},{"$f":"Skyggetabeller!K299","v":166},{"$f":"Skyggetabeller!L299","v":168},{"$f":"Skyggetabeller!M299","v":169},{"$f":"Skyggetabeller!N299","v":168},{"$f":"Skyggetabeller!O299","v":154},{"$f":"Skyggetabeller!P299","v":168},{"$f":"Skyggetabeller!Q299","v":162},{"$f":"Skyggetabeller!R299","v":161}]
[null,{"$f":"Skyggetabeller!B300","v":"Andel"},null,{"$f":"Skyggetabeller!D300","v":0.18},{"$f":"Skyggetabeller!E300","v":0.19148936170212766},{"$f":"Skyggetabeller!F300","v":0.18817204301075269},{"$f":"Skyggetabeller!G300","v":0.20786516853932585},{"$f":"Skyggetabeller!H300","v":0.16867469879518071},{"$f":"Skyggetabeller!I300","v":0.14450867052023122},{"$f":"Skyggetabeller!J300","v":0.1791907514450867},{"$f":"Skyggetabeller!K300","v":0.28313253012048195},{"$f":"Skyggetabeller!L300","v":0.16666666666666666},{"$f":"Skyggetabeller!M300","v":0.18343195266272189},{"$f":"Skyggetabeller!N300","v":0.23809523809523808},{"$f":"Skyggetabeller!O300","v":0.12987012987012986},{"$f":"Skyggetabeller!P300","v":0.19642857142857142},{"$f":"Skyggetabeller!Q300","v":0.18518518518518517},{"$f":"Skyggetabeller!R300","v":0.21118012422360249}]
[null,{"$f":"Skyggetabeller!B301","v":"Hele landet"}]
[null,{"$f":"Skyggetabeller!B302","v":"Antal, der har bevæget sig"},null,{"$f":"Skyggetabeller!D302","v":634},{"$f":"Skyggetabeller!E302","v":655},{"$f":"Skyggetabeller!F302","v":699},{"$f":"Skyggetabeller!G302","v":638},{"$f":"Skyggetabeller!H302","v":674},{"$f":"Skyggetabeller!I302","v":604},{"$f":"Skyggetabeller!J302","v":650},{"$f":"Skyggetabeller!K302","v":559},{"$f":"Skyggetabeller!L302","v":597},{"$f":"Skyggetabeller!M302","v":589},{"$f":"Skyggetabeller!N302","v":660},{"$f":"Skyggetabeller!O302","v":574},{"$f":"Skyggetabeller!P302","v":656},{"$f":"Skyggetabeller!Q302","v":616},{"$f":"Skyggetabeller!R302","v":641}]
[null,{"$f":"Skyggetabeller!B303","v":"Antal tidligere institutionsanbragte"},null,{"$f":"Skyggetabeller!D303","v":3435},{"$f":"Skyggetabeller!E303","v":3383},{"$f":"Skyggetabeller!F303","v":3460},{"$f":"Skyggetabeller!G303","v":3369},{"$f":"Skyggetabeller!H303","v":3409},{"$f":"Skyggetabeller!I303","v":3309},{"$f":"Skyggetabeller!J303","v":3282},{"$f":"Skyggetabeller!K303","v":3274},{"$f":"Skyggetabeller!L303","v":3343},{"$f":"Skyggetabeller!M303","v":3404},{"$f":"Skyggetabeller!N303","v":3494},{"$f":"Skyggetabeller!O303","v":3486},{"$f":"Skyggetabeller!P303","v":3675},{"$f":"Skyggetabeller!Q303","v":3708},{"$f":"Skyggetabeller!R303","v":3769}]
[null,{"$f":"Skyggetabeller!B304","v":"Andel"},null,{"$f":"Skyggetabeller!D304","v":0.18457059679767104},{"$f":"Skyggetabeller!E304","v":0.19361513449600945},{"$f":"Skyggetabeller!F304","v":0.20202312138728323},{"$f":"Skyggetabeller!G304","v":0.18937370139507273},{"$f":"Skyggetabeller!H304","v":0.19771193898503961},{"$f":"Skyggetabeller!I304","v":0.18253248715624057},{"$f":"Skyggetabeller!J304","v":0.19804996953077392},{"$f":"Skyggetabeller!K304","v":0.17073915699450215},{"$f":"Skyggetabeller!L304","v":0.17858211187556086},{"$f":"Skyggetabeller!M304","v":0.17303172737955347},{"$f":"Skyggetabeller!N304","v":0.18889524899828278},{"$f":"Skyggetabeller!O304","v":0.1646586345381526},{"$f":"Skyggetabeller!P304","v":0.17850340136054421},{"$f":"Skyggetabeller!Q304","v":0.16612729234088458},{"$f":"Skyggetabeller!R304","v":0.17007163703900238}]
[null,"Anm.: Hvis nøgletallet er angivet med * er der foretaget en diskretionering af data, da der er for få observationer. "]
[null,{"$f":"IF('Dine valg'!$G$24=\"\",\"Ingen sammenligningsgruppe valgt.\",\"Anm.: Valgte kommuner i sammenligningsgruppen: \"&'Dine valg'!$G$24&\" \"&'Dine valg'!$G$25&\" \"&'Dine valg'!$G$26&\" \"&'Dine valg'!$G$27&\" \"&'Dine valg'!$G$28&\" \"&'Dine valg'!$G$29&\" \"&'Dine valg'!$G$30)","v":"Anm.: Valgte kommuner i sammenligningsgruppen: Aarhus      "}]
[null,"Kilde: Socialstyrelsens egne beregninger baseret på registerdata fra Danmarks Statistik."]
[]
[]
[null,"Undernøgletal - Tidligere institutionsanbragte"]
[]
[null,{"$f":"Skyggetabeller!B307","v":"Nøgletal 7.1: \nTidligere institutionsanbragte, som nu er anbragt i anden form"},null,"2017-01-01","2017-07-01","2018-01-01","2018-07-01","2019-01-01","2019-07-01","2020-01-01","2020-07-01","2021-01-01","2021-07-01","2022-01-01","2022-07-01","2023-01-01","2023-07-01","2024-01-01"]
[null,{"$f":"Skyggetabeller!B308","v":"København"}]
[null,{"$f":"Skyggetabeller!B309","v":"Antal, der har bevæget sig"},null,{"$f":"Skyggetabeller!D309","v":9},{"$f":"Skyggetabeller!E309","v":4},{"$f":"Skyggetabeller!F309","v":9},{"$f":"Skyggetabeller!G309","v":6},{"$f":"Skyggetabeller!H309","v":9},{"$f":"Skyggetabeller!I309","v":4},{"$f":"Skyggetabeller!J309","v":7},{"$f":"Skyggetabeller!K309","v":"*"},{"$f":"Skyggetabeller!L309","v":7},{"$f":"Skyggetabeller!M309","v":5},{"$f":"Skyggetabeller!N309","v":8},{"$f":"Skyggetabeller!O309","v":"*"},{"$f":"Skyggetabeller!P309","v":6},{"$f":"Skyggetabeller!Q309","v":"*"},{"$f":"Skyggetabeller!R309","v":"*"}]
[null,{"$f":"Skyggetabeller!B310","v":"Antal tidligere institutionsanbragte"},null,{"$f":"Skyggetabeller!D310","v":234},{"$f":"Skyggetabeller!E310","v":225},{"$f":"Skyggetabeller!F310","v":227},{"$f":"Skyggetabeller!G310","v":215},{"$f":"Skyggetabeller!H310","v":219},{"$f":"Skyggetabeller!I310","v":206},{"$f":"Skyggetabeller!J310","v":195},{"$f":"Skyggetabeller!K310","v":162},{"$f":"Skyggetabeller!L310","v":183},{"$f":"Skyggetabeller!M310","v":203},{"$f":"Skyggetabeller!N310","v":221},{"$f":"Skyggetabeller!O310","v":220},{"$f":"Skyggetabeller!P310","v":246},{"$f":"Skyggetabeller!Q310","v":252},{"$f":"Skyggetabeller!R310","v":274}]
[null,{"$f":"Skyggetabeller!B311","v":"Andel"},null,{"$f":"Skyggetabeller!D311","v":3.8461538461538464E-2},{"$f":"Skyggetabeller!E311","v":1.7777777777777778E-2},{"$f":"Skyggetabeller!F311","v":3.9647577092511016E-2},{"$f":"Skyggetabeller!G311","v":2.7906976744186046E-2},{"$f":"Skyggetabeller!H311","v":4.1095890410958902E-2},{"$f":"Skyggetabeller!I311","v":1.9417475728155338E-2},{"$f":"Skyggetabeller!J311","v":3.5897435897435895E-2},{"$f":"Skyggetabeller!K311","v":"*"},{"$f":"Skyggetabeller!L311","v":3.825136612021858E-2},{"$f":"Skyggetabeller!M311","v":2.4630541871921183E-2},{"$f":"Skyggetabeller!N311","v":3.6199095022624438E-2},{"$f":"Skyggetabeller!O311","v":"*"},{"$f":"Skyggetabeller!P311","v":2.4390243902439025E-2},{"$f":"Skyggetabeller!Q311","v":"*"},{"$f":"Skyggetabeller!R311","v":"*"}]
[null,{"$f":"Skyggetabeller!B312","v":"Sammenligningsgruppe, gns."}]
[null,{"$f":"Skyggetabeller!B313","v":"Antal, der har bevæget sig"},null,{"$f":"Skyggetabeller!D313","v":6},{"$f":"Skyggetabeller!E313","v":0},{"$f":"Skyggetabeller!F313","v":5},{"$f":"Skyggetabeller!G313","v":0},{"$f":"Skyggetabeller!H313","v":0},{"$f":"Skyggetabeller!I313","v":0},{"$f":"Skyggetabeller!J313","v":0},{"$f":"Skyggetabeller!K313","v":5},{"$f":"Skyggetabeller!L313","v":0},{"$f":"Skyggetabeller!M313","v":3},{"$f":"Skyggetabeller!N313","v":3},{"$f":"Skyggetabeller!O313","v":0},{"$f":"Skyggetabeller!P313","v":0},{"$f":"Skyggetabeller!Q313","v":0},{"$f":"Skyggetabeller!R313","v":0}]
[null,{"$f":"Skyggetabeller!B314","v":"Antal tidligere institutionsanbragte"},null,{"$f":"Skyggetabeller!D314","v":200},{"$f":"Skyggetabeller!E314","v":188},{"$f":"Skyggetabeller!F314","v":186},{"$f":"Skyggetabeller!G314","v":178},{"$f":"Skyggetabeller!H314","v":166},{"$f":"Skyggetabeller!I314","v":173},{"$f":"Skyggetabeller!J314","v":173},{"$f":"Skyggetabeller!K314","v":166},{"$f":"Skyggetabeller!L314","v":168},{"$f":"Skyggetabeller!M314","v":169},{"$f":"Skyggetabeller!N314","v":168},{"$f":"Skyggetabeller!O314","v":154},{"$f":"Skyggetabeller!P314","v":168},{"$f":"Skyggetabeller!Q314","v":162},{"$f":"Skyggetabeller!R314","v":161}]
[null,{"$f":"Skyggetabeller!B315","v":"Andel"},null,{"$f":"Skyggetabeller!D315","v":0.03},{"$f":"Skyggetabeller!E315","v":0},{"$f":"Skyggetabeller!F315","v":2.6881720430107527E-2},{"$f":"Skyggetabeller!G315","v":0},{"$f":"Skyggetabeller!H315","v":0},{"$f":"Skyggetabeller!I315","v":0},{"$f":"Skyggetabeller!J315","v":0},{"$f":"Skyggetabeller!K315","v":3.0120481927710843E-2},{"$f":"Skyggetabeller!L315","v":0},{"$f":"Skyggetabeller!M315","v":1.7751479289940829E-2},{"$f":"Skyggetabeller!N315","v":1.7857142857142856E-2},{"$f":"Skyggetabeller!O315","v":0},{"$f":"Skyggetabeller!P315","v":0},{"$f":"Skyggetabeller!Q315","v":0},{"$f":"Skyggetabeller!R315","v":0}]
[null,{"$f":"Skyggetabeller!B316","v":"Hele landet"}]
[null,{"$f":"Skyggetabeller!B317","v":"Antal, der har bevæget sig"},null,{"$f":"Skyggetabeller!D317","v":76},{"$f":"Skyggetabeller!E317","v":74},{"$f":"Skyggetabeller!F317","v":79},{"$f":"Skyggetabeller!G317","v":58},{"$f":"Skyggetabeller!H317","v":77},{"$f":"Skyggetabeller!I317","v":62},{"$f":"Skyggetabeller!J317","v":74},{"$f":"Skyggetabeller!K317","v":53},{"$f":"Skyggetabeller!L317","v":68},{"$f":"Skyggetabeller!M317","v":63},{"$f":"Skyggetabeller!N317","v":48},{"$f":"Skyggetabeller!O317","v":46},{"$f":"Skyggetabeller!P317","v":56},{"$f":"Skyggetabeller!Q317","v":60},{"$f":"Skyggetabeller!R317","v":57}]
[null,{"$f":"Skyggetabeller!B318","v":"Antal tidligere institutionsanbragte"},null,{"$f":"Skyggetabeller!D318","v":3435},{"$f":"Skyggetabeller!E318","v":3383},{"$f":"Skyggetabeller!F318","v":3460},{"$f":"Skyggetabeller!G318","v":3369},{"$f":"Skyggetabeller!H318","v":3409},{"$f":"Skyggetabeller!I318","v":3309},{"$f":"Skyggetabeller!J318","v":3282},{"$f":"Skyggetabeller!K318","v":3274},{"$f":"Skyggetabeller!L318","v":3343},{"$f":"Skyggetabeller!M318","v":3404},{"$f":"Skyggetabeller!N318","v":3494},{"$f":"Skyggetabeller!O318","v":3486},{"$f":"Skyggetabeller!P318","v":3675},{"$f":"Skyggetabeller!Q318","v":3708},{"$f":"Skyggetabeller!R318","v":3769}]
[null,{"$f":"Skyggetabeller!B319","v":"Andel"},null,{"$f":"Skyggetabeller!D319","v":2.212518195050946E-2},{"$f":"Skyggetabeller!E319","v":2.1874076263671299E-2},{"$f":"Skyggetabeller!F319","v":2.2832369942196531E-2},{"$f":"Skyggetabeller!G319","v":1.7215791035915702E-2},{"$f":"Skyggetabeller!H319","v":2.2587268993839837E-2},{"$f":"Skyggetabeller!I319","v":1.8736778482925355E-2},{"$f":"Skyggetabeller!J319","v":2.2547227300426569E-2},{"$f":"Skyggetabeller!K319","v":1.6188149053146E-2},{"$f":"Skyggetabeller!L319","v":2.0341011067903082E-2},{"$f":"Skyggetabeller!M319","v":1.8507638072855465E-2},{"$f":"Skyggetabeller!N319","v":1.3737836290784202E-2},{"$f":"Skyggetabeller!O319","v":1.3195639701663799E-2},{"$f":"Skyggetabeller!P319","v":1.5238095238095238E-2},{"$f":"Skyggetabeller!Q319","v":1.6181229773462782E-2},{"$f":"Skyggetabeller!R319","v":1.5123374900504112E-2}]
[null,"Anm.: Hvis nøgletallet er angivet med * er der foretaget en diskretionering af data, da der er for få observationer. "]
[null,{"$f":"IF('Dine valg'!$G$24=\"\",\"Ingen sammenligningsgruppe valgt.\",\"Anm.: Valgte kommuner i sammenligningsgruppen: \"&'Dine valg'!$G$24&\" \"&'Dine valg'!$G$25&\" \"&'Dine valg'!$G$26&\" \"&'Dine valg'!$G$27&\" \"&'Dine valg'!$G$28&\" \"&'Dine valg'!$G$29&\" \"&'Dine valg'!$G$30)","v":"Anm.: Valgte kommuner i sammenligningsgruppen: Aarhus      "}]
[null,"Kilde: Socialstyrelsens egne beregninger baseret på registerdata fra Danmarks Statistik."]
[]
[]
[null,{"$f":"Skyggetabeller!B322","v":"Nøgletal 7.2: \nTidligere institutionsanbragte, som nu ikke er anbragt "},null,"2017-01-01","2017-07-01","2018-01-01","2018-07-01","2019-01-01","2019-07-01","2020-01-01","2020-07-01","2021-01-01","2021-07-01","2022-01-01","2022-07-01","2023-01-01","2023-07-01","2024-01-01"]
[null,{"$f":"Skyggetabeller!B323","v":"København"}]
[null,{"$f":"Skyggetabeller!B324","v":"Antal, der har bevæget sig"},null,{"$f":"Skyggetabeller!D324","v":37},{"$f":"Skyggetabeller!E324","v":46},{"$f":"Skyggetabeller!F324","v":51},{"$f":"Skyggetabeller!G324","v":44},{"$f":"Skyggetabeller!H324","v":40},{"$f":"Skyggetabeller!I324","v":47},{"$f":"Skyggetabeller!J324","v":65},{"$f":"Skyggetabeller!K324","v":"*"},{"$f":"Skyggetabeller!L324","v":31},{"$f":"Skyggetabeller!M324","v":38},{"$f":"Skyggetabeller!N324","v":48},{"$f":"Skyggetabeller!O324","v":"*"},{"$f":"Skyggetabeller!P324","v":43},{"$f":"Skyggetabeller!Q324","v":"*"},{"$f":"Skyggetabeller!R324","v":"*"}]
[null,{"$f":"Skyggetabeller!B325","v":"Antal tidligere institutionsanbragte"},null,{"$f":"Skyggetabeller!D325","v":234},{"$f":"Skyggetabeller!E325","v":225},{"$f":"Skyggetabeller!F325","v":227},{"$f":"Skyggetabeller!G325","v":215},{"$f":"Skyggetabeller!H325","v":219},{"$f":"Skyggetabeller!I325","v":206},{"$f":"Skyggetabeller!J325","v":195},{"$f":"Skyggetabeller!K325","v":162},{"$f":"Skyggetabeller!L325","v":183},{"$f":"Skyggetabeller!M325","v":203},{"$f":"Skyggetabeller!N325","v":221},{"$f":"Skyggetabeller!O325","v":220},{"$f":"Skyggetabeller!P325","v":246},{"$f":"Skyggetabeller!Q325","v":252},{"$f":"Skyggetabeller!R325","v":274}]
[null,{"$f":"Skyggetabeller!B326","v":"Andel"},null,{"$f":"Skyggetabeller!D326","v":0.15811965811965811},{"$f":"Skyggetabeller!E326","v":0.20444444444444446},{"$f":"Skyggetabeller!F326","v":0.22466960352422907},{"$f":"Skyggetabeller!G326","v":0.20465116279069767},{"$f":"Skyggetabeller!H326","v":0.18264840182648401},{"$f":"Skyggetabeller!I326","v":0.22815533980582525},{"$f":"Skyggetabeller!J326","v":0.33333333333333331},{"$f":"Skyggetabeller!K326","v":"*"},{"$f":"Skyggetabeller!L326","v":0.16939890710382513},{"$f":"Skyggetabeller!M326","v":0.18719211822660098},{"$f":"Skyggetabeller!N326","v":0.21719457013574661},{"$f":"Skyggetabeller!O326","v":"*"},{"$f":"Skyggetabeller!P326","v":0.17479674796747968},{"$f":"Skyggetabeller!Q326","v":"*"},{"$f":"Skyggetabeller!R326","v":"*"}]
[null,{"$f":"Skyggetabeller!B327","v":"Sammenligningsgruppe, gns."}]
[null,{"$f":"Skyggetabeller!B328","v":"Antal, der har bevæget sig"},null,{"$f":"Skyggetabeller!D328","v":30},{"$f":"Skyggetabeller!E328","v":0},{"$f":"Skyggetabeller!F328","v":30},{"$f":"Skyggetabeller!G328","v":0},{"$f":"Skyggetabeller!H328","v":0},{"$f":"Skyggetabeller!I328","v":25},{"$f":"Skyggetabeller!J328","v":31},{"$f":"Skyggetabeller!K328","v":42},{"$f":"Skyggetabeller!L328","v":28},{"$f":"Skyggetabeller!M328","v":28},{"$f":"Skyggetabeller!N328","v":37},{"$f":"Skyggetabeller!O328","v":0},{"$f":"Skyggetabeller!P328","v":33},{"$f":"Skyggetabeller!Q328","v":0},{"$f":"Skyggetabeller!R328","v":0}]
[null,{"$f":"Skyggetabeller!B329","v":"Antal tidligere institutionsanbragte"},null,{"$f":"Skyggetabeller!D329","v":200},{"$f":"Skyggetabeller!E329","v":188},{"$f":"Skyggetabeller!F329","v":186},{"$f":"Skyggetabeller!G329","v":178},{"$f":"Skyggetabeller!H329","v":166},{"$f":"Skyggetabeller!I329","v":173},{"$f":"Skyggetabeller!J329","v":173},{"$f":"Skyggetabeller!K329","v":166},{"$f":"Skyggetabeller!L329","v":168},{"$f":"Skyggetabeller!M329","v":169},{"$f":"Skyggetabeller!N329","v":168},{"$f":"Skyggetabeller!O329","v":154},{"$f":"Skyggetabeller!P329","v":168},{"$f":"Skyggetabeller!Q329","v":162},{"$f":"Skyggetabeller!R329","v":161}]
[null,{"$f":"Skyggetabeller!B330","v":"Andel"},null,{"$f":"Skyggetabeller!D330","v":0.15},{"$f":"Skyggetabeller!E330","v":0},{"$f":"Skyggetabeller!F330","v":0.16129032258064516},{"$f":"Skyggetabeller!G330","v":0},{"$f":"Skyggetabeller!H330","v":0},{"$f":"Skyggetabeller!I330","v":0.14450867052023122},{"$f":"Skyggetabeller!J330","v":0.1791907514450867},{"$f":"Skyggetabeller!K330","v":0.25301204819277107},{"$f":"Skyggetabeller!L330","v":0.16666666666666666},{"$f":"Skyggetabeller!M330","v":0.16568047337278108},{"$f":"Skyggetabeller!N330","v":0.22023809523809523},{"$f":"Skyggetabeller!O330","v":0},{"$f":"Skyggetabeller!P330","v":0.19642857142857142},{"$f":"Skyggetabeller!Q330","v":0},{"$f":"Skyggetabeller!R330","v":0}]
[null,{"$f":"Skyggetabeller!B331","v":"Hele landet"}]
[null,{"$f":"Skyggetabeller!B332","v":"Antal, der har bevæget sig"},null,{"$f":"Skyggetabeller!D332","v":558},{"$f":"Skyggetabeller!E332","v":581},{"$f":"Skyggetabeller!F332","v":620},{"$f":"Skyggetabeller!G332","v":580},{"$f":"Skyggetabeller!H332","v":597},{"$f":"Skyggetabeller!I332","v":542},{"$f":"Skyggetabeller!J332","v":576},{"$f":"Skyggetabeller!K332","v":506},{"$f":"Skyggetabeller!L332","v":529},{"$f":"Skyggetabeller!M332","v":526},{"$f":"Skyggetabeller!N332","v":612},{"$f":"Skyggetabeller!O332","v":528},{"$f":"Skyggetabeller!P332","v":600},{"$f":"Skyggetabeller!Q332","v":556},{"$f":"Skyggetabeller!R332","v":584}]
[null,{"$f":"Skyggetabeller!B333","v":"Antal tidligere institutionsanbragte"},null,{"$f":"Skyggetabeller!D333","v":3435},{"$f":"Skyggetabeller!E333","v":3383},{"$f":"Skyggetabeller!F333","v":3460},{"$f":"Skyggetabeller!G333","v":3369},{"$f":"Skyggetabeller!H333","v":3409},{"$f":"Skyggetabeller!I333","v":3309},{"$f":"Skyggetabeller!J333","v":3282},{"$f":"Skyggetabeller!K333","v":3274},{"$f":"Skyggetabeller!L333","v":3343},{"$f":"Skyggetabeller!M333","v":3404},{"$f":"Skyggetabeller!N333","v":3494},{"$f":"Skyggetabeller!O333","v":3486},{"$f":"Skyggetabeller!P333","v":3675},{"$f":"Skyggetabeller!Q333","v":3708},{"$f":"Skyggetabeller!R333","v":3769}]
[null,{"$f":"Skyggetabeller!B334","v":"Andel"},null,{"$f":"Skyggetabeller!D334","v":0.16244541484716157},{"$f":"Skyggetabeller!E334","v":0.17174105823233815},{"$f":"Skyggetabeller!F334","v":0.1791907514450867},{"$f":"Skyggetabeller!G334","v":0.17215791035915701},{"$f":"Skyggetabeller!H334","v":0.17512466999119977},{"$f":"Skyggetabeller!I334","v":0.16379570867331519},{"$f":"Skyggetabeller!J334","v":0.17550274223034734},{"$f":"Skyggetabeller!K334","v":0.15455100794135615},{"$f":"Skyggetabeller!L334","v":0.1582411008076578},{"$f":"Skyggetabeller!M334","v":0.154524089306698},{"$f":"Skyggetabeller!N334","v":0.17515741270749857},{"$f":"Skyggetabeller!O334","v":0.15146299483648881},{"$f":"Skyggetabeller!P334","v":0.16326530612244897},{"$f":"Skyggetabeller!Q334","v":0.1499460625674218},{"$f":"Skyggetabeller!R334","v":0.15494826213849827}]
[null,"Anm.: Hvis nøgletallet er angivet med * er der foretaget en diskretionering af data, da der er for få observationer. "]
[null,{"$f":"IF('Dine valg'!$G$24=\"\",\"Ingen sammenligningsgruppe valgt.\",\"Anm.: Valgte kommuner i sammenligningsgruppen: \"&'Dine valg'!$G$24&\" \"&'Dine valg'!$G$25&\" \"&'Dine valg'!$G$26&\" \"&'Dine valg'!$G$27&\" \"&'Dine valg'!$G$28&\" \"&'Dine valg'!$G$29&\" \"&'Dine valg'!$G$30)","v":"Anm.: Valgte kommuner i sammenligningsgruppen: Aarhus      "}]
[null,"Kilde: Socialstyrelsens egne beregninger baseret på registerdata fra Danmarks Statistik."]
[]
[]
[null,{"$f":"Skyggetabeller!B337","v":"Nøgletal 8: Fra hjemmebaseret foranstaltning og op ad trappen"}]
[]
[null,{"$f":"Skyggetabeller!B340","v":"Nøgletal 8: \nBørn og unge, der ved sidste opgørelse modtog en hjemmebaseret foranstaltning, og ikke var anbragt, som på opgørelsestidspunktet er anbragt uden for hjemmet"},null,"2017-01-01","2017-07-01","2018-01-01","2018-07-01","2019-01-01","2019-07-01","2020-01-01","2020-07-01","2021-01-01","2021-07-01","2022-01-01","2022-07-01","2023-01-01","2023-07-01","2024-01-01"]
[null,{"$f":"Skyggetabeller!B341","v":"København"}]
[null,{"$f":"Skyggetabeller!B342","v":"Antal, der har bevæget sig"},null,{"$f":"Skyggetabeller!D342","v":58},{"$f":"Skyggetabeller!E342","v":52},{"$f":"Skyggetabeller!F342","v":48},{"$f":"Skyggetabeller!G342","v":56},{"$f":"Skyggetabeller!H342","v":56},{"$f":"Skyggetabeller!I342","v":47},{"$f":"Skyggetabeller!J342","v":45},{"$f":"Skyggetabeller!K342","v":48},{"$f":"Skyggetabeller!L342","v":63},{"$f":"Skyggetabeller!M342","v":57},{"$f":"Skyggetabeller!N342","v":"*"},{"$f":"Skyggetabeller!O342","v":72},{"$f":"Skyggetabeller!P342","v":65},{"$f":"Skyggetabeller!Q342","v":51},{"$f":"Skyggetabeller!R342","v":44}]
[null,{"$f":"Skyggetabeller!B343","v":"Antal tidligere modtagere"},null,{"$f":"Skyggetabeller!D343","v":1957},{"$f":"Skyggetabeller!E343","v":1892},{"$f":"Skyggetabeller!F343","v":1625},{"$f":"Skyggetabeller!G343","v":1432},{"$f":"Skyggetabeller!H343","v":1912},{"$f":"Skyggetabeller!I343","v":2133},{"$f":"Skyggetabeller!J343","v":2125},{"$f":"Skyggetabeller!K343","v":2088},{"$f":"Skyggetabeller!L343","v":2091},{"$f":"Skyggetabeller!M343","v":2015},{"$f":"Skyggetabeller!N343","v":2280},{"$f":"Skyggetabeller!O343","v":2280},{"$f":"Skyggetabeller!P343","v":2409},{"$f":"Skyggetabeller!Q343","v":2436},{"$f":"Skyggetabeller!R343","v":2409}]
[null,{"$f":"Skyggetabeller!B344","v":"Andel"},null,{"$f":"Skyggetabeller!D344","v":2.9637199795605518E-2},{"$f":"Skyggetabeller!E344","v":2.748414376321353E-2},{"$f":"Skyggetabeller!F344","v":2.9538461538461538E-2},{"$f":"Skyggetabeller!G344","v":3.9106145251396648E-2},{"$f":"Skyggetabeller!H344","v":2.9288702928870293E-2},{"$f":"Skyggetabeller!I344","v":2.2034692920768869E-2},{"$f":"Skyggetabeller!J344","v":2.1176470588235293E-2},{"$f":"Skyggetabeller!K344","v":2.2988505747126436E-2},{"$f":"Skyggetabeller!L344","v":3.0129124820659971E-2},{"$f":"Skyggetabeller!M344","v":2.8287841191066997E-2},{"$f":"Skyggetabeller!N344","v":"*"},{"$f":"Skyggetabeller!O344","v":3.1578947368421054E-2},{"$f":"Skyggetabeller!P344","v":2.6982150269821502E-2},{"$f":"Skyggetabeller!Q344","v":2.0935960591133004E-2},{"$f":"Skyggetabeller!R344","v":1.8264840182648401E-2}]
[null,{"$f":"Skyggetabeller!B345","v":"Sammenligningsgruppe, gns."}]
[null,{"$f":"Skyggetabeller!B346","v":"Antal, der har bevæget sig"},null,{"$f":"Skyggetabeller!D346","v":0},{"$f":"Skyggetabeller!E346","v":0},{"$f":"Skyggetabeller!F346","v":0},{"$f":"Skyggetabeller!G346","v":0},{"$f":"Skyggetabeller!H346","v":31},{"$f":"Skyggetabeller!I346","v":23},{"$f":"Skyggetabeller!J346","v":22},{"$f":"Skyggetabeller!K346","v":37},{"$f":"Skyggetabeller!L346","v":22},{"$f":"Skyggetabeller!M346","v":24},{"$f":"Skyggetabeller!N346","v":19},{"$f":"Skyggetabeller!O346","v":34},{"$f":"Skyggetabeller!P346","v":26},{"$f":"Skyggetabeller!Q346","v":24},{"$f":"Skyggetabeller!R346","v":23}]
[null,{"$f":"Skyggetabeller!B347","v":"Antal tidligere modtagere"},null,{"$f":"Skyggetabeller!D347","v":1115},{"$f":"Skyggetabeller!E347","v":1099},{"$f":"Skyggetabeller!F347","v":1043},{"$f":"Skyggetabeller!G347","v":1136},{"$f":"Skyggetabeller!H347","v":1181},{"$f":"Skyggetabeller!I347","v":1285},{"$f":"Skyggetabeller!J347","v":1281},{"$f":"Skyggetabeller!K347","v":1282},{"$f":"Skyggetabeller!L347","v":1258},{"$f":"Skyggetabeller!M347","v":1242},{"$f":"Skyggetabeller!N347","v":1217},{"$f":"Skyggetabeller!O347","v":1144},{"$f":"Skyggetabeller!P347","v":1111},{"$f":"Skyggetabeller!Q347","v":1094},{"$f":"Skyggetabeller!R347","v":1057}]
[null,{"$f":"Skyggetabeller!B348","v":"Andel"},null,{"$f":"Skyggetabeller!D348","v":0},{"$f":"Skyggetabeller!E348","v":0},{"$f":"Skyggetabeller!F348","v":0},{"$f":"Skyggetabeller!G348","v":0},{"$f":"Skyggetabeller!H348","v":2.6248941574936496E-2},{"$f":"Skyggetabeller!I348","v":1.7898832684824902E-2},{"$f":"Skyggetabeller!J348","v":1.7174082747853241E-2},{"$f":"Skyggetabeller!K348","v":2.8861154446177848E-2},{"$f":"Skyggetabeller!L348","v":1.7488076311605722E-2},{"$f":"Skyggetabeller!M348","v":1.932367149758454E-2},{"$f":"Skyggetabeller!N348","v":1.5612161051766639E-2},{"$f":"Skyggetabeller!O348","v":2.972027972027972E-2},{"$f":"Skyggetabeller!P348","v":2.3402340234023402E-2},{"$f":"Skyggetabeller!Q348","v":2.1937842778793418E-2},{"$f":"Skyggetabeller!R348","v":2.1759697256385997E-2}]
[null,{"$f":"Skyggetabeller!B349","v":"Hele landet"}]
[null,{"$f":"Skyggetabeller!B350","v":"Antal, der har bevæget sig"},null,{"$f":"Skyggetabeller!D350","v":816},{"$f":"Skyggetabeller!E350","v":805},{"$f":"Skyggetabeller!F350","v":759},{"$f":"Skyggetabeller!G350","v":763},{"$f":"Skyggetabeller!H350","v":715},{"$f":"Skyggetabeller!I350","v":678},{"$f":"Skyggetabeller!J350","v":735},{"$f":"Skyggetabeller!K350","v":755},{"$f":"Skyggetabeller!L350","v":751},{"$f":"Skyggetabeller!M350","v":784},{"$f":"Skyggetabeller!N350","v":738},{"$f":"Skyggetabeller!O350","v":815},{"$f":"Skyggetabeller!P350","v":765},{"$f":"Skyggetabeller!Q350","v":732},{"$f":"Skyggetabeller!R350","v":770}]
[null,{"$f":"Skyggetabeller!B351","v":"Antal tidligere modtagere"},null,{"$f":"Skyggetabeller!D351","v":23290},{"$f":"Skyggetabeller!E351","v":23270},{"$f":"Skyggetabeller!F351","v":22963},{"$f":"Skyggetabeller!G351","v":23020},{"$f":"Skyggetabeller!H351","v":22953},{"$f":"Skyggetabeller!I351","v":23714},{"$f":"Skyggetabeller!J351","v":23560},{"$f":"Skyggetabeller!K351","v":24341},{"$f":"Skyggetabeller!L351","v":24410},{"$f":"Skyggetabeller!M351","v":24895},{"$f":"Skyggetabeller!N351","v":25844},{"$f":"Skyggetabeller!O351","v":26206},{"$f":"Skyggetabeller!P351","v":26526},{"$f":"Skyggetabeller!Q351","v":27075},{"$f":"Skyggetabeller!R351","v":27273}]
[null,{"$f":"Skyggetabeller!B352","v":"Andel"},null,{"$f":"Skyggetabeller!D352","v":3.5036496350364967E-2},{"$f":"Skyggetabeller!E352","v":3.4593897722389341E-2},{"$f":"Skyggetabeller!F352","v":3.3053172494883071E-2},{"$f":"Skyggetabeller!G352","v":3.3145091225021718E-2},{"$f":"Skyggetabeller!H352","v":3.1150612120419988E-2},{"$f":"Skyggetabeller!I352","v":2.8590705912119423E-2},{"$f":"Skyggetabeller!J352","v":3.1196943972835314E-2},{"$f":"Skyggetabeller!K352","v":3.1017624584035168E-2},{"$f":"Skyggetabeller!L352","v":3.0766079475624743E-2},{"$f":"Skyggetabeller!M352","v":3.1492267523599113E-2},{"$f":"Skyggetabeller!N352","v":2.8555951091162358E-2},{"$f":"Skyggetabeller!O352","v":3.1099748149278791E-2},{"$f":"Skyggetabeller!P352","v":2.8839629043202895E-2},{"$f":"Skyggetabeller!Q352","v":2.703601108033241E-2},{"$f":"Skyggetabeller!R352","v":2.8233051002823306E-2}]
[null,"Anm.: Hvis nøgletallet er angivet med * er der foretaget en diskretionering af data, da der er for få observationer. "]
[null,{"$f":"IF('Dine valg'!$G$24=\"\",\"Ingen sammenligningsgruppe valgt.\",\"Anm.: Valgte kommuner i sammenligningsgruppen: \"&'Dine valg'!$G$24&\" \"&'Dine valg'!$G$25&\" \"&'Dine valg'!$G$26&\" \"&'Dine valg'!$G$27&\" \"&'Dine valg'!$G$28&\" \"&'Dine valg'!$G$29&\" \"&'Dine valg'!$G$30)","v":"Anm.: Valgte kommuner i sammenligningsgruppen: Aarhus      "}]
[null,"Kilde: Socialstyrelsens egne beregninger baseret på registerdata fra Danmarks Statistik."]
[]
[]
[null,{"$f":"Skyggetabeller!B355","v":"Nøgletal 9: Fra hjemmebaseret foranstaltning og ned ad trappen"}]
[]
[null,{"$f":"Skyggetabeller!B358","v":"Nøgletal 9: Tidligere modtagere af hjemmebaserede foranstaltninger, som nu er rykket ned ad trappen"},null,"2017-01-01","2017-07-01","2018-01-01","2018-07-01","2019-01-01","2019-07-01","2020-01-01","2020-07-01","2021-01-01","2021-07-01","2022-01-01","2022-07-01","2023-01-01","2023-07-01","2024-01-01"]
[null,{"$f":"Skyggetabeller!B359","v":"København"}]
[null,{"$f":"Skyggetabeller!B360","v":"Antal, der har bevæget sig"},null,{"$f":"Skyggetabeller!D360","v":572},{"$f":"Skyggetabeller!E360","v":520},{"$f":"Skyggetabeller!F360","v":412},{"$f":"Skyggetabeller!G360","v":247},{"$f":"Skyggetabeller!H360","v":451},{"$f":"Skyggetabeller!I360","v":550},{"$f":"Skyggetabeller!J360","v":584},{"$f":"Skyggetabeller!K360","v":449},{"$f":"Skyggetabeller!L360","v":558},{"$f":"Skyggetabeller!M360","v":406},{"$f":"Skyggetabeller!N360","v":586},{"$f":"Skyggetabeller!O360","v":565},{"$f":"Skyggetabeller!P360","v":611},{"$f":"Skyggetabeller!Q360","v":678},{"$f":"Skyggetabeller!R360","v":661}]
[null,{"$f":"Skyggetabeller!B361","v":"Antal tidligere modtagere"},null,{"$f":"Skyggetabeller!D361","v":1987},{"$f":"Skyggetabeller!E361","v":1925},{"$f":"Skyggetabeller!F361","v":1657},{"$f":"Skyggetabeller!G361","v":1461},{"$f":"Skyggetabeller!H361","v":1940},{"$f":"Skyggetabeller!I361","v":2166},{"$f":"Skyggetabeller!J361","v":2143},{"$f":"Skyggetabeller!K361","v":2113},{"$f":"Skyggetabeller!L361","v":2108},{"$f":"Skyggetabeller!M361","v":2035},{"$f":"Skyggetabeller!N361","v":2297},{"$f":"Skyggetabeller!O361","v":2306},{"$f":"Skyggetabeller!P361","v":2428},{"$f":"Skyggetabeller!Q361","v":2458},{"$f":"Skyggetabeller!R361","v":2428}]
[null,{"$f":"Skyggetabeller!B362","v":"Andel"},null,{"$f":"Skyggetabeller!D362","v":0.28787116255661804},{"$f":"Skyggetabeller!E362","v":0.27012987012987011},{"$f":"Skyggetabeller!F362","v":0.24864212432106217},{"$f":"Skyggetabeller!G362","v":0.16906228610540724},{"$f":"Skyggetabeller!H362","v":0.23247422680412372},{"$f":"Skyggetabeller!I362","v":0.25392428439519854},{"$f":"Skyggetabeller!J362","v":0.27251516565562295},{"$f":"Skyggetabeller!K362","v":0.21249408424041646},{"$f":"Skyggetabeller!L362","v":0.26470588235294118},{"$f":"Skyggetabeller!M362","v":0.1995085995085995},{"$f":"Skyggetabeller!N362","v":0.25511536787113626},{"$f":"Skyggetabeller!O362","v":0.24501300954032956},{"$f":"Skyggetabeller!P362","v":0.25164744645799014},{"$f":"Skyggetabeller!Q362","v":0.27583401139137509},{"$f":"Skyggetabeller!R362","v":0.27224052718286657}]
[null,{"$f":"Skyggetabeller!B363","v":"Sammenligningsgruppe, gns."}]
[null,{"$f":"Skyggetabeller!B364","v":"Antal, der har bevæget sig"},null,{"$f":"Skyggetabeller!D364","v":314},{"$f":"Skyggetabeller!E364","v":296},{"$f":"Skyggetabeller!F364","v":272},{"$f":"Skyggetabeller!G364","v":300},{"$f":"Skyggetabeller!H364","v":308},{"$f":"Skyggetabeller!I364","v":377},{"$f":"Skyggetabeller!J364","v":376},{"$f":"Skyggetabeller!K364","v":316},{"$f":"Skyggetabeller!L364","v":353},{"$f":"Skyggetabeller!M364","v":331},{"$f":"Skyggetabeller!N364","v":362},{"$f":"Skyggetabeller!O364","v":329},{"$f":"Skyggetabeller!P364","v":321},{"$f":"Skyggetabeller!Q364","v":323},{"$f":"Skyggetabeller!R364","v":314}]
[null,{"$f":"Skyggetabeller!B365","v":"Antal tidligere modtagere"},null,{"$f":"Skyggetabeller!D365","v":1135},{"$f":"Skyggetabeller!E365","v":1124},{"$f":"Skyggetabeller!F365","v":1070},{"$f":"Skyggetabeller!G365","v":1155},{"$f":"Skyggetabeller!H365","v":1193},{"$f":"Skyggetabeller!I365","v":1295},{"$f":"Skyggetabeller!J365","v":1286},{"$f":"Skyggetabeller!K365","v":1289},{"$f":"Skyggetabeller!L365","v":1262},{"$f":"Skyggetabeller!M365","v":1246},{"$f":"Skyggetabeller!N365","v":1220},{"$f":"Skyggetabeller!O365","v":1147},{"$f":"Skyggetabeller!P365","v":1115},{"$f":"Skyggetabeller!Q365","v":1094},{"$f":"Skyggetabeller!R365","v":1062}]
[null,{"$f":"Skyggetabeller!B366","v":"Andel"},null,{"$f":"Skyggetabeller!D366","v":0.27665198237885463},{"$f":"Skyggetabeller!E366","v":0.26334519572953735},{"$f":"Skyggetabeller!F366","v":0.25420560747663551},{"$f":"Skyggetabeller!G366","v":0.25974025974025972},{"$f":"Skyggetabeller!H366","v":0.25817267393126569},{"$f":"Skyggetabeller!I366","v":0.2911196911196911},{"$f":"Skyggetabeller!J366","v":0.29237947122861585},{"$f":"Skyggetabeller!K366","v":0.2451512800620636},{"$f":"Skyggetabeller!L366","v":0.2797147385103011},{"$f":"Skyggetabeller!M366","v":0.26565008025682185},{"$f":"Skyggetabeller!N366","v":0.29672131147540981},{"$f":"Skyggetabeller!O366","v":0.28683522231909331},{"$f":"Skyggetabeller!P366","v":0.28789237668161433},{"$f":"Skyggetabeller!Q366","v":0.29524680073126142},{"$f":"Skyggetabeller!R366","v":0.29566854990583802}]
[null,{"$f":"Skyggetabeller!B367","v":"Hele landet"}]
[null,{"$f":"Skyggetabeller!B368","v":"Antal, der har bevæget sig"},null,{"$f":"Skyggetabeller!D368","v":5448},{"$f":"Skyggetabeller!E368","v":5909},{"$f":"Skyggetabeller!F368","v":5475},{"$f":"Skyggetabeller!G368","v":6193},{"$f":"Skyggetabeller!H368","v":5586},{"$f":"Skyggetabeller!I368","v":6824},{"$f":"Skyggetabeller!J368","v":6014},{"$f":"Skyggetabeller!K368","v":5807},{"$f":"Skyggetabeller!L368","v":6149},{"$f":"Skyggetabeller!M368","v":5832},{"$f":"Skyggetabeller!N368","v":6592},{"$f":"Skyggetabeller!O368","v":6566},{"$f":"Skyggetabeller!P368","v":6891},{"$f":"Skyggetabeller!Q368","v":7084},{"$f":"Skyggetabeller!R368","v":7593}]
[null,{"$f":"Skyggetabeller!B369","v":"Antal tidligere modtagere"},null,{"$f":"Skyggetabeller!D369","v":23717},{"$f":"Skyggetabeller!E369","v":23714},{"$f":"Skyggetabeller!F369","v":23377},{"$f":"Skyggetabeller!G369","v":23399},{"$f":"Skyggetabeller!H369","v":23289},{"$f":"Skyggetabeller!I369","v":24047},{"$f":"Skyggetabeller!J369","v":23855},{"$f":"Skyggetabeller!K369","v":24683},{"$f":"Skyggetabeller!L369","v":24731},{"$f":"Skyggetabeller!M369","v":25218},{"$f":"Skyggetabeller!N369","v":26148},{"$f":"Skyggetabeller!O369","v":26528},{"$f":"Skyggetabeller!P369","v":26834},{"$f":"Skyggetabeller!Q369","v":27394},{"$f":"Skyggetabeller!R369","v":27599}]
[null,{"$f":"Skyggetabeller!B370","v":"Andel"},null,{"$f":"Skyggetabeller!D370","v":0.22970864780537167},{"$f":"Skyggetabeller!E370","v":0.24917770093615585},{"$f":"Skyggetabeller!F370","v":0.23420456003764384},{"$f":"Skyggetabeller!G370","v":0.26466943031753493},{"$f":"Skyggetabeller!H370","v":0.23985572587917042},{"$f":"Skyggetabeller!I370","v":0.28377760219570008},{"$f":"Skyggetabeller!J370","v":0.25210647662963737},{"$f":"Skyggetabeller!K370","v":0.23526313657172954},{"$f":"Skyggetabeller!L370","v":0.24863531600016173},{"$f":"Skyggetabeller!M370","v":0.23126338329764454},{"$f":"Skyggetabeller!N370","v":0.25210341135077252},{"$f":"Skyggetabeller!O370","v":0.24751206272617612},{"$f":"Skyggetabeller!P370","v":0.25680107326526047},{"$f":"Skyggetabeller!Q370","v":0.25859677301598888},{"$f":"Skyggetabeller!R370","v":0.27511866371970001}]
[null,"Anm.: Hvis nøgletallet er angivet med * er der foretaget en diskretionering af data, da der er for få observationer. "]
[null,{"$f":"IF('Dine valg'!$G$24=\"\",\"Ingen sammenligningsgruppe valgt.\",\"Anm.: Valgte kommuner i sammenligningsgruppen: \"&'Dine valg'!$G$24&\" \"&'Dine valg'!$G$25&\" \"&'Dine valg'!$G$26&\" \"&'Dine valg'!$G$27&\" \"&'Dine valg'!$G$28&\" \"&'Dine valg'!$G$29&\" \"&'Dine valg'!$G$30)","v":"Anm.: Valgte kommuner i sammenligningsgruppen: Aarhus      "}]
[null,"Kilde: Socialstyrelsens egne beregninger baseret på registerdata fra Danmarks Statistik."]

{"sheet":"Indtastningsark","index":3,"n_rows":73,"n_cols":18,"rows_kept":73,"cut":false,"hidden":false,"merged":[[6,1,13,2],[83,1,83,2],[84,1,84,2],[85,1,85,2]]}
[]
[]
[null,{"$f":"\"Egne indtastninger for \"&Kommune&\"\"","v":"Egne indtastninger for København"}]
[]
[]
[]
[null,"Nogle af nøgletallene kan ikke baseres på nationale registerdata, men kan baseres på lokale data fra kommuner. Disse nøgletal skal du indtaste data i de blå celler neden for, hvis du gerne vil inkludere dem i din analyse.\n\nBemærk at du for disse nøgletal ikke kan sammenligne med øvrige kommuner, regionen eller hele landet.\n\nDu kan se nøgletallene over tid ved at vælge \"Nøgletalsanalyse\"."]
[]
[]
[]
[]
[]
[]
[]
[]
[]
[]
[null,"Vælg nøgletal"]
[]
[]
[]
[]
[]
[null,{"$f":"Skyggetabeller!B267","v":"Nøgletal 6: Forebyggende indsatser (§ 11, stk. 3-tilbud)"}]
[]
[null,{"$f":"Skyggetabeller!B270","v":"Nøgletal 6: \nModtagere af § 11, stk. 3-tilbud"},null,"2016-01-01","2016-07-01","2017-01-01","2017-07-01","2018-01-01","2018-07-01","2019-01-01","2019-07-01","2020-01-01","2020-07-01","2021-01-01","2021-07-01","2022-01-01","2022-07-01","2023-01-01"]
[null,{"$f":"Skyggetabeller!B271","v":"Antal modtagere"}]
[null,{"$f":"Skyggetabeller!B272","v":"Antal 0-17-årige"},null,{"$f":"IFERROR(INDEX(Data_kom2,MATCH(1,(komnavn2=Kommune)*(komaar2=D$26),0),2),\"Data ikke tilføjet\")","v":"Data ikke tilføjet"},{"$f":"IFERROR(INDEX(Data_kom2,MATCH(1,(komnavn2=Kommune)*(komaar2=E$26),0),2),\"Data ikke tilføjet\")","v":"Data ikke tilføjet"},{"$f":"IFERROR(INDEX(Data_kom2,MATCH(1,(komnavn2=Kommune)*(komaar2=F$26),0),2),\"Data ikke tilføjet\")","v":105885},{"$f":"IFERROR(INDEX(Data_kom2,MATCH(1,(komnavn2=Kommune)*(komaar2=G$26),0),2),\"Data ikke tilføjet\")","v":106913},{"$f":"IFERROR(INDEX(Data_kom2,MATCH(1,(komnavn2=Kommune)*(komaar2=H$26),0),2),\"Data ikke tilføjet\")","v":107770},{"$f":"IFERROR(INDEX(Data_kom2,MATCH(1,(komnavn2=Kommune)*(komaar2=I$26),0),2),\"Data ikke tilføjet\")","v":108734},{"$f":"IFERROR(INDEX(Data_kom2,MATCH(1,(komnavn2=Kommune)*(komaar2=J$26),0),2),\"Data ikke tilføjet\")","v":109335},{"$f":"IFERROR(INDEX(Data_kom2,MATCH(1,(komnavn2=Kommune)*(komaar2=K$26),0),2),\"Data ikke tilføjet\")","v":110138},{"$f":"IFERROR(INDEX(Data_kom2,MATCH(1,(komnavn2=Kommune)*(komaar2=L$26),0),2),\"Data ikke tilføjet\")","v":110822},{"$f":"IFERROR(INDEX(Data_kom2,MATCH(1,(komnavn2=Kommune)*(komaar2=M$26),0),2),\"Data ikke tilføjet\")","v":111068},{"$f":"IFERROR(INDEX(Data_kom2,MATCH(1,(komnavn2=Kommune)*(komaar2=N$26),0),2),\"Data ikke tilføjet\")","v":110927},{"$f":"IFERROR(INDEX(Data_kom2,MATCH(1,(komnavn2=Kommune)*(komaar2=O$26),0),2),\"Data ikke tilføjet\")","v":110614},{"$f":"IFERROR(INDEX(Data_kom2,MATCH(1,(komnavn2=Kommune)*(komaar2=P$26),0),2),\"Data ikke tilføjet\")","v":110513},{"$f":"IFERROR(INDEX(Data_kom2,MATCH(1,(komnavn2=Kommune)*(komaar2=Q$26),0),2),\"Data ikke tilføjet\")","v":110692},{"$f":"IFERROR(INDEX(Data_kom2,MATCH(1,(komnavn2=Kommune)*(komaar2=R$26),0),2),\"Data ikke tilføjet\")","v":110835}]
[null,{"$f":"Skyggetabeller!B273","v":"Andel"},null,{"$f":"IFERROR(IF(D27=\"*\",\"*\",IF(D28=0,\"Nævner er 0\",(D27/D28*1000))),\"Data ikke tilføjet\")","v":"Data ikke tilføjet"},{"$f":"IFERROR(IF(E27=\"*\",\"*\",IF(E28=0,\"Nævner er 0\",(E27/E28*1000))),\"Data ikke tilføjet\")","v":"Data ikke tilføjet"},0,0,0,0,0,0,0,0,{"$f":"IFERROR(IF(N27=\"*\",\"*\",IF(N28=0,\"Nævner er 0\",(N27/N28*1000))),\"Data ikke tilføjet\")","v":0},0,0,0,0]
[]
[null,{"$f":"Skyggetabeller!B277","v":"Nøgletal 6.1: \nModtagere af myndighedsbevilgede § 11, stk. 3-tilbud"},null,"2016-01-01","2016-07-01","2017-01-01","2017-07-01","2018-01-01","2018-07-01","2019-01-01","2019-07-01","2020-01-01","2020-07-01","2021-01-01","2021-07-01","2022-01-01","2022-07-01","2023-01-01"]
[null,{"$f":"Skyggetabeller!B278","v":"Antal modtagere"}]
[null,{"$f":"Skyggetabeller!B279","v":"Antal 0-17-årige"},null,{"$f":"IFERROR(INDEX(Data_kom2,MATCH(1,(komnavn2=Kommune)*(komaar2=D$31),0),2),\"Data ikke tilføjet\")","v":"Data ikke tilføjet"},{"$f":"IFERROR(INDEX(Data_kom2,MATCH(1,(komnavn2=Kommune)*(komaar2=E$31),0),2),\"Data ikke tilføjet\")","v":"Data ikke tilføjet"},{"$f":"IFERROR(INDEX(Data_kom2,MATCH(1,(komnavn2=Kommune)*(komaar2=F$31),0),2),\"Data ikke tilføjet\")","v":105885},{"$f":"IFERROR(INDEX(Data_kom2,MATCH(1,(komnavn2=Kommune)*(komaar2=G$31),0),2),\"Data ikke tilføjet\")","v":106913},{"$f":"IFERROR(INDEX(Data_kom2,MATCH(1,(komnavn2=Kommune)*(komaar2=H$31),0),2),\"Data ikke tilføjet\")","v":107770},{"$f":"IFERROR(INDEX(Data_kom2,MATCH(1,(komnavn2=Kommune)*(komaar2=I$31),0),2),\"Data ikke tilføjet\")","v":108734},{"$f":"IFERROR(INDEX(Data_kom2,MATCH(1,(komnavn2=Kommune)*(komaar2=J$31),0),2),\"Data ikke tilføjet\")","v":109335},{"$f":"IFERROR(INDEX(Data_kom2,MATCH(1,(komnavn2=Kommune)*(komaar2=K$31),0),2),\"Data ikke tilføjet\")","v":110138},{"$f":"IFERROR(INDEX(Data_kom2,MATCH(1,(komnavn2=Kommune)*(komaar2=L$31),0),2),\"Data ikke tilføjet\")","v":110822},{"$f":"IFERROR(INDEX(Data_kom2,MATCH(1,(komnavn2=Kommune)*(komaar2=M$31),0),2),\"Data ikke tilføjet\")","v":111068},{"$f":"IFERROR(INDEX(Data_kom2,MATCH(1,(komnavn2=Kommune)*(komaar2=N$31),0),2),\"Data ikke tilføjet\")","v":110927},{"$f":"IFERROR(INDEX(Data_kom2,MATCH(1,(komnavn2=Kommune)*(komaar2=O$31),0),2),\"Data ikke tilføjet\")","v":110614},{"$f":"IFERROR(INDEX(Data_kom2,MATCH(1,(komnavn2=Kommune)*(komaar2=P$31),0),2),\"Data ikke tilføjet\")","v":110513},{"$f":"IFERROR(INDEX(Data_kom2,MATCH(1,(komnavn2=Kommune)*(komaar2=Q$31),0),2),\"Data ikke tilføjet\")","v":110692},{"$f":"IFERROR(INDEX(Data_kom2,MATCH(1,(komnavn2=Kommune)*(komaar2=R$31),0),2),\"Data ikke tilføjet\")","v":110835}]
[null,{"$f":"Skyggetabeller!B280","v":"Andel"},null,{"$f":"IFERROR(IF(D32=\"*\",\"*\",IF(D33=0,\"Nævner er 0\",(D32/D33*1000))),\"Data ikke tilføjet\")","v":"Data ikke tilføjet"},{"$f":"IFERROR(IF(E32=\"*\",\"*\",IF(E33=0,\"Nævner er 0\",(E32/E33*1000))),\"Data ikke tilføjet\")","v":"Data ikke tilføjet"},{"$f":"IFERROR(IF(F32=\"*\",\"*\",IF(F33=0,\"Nævner er 0\",(F32/F33*1000))),\"Data ikke tilføjet\")","v":0},{"$f":"IFERROR(IF(G32=\"*\",\"*\",IF(G33=0,\"Nævner er 0\",(G32/G33*1000))),\"Data ikke tilføjet\")","v":0},{"$f":"IFERROR(IF(H32=\"*\",\"*\",IF(H33=0,\"Nævner er 0\",(H32/H33*1000))),\"Data ikke tilføjet\")","v":0},{"$f":"IFERROR(IF(I32=\"*\",\"*\",IF(I33=0,\"Nævner er 0\",(I32/I33*1000))),\"Data ikke tilføjet\")","v":0},{"$f":"IFERROR(IF(J32=\"*\",\"*\",IF(J33=0,\"Nævner er 0\",(J32/J33*1000))),\"Data ikke tilføjet\")","v":0},{"$f":"IFERROR(IF(K32=\"*\",\"*\",IF(K33=0,\"Nævner er 0\",(K32/K33*1000))),\"Data ikke tilføjet\")","v":0},{"$f":"IFERROR(IF(L32=\"*\",\"*\",IF(L33=0,\"Nævner er 0\",(L32/L33*1000))),\"Data ikke tilføjet\")","v":0},{"$f":"IFERROR(IF(M32=\"*\",\"*\",IF(M33=0,\"Nævner er 0\",(M32/M33*1000))),\"Data ikke tilføjet\")","v":0},0,0,0,0,0]
[]
[null,{"$f":"Skyggetabeller!B283","v":"Nøgletal 6.2: \nModtagere af øvrige § 11, stk. 3-tilbud"},null,"2016-01-01","2016-07-01","2017-01-01","2017-07-01","2018-01-01","2018-07-01","2019-01-01","2019-07-01","2020-01-01","2020-07-01","2021-01-01","2021-07-01","2022-01-01","2022-07-01","2023-01-01"]
[null,{"$f":"Skyggetabeller!B284","v":"Antal modtagere"}]
[null,{"$f":"Skyggetabeller!B285","v":"Antal 0-17-årige"},null,{"$f":"IFERROR(INDEX(Data_kom2,MATCH(1,(komnavn2=Kommune)*(komaar2=D$36),0),2),\"Data ikke tilføjet\")","v":"Data ikke tilføjet"},{"$f":"IFERROR(INDEX(Data_kom2,MATCH(1,(komnavn2=Kommune)*(komaar2=E$36),0),2),\"Data ikke tilføjet\")","v":"Data ikke tilføjet"},{"$f":"IFERROR(INDEX(Data_kom2,MATCH(1,(komnavn2=Kommune)*(komaar2=F$36),0),2),\"Data ikke tilføjet\")","v":105885},{"$f":"IFERROR(INDEX(Data_kom2,MATCH(1,(komnavn2=Kommune)*(komaar2=G$36),0),2),\"Data ikke tilføjet\")","v":106913},{"$f":"IFERROR(INDEX(Data_kom2,MATCH(1,(komnavn2=Kommune)*(komaar2=H$36),0),2),\"Data ikke tilføjet\")","v":107770},{"$f":"IFERROR(INDEX(Data_kom2,MATCH(1,(komnavn2=Kommune)*(komaar2=I$36),0),2),\"Data ikke tilføjet\")","v":108734},{"$f":"IFERROR(INDEX(Data_kom2,MATCH(1,(komnavn2=Kommune)*(komaar2=J$36),0),2),\"Data ikke tilføjet\")","v":109335},{"$f":"IFERROR(INDEX(Data_kom2,MATCH(1,(komnavn2=Kommune)*(komaar2=K$36),0),2),\"Data ikke tilføjet\")","v":110138},{"$f":"IFERROR(INDEX(Data_kom2,MATCH(1,(komnavn2=Kommune)*(komaar2=L$36),0),2),\"Data ikke tilføjet\")","v":110822},{"$f":"IFERROR(INDEX(Data_kom2,MATCH(1,(komnavn2=Kommune)*(komaar2=M$36),0),2),\"Data ikke tilføjet\")","v":111068},{"$f":"IFERROR(INDEX(Data_kom2,MATCH(1,(komnavn2=Kommune)*(komaar2=N$36),0),2),\"Data ikke tilføjet\")","v":110927},{"$f":"IFERROR(INDEX(Data_kom2,MATCH(1,(komnavn2=Kommune)*(komaar2=O$36),0),2),\"Data ikke tilføjet\")","v":110614},{"$f":"IFERROR(INDEX(Data_kom2,MATCH(1,(komnavn2=Kommune)*(komaar2=P$36),0),2),\"Data ikke tilføjet\")","v":110513},{"$f":"IFERROR(INDEX(Data_kom2,MATCH(1,(komnavn2=Kommune)*(komaar2=Q$36),0),2),\"Data ikke tilføjet\")","v":110692},{"$f":"IFERROR(INDEX(Data_kom2,MATCH(1,(komnavn2=Kommune)*(komaar2=R$36),0),2),\"Data ikke tilføjet\")","v":110835}]
[null,{"$f":"Skyggetabeller!B286","v":"Andel"},null,{"$f":"IFERROR(IF(D37=\"*\",\"*\",IF(D38=0,\"Nævner er 0\",(D37/D38*1000))),\"Data ikke tilføjet\")","v":"Data ikke tilføjet"},{"$f":"IFERROR(IF(E37=\"*\",\"*\",IF(E38=0,\"Nævner er 0\",(E37/E38*1000))),\"Data ikke tilføjet\")","v":"Data ikke tilføjet"},{"$f":"IFERROR(IF(F37=\"*\",\"*\",IF(F38=0,\"Nævner er 0\",(F37/F38*1000))),\"Data ikke tilføjet\")","v":0},{"$f":"IFERROR(IF(G37=\"*\",\"*\",IF(G38=0,\"Nævner er 0\",(G37/G38*1000))),\"Data ikke tilføjet\")","v":0},{"$f":"IFERROR(IF(H37=\"*\",\"*\",IF(H38=0,\"Nævner er 0\",(H37/H38*1000))),\"Data ikke tilføjet\")","v":0},{"$f":"IFERROR(IF(I37=\"*\",\"*\",IF(I38=0,\"Nævner er 0\",(I37/I38*1000))),\"Data ikke tilføjet\")","v":0},{"$f":"IFERROR(IF(J37=\"*\",\"*\",IF(J38=0,\"Nævner er 0\",(J37/J38*1000))),\"Data ikke tilføjet\")","v":0},{"$f":"IFERROR(IF(K37=\"*\",\"*\",IF(K38=0,\"Nævner er 0\",(K37/K38*1000))),\"Data ikke tilføjet\")","v":0},{"$f":"IFERROR(IF(L37=\"*\",\"*\",IF(L38=0,\"Nævner er 0\",(L37/L38*1000))),\"Data ikke tilføjet\")","v":0},{"$f":"IFERROR(IF(M37=\"*\",\"*\",IF(M38=0,\"Nævner er 0\",(M37/M38*1000))),\"Data ikke tilføjet\")","v":0},0,0,0,0,0]
[]
[null,{"$f":"Skyggetabeller!B373","v":"Nøgletal 10: Fra forebyggende indsatser og op ad trappen"}]
[]
[null,{"$f":"Skyggetabeller!B376","v":"Nøgletal 10: Tidligere modtagere af forebyggende indsatser, som nu er rykket ned ad trappen"},null,"2016-01-01","2016-07-01","2017-01-01","2017-07-01","2018-01-01","2018-07-01","2019-01-01","2019-07-01","2020-01-01","2020-07-01","2021-01-01","2021-07-01","2022-01-01","2022-07-01","2023-01-01"]
[null,{"$f":"Skyggetabeller!B377","v":"Antal, der har bevæget sig"}]
[null,{"$f":"Skyggetabeller!B378","v":"Antal tidligere modtagere"}]
[null,{"$f":"Skyggetabeller!B379","v":"Andel"},null,{"$f":"IFERROR(IF(D44=\"*\",\"*\",IF(D45=0,\"Nævner er 0\",(D44/D45))),\"Data ikke tilføjet\")","v":"Nævner er 0"},{"$f":"IFERROR(IF(E44=\"*\",\"*\",IF(E45=0,\"Nævner er 0\",(E44/E45))),\"Data ikke tilføjet\")","v":"Nævner er 0"},{"$f":"IFERROR(IF(F44=\"*\",\"*\",IF(F45=0,\"Nævner er 0\",(F44/F45))),\"Data ikke tilføjet\")","v":"Nævner er 0"},{"$f":"IFERROR(IF(G44=\"*\",\"*\",IF(G45=0,\"Nævner er 0\",(G44/G45))),\"Data ikke tilføjet\")","v":"Nævner er 0"},{"$f":"IFERROR(IF(H44=\"*\",\"*\",IF(H45=0,\"Nævner er 0\",(H44/H45))),\"Data ikke tilføjet\")","v":"Nævner er 0"},{"$f":"IFERROR(IF(I44=\"*\",\"*\",IF(I45=0,\"Nævner er 0\",(I44/I45))),\"Data ikke tilføjet\")","v":"Nævner er 0"},{"$f":"IFERROR(IF(J44=\"*\",\"*\",IF(J45=0,\"Nævner er 0\",(J44/J45))),\"Data ikke tilføjet\")","v":"Nævner er 0"},{"$f":"IFERROR(IF(K44=\"*\",\"*\",IF(K45=0,\"Nævner er 0\",(K44/K45))),\"Data ikke tilføjet\")","v":"Nævner er 0"},{"$f":"IFERROR(IF(L44=\"*\",\"*\",IF(L45=0,\"Nævner er 0\",(L44/L45))),\"Data ikke tilføjet\")","v":"Nævner er 0"},{"$f":"IFERROR(IF(M44=\"*\",\"*\",IF(M45=0,\"Nævner er 0\",(M44/M45))),\"Data ikke tilføjet\")","v":"Nævner er 0"},{"$f":"IFERROR(IF(N44=\"*\",\"*\",IF(N45=0,\"Nævner er 0\",(N44/N45))),\"Data ikke tilføjet\")","v":"Nævner er 0"},{"$f":"IFERROR(IF(O44=\"*\",\"*\",IF(O45=0,\"Nævner er 0\",(O44/O45))),\"Data ikke tilføjet\")","v":"Nævner er 0"},{"$f":"IFERROR(IF(P44=\"*\",\"*\",IF(P45=0,\"Nævner er 0\",(P44/P45))),\"Data ikke tilføjet\")","v":"Nævner er 0"},{"$f":"IFERROR(IF(Q44=\"*\",\"*\",IF(Q45=0,\"Nævner er 0\",(Q44/Q45))),\"Data ikke tilføjet\")","v":"Nævner er 0"},{"$f":"IFERROR(IF(R44=\"*\",\"*\",IF(R45=0,\"Nævner er 0\",(R44/R45))),\"Data ikke tilføjet\")","v":"Nævner er 0"}]
[]
[null,{"$f":"Skyggetabeller!B383","v":"Nøgletal 10.1: Tidligere modtagere af myndighedsbevilget § 11, stk. 3-indsats, som nu er rykket ned ad trappen"},null,"2016-01-01","2016-07-01","2017-01-01","2017-07-01","2018-01-01","2018-07-01","2019-01-01","2019-07-01","2020-01-01","2020-07-01","2021-01-01","2021-07-01","2022-01-01","2022-07-01","2023-01-01"]
[null,{"$f":"Skyggetabeller!B384","v":"Antal, der har bevæget sig"}]
[null,{"$f":"Skyggetabeller!B385","v":"Antal tidligere modtagere"}]
[null,{"$f":"Skyggetabeller!B386","v":"Andel"},null,{"$f":"IFERROR(IF(D49=\"*\",\"*\",IF(D50=0,\"Nævner er 0\",(D49/D50))),\"Data ikke tilføjet\")","v":"Nævner er 0"},{"$f":"IFERROR(IF(E49=\"*\",\"*\",IF(E50=0,\"Nævner er 0\",(E49/E50))),\"Data ikke tilføjet\")","v":"Nævner er 0"},{"$f":"IFERROR(IF(F49=\"*\",\"*\",IF(F50=0,\"Nævner er 0\",(F49/F50))),\"Data ikke tilføjet\")","v":"Nævner er 0"},{"$f":"IFERROR(IF(G49=\"*\",\"*\",IF(G50=0,\"Nævner er 0\",(G49/G50))),\"Data ikke tilføjet\")","v":"Nævner er 0"},{"$f":"IFERROR(IF(H49=\"*\",\"*\",IF(H50=0,\"Nævner er 0\",(H49/H50))),\"Data ikke tilføjet\")","v":"Nævner er 0"},{"$f":"IFERROR(IF(I49=\"*\",\"*\",IF(I50=0,\"Nævner er 0\",(I49/I50))),\"Data ikke tilføjet\")","v":"Nævner er 0"},{"$f":"IFERROR(IF(J49=\"*\",\"*\",IF(J50=0,\"Nævner er 0\",(J49/J50))),\"Data ikke tilføjet\")","v":"Nævner er 0"},{"$f":"IFERROR(IF(K49=\"*\",\"*\",IF(K50=0,\"Nævner er 0\",(K49/K50))),\"Data ikke tilføjet\")","v":"Nævner er 0"},{"$f":"IFERROR(IF(L49=\"*\",\"*\",IF(L50=0,\"Nævner er 0\",(L49/L50))),\"Data ikke tilføjet\")","v":"Nævner er 0"},{"$f":"IFERROR(IF(M49=\"*\",\"*\",IF(M50=0,\"Nævner er 0\",(M49/M50))),\"Data ikke tilføjet\")","v":"Nævner er 0"},{"$f":"IFERROR(IF(N49=\"*\",\"*\",IF(N50=0,\"Nævner er 0\",(N49/N50))),\"Data ikke tilføjet\")","v":"Nævner er 0"},{"$f":"IFERROR(IF(O49=\"*\",\"*\",IF(O50=0,\"Nævner er 0\",(O49/O50))),\"Data ikke tilføjet\")","v":"Nævner er 0"},{"$f":"IFERROR(IF(P49=\"*\",\"*\",IF(P50=0,\"Nævner er 0\",(P49/P50))),\"Data ikke tilføjet\")","v":"Nævner er 0"},{"$f":"IFERROR(IF(Q49=\"*\",\"*\",IF(Q50=0,\"Nævner er 0\",(Q49/Q50))),\"Data ikke tilføjet\")","v":"Nævner er 0"},{"$f":"IFERROR(IF(R49=\"*\",\"*\",IF(R50=0,\"Nævner er 0\",(R49/R50))),\"Data ikke tilføjet\")","v":"Nævner er 0"}]
[]
[null,{"$f":"Skyggetabeller!B390","v":"Nøgletal 10.2: Tidligere modtagere af ikke-myndighedsbevilget § 11, stk. 3-indsats, som nu er rykket ned ad trappen"},null,"2016-01-01","2016-07-01","2017-01-01","2017-07-01","2018-01-01","2018-07-01","2019-01-01","2019-07-01","2020-01-01","2020-07-01","2021-01-01","2021-07-01","2022-01-01","2022-07-01","2023-01-01"]
[null,{"$f":"Skyggetabeller!B391","v":"Antal, der har bevæget sig"}]
[null,{"$f":"Skyggetabeller!B392","v":"Antal tidligere modtagere"}]
[null,{"$f":"Skyggetabeller!B393","v":"Andel"},null,{"$f":"IFERROR(IF(D54=\"*\",\"*\",IF(D55=0,\"Nævner er 0\",(D54/D55))),\"Data ikke tilføjet\")","v":"Nævner er 0"},{"$f":"IFERROR(IF(E54=\"*\",\"*\",IF(E55=0,\"Nævner er 0\",(E54/E55))),\"Data ikke tilføjet\")","v":"Nævner er 0"},{"$f":"IFERROR(IF(F54=\"*\",\"*\",IF(F55=0,\"Nævner er 0\",(F54/F55))),\"Data ikke tilføjet\")","v":"Nævner er 0"},{"$f":"IFERROR(IF(G54=\"*\",\"*\",IF(G55=0,\"Nævner er 0\",(G54/G55))),\"Data ikke tilføjet\")","v":"Nævner er 0"},{"$f":"IFERROR(IF(H54=\"*\",\"*\",IF(H55=0,\"Nævner er 0\",(H54/H55))),\"Data ikke tilføjet\")","v":"Nævner er 0"},{"$f":"IFERROR(IF(I54=\"*\",\"*\",IF(I55=0,\"Nævner er 0\",(I54/I55))),\"Data ikke tilføjet\")","v":"Nævner er 0"},{"$f":"IFERROR(IF(J54=\"*\",\"*\",IF(J55=0,\"Nævner er 0\",(J54/J55))),\"Data ikke tilføjet\")","v":"Nævner er 0"},{"$f":"IFERROR(IF(K54=\"*\",\"*\",IF(K55=0,\"Nævner er 0\",(K54/K55))),\"Data ikke tilføjet\")","v":"Nævner er 0"},{"$f":"IFERROR(IF(L54=\"*\",\"*\",IF(L55=0,\"Nævner er 0\",(L54/L55))),\"Data ikke tilføjet\")","v":"Nævner er 0"},{"$f":"IFERROR(IF(M54=\"*\",\"*\",IF(M55=0,\"Nævner er 0\",(M54/M55))),\"Data ikke tilføjet\")","v":"Nævner er 0"},{"$f":"IFERROR(IF(N54=\"*\",\"*\",IF(N55=0,\"Nævner er 0\",(N54/N55))),\"Data ikke tilføjet\")","v":"Nævner er 0"},{"$f":"IFERROR(IF(O54=\"*\",\"*\",IF(O55=0,\"Nævner er 0\",(O54/O55))),\"Data ikke tilføjet\")","v":"Nævner er 0"},{"$f":"IFERROR(IF(P54=\"*\",\"*\",IF(P55=0,\"Nævner er 0\",(P54/P55))),\"Data ikke tilføjet\")","v":"Nævner er 0"},{"$f":"IFERROR(IF(Q54=\"*\",\"*\",IF(Q55=0,\"Nævner er 0\",(Q54/Q55))),\"Data ikke tilføjet\")","v":"Nævner er 0"},{"$f":"IFERROR(IF(R54=\"*\",\"*\",IF(R55=0,\"Nævner er 0\",(R54/R55))),\"Data ikke tilføjet\")","v":"Nævner er 0"}]
[]
[null,{"$f":"Skyggetabeller!B396","v":"Nøgletal 11: Frekvens af opfølgninger"}]
[]
[null,{"$f":"Skyggetabeller!B399","v":"Nøgletal 11.1: \nFrekvens i opfølgninger for institutionsanbringelser"},null,"2016-01-01","2016-07-01","2017-01-01","2017-07-01","2018-01-01","2018-07-01","2019-01-01","2019-07-01","2020-01-01","2020-07-01","2021-01-01","2021-07-01","2022-01-01","2022-07-01","2023-01-01"]
[null,{"$f":"Skyggetabeller!B400","v":"Antal dage"}]
[null,{"$f":"Skyggetabeller!B401","v":"Antal opfølgninger"}]
[null,{"$f":"Skyggetabeller!B402","v":"Varighed"},null,{"$f":"IFERROR(IF(D61=\"*\",\"*\",IF(D62=0,\"Nævner er 0\",(D61/D62))),\"Data ikke tilføjet\")","v":"Nævner er 0"},{"$f":"IFERROR(IF(E61=\"*\",\"*\",IF(E62=0,\"Nævner er 0\",(E61/E62))),\"Data ikke tilføjet\")","v":"Nævner er 0"},{"$f":"IFERROR(IF(F61=\"*\",\"*\",IF(F62=0,\"Nævner er 0\",(F61/F62))),\"Data ikke tilføjet\")","v":"Nævner er 0"},{"$f":"IFERROR(IF(G61=\"*\",\"*\",IF(G62=0,\"Nævner er 0\",(G61/G62))),\"Data ikke tilføjet\")","v":"Nævner er 0"},{"$f":"IFERROR(IF(H61=\"*\",\"*\",IF(H62=0,\"Nævner er 0\",(H61/H62))),\"Data ikke tilføjet\")","v":"Nævner er 0"},{"$f":"IFERROR(IF(I61=\"*\",\"*\",IF(I62=0,\"Nævner er 0\",(I61/I62))),\"Data ikke tilføjet\")","v":"Nævner er 0"},{"$f":"IFERROR(IF(J61=\"*\",\"*\",IF(J62=0,\"Nævner er 0\",(J61/J62))),\"Data ikke tilføjet\")","v":"Nævner er 0"},{"$f":"IFERROR(IF(K61=\"*\",\"*\",IF(K62=0,\"Nævner er 0\",(K61/K62))),\"Data ikke tilføjet\")","v":"Nævner er 0"},{"$f":"IFERROR(IF(L61=\"*\",\"*\",IF(L62=0,\"Nævner er 0\",(L61/L62))),\"Data ikke tilføjet\")","v":"Nævner er 0"},{"$f":"IFERROR(IF(M61=\"*\",\"*\",IF(M62=0,\"Nævner er 0\",(M61/M62))),\"Data ikke tilføjet\")","v":"Nævner er 0"},{"$f":"IFERROR(IF(N61=\"*\",\"*\",IF(N62=0,\"Nævner er 0\",(N61/N62))),\"Data ikke tilføjet\")","v":"Nævner er 0"},{"$f":"IFERROR(IF(O61=\"*\",\"*\",IF(O62=0,\"Nævner er 0\",(O61/O62))),\"Data ikke tilføjet\")","v":"Nævner er 0"},{"$f":"IFERROR(IF(P61=\"*\",\"*\",IF(P62=0,\"Nævner er 0\",(P61/P62))),\"Data ikke tilføjet\")","v":"Nævner er 0"},{"$f":"IFERROR(IF(Q61=\"*\",\"*\",IF(Q62=0,\"Nævner er 0\",(Q61/Q62))),\"Data ikke tilføjet\")","v":"Nævner er 0"},{"$f":"IFERROR(IF(R61=\"*\",\"*\",IF(R62=0,\"Nævner er 0\",(R61/R62))),\"Data ikke tilføjet\")","v":"Nævner er 0"}]
[]
[null,{"$f":"Skyggetabeller!B404","v":"Nøgletal 11.2: \nFrekvens i opfølgninger for plejefamilier"},null,"2016-01-01","2016-07-01","2017-01-01","2017-07-01","2018-01-01","2018-07-01","2019-01-01","2019-07-01","2020-01-01","2020-07-01","2021-01-01","2021-07-01","2022-01-01","2022-07-01","2023-01-01"]
[null,{"$f":"Skyggetabeller!B405","v":"Antal dage"}]
[null,{"$f":"Skyggetabeller!B406","v":"Antal opfølgninger"}]
[null,{"$f":"Skyggetabeller!B407","v":"Varighed"},null,{"$f":"IFERROR(IF(D66=\"*\",\"*\",IF(D67=0,\"Nævner er 0\",(D66/D67))),\"Data ikke tilføjet\")","v":"Nævner er 0"},{"$f":"IFERROR(IF(E66=\"*\",\"*\",IF(E67=0,\"Nævner er 0\",(E66/E67))),\"Data ikke tilføjet\")","v":"Nævner er 0"},{"$f":"IFERROR(IF(F66=\"*\",\"*\",IF(F67=0,\"Nævner er 0\",(F66/F67))),\"Data ikke tilføjet\")","v":"Nævner er 0"},{"$f":"IFERROR(IF(G66=\"*\",\"*\",IF(G67=0,\"Nævner er 0\",(G66/G67))),\"Data ikke tilføjet\")","v":"Nævner er 0"},{"$f":"IFERROR(IF(H66=\"*\",\"*\",IF(H67=0,\"Nævner er 0\",(H66/H67))),\"Data ikke tilføjet\")","v":"Nævner er 0"},{"$f":"IFERROR(IF(I66=\"*\",\"*\",IF(I67=0,\"Nævner er 0\",(I66/I67))),\"Data ikke tilføjet\")","v":"Nævner er 0"},{"$f":"IFERROR(IF(J66=\"*\",\"*\",IF(J67=0,\"Nævner er 0\",(J66/J67))),\"Data ikke tilføjet\")","v":"Nævner er 0"},{"$f":"IFERROR(IF(K66=\"*\",\"*\",IF(K67=0,\"Nævner er 0\",(K66/K67))),\"Data ikke tilføjet\")","v":"Nævner er 0"},{"$f":"IFERROR(IF(L66=\"*\",\"*\",IF(L67=0,\"Nævner er 0\",(L66/L67))),\"Data ikke tilføjet\")","v":"Nævner er 0"},{"$f":"IFERROR(IF(M66=\"*\",\"*\",IF(M67=0,\"Nævner er 0\",(M66/M67))),\"Data ikke tilføjet\")","v":"Nævner er 0"},{"$f":"IFERROR(IF(N66=\"*\",\"*\",IF(N67=0,\"Nævner er 0\",(N66/N67))),\"Data ikke tilføjet\")","v":"Nævner er 0"},{"$f":"IFERROR(IF(O66=\"*\",\"*\",IF(O67=0,\"Nævner er 0\",(O66/O67))),\"Data ikke tilføjet\")","v":"Nævner er 0"},{"$f":"IFERROR(IF(P66=\"*\",\"*\",IF(P67=0,\"Nævner er 0\",(P66/P67))),\"Data ikke tilføjet\")","v":"Nævner er 0"},{"$f":"IFERROR(IF(Q66=\"*\",\"*\",IF(Q67=0,\"Nævner er 0\",(Q66/Q67))),\"Data ikke tilføjet\")","v":"Nævner er 0"},{"$f":"IFERROR(IF(R66=\"*\",\"*\",IF(R67=0,\"Nævner er 0\",(R66/R67))),\"Data ikke tilføjet\")","v":"Nævner er 0"}]
[]
[null,{"$f":"Skyggetabeller!B409","v":"Nøgletal 11.3: \nFrekvens i opfølgninger for hjemmebaserede foranstaltninger"},null,"2016-01-01","2016-07-01","2017-01-01","2017-07-01","2018-01-01","2018-07-01","2019-01-01","2019-07-01","2020-01-01","2020-07-01","2021-01-01","2021-07-01","2022-01-01","2022-07-01","2023-01-01"]
[null,{"$f":"Skyggetabeller!B410","v":"Antal dage"}]
[null,{"$f":"Skyggetabeller!B411","v":"Antal opfølgninger"}]
[null,{"$f":"Skyggetabeller!B412","v":"Varighed"},null,{"$f":"IFERROR(IF(D71=\"*\",\"*\",IF(D72=0,\"Nævner er 0\",(D71/D72))),\"Data ikke tilføjet\")","v":"Nævner er 0"},{"$f":"IFERROR(IF(E71=\"*\",\"*\",IF(E72=0,\"Nævner er 0\",(E71/E72))),\"Data ikke tilføjet\")","v":"Nævner er 0"},{"$f":"IFERROR(IF(F71=\"*\",\"*\",IF(F72=0,\"Nævner er 0\",(F71/F72))),\"Data ikke tilføjet\")","v":"Nævner er 0"},{"$f":"IFERROR(IF(G71=\"*\",\"*\",IF(G72=0,\"Nævner er 0\",(G71/G72))),\"Data ikke tilføjet\")","v":"Nævner er 0"},{"$f":"IFERROR(IF(H71=\"*\",\"*\",IF(H72=0,\"Nævner er 0\",(H71/H72))),\"Data ikke tilføjet\")","v":"Nævner er 0"},{"$f":"IFERROR(IF(I71=\"*\",\"*\",IF(I72=0,\"Nævner er 0\",(I71/I72))),\"Data ikke tilføjet\")","v":"Nævner er 0"},{"$f":"IFERROR(IF(J71=\"*\",\"*\",IF(J72=0,\"Nævner er 0\",(J71/J72))),\"Data ikke tilføjet\")","v":"Nævner er 0"},{"$f":"IFERROR(IF(K71=\"*\",\"*\",IF(K72=0,\"Nævner er 0\",(K71/K72))),\"Data ikke tilføjet\")","v":"Nævner er 0"},{"$f":"IFERROR(IF(L71=\"*\",\"*\",IF(L72=0,\"Nævner er 0\",(L71/L72))),\"Data ikke tilføjet\")","v":"Nævner er 0"},{"$f":"IFERROR(IF(M71=\"*\",\"*\",IF(M72=0,\"Nævner er 0\",(M71/M72))),\"Data ikke tilføjet\")","v":"Nævner er 0"},{"$f":"IFERROR(IF(N71=\"*\",\"*\",IF(N72=0,\"Nævner er 0\",(N71/N72))),\"Data ikke tilføjet\")","v":"Nævner er 0"},{"$f":"IFERROR(IF(O71=\"*\",\"*\",IF(O72=0,\"Nævner er 0\",(O71/O72))),\"Data ikke tilføjet\")","v":"Nævner er 0"},{"$f":"IFERROR(IF(P71=\"*\",\"*\",IF(P72=0,\"Nævner er 0\",(P71/P72))),\"Data ikke tilføjet\")","v":"Nævner er 0"},{"$f":"IFERROR(IF(Q71=\"*\",\"*\",IF(Q72=0,\"Nævner er 0\",(Q71/Q72))),\"Data ikke tilføjet\")","v":"Nævner er 0"},{"$f":"IFERROR(IF(R71=\"*\",\"*\",IF(R72=0,\"Nævner er 0\",(R71/R72))),\"Data ikke tilføjet\")","v":"Nævner er 0"}]

{"sheet":"Nøgletalsanalyse","index":4,"n_rows":971,"n_cols":26,"rows_kept":971,"cut":false,"hidden":false,"merged":[[7,1,7,10],[557,1,557,4],[592,1,592,4],[657,1,657,4],[558,12,559,17],[748,12,749,17],[589,1,589,4],[589,6,589,10],[126,1,126,4],[126,6,126,10],[148,1,148,4],[148,6,148,10],[147,1,147,4],[147,6,147,10],[62,1,62,4],[62,6,62,10],[126,12,126,16],[147,12,147,15],[148,12,148,15],[601,1,601,4],[602,1,602,4],[638,1,639,10],[638,12,639,17],[682,1,683,5],[682,7,683,12],[810,1,810,4],[658,1,658,4],[748,1,749,10],[793,1,794,10],[1512,1,1512,4],[1530,1,1530,4],[1531,1,1531,4],[1510,1,1510,4],[1179,1,1179,4],[1481,7,1481,11],[1160,1,1160,4],[1141,1,1141,4],[926,12,927,17],[926,1,927,10],[881,1,882,4],[881,6,882,10],[842,1,843,10],[842,12,843,17],[793,12,794,17],[695,1,695,4],[1611,1,1611,4],[235,6,235,10],[235,12,235,16],[442,7,442,12],[442,1,442,5],[468,1,468,4],[1577,1,1577,4],[1578,1,1578,4],[1429,14,1429,15],[1430,14,1430,15],[1431,14,1431,15],[1483,7,1483,10],[1484,7,1484,10],[1579,1,1579,4],[1161,1,1161,4],[1231,1,1231,4],[1558,1,1558,4],[1532,1,1532,4],[1398,7,1398,8],[1399,7,1399,8],[1249,1,1249,4],[1091,1,1091,4],[1400,7,1400,8],[1484,1,1484,4],[2089,6,2089,8],[407,1,407,4],[408,1,408,4],[467,1,467,4],[315,1,315,4],[637,1,637,4],[694,1,694,4],[492,1,492,4],[1483,1,1483,4],[1251,1,1251,4],[1271,1,1271,4],[1180,1,1180,4],[1230,1,1230,4],[1787,1,1787,3],[405,1,405,7],[1269,1,1269,4],[1250,1,1250,4],[1092,1,1092,4],[822,1,822,4],[1612,1,1612,4],[1610,1,1610,6],[1270,1,1270,4],[1511,1,1511,4],[1481,1,1481,5],[485,1,485,7],[11,1,11,3],[463,7,463,12],[463,1,463,5],[190,12,191,17],[309,12,310,17],[355,12,356,17],[400,12,401,17],[75,1,75,4],[76,1,76,4],[243,1,243,4],[244,1,244,4],[363,1,363,4],[337,1,337,4],[220,1,220,9],[242,1,242,9],[18,12,19,17],[235,1,235,4]]}
[]
[]
[]
[null,"Nøgletalsanalyse",null,null,null,null,null,null,null,null,null,null,null,null,null,null,null,null,null,null,20181]
[]
[]
[]
[null,"På denne side kan du se nøgletallene for din valgte kommune over tid og sammenligne med din valgte gruppe af sammenligningskommuner og hele landet. Du kan vælge det nøgletal, du ønsker at se i rullemenuen nedenfor. Du kan også vælge at se alle nøgletal på én gang.\n\nSom udgangspunkt er nøgletallene illustreret som figurer, men du kan folde den tilhørende tabel ud under figuren, hvis du ønsker at se de data, der afbilledes i figuren. Du folder tabellerne ud ved at benytte de røde pile til venstre for tabeloverskriften. \n\nNøgletal 6, 10 og 11 er baseret på kommunes egne indtastninger. Så her er graferne tomme, medminde du har indtastet data under \"Egne indtastninger\".\n\nVed alle nøgletallenes grafik er der infoknapper indeholdende nøgletallets definition, datakilde og opdateringsfrekvens.\n\nTil højre for nøgletallenes første figur er en tekstboks med forudfyldt tekst. Ønsker du at lave en rapport med nøgletallene, kan du bruge tekstboksen til at skrive tekst til figuren. Den forudfyldte tekst kan anvendes eller slettes efter behov. Teksten i tekstboksen printes sammen med figuren i rapporten, hvis du vælger nøgletallet under \"Print rapport\" i den røde bjælke."]
[]
[]
[]
[null,"Vælg nøgletal"]
[null,{"$f":"VLOOKUP(NT_valg,Data!F1674:F1685,2,FALSE)","v":{"$error":"#REF!"}}]
[]
[]
[]
[null,{"$f":"Skyggetabeller!B6","v":"Nøgletal 1: Institutionsanbringelser"}]
[]
[null,"Figur 1: Institutionsanbringelser",null,null,null,null,null,null,null,null,null,null,"Benyt, slet eller erstat gerne følgende tekst til beskrivelse af udviklingen over tid for det pågældende nøgletal. Beskrivelsen vil blive indsat i rapporten (skriv maks 20 linjer):"]
[]
[]
[]
[]
[null,null,null,null,null,null,null,null,null,null,null,null,null,null,null,null,null,null,null,null,null,null,null,null,null,{"$f":"Q2110","v":0}]
[]
[]
[]
[]
[]
[]
[]
[]
[]
[]
[]
[]
[]
[]
[]
[]
[]
[]
[null,{"$f":"Registerdata!$B$30","v":"Anm.: Hvis nøgletallet er angivet med * er der foretaget en diskretionering af data, da der er for få observationer. "}]
[null,{"$f":"IF('Dine valg'!$G$24=\"\",\"Ingen sammenligningsgruppe valgt.\",\"Anm.: Valgte kommuner i sammenligningsgruppen: \"&'Dine valg'!$G$24&\" \"&'Dine valg'!$G$25&\" \"&'Dine valg'!$G$26&\" \"&'Dine valg'!$G$27&\" \"&'Dine valg'!$G$28&\" \"&'Dine valg'!$G$29&\" \"&'Dine valg'!$G$30)","v":"Anm.: Valgte kommuner i sammenligningsgruppen: Aarhus      "}]
[null,{"$f":"Registerdata!$B$32","v":"Kilde: Socialstyrelsens egne beregninger baseret på registerdata fra Danmarks Statistik."}]
[]
[null,{"$f":"Årstal","v":"Tabel 1: Institutionsanbringelser"}]
[]
[null,{"$f":"Skyggetabeller!B9","v":"Nøgletal 1: \nInstitutionsanbringelser"},null,"2017-01-01","2017-07-01","2018-01-01","2018-07-01","2019-01-01","2019-07-01","2020-01-01","2020-07-01","2021-01-01","2021-07-01","2022-01-01","2022-07-01","2023-01-01","2023-07-01","2024-01-01"]
[null,{"$f":"Skyggetabeller!B10","v":"København"}]
[null,{"$f":"Skyggetabeller!B13","v":"Andel"},null,{"$f":"Skyggetabeller!D13","v":2.1249468763280914},{"$f":"Skyggetabeller!E13","v":2.1232216849213845},{"$f":"Skyggetabeller!F13","v":1.9949893291268441},{"$f":"Skyggetabeller!G13","v":2.0140894292493612},{"$f":"Skyggetabeller!H13","v":1.8841176201582293},{"$f":"Skyggetabeller!I13","v":1.7705060923568614},{"$f":"Skyggetabeller!J13","v":1.4618036130010286},{"$f":"Skyggetabeller!K13","v":1.6476392840422083},{"$f":"Skyggetabeller!L13","v":1.8300323636265292},{"$f":"Skyggetabeller!M13","v":1.9979387780931888},{"$f":"Skyggetabeller!N13","v":1.9907160243591249},{"$f":"Skyggetabeller!O13","v":2.2223828280273192},{"$f":"Skyggetabeller!P13","v":2.2736500203004466},{"$f":"Skyggetabeller!Q13","v":2.4668017105559308},{"$f":"Skyggetabeller!R13","v":2.297166526485245}]
[null,{"$f":"Skyggetabeller!B12","v":"Antal 0-17-årige"},null,{"$f":"Skyggetabeller!D12","v":105885},{"$f":"Skyggetabeller!E12","v":106913},{"$f":"Skyggetabeller!F12","v":107770},{"$f":"Skyggetabeller!G12","v":108734},{"$f":"Skyggetabeller!H12","v":109335},{"$f":"Skyggetabeller!I12","v":110138},{"$f":"Skyggetabeller!J12","v":110822},{"$f":"Skyggetabeller!K12","v":111068},{"$f":"Skyggetabeller!L12","v":110927},{"$f":"Skyggetabeller!M12","v":110614},{"$f":"Skyggetabeller!N12","v":110513},{"$f":"Skyggetabeller!O12","v":110692},{"$f":"Skyggetabeller!P12","v":110835},{"$f":"Skyggetabeller!Q12","v":111075},{"$f":"Skyggetabeller!R12","v":110571}]
[null,{"$f":"Skyggetabeller!B14","v":"Sammenligningsgruppe, gns."}]
[null,{"$f":"Skyggetabeller!B17","v":"Andel"},null,{"$f":"Skyggetabeller!D17","v":2.9887286774875603},{"$f":"Skyggetabeller!E17","v":2.9487768917354975},{"$f":"Skyggetabeller!F17","v":2.8144517353150444},{"$f":"Skyggetabeller!G17","v":2.6137616123445127},{"$f":"Skyggetabeller!H17","v":2.7198264341974938},{"$f":"Skyggetabeller!I17","v":2.7156850433253799},{"$f":"Skyggetabeller!J17","v":2.5982156832055097},{"$f":"Skyggetabeller!K17","v":2.6197604790419158},{"$f":"Skyggetabeller!L17","v":2.6269157832561318},{"$f":"Skyggetabeller!M17","v":2.6124683160464648},{"$f":"Skyggetabeller!N17","v":2.4044091242642351},{"$f":"Skyggetabeller!O17","v":2.6104792093977252},{"$f":"Skyggetabeller!P17","v":2.5147469729897547},{"$f":"Skyggetabeller!Q17","v":2.4922214826395876},{"$f":"Skyggetabeller!R17","v":2.3505760457743756}]
[null,{"$f":"Skyggetabeller!B16","v":"Antal 0-17-årige"},null,{"$f":"Skyggetabeller!D16","v":62903},{"$f":"Skyggetabeller!E16","v":63077},{"$f":"Skyggetabeller!F16","v":63245},{"$f":"Skyggetabeller!G16","v":63510},{"$f":"Skyggetabeller!H16","v":63607},{"$f":"Skyggetabeller!I16","v":63704},{"$f":"Skyggetabeller!J16","v":63890},{"$f":"Skyggetabeller!K16","v":64128},{"$f":"Skyggetabeller!L16","v":64334},{"$f":"Skyggetabeller!M16","v":64307},{"$f":"Skyggetabeller!N16","v":64049},{"$f":"Skyggetabeller!O16","v":64356},{"$f":"Skyggetabeller!P16","v":64420},{"$f":"Skyggetabeller!Q16","v":64601},{"$f":"Skyggetabeller!R16","v":64665}]
[null,{"$f":"Skyggetabeller!B18","v":"Hele landet"}]
[null,{"$f":"Skyggetabeller!B21","v":"Andel"},null,{"$f":"Skyggetabeller!D21","v":2.8959057559443968},{"$f":"Skyggetabeller!E21","v":2.9690319668635436},{"$f":"Skyggetabeller!F21","v":2.8906668954718033},{"$f":"Skyggetabeller!G21","v":2.9332427002353305},{"$f":"Skyggetabeller!H21","v":2.8517011961804957},{"$f":"Skyggetabeller!I21","v":2.8377821029504462},{"$f":"Skyggetabeller!J21","v":2.8318957613249878},{"$f":"Skyggetabeller!K21","v":2.8993249941241621},{"$f":"Skyggetabeller!L21","v":2.9523700488823668},{"$f":"Skyggetabeller!M21","v":3.0346351402758791},{"$f":"Skyggetabeller!N21","v":3.0268193910935448},{"$f":"Skyggetabeller!O21","v":3.1756209094978285},{"$f":"Skyggetabeller!P21","v":3.2081286435360705},{"$f":"Skyggetabeller!Q21","v":3.2733636438642888},{"$f":"Skyggetabeller!R21","v":3.2999851979555763}]
[null,{"$f":"Skyggetabeller!B20","v":"Antal 0-17-årige"},null,{"$f":"Skyggetabeller!D20","v":1168201},{"$f":"Skyggetabeller!E20","v":1165363},{"$f":"Skyggetabeller!F20","v":1165475},{"$f":"Skyggetabeller!G20","v":1162195},{"$f":"Skyggetabeller!H20","v":1160360},{"$f":"Skyggetabeller!I20","v":1156537},{"$f":"Skyggetabeller!J20","v":1156116},{"$f":"Skyggetabeller!K20","v":1153027},{"$f":"Skyggetabeller!L20","v":1152972},{"$f":"Skyggetabeller!M20","v":1151374},{"$f":"Skyggetabeller!N20","v":1151704},{"$f":"Skyggetabeller!O20","v":1157254},{"$f":"Skyggetabeller!P20","v":1155814},{"$f":"Skyggetabeller!Q20","v":1151415},{"$f":"Skyggetabeller!R20","v":1148490}]
[null,{"$f":"Registerdata!$B$30","v":"Anm.: Hvis nøgletallet er angivet med * er der foretaget en diskretionering af data, da der er for få observationer. "}]
[null,{"$f":"IF('Dine valg'!$G$24=\"\",\"Ingen sammenligningsgruppe valgt.\",\"Anm.: Valgte kommuner i sammenligningsgruppen: \"&'Dine valg'!$G$24&\" \"&'Dine valg'!$G$25&\" \"&'Dine valg'!$G$26&\" \"&'Dine valg'!$G$27&\" \"&'Dine valg'!$G$28&\" \"&'Dine valg'!$G$29&\" \"&'Dine valg'!$G$30)","v":"Anm.: Valgte kommuner i sammenligningsgruppen: Aarhus      "}]
[null,{"$f":"Registerdata!$B$32","v":"Kilde: Socialstyrelsens egne beregninger baseret på registerdata fra Danmarks Statistik."}]
[]
[null,"Figur 1.1: Anbragte på døgninstitutioner",null,null,null,null,"Figur 1.2 Anbringelser på sikrede døgninstitutioner",null,null,null,null,null,"Figur 1.3: Anbragte på socialpædagogiske opholdssteder"]
[]
[]
[]
[]
[]
[]
[]
[]
[]
[]
[]
[]
[]
[]
[]
[]
[]
[]
[null,"Anm.: Hvis nøgletallet har værdien 0 i grafen kan det enten betyde 0 %, eller at der er foretaget en diskretionering af data, da der er for få observationer. Se tilhørende tabel for værdien."]
[null,{"$f":"IF('Dine valg'!$G$24=\"\",\"Ingen sammenligningsgruppe valgt.\",\"Anm.: Valgte kommuner i sammenligningsgruppen: \"&'Dine valg'!$G$24&\" \"&'Dine valg'!$G$25&\" \"&'Dine valg'!$G$26&\" \"&'Dine valg'!$G$27&\" \"&'Dine valg'!$G$28&\" \"&'Dine valg'!$G$29&\" \"&'Dine valg'!$G$30)","v":"Anm.: Valgte kommuner i sammenligningsgruppen: Aarhus      "}]
[null,{"$f":"Registerdata!$B$32","v":"Kilde: Socialstyrelsens egne beregninger baseret på registerdata fra Danmarks Statistik."}]
[]
[]
[null,{"$f":"Skyggetabeller!B23","v":"Tabel 1.1: Anbragte på døgninstitutioner"}]
[]
[null,{"$f":"Skyggetabeller!B24","v":"Nøgletal 1.1\nAnbragte på døgninstitutioner"},null,"2017-01-01","2017-07-01","2018-01-01","2018-07-01","2019-01-01","2019-07-01","2020-01-01","2020-07-01","2021-01-01","2021-07-01","2022-01-01","2022-07-01","2023-01-01","2023-07-01","2024-01-01"]
[null,{"$f":"Skyggetabeller!B25","v":"København"}]
[null,{"$f":"Skyggetabeller!B28","v":"Andel"},null,{"$f":"Skyggetabeller!D28","v":0.76444444444444448},{"$f":"Skyggetabeller!E28","v":0.80616740088105732},{"$f":"Skyggetabeller!F28","v":0.81860465116279069},{"$f":"Skyggetabeller!G28","v":0.80365296803652964},{"$f":"Skyggetabeller!H28","v":0.79611650485436891},{"$f":"Skyggetabeller!I28","v":0.79487179487179482},{"$f":"Skyggetabeller!J28","v":0.85802469135802473},{"$f":"Skyggetabeller!K28","v":0.80874316939890711},{"$f":"Skyggetabeller!L28","v":0.78325123152709364},{"$f":"Skyggetabeller!M28","v":0.74208144796380093},{"$f":"Skyggetabeller!N28","v":0.77727272727272723},{"$f":"Skyggetabeller!O28","v":0.78861788617886175},{"$f":"Skyggetabeller!P28","v":0.79365079365079361},{"$f":"Skyggetabeller!Q28","v":0.8029197080291971},{"$f":"Skyggetabeller!R28","v":0.74409448818897639}]
[null,{"$f":"Skyggetabeller!B29","v":"Sammenligningsgruppe, gns."}]
[null,{"$f":"Skyggetabeller!B32","v":"Andel"},null,{"$f":"Skyggetabeller!D32","v":0.68617021276595747},{"$f":"Skyggetabeller!E32","v":0.69892473118279574},{"$f":"Skyggetabeller!F32","v":0.651685393258427},{"$f":"Skyggetabeller!G32","v":0.68072289156626509},{"$f":"Skyggetabeller!H32","v":0.67052023121387283},{"$f":"Skyggetabeller!I32","v":0.7052023121387283},{"$f":"Skyggetabeller!J32","v":0.6987951807228916},{"$f":"Skyggetabeller!K32","v":0.72023809523809523},{"$f":"Skyggetabeller!L32","v":0.68047337278106512},{"$f":"Skyggetabeller!M32","v":0.66666666666666663},{"$f":"Skyggetabeller!N32","v":0.66233766233766234},{"$f":"Skyggetabeller!O32","v":0.625},{"$f":"Skyggetabeller!P32","v":0.63580246913580252},{"$f":"Skyggetabeller!Q32","v":0.68322981366459623},{"$f":"Skyggetabeller!R32","v":0.66447368421052633}]
[null,{"$f":"Skyggetabeller!B33","v":"Hele landet"}]
[null,{"$f":"Skyggetabeller!B36","v":"Andel"},null,{"$f":"Skyggetabeller!D36","v":0.5373928465858705},{"$f":"Skyggetabeller!E36","v":0.52283236994219651},{"$f":"Skyggetabeller!F36","v":0.52270703472840607},{"$f":"Skyggetabeller!G36","v":0.52214725726019362},{"$f":"Skyggetabeller!H36","v":0.51495920217588398},{"$f":"Skyggetabeller!I36","v":0.51645338208409508},{"$f":"Skyggetabeller!J36","v":0.51313378130726939},{"$f":"Skyggetabeller!K36","v":0.49925216871073885},{"$f":"Skyggetabeller!L36","v":0.49764982373678024},{"$f":"Skyggetabeller!M36","v":0.48082427017744706},{"$f":"Skyggetabeller!N36","v":0.48450946643717729},{"$f":"Skyggetabeller!O36","v":0.47945578231292518},{"$f":"Skyggetabeller!P36","v":0.47680690399136999},{"$f":"Skyggetabeller!Q36","v":0.481560095516052},{"$f":"Skyggetabeller!R36","v":0.47493403693931396}]
[null,{"$f":"Registerdata!$B$30","v":"Anm.: Hvis nøgletallet er angivet med * er der foretaget en diskretionering af data, da der er for få observationer. "}]
[null,{"$f":"IF('Dine valg'!$G$24=\"\",\"Ingen sammenligningsgruppe valgt.\",\"Anm.: Valgte kommuner i sammenligningsgruppen: \"&'Dine valg'!$G$24&\" \"&'Dine valg'!$G$25&\" \"&'Dine valg'!$G$26&\" \"&'Dine valg'!$G$27&\" \"&'Dine valg'!$G$28&\" \"&'Dine valg'!$G$29&\" \"&'Dine valg'!$G$30)","v":"Anm.: Valgte kommuner i sammenligningsgruppen: Aarhus      "}]
[null,{"$f":"Registerdata!$B$32","v":"Kilde: Socialstyrelsens egne beregninger baseret på registerdata fra Danmarks Statistik."}]
[]
[null,{"$f":"Skyggetabeller!B38","v":"Tabel 1.2: Anbragte på sikrede døgninstitutioner"}]
[]
[null,{"$f":"Skyggetabeller!B39","v":"Nøgletal 1.2\nAnbragte på sikrede døgninstitutioner"},null,"2017-01-01","2017-07-01","2018-01-01","2018-07-01","2019-01-01","2019-07-01","2020-01-01","2020-07-01","2021-01-01","2021-07-01","2022-01-01","2022-07-01","2023-01-01","2023-07-01","2024-01-01"]
[null,{"$f":"Skyggetabeller!B40","v":"København"}]
[null,{"$f":"Skyggetabeller!B43","v":"Andel"},null,{"$f":"Skyggetabeller!D43","v":3.111111111111111E-2},{"$f":"Skyggetabeller!E43","v":2.643171806167401E-2},{"$f":"Skyggetabeller!F43","v":2.7906976744186046E-2},{"$f":"Skyggetabeller!G43","v":5.0228310502283102E-2},{"$f":"Skyggetabeller!H43","v":4.3689320388349516E-2},{"$f":"Skyggetabeller!I43","v":2.0512820512820513E-2},{"$f":"Skyggetabeller!J43","v":"*"},{"$f":"Skyggetabeller!K43","v":4.9180327868852458E-2},{"$f":"Skyggetabeller!L43","v":8.3743842364532015E-2},{"$f":"Skyggetabeller!M43","v":0.10407239819004525},{"$f":"Skyggetabeller!N43","v":8.1818181818181818E-2},{"$f":"Skyggetabeller!O43","v":6.5040650406504072E-2},{"$f":"Skyggetabeller!P43","v":4.3650793650793648E-2},{"$f":"Skyggetabeller!Q43","v":4.3795620437956206E-2},{"$f":"Skyggetabeller!R43","v":4.7244094488188976E-2}]
[null,{"$f":"Skyggetabeller!B44","v":"Sammenligningsgruppe, gns."}]
[null,{"$f":"Skyggetabeller!B47","v":"Andel"},null,{"$f":"Skyggetabeller!D47","v":1.5957446808510637E-2},{"$f":"Skyggetabeller!E47","v":2.1505376344086023E-2},{"$f":"Skyggetabeller!F47","v":2.247191011235955E-2},{"$f":"Skyggetabeller!G47","v":4.2168674698795178E-2},{"$f":"Skyggetabeller!H47","v":5.7803468208092484E-2},{"$f":"Skyggetabeller!I47","v":4.6242774566473986E-2},{"$f":"Skyggetabeller!J47","v":9.036144578313253E-2},{"$f":"Skyggetabeller!K47","v":5.9523809523809521E-2},{"$f":"Skyggetabeller!L47","v":8.2840236686390539E-2},{"$f":"Skyggetabeller!M47","v":6.5476190476190479E-2},{"$f":"Skyggetabeller!N47","v":7.1428571428571425E-2},{"$f":"Skyggetabeller!O47","v":8.3333333333333329E-2},{"$f":"Skyggetabeller!P47","v":6.1728395061728392E-2},{"$f":"Skyggetabeller!Q47","v":8.0745341614906832E-2},{"$f":"Skyggetabeller!R47","v":5.2631578947368418E-2}]
[null,{"$f":"Skyggetabeller!B48","v":"Hele landet"}]
[null,{"$f":"Skyggetabeller!B51","v":"Andel"},null,{"$f":"Skyggetabeller!D51","v":2.3943245639964528E-2},{"$f":"Skyggetabeller!E51","v":2.3121387283236993E-2},{"$f":"Skyggetabeller!F51","v":1.8996734936182844E-2},{"$f":"Skyggetabeller!G51","v":2.4933998239953067E-2},{"$f":"Skyggetabeller!H51","v":2.2967663946811726E-2},{"$f":"Skyggetabeller!I51","v":2.1633150517976842E-2},{"$f":"Skyggetabeller!J51","v":2.3518631643249847E-2},{"$f":"Skyggetabeller!K51","v":2.4528866287765481E-2},{"$f":"Skyggetabeller!L51","v":2.7908343125734428E-2},{"$f":"Skyggetabeller!M51","v":2.7761877504293073E-2},{"$f":"Skyggetabeller!N51","v":2.4096385542168676E-2},{"$f":"Skyggetabeller!O51","v":2.3673469387755101E-2},{"$f":"Skyggetabeller!P51","v":2.3193096008629989E-2},{"$f":"Skyggetabeller!Q51","v":2.4144335367471476E-2},{"$f":"Skyggetabeller!R51","v":2.5065963060686015E-2}]
[null,{"$f":"Registerdata!$B$30","v":"Anm.: Hvis nøgletallet er angivet med * er der foretaget en diskretionering af data, da der er for få observationer. "}]
[null,{"$f":"IF('Dine valg'!$G$24=\"\",\"Ingen sammenligningsgruppe valgt.\",\"Anm.: Valgte kommuner i sammenligningsgruppen: \"&'Dine valg'!$G$24&\" \"&'Dine valg'!$G$25&\" \"&'Dine valg'!$G$26&\" \"&'Dine valg'!$G$27&\" \"&'Dine valg'!$G$28&\" \"&'Dine valg'!$G$29&\" \"&'Dine valg'!$G$30)","v":"Anm.: Valgte kommuner i sammenligningsgruppen: Aarhus      "}]
[null,{"$f":"Registerdata!$B$32","v":"Kilde: Socialstyrelsens egne beregninger baseret på registerdata fra Danmarks Statistik."}]
[]
[null,{"$f":"Skyggetabeller!B54","v":"Tabel 1.3: Anbragte på socialpædagogiske opholdssteder"}]
[]
[null,{"$f":"Skyggetabeller!B55","v":"Nøgletal 1.3\nAnbragte på socialpædagogiske opholdssteder"},null,"2017-01-01","2017-07-01","2018-01-01","2018-07-01","2019-01-01","2019-07-01","2020-01-01","2020-07-01","2021-01-01","2021-07-01","2022-01-01","2022-07-01","2023-01-01","2023-07-01","2024-01-01"]
[null,{"$f":"Skyggetabeller!B56","v":"København"}]
[null,{"$f":"Skyggetabeller!B59","v":"Andel"},null,{"$f":"Skyggetabeller!D59","v":0.20444444444444446},{"$f":"Skyggetabeller!E59","v":0.16740088105726872},{"$f":"Skyggetabeller!F59","v":0.15348837209302327},{"$f":"Skyggetabeller!G59","v":0.14611872146118721},{"$f":"Skyggetabeller!H59","v":0.16019417475728157},{"$f":"Skyggetabeller!I59","v":0.18461538461538463},{"$f":"Skyggetabeller!J59","v":"*"},{"$f":"Skyggetabeller!K59","v":0.14207650273224043},{"$f":"Skyggetabeller!L59","v":0.13300492610837439},{"$f":"Skyggetabeller!M59","v":0.15384615384615385},{"$f":"Skyggetabeller!N59","v":0.1409090909090909},{"$f":"Skyggetabeller!O59","v":0.14634146341463414},{"$f":"Skyggetabeller!P59","v":0.1626984126984127},{"$f":"Skyggetabeller!Q59","v":0.15328467153284672},{"$f":"Skyggetabeller!R59","v":0.20866141732283464}]
[null,{"$f":"Skyggetabeller!B60","v":"Sammenligningsgruppe, gns."}]
[null,{"$f":"Skyggetabeller!B63","v":"Andel"},null,{"$f":"Skyggetabeller!D63","v":0.2978723404255319},{"$f":"Skyggetabeller!E63","v":0.27956989247311825},{"$f":"Skyggetabeller!F63","v":0.3258426966292135},{"$f":"Skyggetabeller!G63","v":0.27710843373493976},{"$f":"Skyggetabeller!H63","v":0.27167630057803466},{"$f":"Skyggetabeller!I63","v":0.24855491329479767},{"$f":"Skyggetabeller!J63","v":0.21084337349397592},{"$f":"Skyggetabeller!K63","v":0.22023809523809523},{"$f":"Skyggetabeller!L63","v":0.23668639053254437},{"$f":"Skyggetabeller!M63","v":0.26785714285714285},{"$f":"Skyggetabeller!N63","v":0.26623376623376621},{"$f":"Skyggetabeller!O63","v":0.29166666666666669},{"$f":"Skyggetabeller!P63","v":0.30246913580246915},{"$f":"Skyggetabeller!Q63","v":0.2360248447204969},{"$f":"Skyggetabeller!R63","v":0.28289473684210525}]
[null,{"$f":"Skyggetabeller!B64","v":"Hele landet"}]
[null,{"$f":"Skyggetabeller!B67","v":"Andel"},null,{"$f":"Skyggetabeller!D67","v":0.43866390777416492},{"$f":"Skyggetabeller!E67","v":0.45404624277456646},{"$f":"Skyggetabeller!F67","v":0.45829623033541111},{"$f":"Skyggetabeller!G67","v":0.45291874449985331},{"$f":"Skyggetabeller!H67","v":0.46207313387730431},{"$f":"Skyggetabeller!I67","v":0.4619134673979281},{"$f":"Skyggetabeller!J67","v":0.46334758704948076},{"$f":"Skyggetabeller!K67","v":0.47621896500149569},{"$f":"Skyggetabeller!L67","v":0.47444183313748534},{"$f":"Skyggetabeller!M67","v":0.49141385231825985},{"$f":"Skyggetabeller!N67","v":0.49139414802065406},{"$f":"Skyggetabeller!O67","v":0.49687074829931971},{"$f":"Skyggetabeller!P67","v":0.5},{"$f":"Skyggetabeller!Q67","v":0.49429556911647654},{"$f":"Skyggetabeller!R67","v":0.5}]
[null,{"$f":"Registerdata!$B$30","v":"Anm.: Hvis nøgletallet er angivet med * er der foretaget en diskretionering af data, da der er for få observationer. "}]
[null,{"$f":"IF('Dine valg'!$G$24=\"\",\"Ingen sammenligningsgruppe valgt.\",\"Anm.: Valgte kommuner i sammenligningsgruppen: \"&'Dine valg'!$G$24&\" \"&'Dine valg'!$G$25&\" \"&'Dine valg'!$G$26&\" \"&'Dine valg'!$G$27&\" \"&'Dine valg'!$G$28&\" \"&'Dine valg'!$G$29&\" \"&'Dine valg'!$G$30)","v":"Anm.: Valgte kommuner i sammenligningsgruppen: Aarhus      "}]
[null,{"$f":"Registerdata!$B$32","v":"Kilde: Socialstyrelsens egne beregninger baseret på registerdata fra Danmarks Statistik."}]
[]
[]
[null,{"$f":"\"Figur 1.4: Fordeling af institutionsanbragte for \"&Kommune","v":"Figur 1.4: Fordeling af institutionsanbragte for København"},null,null,null,null,{"$f":"\"Figur 1.5 fordeling af institutionsanbragte for \"&Skyggetabeller!B14","v":"Figur 1.5 fordeling af institutionsanbragte for Sammenligningsgruppe, gns."},null,null,null,null,null,{"$f":"\"Figur 1.6: Fordelingen af institutionsanbragte for \"&Skyggetabeller!B18","v":"Figur 1.6: Fordelingen af institutionsanbragte for Hele landet"}]
[]
[]
[]
[]
[]
[]
[]
[]
[]
[]
[]
[]
[]
[]
[]
[]
[]
[]
[]
[]
[null,"Anm.: Hvis de enkelte nedslagspunkter ikke summer til 100 %, skyldes det diskretionerede værdier. Disse udgør marginen til 100 %.",null,null,null,null,"Anm.: Hvis de enkelte nedslagspunkter ikke summer til 100 %, skyldes det diskretionerede værdier. Disse udgør marginen til 100 %.",null,null,null,null,null,"Anm.: Hvis de enkelte nedslagspunkter ikke summer til 100 %, skyldes det diskretionerede værdier. Disse udgør marginen til 100 %."]
[null,{"$f":"Registerdata!$B$30","v":"Anm.: Hvis nøgletallet er angivet med * er der foretaget en diskretionering af data, da der er for få observationer. "},null,null,null,null,{"$f":"Registerdata!$B$30","v":"Anm.: Hvis nøgletallet er angivet med * er der foretaget en diskretionering af data, da der er for få observationer. "},null,null,null,null,null,{"$f":"Registerdata!$B$30","v":"Anm.: Hvis nøgletallet er angivet med * er der foretaget en diskretionering af data, da der er for få observationer. "}]
[null,{"$f":"IF('Dine valg'!$G$24=\"\",\"Ingen sammenligningsgruppe valgt.\",\"Anm.: Valgte kommuner i sammenligningsgruppen: \"&'Dine valg'!$G$24&\" \"&'Dine valg'!$G$25&\" \"&'Dine valg'!$G$26&\" \"&'Dine valg'!$G$27&\" \"&'Dine valg'!$G$28&\" \"&'Dine valg'!$G$29&\" \"&'Dine valg'!$G$30)","v":"Anm.: Valgte kommuner i sammenligningsgruppen: Aarhus      "},null,null,null,null,{"$f":"IF('Dine valg'!$G$24=\"\",\"Ingen sammenligningsgruppe valgt.\",\"Anm.: Valgte kommuner i sammenligningsgruppen: \"&'Dine valg'!$G$24&\" \"&'Dine valg'!$G$25&\" \"&'Dine valg'!$G$26&\" \"&'Dine valg'!$G$27&\" \"&'Dine valg'!$G$28&\" \"&'Dine valg'!$G$29&\" \"&'Dine valg'!$G$30)","v":"Anm.: Valgte kommuner i sammenligningsgruppen: Aarhus      "},null,null,null,null,null,{"$f":"IF('Dine valg'!$G$24=\"\",\"Ingen sammenligningsgruppe valgt.\",\"Anm.: Valgte kommuner i sammenligningsgruppen: \"&'Dine valg'!$G$24&\" \"&'Dine valg'!$G$25&\" \"&'Dine valg'!$G$26&\" \"&'Dine valg'!$G$27&\" \"&'Dine valg'!$G$28&\" \"&'Dine valg'!$G$29&\" \"&'Dine valg'!$G$30)","v":"Anm.: Valgte kommuner i sammenligningsgruppen: Aarhus      "}]
[null,{"$f":"Registerdata!$B$32","v":"Kilde: Socialstyrelsens egne beregninger baseret på registerdata fra Danmarks Statistik."},null,null,null,null,{"$f":"Registerdata!$B$32","v":"Kilde: Socialstyrelsens egne beregninger baseret på registerdata fra Danmarks Statistik."},null,null,null,null,null,{"$f":"Registerdata!$B$32","v":"Kilde: Socialstyrelsens egne beregninger baseret på registerdata fra Danmarks Statistik."}]
[]
[]
[]
[null,{"$f":"Skyggetabeller!B71","v":"Tabel 1.4: Fordeling af institutionsanbragte for København"}]
[]
[null,{"$f":"Skyggetabeller!B72","v":"Nøgletal 1.4\nFordeling af anbragte for København"},null,"2017-01-01","2017-07-01","2018-01-01","2018-07-01","2019-01-01","2019-07-01","2020-01-01","2020-07-01","2021-01-01","2021-07-01","2022-01-01","2022-07-01","2023-01-01","2023-07-01","2024-01-01"]
[null,{"$f":"Skyggetabeller!B73","v":"Døgninstitutioner"},null,{"$f":"Skyggetabeller!D73","v":0.76444444444444448},{"$f":"Skyggetabeller!E73","v":0.80616740088105732},{"$f":"Skyggetabeller!F73","v":0.81860465116279069},{"$f":"Skyggetabeller!G73","v":0.80365296803652964},{"$f":"Skyggetabeller!H73","v":0.79611650485436891},{"$f":"Skyggetabeller!I73","v":0.79487179487179482},{"$f":"Skyggetabeller!J73","v":0.85802469135802473},{"$f":"Skyggetabeller!K73","v":0.80874316939890711},{"$f":"Skyggetabeller!L73","v":0.78325123152709364},{"$f":"Skyggetabeller!M73","v":0.74208144796380093},{"$f":"Skyggetabeller!N73","v":0.77727272727272723},{"$f":"Skyggetabeller!O73","v":0.78861788617886175},{"$f":"Skyggetabeller!P73","v":0.79365079365079361},{"$f":"Skyggetabeller!Q73","v":0.8029197080291971},{"$f":"Skyggetabeller!R73","v":0.74409448818897639}]
[null,{"$f":"Skyggetabeller!B74","v":"Sikrede døgninstitutioner"},null,{"$f":"Skyggetabeller!D74","v":3.111111111111111E-2},{"$f":"Skyggetabeller!E74","v":2.643171806167401E-2},{"$f":"Skyggetabeller!F74","v":2.7906976744186046E-2},{"$f":"Skyggetabeller!G74","v":5.0228310502283102E-2},{"$f":"Skyggetabeller!H74","v":4.3689320388349516E-2},{"$f":"Skyggetabeller!I74","v":2.0512820512820513E-2},{"$f":"Skyggetabeller!J74","v":"*"},{"$f":"Skyggetabeller!K74","v":4.9180327868852458E-2},{"$f":"Skyggetabeller!L74","v":8.3743842364532015E-2},{"$f":"Skyggetabeller!M74","v":0.10407239819004525},{"$f":"Skyggetabeller!N74","v":8.1818181818181818E-2},{"$f":"Skyggetabeller!O74","v":6.5040650406504072E-2},{"$f":"Skyggetabeller!P74","v":4.3650793650793648E-2},{"$f":"Skyggetabeller!Q74","v":4.3795620437956206E-2},{"$f":"Skyggetabeller!R74","v":4.7244094488188976E-2}]
[null,{"$f":"Skyggetabeller!B75","v":"Socialpædagogiske opholdssteder"},null,{"$f":"Skyggetabeller!D75","v":0.20444444444444446},{"$f":"Skyggetabeller!E75","v":0.16740088105726872},{"$f":"Skyggetabeller!F75","v":0.15348837209302327},{"$f":"Skyggetabeller!G75","v":0.14611872146118721},{"$f":"Skyggetabeller!H75","v":0.16019417475728157},{"$f":"Skyggetabeller!I75","v":0.18461538461538463},{"$f":"Skyggetabeller!J75","v":"*"},{"$f":"Skyggetabeller!K75","v":0.14207650273224043},{"$f":"Skyggetabeller!L75","v":0.13300492610837439},{"$f":"Skyggetabeller!M75","v":0.15384615384615385},{"$f":"Skyggetabeller!N75","v":0.1409090909090909},{"$f":"Skyggetabeller!O75","v":0.14634146341463414},{"$f":"Skyggetabeller!P75","v":0.1626984126984127},{"$f":"Skyggetabeller!Q75","v":0.15328467153284672},{"$f":"Skyggetabeller!R75","v":0.20866141732283464}]
[null,"Anm.: Hvis de enkelte nedslagspunkter ikke summer til 100 %, skyldes det diskretionerede værdier. Disse udgør marginen til 100 %."]
[null,{"$f":"Registerdata!$B$30","v":"Anm.: Hvis nøgletallet er angivet med * er der foretaget en diskretionering af data, da der er for få observationer. "}]
[null,{"$f":"IF('Dine valg'!$G$24=\"\",\"Ingen sammenligningsgruppe valgt.\",\"Anm.: Valgte kommuner i sammenligningsgruppen: \"&'Dine valg'!$G$24&\" \"&'Dine valg'!$G$25&\" \"&'Dine valg'!$G$26&\" \"&'Dine valg'!$G$27&\" \"&'Dine valg'!$G$28&\" \"&'Dine valg'!$G$29&\" \"&'Dine valg'!$G$30)","v":"Anm.: Valgte kommuner i sammenligningsgruppen: Aarhus      "}]
[null,{"$f":"Registerdata!$B$32","v":"Kilde: Socialstyrelsens egne beregninger baseret på registerdata fra Danmarks Statistik."}]
[]
[null,{"$f":"Skyggetabeller!B77","v":"Tabel 1.5: Fordeling af institutionsanbragte for Sammenligningsgruppe, gns."}]
[]
[null,{"$f":"Skyggetabeller!B77","v":"Tabel 1.5: Fordeling af institutionsanbragte for Sammenligningsgruppe, gns."},null,"2017-01-01","2017-07-01","2018-01-01","2018-07-01","2019-01-01","2019-07-01","2020-01-01","2020-07-01","2021-01-01","2021-07-01","2022-01-01","2022-07-01","2023-01-01","2023-07-01","2024-01-01"]
[null,{"$f":"Skyggetabeller!B79","v":"Døgninstitutioner"},null,{"$f":"Skyggetabeller!D79","v":0.68617021276595747},{"$f":"Skyggetabeller!E79","v":0.69892473118279574},{"$f":"Skyggetabeller!F79","v":0.651685393258427},{"$f":"Skyggetabeller!G79","v":0.68072289156626509},{"$f":"Skyggetabeller!H79","v":0.67052023121387283},{"$f":"Skyggetabeller!I79","v":0.7052023121387283},{"$f":"Skyggetabeller!J79","v":0.6987951807228916},{"$f":"Skyggetabeller!K79","v":0.72023809523809523},{"$f":"Skyggetabeller!L79","v":0.68047337278106512},{"$f":"Skyggetabeller!M79","v":0.66666666666666663},{"$f":"Skyggetabeller!N79","v":0.66233766233766234},{"$f":"Skyggetabeller!O79","v":0.625},{"$f":"Skyggetabeller!P79","v":0.63580246913580252},{"$f":"Skyggetabeller!Q79","v":0.68322981366459623},{"$f":"Skyggetabeller!R79","v":0.66447368421052633}]
[null,{"$f":"Skyggetabeller!B80","v":"Sikrede døgninstitutioner"},null,{"$f":"Skyggetabeller!D80","v":1.5957446808510637E-2},{"$f":"Skyggetabeller!E80","v":2.1505376344086023E-2},{"$f":"Skyggetabeller!F80","v":2.247191011235955E-2},{"$f":"Skyggetabeller!G80","v":4.2168674698795178E-2},{"$f":"Skyggetabeller!H80","v":5.7803468208092484E-2},{"$f":"Skyggetabeller!I80","v":4.6242774566473986E-2},{"$f":"Skyggetabeller!J80","v":9.036144578313253E-2},{"$f":"Skyggetabeller!K80","v":5.9523809523809521E-2},{"$f":"Skyggetabeller!L80","v":8.2840236686390539E-2},{"$f":"Skyggetabeller!M80","v":6.5476190476190479E-2},{"$f":"Skyggetabeller!N80","v":7.1428571428571425E-2},{"$f":"Skyggetabeller!O80","v":8.3333333333333329E-2},{"$f":"Skyggetabeller!P80","v":6.1728395061728392E-2},{"$f":"Skyggetabeller!Q80","v":8.0745341614906832E-2},{"$f":"Skyggetabeller!R80","v":5.2631578947368418E-2}]
[null,{"$f":"Skyggetabeller!B81","v":"Socialpædagogiske opholdssteder"},null,{"$f":"Skyggetabeller!D81","v":0.2978723404255319},{"$f":"Skyggetabeller!E81","v":0.27956989247311825},{"$f":"Skyggetabeller!F81","v":0.3258426966292135},{"$f":"Skyggetabeller!G81","v":0.27710843373493976},{"$f":"Skyggetabeller!H81","v":0.27167630057803466},{"$f":"Skyggetabeller!I81","v":0.24855491329479767},{"$f":"Skyggetabeller!J81","v":0.21084337349397592},{"$f":"Skyggetabeller!K81","v":0.22023809523809523},{"$f":"Skyggetabeller!L81","v":0.23668639053254437},{"$f":"Skyggetabeller!M81","v":0.26785714285714285},{"$f":"Skyggetabeller!N81","v":0.26623376623376621},{"$f":"Skyggetabeller!O81","v":0.29166666666666669},{"$f":"Skyggetabeller!P81","v":0.30246913580246915},{"$f":"Skyggetabeller!Q81","v":0.2360248447204969},{"$f":"Skyggetabeller!R81","v":0.28289473684210525}]
[null,"Anm.: Hvis de enkelte nedslagspunkter ikke summer til 100 %, skyldes det diskretionerede værdier. Disse udgør marginen til 100 %."]
[null,{"$f":"Registerdata!$B$30","v":"Anm.: Hvis nøgletallet er angivet med * er der foretaget en diskretionering af data, da der er for få observationer. "}]
[null,{"$f":"IF('Dine valg'!$G$24=\"\",\"Ingen sammenligningsgruppe valgt.\",\"Anm.: Valgte kommuner i sammenligningsgruppen: \"&'Dine valg'!$G$24&\" \"&'Dine valg'!$G$25&\" \"&'Dine valg'!$G$26&\" \"&'Dine valg'!$G$27&\" \"&'Dine valg'!$G$28&\" \"&'Dine valg'!$G$29&\" \"&'Dine valg'!$G$30)","v":"Anm.: Valgte kommuner i sammenligningsgruppen: Aarhus      "}]
[null,{"$f":"Registerdata!$B$32","v":"Kilde: Socialstyrelsens egne beregninger baseret på registerdata fra Danmarks Statistik."}]
[]
[null,{"$f":"Skyggetabeller!B83","v":"Tabel 1.6: Fordeling af institutionsanbragte for Hele landet"}]
[]
[null,{"$f":"Skyggetabeller!B83","v":"Tabel 1.6: Fordeling af institutionsanbragte for Hele landet"},null,"2017-01-01","2017-07-01","2018-01-01","2018-07-01","2019-01-01","2019-07-01","2020-01-01","2020-07-01","2021-01-01","2021-07-01","2022-01-01","2022-07-01","2023-01-01","2023-07-01","2024-01-01"]
[null,{"$f":"Skyggetabeller!B85","v":"Døgninstitutioner"},null,{"$f":"Skyggetabeller!D85","v":0.5373928465858705},{"$f":"Skyggetabeller!E85","v":0.52283236994219651},{"$f":"Skyggetabeller!F85","v":0.52270703472840607},{"$f":"Skyggetabeller!G85","v":0.52214725726019362},{"$f":"Skyggetabeller!H85","v":0.51495920217588398},{"$f":"Skyggetabeller!I85","v":0.51645338208409508},{"$f":"Skyggetabeller!J85","v":0.51313378130726939},{"$f":"Skyggetabeller!K85","v":0.49925216871073885},{"$f":"Skyggetabeller!L85","v":0.49764982373678024},{"$f":"Skyggetabeller!M85","v":0.48082427017744706},{"$f":"Skyggetabeller!N85","v":0.48450946643717729},{"$f":"Skyggetabeller!O85","v":0.47945578231292518},{"$f":"Skyggetabeller!P85","v":0.47680690399136999},{"$f":"Skyggetabeller!Q85","v":0.481560095516052},{"$f":"Skyggetabeller!R85","v":0.47493403693931396}]
[null,{"$f":"Skyggetabeller!B86","v":"Sikrede døgninstitutioner"},null,{"$f":"Skyggetabeller!D86","v":2.3943245639964528E-2},{"$f":"Skyggetabeller!E86","v":2.3121387283236993E-2},{"$f":"Skyggetabeller!F86","v":1.8996734936182844E-2},{"$f":"Skyggetabeller!G86","v":2.4933998239953067E-2},{"$f":"Skyggetabeller!H86","v":2.2967663946811726E-2},{"$f":"Skyggetabeller!I86","v":2.1633150517976842E-2},{"$f":"Skyggetabeller!J86","v":2.3518631643249847E-2},{"$f":"Skyggetabeller!K86","v":2.4528866287765481E-2},{"$f":"Skyggetabeller!L86","v":2.7908343125734428E-2},{"$f":"Skyggetabeller!M86","v":2.7761877504293073E-2},{"$f":"Skyggetabeller!N86","v":2.4096385542168676E-2},{"$f":"Skyggetabeller!O86","v":2.3673469387755101E-2},{"$f":"Skyggetabeller!P86","v":2.3193096008629989E-2},{"$f":"Skyggetabeller!Q86","v":2.4144335367471476E-2},{"$f":"Skyggetabeller!R86","v":2.5065963060686015E-2}]
[null,{"$f":"Skyggetabeller!B87","v":"Socialpædagogiske opholdssteder"},null,{"$f":"Skyggetabeller!D87","v":0.43866390777416492},{"$f":"Skyggetabeller!E87","v":0.45404624277456646},{"$f":"Skyggetabeller!F87","v":0.45829623033541111},{"$f":"Skyggetabeller!G87","v":0.45291874449985331},{"$f":"Skyggetabeller!H87","v":0.46207313387730431},{"$f":"Skyggetabeller!I87","v":0.4619134673979281},{"$f":"Skyggetabeller!J87","v":0.46334758704948076},{"$f":"Skyggetabeller!K87","v":0.47621896500149569},{"$f":"Skyggetabeller!L87","v":0.47444183313748534},{"$f":"Skyggetabeller!M87","v":0.49141385231825985},{"$f":"Skyggetabeller!N87","v":0.49139414802065406},{"$f":"Skyggetabeller!O87","v":0.49687074829931971},{"$f":"Skyggetabeller!P87","v":0.5},{"$f":"Skyggetabeller!Q87","v":0.49429556911647654},{"$f":"Skyggetabeller!R87","v":0.5}]
[null,"Anm.: Hvis de enkelte nedslagspunkter ikke summer til 100 %, skyldes det diskretionerede værdier. Disse udgør marginen til 100 %."]
[null,{"$f":"Registerdata!$B$30","v":"Anm.: Hvis nøgletallet er angivet med * er der foretaget en diskretionering af data, da der er for få observationer. "}]
[null,{"$f":"IF('Dine valg'!$G$24=\"\",\"Ingen sammenligningsgruppe valgt.\",\"Anm.: Valgte kommuner i sammenligningsgruppen: \"&'Dine valg'!$G$24&\" \"&'Dine valg'!$G$25&\" \"&'Dine valg'!$G$26&\" \"&'Dine valg'!$G$27&\" \"&'Dine valg'!$G$28&\" \"&'Dine valg'!$G$29&\" \"&'Dine valg'!$G$30)","v":"Anm.: Valgte kommuner i sammenligningsgruppen: Aarhus      "}]
[null,{"$f":"Registerdata!$B$32","v":"Kilde: Socialstyrelsens egne beregninger baseret på registerdata fra Danmarks Statistik."}]
[]
[" "]
[null,{"$f":"Skyggetabeller!B90","v":"Nøgletal 2: Varighed af institutionsanbringelser"}]
[]
[null,"Figur 2: Varighed af institutionsanbringelser",null,null,null,null,null,null,null,null,null,null,"Benyt, slet eller erstat gerne følgende tekst til beskrivelse af udviklingen over tid for det pågældende nøgletal. Beskrivelsen vil blive indsat i rapporten (skriv maks 20 linjer):"]
[]
[]
[]
[]
[]
[]
[]
[]
[]
[]
[]
[]
[]
[]
[]
[]
[]
[]
[]
[]
[]
[]
[]
[null,"Anm.: Hvis nøgletallet har værdien 0 i grafen kan det enten betyde 0 %, eller at der er foretaget en diskretionering af data, da der er for få observationer. Se tilhørende tabel for værdien."]
[null,{"$f":"IF('Dine valg'!$G$24=\"\",\"Ingen sammenligningsgruppe valgt.\",\"Anm.: Valgte kommuner i sammenligningsgruppen: \"&'Dine valg'!$G$24&\" \"&'Dine valg'!$G$25&\" \"&'Dine valg'!$G$26&\" \"&'Dine valg'!$G$27&\" \"&'Dine valg'!$G$28&\" \"&'Dine valg'!$G$29&\" \"&'Dine valg'!$G$30)","v":"Anm.: Valgte kommuner i sammenligningsgruppen: Aarhus      "}]
[null,{"$f":"Registerdata!$B$32","v":"Kilde: Socialstyrelsens egne beregninger baseret på registerdata fra Danmarks Statistik."}]
[]
[]
[null,{"$f":"Skyggetabeller!B92","v":"Tabel 2: Gennemsnitlig varighed af igangværende institutionsanbringelser"}]
[]
[null,{"$f":"Skyggetabeller!B93","v":"Nøgletal 2: \nGennemsnitlig varighed af igangværende institutionsanbringelser"},null,"2017-01-01","2017-07-01","2018-01-01","2018-07-01","2019-01-01","2019-07-01","2020-01-01","2020-07-01","2021-01-01","2021-07-01","2022-01-01","2022-07-01","2023-01-01","2023-07-01","2024-01-01"]
[null,{"$f":"Skyggetabeller!B94","v":"København"}]
[null,{"$f":"Skyggetabeller!B97","v":"Gennemsnitlig varighed"},null,{"$f":"Skyggetabeller!D97","v":814.91111111111115},{"$f":"Skyggetabeller!E97","v":753.70044052863432},{"$f":"Skyggetabeller!F97","v":751.51162790697674},{"$f":"Skyggetabeller!G97","v":747.40639269406392},{"$f":"Skyggetabeller!H97","v":760.69417475728153},{"$f":"Skyggetabeller!I97","v":813.18974358974356},{"$f":"Skyggetabeller!J97","v":825.0679012345679},{"$f":"Skyggetabeller!K97","v":726.63387978142077},{"$f":"Skyggetabeller!L97","v":656.43349753694577},{"$f":"Skyggetabeller!M97","v":621.22171945701359},{"$f":"Skyggetabeller!N97","v":617.52272727272725},{"$f":"Skyggetabeller!O97","v":573.02439024390242},{"$f":"Skyggetabeller!P97","v":602.74206349206349},{"$f":"Skyggetabeller!Q97","v":621.50364963503648},{"$f":"Skyggetabeller!R97","v":713.49212598425197}]
[null,{"$f":"Skyggetabeller!B95","v":"Samlet antal dage"},null,{"$f":"Skyggetabeller!D95","v":183355},{"$f":"Skyggetabeller!E95","v":171090},{"$f":"Skyggetabeller!F95","v":161575},{"$f":"Skyggetabeller!G95","v":163682},{"$f":"Skyggetabeller!H95","v":156703},{"$f":"Skyggetabeller!I95","v":158572},{"$f":"Skyggetabeller!J95","v":133661},{"$f":"Skyggetabeller!K95","v":132974},{"$f":"Skyggetabeller!L95","v":133256},{"$f":"Skyggetabeller!M95","v":137290},{"$f":"Skyggetabeller!N95","v":135855},{"$f":"Skyggetabeller!O95","v":140964},{"$f":"Skyggetabeller!P95","v":151891},{"$f":"Skyggetabeller!Q95","v":170292},{"$f":"Skyggetabeller!R95","v":181227}]
[null,{"$f":"Skyggetabeller!B98","v":"Sammenligningsgruppe, gns."}]
[null,{"$f":"Skyggetabeller!B101","v":"Gennemsnitlig varighed"},null,{"$f":"Skyggetabeller!D101","v":1048.2021276595744},{"$f":"Skyggetabeller!E101","v":1037.5591397849462},{"$f":"Skyggetabeller!F101","v":1014.061797752809},{"$f":"Skyggetabeller!G101","v":942.68674698795178},{"$f":"Skyggetabeller!H101","v":837.35260115606934},{"$f":"Skyggetabeller!I101","v":915.27745664739882},{"$f":"Skyggetabeller!J101","v":941.15662650602405},{"$f":"Skyggetabeller!K101","v":838.77976190476193},{"$f":"Skyggetabeller!L101","v":871.55621301775147},{"$f":"Skyggetabeller!M101","v":887.67261904761904},{"$f":"Skyggetabeller!N101","v":943.52597402597405},{"$f":"Skyggetabeller!O101","v":895.82142857142856},{"$f":"Skyggetabeller!P101","v":869.34567901234573},{"$f":"Skyggetabeller!Q101","v":837.93167701863354},{"$f":"Skyggetabeller!R101","v":865.79605263157896}]
[null,{"$f":"Skyggetabeller!B99","v":"Samlet antal dage"},null,{"$f":"Skyggetabeller!D99","v":197062},{"$f":"Skyggetabeller!E99","v":192986},{"$f":"Skyggetabeller!F99","v":180503},{"$f":"Skyggetabeller!G99","v":156486},{"$f":"Skyggetabeller!H99","v":144862},{"$f":"Skyggetabeller!I99","v":158343},{"$f":"Skyggetabeller!J99","v":156232},{"$f":"Skyggetabeller!K99","v":140915},{"$f":"Skyggetabeller!L99","v":147293},{"$f":"Skyggetabeller!M99","v":149129},{"$f":"Skyggetabeller!N99","v":145303},{"$f":"Skyggetabeller!O99","v":150498},{"$f":"Skyggetabeller!P99","v":140834},{"$f":"Skyggetabeller!Q99","v":134907},{"$f":"Skyggetabeller!R99","v":131601}]
[null,{"$f":"Skyggetabeller!B102","v":"Hele landet"}]
[null,{"$f":"Skyggetabeller!B105","v":"Gennemsnitlig varighed"},null,{"$f":"Skyggetabeller!D105","v":862.99320130062074},{"$f":"Skyggetabeller!E105","v":827.94710982658955},{"$f":"Skyggetabeller!F105","v":825.19560700504599},{"$f":"Skyggetabeller!G105","v":783.687885010267},{"$f":"Skyggetabeller!H105","v":770.60864309459055},{"$f":"Skyggetabeller!I105","v":768.03016453382088},{"$f":"Skyggetabeller!J105","v":757.3750763591936},{"$f":"Skyggetabeller!K105","v":753.27071492671257},{"$f":"Skyggetabeller!L105","v":740.11868390129257},{"$f":"Skyggetabeller!M105","v":725.05380652547228},{"$f":"Skyggetabeller!N105","v":732.76907630522089},{"$f":"Skyggetabeller!O105","v":704.12680272108844},{"$f":"Skyggetabeller!P105","v":708.3122977346278},{"$f":"Skyggetabeller!Q105","v":713.43937383921468},{"$f":"Skyggetabeller!R105","v":728.73218997361482}]
[null,{"$f":"Skyggetabeller!B103","v":"Samlet antal dage"},null,{"$f":"Skyggetabeller!D103","v":2919506},{"$f":"Skyggetabeller!E103","v":2864697},{"$f":"Skyggetabeller!F103","v":2780084},{"$f":"Skyggetabeller!G103","v":2671592},{"$f":"Skyggetabeller!H103","v":2549944},{"$f":"Skyggetabeller!I103","v":2520675},{"$f":"Skyggetabeller!J103","v":2479646},{"$f":"Skyggetabeller!K103","v":2518184},{"$f":"Skyggetabeller!L103","v":2519364},{"$f":"Skyggetabeller!M103","v":2533338},{"$f":"Skyggetabeller!N103","v":2554433},{"$f":"Skyggetabeller!O103","v":2587666},{"$f":"Skyggetabeller!P103","v":2626422},{"$f":"Skyggetabeller!Q103","v":2688953},{"$f":"Skyggetabeller!R103","v":2761895}]
[null,"Anm.: Hvis nøgletallet er angivet med * er der foretaget en diskretionering af data, da der er for få observationer. "]
[null,{"$f":"IF('Dine valg'!$G$24=\"\",\"Ingen sammenligningsgruppe valgt.\",\"Anm.: Valgte kommuner i sammenligningsgruppen: \"&'Dine valg'!$G$24&\" \"&'Dine valg'!$G$25&\" \"&'Dine valg'!$G$26&\" \"&'Dine valg'!$G$27&\" \"&'Dine valg'!$G$28&\" \"&'Dine valg'!$G$29&\" \"&'Dine valg'!$G$30)","v":"Anm.: Valgte kommuner i sammenligningsgruppen: Aarhus      "}]
[null,"Kilde: Socialstyrelsens egne beregninger baseret på registerdata fra Danmarks Statistik."]
[]
[null,"Figur 2.1: Varighed af anbringelser på døgninstitution",null,null,null,null,"Figur 2.2: Varighed af anbringelser på sikret døgninstitution",null,null,null,null,null,"Figur 2.3: Varighed af anbringelser på socialpædagogisk opholdssted"]
[]
[]
[]
[]
[]
[]
[]
[]
[]
[]
[]
[]
[]
[]
[]
[]
[]
[null,"Anm.: Hvis nøgletallet har værdien 0 i grafen kan det enten betyde 0 %, eller at der er foretaget en diskretionering af data, da der er for få observationer. Se tilhørende tabel for værdien."]
[null,{"$f":"IF('Dine valg'!$G$24=\"\",\"Ingen sammenligningsgruppe valgt.\",\"Anm.: Valgte kommuner i sammenligningsgruppen: \"&'Dine valg'!$G$24&\" \"&'Dine valg'!$G$25&\" \"&'Dine valg'!$G$26&\" \"&'Dine valg'!$G$27&\" \"&'Dine valg'!$G$28&\" \"&'Dine valg'!$G$29&\" \"&'Dine valg'!$G$30)","v":"Anm.: Valgte kommuner i sammenligningsgruppen: Aarhus      "}]
[null,{"$f":"Registerdata!$B$32","v":"Kilde: Socialstyrelsens egne beregninger baseret på registerdata fra Danmarks Statistik."}]
[]
[]
[null,{"$f":"Skyggetabeller!B107","v":"Tabel 2.1: Gennemsnitlig varighed af igangværende anbringelser på døgninstitution"}]
[]
[null,{"$f":"Skyggetabeller!B108","v":"Nøgletal 2.1\nGennemsnitlig varighed af igangværende anbringelser på døgninstitution"},null,"2017-01-01","2017-07-01","2018-01-01","2018-07-01","2019-01-01","2019-07-01","2020-01-01","2020-07-01","2021-01-01","2021-07-01","2022-01-01","2022-07-01","2023-01-01","2023-07-01","2024-01-01"]
[null,{"$f":"Skyggetabeller!B109","v":"København"}]
[null,{"$f":"Skyggetabeller!B112","v":"Gennemsnitlig varighed"},null,{"$f":"Skyggetabeller!D112","v":781.66279069767438},{"$f":"Skyggetabeller!E112","v":692.59562841530055},{"$f":"Skyggetabeller!F112","v":667.59659090909088},{"$f":"Skyggetabeller!G112","v":672.2670454545455},{"$f":"Skyggetabeller!H112","v":683.17073170731703},{"$f":"Skyggetabeller!I112","v":714.30967741935478},{"$f":"Skyggetabeller!J112","v":735.69064748201436},{"$f":"Skyggetabeller!K112","v":659.01351351351354},{"$f":"Skyggetabeller!L112","v":624.88050314465409},{"$f":"Skyggetabeller!M112","v":603.8719512195122},{"$f":"Skyggetabeller!N112","v":582.32748538011697},{"$f":"Skyggetabeller!O112","v":523.59793814432987},{"$f":"Skyggetabeller!P112","v":590.82000000000005},{"$f":"Skyggetabeller!Q112","v":616.34545454545457},{"$f":"Skyggetabeller!R112","v":756.14285714285711}]
[null,{"$f":"Skyggetabeller!B110","v":"Samlet antal dage"},null,{"$f":"Skyggetabeller!D110","v":134446},{"$f":"Skyggetabeller!E110","v":126745},{"$f":"Skyggetabeller!F110","v":117497},{"$f":"Skyggetabeller!G110","v":118319},{"$f":"Skyggetabeller!H110","v":112040},{"$f":"Skyggetabeller!I110","v":110718},{"$f":"Skyggetabeller!J110","v":102261},{"$f":"Skyggetabeller!K110","v":97534},{"$f":"Skyggetabeller!L110","v":99356},{"$f":"Skyggetabeller!M110","v":99035},{"$f":"Skyggetabeller!N110","v":99578},{"$f":"Skyggetabeller!O110","v":101578},{"$f":"Skyggetabeller!P110","v":118164},{"$f":"Skyggetabeller!Q110","v":135596},{"$f":"Skyggetabeller!R110","v":142911}]
[null,{"$f":"Skyggetabeller!B113","v":"Sammenligningsgruppe, gns."}]
[null,{"$f":"Skyggetabeller!B116","v":"Gennemsnitlig varighed"},null,{"$f":"Skyggetabeller!D116","v":1165.1472868217054},{"$f":"Skyggetabeller!E116","v":1155.2615384615385},{"$f":"Skyggetabeller!F116","v":1162.7413793103449},{"$f":"Skyggetabeller!G116","v":1056.6106194690265},{"$f":"Skyggetabeller!H116","v":953.5},{"$f":"Skyggetabeller!I116","v":1003.4918032786885},{"$f":"Skyggetabeller!J116","v":1069.3793103448277},{"$f":"Skyggetabeller!K116","v":955.3388429752066},{"$f":"Skyggetabeller!L116","v":1039.3391304347826},{"$f":"Skyggetabeller!M116","v":1117.6607142857142},{"$f":"Skyggetabeller!N116","v":1202.1666666666667},{"$f":"Skyggetabeller!O116","v":1160.7142857142858},{"$f":"Skyggetabeller!P116","v":1109.9223300970873},{"$f":"Skyggetabeller!Q116","v":1012.2090909090909},{"$f":"Skyggetabeller!R116","v":1082.3267326732673}]
[null,{"$f":"Skyggetabeller!B114","v":"Samlet antal dage"},null,{"$f":"Skyggetabeller!D114","v":150304},{"$f":"Skyggetabeller!E114","v":150184},{"$f":"Skyggetabeller!F114","v":134878},{"$f":"Skyggetabeller!G114","v":119397},{"$f":"Skyggetabeller!H114","v":110606},{"$f":"Skyggetabeller!I114","v":122426},{"$f":"Skyggetabeller!J114","v":124048},{"$f":"Skyggetabeller!K114","v":115596},{"$f":"Skyggetabeller!L114","v":119524},{"$f":"Skyggetabeller!M114","v":125178},{"$f":"Skyggetabeller!N114","v":122621},{"$f":"Skyggetabeller!O114","v":121875},{"$f":"Skyggetabeller!P114","v":114322},{"$f":"Skyggetabeller!Q114","v":111343},{"$f":"Skyggetabeller!R114","v":109315}]
[null,{"$f":"Skyggetabeller!B117","v":"Hele landet"}]
[null,{"$f":"Skyggetabeller!B120","v":"Gennemsnitlig varighed"},null,{"$f":"Skyggetabeller!D120","v":958.55225522552257},{"$f":"Skyggetabeller!E120","v":929.63405196241013},{"$f":"Skyggetabeller!F120","v":924.08404315729695},{"$f":"Skyggetabeller!G120","v":874.42415730337075},{"$f":"Skyggetabeller!H120","v":865.42957746478874},{"$f":"Skyggetabeller!I120","v":868.55870206489681},{"$f":"Skyggetabeller!J120","v":863.46607142857147},{"$f":"Skyggetabeller!K120","v":860.08388256440981},{"$f":"Skyggetabeller!L120","v":840.19775678866586},{"$f":"Skyggetabeller!M120","v":835.72500000000002},{"$f":"Skyggetabeller!N120","v":831.3345174659562},{"$f":"Skyggetabeller!O120","v":806.62258796821789},{"$f":"Skyggetabeller!P120","v":816.3880090497737},{"$f":"Skyggetabeller!Q120","v":820.69421487603302},{"$f":"Skyggetabeller!R120","v":857.44944444444445}]
[null,{"$f":"Skyggetabeller!B118","v":"Samlet antal dage"},null,{"$f":"Skyggetabeller!D118","v":1742648},{"$f":"Skyggetabeller!E118","v":1681708},{"$f":"Skyggetabeller!F118","v":1627312},{"$f":"Skyggetabeller!G118","v":1556475},{"$f":"Skyggetabeller!H118","v":1474692},{"$f":"Skyggetabeller!I118","v":1472207},{"$f":"Skyggetabeller!J118","v":1450623},{"$f":"Skyggetabeller!K118","v":1435480},{"$f":"Skyggetabeller!L118","v":1423295},{"$f":"Skyggetabeller!M118","v":1404018},{"$f":"Skyggetabeller!N118","v":1404124},{"$f":"Skyggetabeller!O118","v":1421269},{"$f":"Skyggetabeller!P118","v":1443374},{"$f":"Skyggetabeller!Q118","v":1489560},{"$f":"Skyggetabeller!R118","v":1543409}]
[null,"Anm.: Hvis nøgletallet er angivet med * er der foretaget en diskretionering af data, da der er for få observationer. "]
[null,{"$f":"IF('Dine valg'!$G$24=\"\",\"Ingen sammenligningsgruppe valgt.\",\"Anm.: Valgte kommuner i sammenligningsgruppen: \"&'Dine valg'!$G$24&\" \"&'Dine valg'!$G$25&\" \"&'Dine valg'!$G$26&\" \"&'Dine valg'!$G$27&\" \"&'Dine valg'!$G$28&\" \"&'Dine valg'!$G$29&\" \"&'Dine valg'!$G$30)","v":"Anm.: Valgte kommuner i sammenligningsgruppen: Aarhus      "}]
[null,"Kilde: Socialstyrelsens egne beregninger baseret på registerdata fra Danmarks Statistik."]
[]
[null,{"$f":"Skyggetabeller!B122","v":"Tabel 2.2: Gennemsnitlig varighed af igangværende anbringelser på sikret døgninstitution"}]
[]
[null,{"$f":"Skyggetabeller!B123","v":"Nøgletal 2.2: \nGennemsnitlig varighed af igangværende anbringelser på sikret døgninstitution"},null,"2017-01-01","2017-07-01","2018-01-01","2018-07-01","2019-01-01","2019-07-01","2020-01-01","2020-07-01","2021-01-01","2021-07-01","2022-01-01","2022-07-01","2023-01-01","2023-07-01","2024-01-01"]
[null,{"$f":"Skyggetabeller!B124","v":"København"}]
[null,{"$f":"Skyggetabeller!B127","v":"Gennemsnitlig varighed"},null,{"$f":"Skyggetabeller!D127","v":295.28571428571428},{"$f":"Skyggetabeller!E127","v":407.16666666666669},{"$f":"Skyggetabeller!F127","v":349.66666666666669},{"$f":"Skyggetabeller!G127","v":275.09090909090907},{"$f":"Skyggetabeller!H127","v":328.88888888888891},{"$f":"Skyggetabeller!I127","v":"*"},{"$f":"Skyggetabeller!J127","v":"*"},{"$f":"Skyggetabeller!K127","v":89},{"$f":"Skyggetabeller!L127","v":99.588235294117652},{"$f":"Skyggetabeller!M127","v":112.21739130434783},{"$f":"Skyggetabeller!N127","v":152.77777777777777},{"$f":"Skyggetabeller!O127","v":127.9375},{"$f":"Skyggetabeller!P127","v":236.36363636363637},{"$f":"Skyggetabeller!Q127","v":206.91666666666666},{"$f":"Skyggetabeller!R127","v":305.91666666666669}]
[null,{"$f":"Skyggetabeller!B125","v":"Samlet antal dage"},null,{"$f":"Skyggetabeller!D125","v":2067},{"$f":"Skyggetabeller!E125","v":2443},{"$f":"Skyggetabeller!F125","v":2098},{"$f":"Skyggetabeller!G125","v":3026},{"$f":"Skyggetabeller!H125","v":2960},{"$f":"Skyggetabeller!I125","v":"*"},{"$f":"Skyggetabeller!J125","v":"*"},{"$f":"Skyggetabeller!K125","v":801},{"$f":"Skyggetabeller!L125","v":1693},{"$f":"Skyggetabeller!M125","v":2581},{"$f":"Skyggetabeller!N125","v":2750},{"$f":"Skyggetabeller!O125","v":2047},{"$f":"Skyggetabeller!P125","v":2600},{"$f":"Skyggetabeller!Q125","v":2483},{"$f":"Skyggetabeller!R125","v":3671}]
[null,{"$f":"Skyggetabeller!B128","v":"Sammenligningsgruppe, gns."}]
[null,{"$f":"Skyggetabeller!B131","v":"Gennemsnitlig varighed"},null,{"$f":"Skyggetabeller!D131","v":0},{"$f":"Skyggetabeller!E131","v":0},{"$f":"Skyggetabeller!F131","v":0},{"$f":"Skyggetabeller!G131","v":128.85714285714286},{"$f":"Skyggetabeller!H131","v":119.5},{"$f":"Skyggetabeller!I131","v":300.5},{"$f":"Skyggetabeller!J131","v":239.46666666666667},{"$f":"Skyggetabeller!K131","v":166.5},{"$f":"Skyggetabeller!L131","v":116},{"$f":"Skyggetabeller!M131","v":210.81818181818181},{"$f":"Skyggetabeller!N131","v":220.36363636363637},{"$f":"Skyggetabeller!O131","v":259.85714285714283},{"$f":"Skyggetabeller!P131","v":310.89999999999998},{"$f":"Skyggetabeller!Q131","v":195.84615384615384},{"$f":"Skyggetabeller!R131","v":258.125}]
[null,{"$f":"Skyggetabeller!B129","v":"Samlet antal dage"},null,{"$f":"Skyggetabeller!D129","v":0},{"$f":"Skyggetabeller!E129","v":0},{"$f":"Skyggetabeller!F129","v":0},{"$f":"Skyggetabeller!G129","v":902},{"$f":"Skyggetabeller!H129","v":1195},{"$f":"Skyggetabeller!I129","v":2404},{"$f":"Skyggetabeller!J129","v":3592},{"$f":"Skyggetabeller!K129","v":1665},{"$f":"Skyggetabeller!L129","v":1624},{"$f":"Skyggetabeller!M129","v":2319},{"$f":"Skyggetabeller!N129","v":2424},{"$f":"Skyggetabeller!O129","v":3638},{"$f":"Skyggetabeller!P129","v":3109},{"$f":"Skyggetabeller!Q129","v":2546},{"$f":"Skyggetabeller!R129","v":2065}]
[null,{"$f":"Skyggetabeller!B132","v":"Hele landet"}]
[null,{"$f":"Skyggetabeller!B135","v":"Gennemsnitlig varighed"},null,{"$f":"Skyggetabeller!D135","v":301.45679012345681},{"$f":"Skyggetabeller!E135","v":332.4},{"$f":"Skyggetabeller!F135","v":285.921875},{"$f":"Skyggetabeller!G135","v":215.04705882352943},{"$f":"Skyggetabeller!H135","v":269.9736842105263},{"$f":"Skyggetabeller!I135","v":328.35211267605632},{"$f":"Skyggetabeller!J135","v":263.14285714285717},{"$f":"Skyggetabeller!K135","v":252.39024390243901},{"$f":"Skyggetabeller!L135","v":196.08421052631579},{"$f":"Skyggetabeller!M135","v":222.15463917525773},{"$f":"Skyggetabeller!N135","v":218.10714285714286},{"$f":"Skyggetabeller!O135","v":214.13793103448276},{"$f":"Skyggetabeller!P135","v":191.61627906976744},{"$f":"Skyggetabeller!Q135","v":176.1868131868132},{"$f":"Skyggetabeller!R135","v":218}]
[null,{"$f":"Skyggetabeller!B133","v":"Samlet antal dage"},null,{"$f":"Skyggetabeller!D133","v":24418},{"$f":"Skyggetabeller!E133","v":26592},{"$f":"Skyggetabeller!F133","v":18299},{"$f":"Skyggetabeller!G133","v":18279},{"$f":"Skyggetabeller!H133","v":20518},{"$f":"Skyggetabeller!I133","v":23313},{"$f":"Skyggetabeller!J133","v":20262},{"$f":"Skyggetabeller!K133","v":20696},{"$f":"Skyggetabeller!L133","v":18628},{"$f":"Skyggetabeller!M133","v":21549},{"$f":"Skyggetabeller!N133","v":18321},{"$f":"Skyggetabeller!O133","v":18630},{"$f":"Skyggetabeller!P133","v":16479},{"$f":"Skyggetabeller!Q133","v":16033},{"$f":"Skyggetabeller!R133","v":20710}]
[null,"Anm.: Hvis nøgletallet er angivet med * er der foretaget en diskretionering af data, da der er for få observationer. "]
[null,{"$f":"IF('Dine valg'!$G$24=\"\",\"Ingen sammenligningsgruppe valgt.\",\"Anm.: Valgte kommuner i sammenligningsgruppen: \"&'Dine valg'!$G$24&\" \"&'Dine valg'!$G$25&\" \"&'Dine valg'!$G$26&\" \"&'Dine valg'!$G$27&\" \"&'Dine valg'!$G$28&\" \"&'Dine valg'!$G$29&\" \"&'Dine valg'!$G$30)","v":"Anm.: Valgte kommuner i sammenligningsgruppen: Aarhus      "}]
[null,"Kilde: Socialstyrelsens egne beregninger baseret på registerdata fra Danmarks Statistik."]
[]
[null,{"$f":"Skyggetabeller!B137","v":"Tabel 2.3: Gennemsnitlig varighed af anbringelser på socialpædagogisk opholdssted"}]
[]
[null,{"$f":"Skyggetabeller!B138","v":"Nøgletal 2.3: \nGennemsnitlig varighed af igangværende anbringelser på socialpædagogisk opholdssted"},null,"2017-01-01","2017-07-01","2018-01-01","2018-07-01","2019-01-01","2019-07-01","2020-01-01","2020-07-01","2021-01-01","2021-07-01","2022-01-01","2022-07-01","2023-01-01","2023-07-01","2024-01-01"]
[null,{"$f":"Skyggetabeller!B139","v":"København"}]
[null,{"$f":"Skyggetabeller!B142","v":"Gennemsnitlig varighed"},null,{"$f":"Skyggetabeller!D142","v":1018.304347826087},{"$f":"Skyggetabeller!E142","v":1102.6842105263158},{"$f":"Skyggetabeller!F142","v":1272.121212121212},{"$f":"Skyggetabeller!G142","v":1323.03125},{"$f":"Skyggetabeller!H142","v":1263.7272727272727},{"$f":"Skyggetabeller!I142","v":"*"},{"$f":"Skyggetabeller!J142","v":"*"},{"$f":"Skyggetabeller!K142","v":1332.2692307692307},{"$f":"Skyggetabeller!L142","v":1192.851851851852},{"$f":"Skyggetabeller!M142","v":1049.2352941176471},{"$f":"Skyggetabeller!N142","v":1081.516129032258},{"$f":"Skyggetabeller!O142","v":1037.1944444444443},{"$f":"Skyggetabeller!P142","v":759.19512195121956},{"$f":"Skyggetabeller!Q142","v":766.97619047619048},{"$f":"Skyggetabeller!R142","v":653.67924528301887}]
[null,{"$f":"Skyggetabeller!B140","v":"Samlet antal dage"},null,{"$f":"Skyggetabeller!D140","v":46842},{"$f":"Skyggetabeller!E140","v":41902},{"$f":"Skyggetabeller!F140","v":41980},{"$f":"Skyggetabeller!G140","v":42337},{"$f":"Skyggetabeller!H140","v":41703},{"$f":"Skyggetabeller!I140","v":"*"},{"$f":"Skyggetabeller!J140","v":"*"},{"$f":"Skyggetabeller!K140","v":34639},{"$f":"Skyggetabeller!L140","v":32207},{"$f":"Skyggetabeller!M140","v":35674},{"$f":"Skyggetabeller!N140","v":33527},{"$f":"Skyggetabeller!O140","v":37339},{"$f":"Skyggetabeller!P140","v":31127},{"$f":"Skyggetabeller!Q140","v":32213},{"$f":"Skyggetabeller!R140","v":34645}]
[null,{"$f":"Skyggetabeller!B143","v":"Sammenligningsgruppe, gns."}]
[null,{"$f":"Skyggetabeller!B146","v":"Gennemsnitlig varighed"},null,{"$f":"Skyggetabeller!D146","v":0},{"$f":"Skyggetabeller!E146","v":0},{"$f":"Skyggetabeller!F146","v":0},{"$f":"Skyggetabeller!G146","v":786.67391304347825},{"$f":"Skyggetabeller!H146","v":703.42553191489367},{"$f":"Skyggetabeller!I146","v":779.37209302325584},{"$f":"Skyggetabeller!J146","v":816.91428571428571},{"$f":"Skyggetabeller!K146","v":639.29729729729729},{"$f":"Skyggetabeller!L146","v":653.625},{"$f":"Skyggetabeller!M146","v":480.71111111111111},{"$f":"Skyggetabeller!N146","v":494.09756097560978},{"$f":"Skyggetabeller!O146","v":509.89795918367349},{"$f":"Skyggetabeller!P146","v":477.61224489795916},{"$f":"Skyggetabeller!Q146","v":553.10526315789468},{"$f":"Skyggetabeller!R146","v":470.25581395348837}]
[null,{"$f":"Skyggetabeller!B144","v":"Samlet antal dage"},null,{"$f":"Skyggetabeller!D144","v":0},{"$f":"Skyggetabeller!E144","v":0},{"$f":"Skyggetabeller!F144","v":0},{"$f":"Skyggetabeller!G144","v":36187},{"$f":"Skyggetabeller!H144","v":33061},{"$f":"Skyggetabeller!I144","v":33513},{"$f":"Skyggetabeller!J144","v":28592},{"$f":"Skyggetabeller!K144","v":23654},{"$f":"Skyggetabeller!L144","v":26145},{"$f":"Skyggetabeller!M144","v":21632},{"$f":"Skyggetabeller!N144","v":20258},{"$f":"Skyggetabeller!O144","v":24985},{"$f":"Skyggetabeller!P144","v":23403},{"$f":"Skyggetabeller!Q144","v":21018},{"$f":"Skyggetabeller!R144","v":20221}]
[null,{"$f":"Skyggetabeller!B147","v":"Hele landet"}]
[null,{"$f":"Skyggetabeller!B150","v":"Gennemsnitlig varighed"},null,{"$f":"Skyggetabeller!D150","v":776.57681940700809},{"$f":"Skyggetabeller!E150","v":736.08975175047738},{"$f":"Skyggetabeller!F150","v":734.76230569948189},{"$f":"Skyggetabeller!G150","v":710.38730569948189},{"$f":"Skyggetabeller!H150","v":689.81948986265536},{"$f":"Skyggetabeller!I150","v":676.22361477572565},{"$f":"Skyggetabeller!J150","v":664.97099538562952},{"$f":"Skyggetabeller!K150","v":667.0904522613065},{"$f":"Skyggetabeller!L150","v":667.14613003095974},{"$f":"Skyggetabeller!M150","v":645.17821782178214},{"$f":"Skyggetabeller!N150","v":660.8219497956801},{"$f":"Skyggetabeller!O150","v":628.56900328587074},{"$f":"Skyggetabeller!P150","v":629.21736785329017},{"$f":"Skyggetabeller!Q150","v":635.19055287171227},{"$f":"Skyggetabeller!R150","v":632.07176781002636}]
[null,{"$f":"Skyggetabeller!B148","v":"Samlet antal dage"},null,{"$f":"Skyggetabeller!D148","v":1152440},{"$f":"Skyggetabeller!E148","v":1156397},{"$f":"Skyggetabeller!F148","v":1134473},{"$f":"Skyggetabeller!G148","v":1096838},{"$f":"Skyggetabeller!H148","v":1054734},{"$f":"Skyggetabeller!I148","v":1025155},{"$f":"Skyggetabeller!J148","v":1008761},{"$f":"Skyggetabeller!K148","v":1062008},{"$f":"Skyggetabeller!L148","v":1077441},{"$f":"Skyggetabeller!M148","v":1107771},{"$f":"Skyggetabeller!N148","v":1131988},{"$f":"Skyggetabeller!O148","v":1147767},{"$f":"Skyggetabeller!P148","v":1166569},{"$f":"Skyggetabeller!Q148","v":1183360},{"$f":"Skyggetabeller!R148","v":1197776}]
[null,"Anm.: Hvis nøgletallet er angivet med * er der foretaget en diskretionering af data, da der er for få observationer. "]
[null,{"$f":"IF('Dine valg'!$G$24=\"\",\"Ingen sammenligningsgruppe valgt.\",\"Anm.: Valgte kommuner i sammenligningsgruppen: \"&'Dine valg'!$G$24&\" \"&'Dine valg'!$G$25&\" \"&'Dine valg'!$G$26&\" \"&'Dine valg'!$G$27&\" \"&'Dine valg'!$G$28&\" \"&'Dine valg'!$G$29&\" \"&'Dine valg'!$G$30)","v":"Anm.: Valgte kommuner i sammenligningsgruppen: Aarhus      "}]
[null,"Kilde: Socialstyrelsens egne beregninger baseret på registerdata fra Danmarks Statistik."]
[]
[]
[null,{"$f":"Skyggetabeller!B153","v":"Nøgletal 3: Anbragte i plejefamilie"}]
[]
[null,"Figur 3: Anbragte i plejefamilie",null,null,null,null,null,null,null,null,null,null,"Benyt, slet eller erstat gerne følgende tekst til beskrivelse af udviklingen over tid for det pågældende nøgletal. Beskrivelsen vil blive indsat i rapporten (skriv maks 20 linjer):"]
[]
[]
[]
[]
[]
[]
[]
[]
[]
[]
[]
[]
[]
[]
[]
[]
[]
[]
[]
[]
[]
[]
[null,"Anm.: Hvis nøgletallet har værdien 0 i grafen kan det enten betyde 0 %, eller at der er foretaget en diskretionering af data, da der er for få observationer. Se tilhørende tabel for værdien."]
[null,{"$f":"IF('Dine valg'!$G$24=\"\",\"Ingen sammenligningsgruppe valgt.\",\"Anm.: Valgte kommuner i sammenligningsgruppen: \"&'Dine valg'!$G$24&\" \"&'Dine valg'!$G$25&\" \"&'Dine valg'!$G$26&\" \"&'Dine valg'!$G$27&\" \"&'Dine valg'!$G$28&\" \"&'Dine valg'!$G$29&\" \"&'Dine valg'!$G$30)","v":"Anm.: Valgte kommuner i sammenligningsgruppen: Aarhus      "}]
[null,{"$f":"Registerdata!$B$32","v":"Kilde: Socialstyrelsens egne beregninger baseret på registerdata fra Danmarks Statistik."}]
[]
[null,{"$f":"Skyggetabeller!B155","v":"Tabel 3: Anbragte i plejefamilie"}]
[]
[null,{"$f":"Skyggetabeller!B156","v":"Nøgletal 3: \nAnbragte i plejefamilie"},null,"2017-01-01","2017-07-01","2018-01-01","2018-07-01","2019-01-01","2019-07-01","2020-01-01","2020-07-01","2021-01-01","2021-07-01","2022-01-01","2022-07-01","2023-01-01","2023-07-01","2024-01-01"]
[null,{"$f":"Skyggetabeller!B157","v":"København"}]
[null,{"$f":"Skyggetabeller!B160","v":"Andel"},null,{"$f":"Skyggetabeller!D160","v":3.3715823771072388},{"$f":"Skyggetabeller!E160","v":3.2643364230729661},{"$f":"Skyggetabeller!F160","v":3.2383780272803193},{"$f":"Skyggetabeller!G160","v":3.246454650799198},{"$f":"Skyggetabeller!H160","v":3.1097086934650386},{"$f":"Skyggetabeller!I160","v":2.9599230056837786},{"$f":"Skyggetabeller!J160","v":2.8333724350760678},{"$f":"Skyggetabeller!K160","v":2.6650340332048836},{"$f":"Skyggetabeller!L160","v":2.5872871347823345},{"$f":"Skyggetabeller!M160","v":2.5674869365541433},{"$f":"Skyggetabeller!N160","v":2.4612489028440092},{"$f":"Skyggetabeller!O160","v":2.3940302822245512},{"$f":"Skyggetabeller!P160","v":2.445076013894528},{"$f":"Skyggetabeller!Q160","v":2.3497636731937881},{"$f":"Skyggetabeller!R160","v":2.1886389740528709}]
[null,{"$f":"Skyggetabeller!B159","v":"Antal 0-17-årige"},null,{"$f":"Skyggetabeller!D159","v":105885},{"$f":"Skyggetabeller!E159","v":106913},{"$f":"Skyggetabeller!F159","v":107770},{"$f":"Skyggetabeller!G159","v":108734},{"$f":"Skyggetabeller!H159","v":109335},{"$f":"Skyggetabeller!I159","v":110138},{"$f":"Skyggetabeller!J159","v":110822},{"$f":"Skyggetabeller!K159","v":111068},{"$f":"Skyggetabeller!L159","v":110927},{"$f":"Skyggetabeller!M159","v":110614},{"$f":"Skyggetabeller!N159","v":110513},{"$f":"Skyggetabeller!O159","v":110692},{"$f":"Skyggetabeller!P159","v":110835},{"$f":"Skyggetabeller!Q159","v":111075},{"$f":"Skyggetabeller!R159","v":110571}]
[null,{"$f":"Skyggetabeller!B161","v":"Sammenligningsgruppe, gns."}]
[null,{"$f":"Skyggetabeller!B164","v":"Andel"},null,{"$f":"Skyggetabeller!D164","v":3.6246283961019348},{"$f":"Skyggetabeller!E164","v":3.8524343262996021},{"$f":"Skyggetabeller!F164","v":3.8580124911060163},{"$f":"Skyggetabeller!G164","v":4.0151157298063298},{"$f":"Skyggetabeller!H164","v":3.9775496407628097},{"$f":"Skyggetabeller!I164","v":3.9557955544392818},{"$f":"Skyggetabeller!J164","v":3.8816716231022066},{"$f":"Skyggetabeller!K164","v":3.8672654690618762},{"$f":"Skyggetabeller!L164","v":3.7616190505797866},{"$f":"Skyggetabeller!M164","v":3.6076943412070226},{"$f":"Skyggetabeller!N164","v":3.6066136863963529},{"$f":"Skyggetabeller!O164","v":3.5738703461992665},{"$f":"Skyggetabeller!P164","v":3.4306116113008382},{"$f":"Skyggetabeller!Q164","v":3.482918221080169},{"$f":"Skyggetabeller!R164","v":3.4176138560272173}]
[null,{"$f":"Skyggetabeller!B163","v":"Antal 0-17-årige"},null,{"$f":"Skyggetabeller!D163","v":62903},{"$f":"Skyggetabeller!E163","v":63077},{"$f":"Skyggetabeller!F163","v":63245},{"$f":"Skyggetabeller!G163","v":63510},{"$f":"Skyggetabeller!H163","v":63607},{"$f":"Skyggetabeller!I163","v":63704},{"$f":"Skyggetabeller!J163","v":63890},{"$f":"Skyggetabeller!K163","v":64128},{"$f":"Skyggetabeller!L163","v":64334},{"$f":"Skyggetabeller!M163","v":64307},{"$f":"Skyggetabeller!N163","v":64049},{"$f":"Skyggetabeller!O163","v":64356},{"$f":"Skyggetabeller!P163","v":64420},{"$f":"Skyggetabeller!Q163","v":64601},{"$f":"Skyggetabeller!R163","v":64665}]
[null,{"$f":"Skyggetabeller!B165","v":"Hele landet"}]
[null,{"$f":"Skyggetabeller!B168","v":"Andel"},null,{"$f":"Skyggetabeller!D168","v":5.7815393070199397},{"$f":"Skyggetabeller!E168","v":5.8359498285083706},{"$f":"Skyggetabeller!F168","v":5.8010682339818525},{"$f":"Skyggetabeller!G168","v":5.8570205516286},{"$f":"Skyggetabeller!H168","v":5.8421524354510677},{"$f":"Skyggetabeller!I168","v":5.8545468065440183},{"$f":"Skyggetabeller!J168","v":5.7649924402049617},{"$f":"Skyggetabeller!K168","v":5.7266655507633386},{"$f":"Skyggetabeller!L168","v":5.6783685987170545},{"$f":"Skyggetabeller!M168","v":5.6801699534642962},{"$f":"Skyggetabeller!N168","v":5.5995290456575653},{"$f":"Skyggetabeller!O168","v":5.5165071799276566},{"$f":"Skyggetabeller!P168","v":5.4481084326716926},{"$f":"Skyggetabeller!Q168","v":5.4671860276268767},{"$f":"Skyggetabeller!R168","v":5.3870734616757652}]
[null,{"$f":"Skyggetabeller!B167","v":"Antal 0-17-årige"},null,{"$f":"Skyggetabeller!D167","v":1168201},{"$f":"Skyggetabeller!E167","v":1165363},{"$f":"Skyggetabeller!F167","v":1165475},{"$f":"Skyggetabeller!G167","v":1162195},{"$f":"Skyggetabeller!H167","v":1160360},{"$f":"Skyggetabeller!I167","v":1156537},{"$f":"Skyggetabeller!J167","v":1156116},{"$f":"Skyggetabeller!K167","v":1153027},{"$f":"Skyggetabeller!L167","v":1152972},{"$f":"Skyggetabeller!M167","v":1151374},{"$f":"Skyggetabeller!N167","v":1151704},{"$f":"Skyggetabeller!O167","v":1157254},{"$f":"Skyggetabeller!P167","v":1155814},{"$f":"Skyggetabeller!Q167","v":1151415},{"$f":"Skyggetabeller!R167","v":1148490}]
[null,{"$f":"Registerdata!$B$30","v":"Anm.: Hvis nøgletallet er angivet med * er der foretaget en diskretionering af data, da der er for få observationer. "}]
[null,{"$f":"IF('Dine valg'!$G$24=\"\",\"Ingen sammenligningsgruppe valgt.\",\"Anm.: Valgte kommuner i sammenligningsgruppen: \"&'Dine valg'!$G$24&\" \"&'Dine valg'!$G$25&\" \"&'Dine valg'!$G$26&\" \"&'Dine valg'!$G$27&\" \"&'Dine valg'!$G$28&\" \"&'Dine valg'!$G$29&\" \"&'Dine valg'!$G$30)","v":"Anm.: Valgte kommuner i sammenligningsgruppen: Aarhus      "}]
[null,{"$f":"Registerdata!$B$32","v":"Kilde: Socialstyrelsens egne beregninger baseret på registerdata fra Danmarks Statistik."}]
[]
[]
[null,{"$f":"Skyggetabeller!B171","v":"Nøgletal 4: Anbragte i netværksplejefamilie"}]
[]
[null,"Figur 4: Anbragte i netværksplejefamilie",null,null,null,null,null,null,null,null,null,null,"Benyt, slet eller erstat gerne følgende tekst til beskrivelse af udviklingen over tid for det pågældende nøgletal. Beskrivelsen vil blive indsat i rapporten (skriv maks 20 linjer):"]
[]
[]
[]
[]
[]
[]
[]
[]
[]
[]
[]
[]
[]
[]
[]
[]
[]
[]
[]
[]
[]
[null,{"$f":"Registerdata!$B$30","v":"Anm.: Hvis nøgletallet er angivet med * er der foretaget en diskretionering af data, da der er for få observationer. "}]
[null,{"$f":"IF('Dine valg'!$G$24=\"\",\"Ingen sammenligningsgruppe valgt.\",\"Anm.: Valgte kommuner i sammenligningsgruppen: \"&'Dine valg'!$G$24&\" \"&'Dine valg'!$G$25&\" \"&'Dine valg'!$G$26&\" \"&'Dine valg'!$G$27&\" \"&'Dine valg'!$G$28&\" \"&'Dine valg'!$G$29&\" \"&'Dine valg'!$G$30)","v":"Anm.: Valgte kommuner i sammenligningsgruppen: Aarhus      "}]
[null,{"$f":"Registerdata!$B$32","v":"Kilde: Socialstyrelsens egne beregninger baseret på registerdata fra Danmarks Statistik."}]
[]
[null,{"$f":"Skyggetabeller!B173","v":"Tabel 4: Anbragte i netværksplejefamilie"}]
[]
[null,{"$f":"Skyggetabeller!B174","v":"Nøgletal 4: \nAnbragte i netværksplejefamilie"},null,"2017-01-01","2017-07-01","2018-01-01","2018-07-01","2019-01-01","2019-07-01","2020-01-01","2020-07-01","2021-01-01","2021-07-01","2022-01-01","2022-07-01","2023-01-01","2023-07-01","2024-01-01"]
[null,{"$f":"Skyggetabeller!B175","v":"København"}]
[null,{"$f":"Skyggetabeller!B178","v":"Andel"},null,{"$f":"Skyggetabeller!D178","v":1.0010860839590121},{"$f":"Skyggetabeller!E178","v":1.0569341427141694},{"$f":"Skyggetabeller!F178","v":1.02997123503758},{"$f":"Skyggetabeller!G178","v":0.99324958154762999},{"$f":"Skyggetabeller!H178","v":1.0335208304751453},{"$f":"Skyggetabeller!I178","v":0.98058798961303084},{"$f":"Skyggetabeller!J178","v":0.98355922109328464},{"$f":"Skyggetabeller!K178","v":0.98138077574098748},{"$f":"Skyggetabeller!L178","v":1.0457327792151596},{"$f":"Skyggetabeller!M178","v":1.0306109534055363},{"$f":"Skyggetabeller!N178","v":1.0225041397844596},{"$f":"Skyggetabeller!O178","v":1.011816572109999},{"$f":"Skyggetabeller!P178","v":1.0195335408490098},{"$f":"Skyggetabeller!Q178","v":0.96331307674994371},{"$f":"Skyggetabeller!R178","v":1.0671875989183421}]
[null,{"$f":"Skyggetabeller!B177","v":"Antal 0-17-årige"},null,{"$f":"Skyggetabeller!D177","v":105885},{"$f":"Skyggetabeller!E177","v":106913},{"$f":"Skyggetabeller!F177","v":107770},{"$f":"Skyggetabeller!G177","v":108734},{"$f":"Skyggetabeller!H177","v":109335},{"$f":"Skyggetabeller!I177","v":110138},{"$f":"Skyggetabeller!J177","v":110822},{"$f":"Skyggetabeller!K177","v":111068},{"$f":"Skyggetabeller!L177","v":110927},{"$f":"Skyggetabeller!M177","v":110614},{"$f":"Skyggetabeller!N177","v":110513},{"$f":"Skyggetabeller!O177","v":110692},{"$f":"Skyggetabeller!P177","v":110835},{"$f":"Skyggetabeller!Q177","v":111075},{"$f":"Skyggetabeller!R177","v":110571}]
[null,{"$f":"Skyggetabeller!B179","v":"Sammenligningsgruppe, gns."}]
[null,{"$f":"Skyggetabeller!B182","v":"Andel"},null,{"$f":"Skyggetabeller!D182","v":0.6517972115797338},{"$f":"Skyggetabeller!E182","v":0.55487737210076571},{"$f":"Skyggetabeller!F182","v":0.4901573246896988},{"$f":"Skyggetabeller!G182","v":0.39363879703983623},{"$f":"Skyggetabeller!H182","v":0.36159542188752808},{"$f":"Skyggetabeller!I182","v":0.36104483234961698},{"$f":"Skyggetabeller!J182","v":0.34434183753326031},{"$f":"Skyggetabeller!K182","v":0.37425149700598803},{"$f":"Skyggetabeller!L182","v":0.40414088973171264},{"$f":"Skyggetabeller!M182","v":0.38876016607834296},{"$f":"Skyggetabeller!N182","v":0.34348701775203361},{"$f":"Skyggetabeller!O182","v":0.34184846789732115},{"$f":"Skyggetabeller!P182","v":0.38807823657249302},{"$f":"Skyggetabeller!Q182","v":0.40247054999148618},{"$f":"Skyggetabeller!R182","v":0.41753653444676414}]
[null,{"$f":"Skyggetabeller!B181","v":"Antal 0-17-årige"},null,{"$f":"Skyggetabeller!D181","v":62903},{"$f":"Skyggetabeller!E181","v":63077},{"$f":"Skyggetabeller!F181","v":63245},{"$f":"Skyggetabeller!G181","v":63510},{"$f":"Skyggetabeller!H181","v":63607},{"$f":"Skyggetabeller!I181","v":63704},{"$f":"Skyggetabeller!J181","v":63890},{"$f":"Skyggetabeller!K181","v":64128},{"$f":"Skyggetabeller!L181","v":64334},{"$f":"Skyggetabeller!M181","v":64307},{"$f":"Skyggetabeller!N181","v":64049},{"$f":"Skyggetabeller!O181","v":64356},{"$f":"Skyggetabeller!P181","v":64420},{"$f":"Skyggetabeller!Q181","v":64601},{"$f":"Skyggetabeller!R181","v":64665}]
[null,{"$f":"Skyggetabeller!B183","v":"Hele landet"}]
[null,{"$f":"Skyggetabeller!B186","v":"Andel"},null,{"$f":"Skyggetabeller!D186","v":0.81749630414628993},{"$f":"Skyggetabeller!E186","v":0.85810172452703581},{"$f":"Skyggetabeller!F186","v":0.82798858834380828},{"$f":"Skyggetabeller!G186","v":0.81225611880966619},{"$f":"Skyggetabeller!H186","v":0.81354062532317561},{"$f":"Skyggetabeller!I186","v":0.79288427434660547},{"$f":"Skyggetabeller!J186","v":0.77760363146950651},{"$f":"Skyggetabeller!K186","v":0.79963435374887148},{"$f":"Skyggetabeller!L186","v":0.8213555923300826},{"$f":"Skyggetabeller!M186","v":0.82683819506085776},{"$f":"Skyggetabeller!N186","v":0.81184054236157899},{"$f":"Skyggetabeller!O186","v":0.83214229546841056},{"$f":"Skyggetabeller!P186","v":0.87038225873713249},{"$f":"Skyggetabeller!Q186","v":0.87631305828046357},{"$f":"Skyggetabeller!R186","v":0.89682975036787427}]
[null,{"$f":"Skyggetabeller!B185","v":"Antal 0-17-årige"},null,{"$f":"Skyggetabeller!D185","v":1168201},{"$f":"Skyggetabeller!E185","v":1165363},{"$f":"Skyggetabeller!F185","v":1165475},{"$f":"Skyggetabeller!G185","v":1162195},{"$f":"Skyggetabeller!H185","v":1160360},{"$f":"Skyggetabeller!I185","v":1156537},{"$f":"Skyggetabeller!J185","v":1156116},{"$f":"Skyggetabeller!K185","v":1153027},{"$f":"Skyggetabeller!L185","v":1152972},{"$f":"Skyggetabeller!M185","v":1151374},{"$f":"Skyggetabeller!N185","v":1151704},{"$f":"Skyggetabeller!O185","v":1157254},{"$f":"Skyggetabeller!P185","v":1155814},{"$f":"Skyggetabeller!Q185","v":1151415},{"$f":"Skyggetabeller!R185","v":1148490}]
[null,{"$f":"Registerdata!$B$30","v":"Anm.: Hvis nøgletallet er angivet med * er der foretaget en diskretionering af data, da der er for få observationer. "}]
[null,{"$f":"IF('Dine valg'!$G$24=\"\",\"Ingen sammenligningsgruppe valgt.\",\"Anm.: Valgte kommuner i sammenligningsgruppen: \"&'Dine valg'!$G$24&\" \"&'Dine valg'!$G$25&\" \"&'Dine valg'!$G$26&\" \"&'Dine valg'!$G$27&\" \"&'Dine valg'!$G$28&\" \"&'Dine valg'!$G$29&\" \"&'Dine valg'!$G$30)","v":"Anm.: Valgte kommuner i sammenligningsgruppen: Aarhus      "}]
[null,{"$f":"Registerdata!$B$32","v":"Kilde: Socialstyrelsens egne beregninger baseret på registerdata fra Danmarks Statistik."}]
[]
[]
[null,{"$f":"Skyggetabeller!B189","v":"Nøgletal 5: Hjemmebaserede foranstaltninger"}]
[]
[null,"Figur 5: Modtagere af hjemmebaserede foranstaltninger",null,null,null,null,null,null,null,null,null,null,"Benyt, slet eller erstat gerne følgende tekst til beskrivelse af udviklingen over tid for det pågældende nøgletal. Beskrivelsen vil blive indsat i rapporten (skriv maks 20 linjer):"]
[]
[]
[]
[]
[]
[]
[]
[]
[]
[]
[]
[]
[]
[]
[]
[]
[]
[]
[]
[]
[]
[null,{"$f":"Registerdata!$B$30","v":"Anm.: Hvis nøgletallet er angivet med * er der foretaget en diskretionering af data, da der er for få observationer. "}]
[null,{"$f":"IF('Dine valg'!$G$24=\"\",\"Ingen sammenligningsgruppe valgt.\",\"Anm.: Valgte kommuner i sammenligningsgruppen: \"&'Dine valg'!$G$24&\" \"&'Dine valg'!$G$25&\" \"&'Dine valg'!$G$26&\" \"&'Dine valg'!$G$27&\" \"&'Dine valg'!$G$28&\" \"&'Dine valg'!$G$29&\" \"&'Dine valg'!$G$30)","v":"Anm.: Valgte kommuner i sammenligningsgruppen: Aarhus      "}]
[null,{"$f":"Registerdata!$B$32","v":"Kilde: Socialstyrelsens egne beregninger baseret på registerdata fra Danmarks Statistik."}]
[]
[null,{"$f":"Skyggetabeller!B191","v":"Tabel 5: Modtagere af hjemmebaserede foranstaltninger"}]
[]
[null,{"$f":"Skyggetabeller!B192","v":"Nøgletal 5: \nModtagere af hjemmebaserede foranstaltninger"},null,"2017-01-01","2017-07-01","2018-01-01","2018-07-01","2019-01-01","2019-07-01","2020-01-01","2020-07-01","2021-01-01","2021-07-01","2022-01-01","2022-07-01","2023-01-01","2023-07-01","2024-01-01"]
[null,{"$f":"Skyggetabeller!B193","v":"København"}]
[null,{"$f":"Skyggetabeller!B196","v":"Andel"},null,{"$f":"Skyggetabeller!D196","v":18.18010105302923},{"$f":"Skyggetabeller!E196","v":15.498582959976803},{"$f":"Skyggetabeller!F196","v":13.556648417927068},{"$f":"Skyggetabeller!G196","v":17.841705446318542},{"$f":"Skyggetabeller!H196","v":19.810673617780218},{"$f":"Skyggetabeller!I196","v":19.457407979080788},{"$f":"Skyggetabeller!J196","v":19.066611322661565},{"$f":"Skyggetabeller!K196","v":18.979363993229374},{"$f":"Skyggetabeller!L196","v":18.345398325024565},{"$f":"Skyggetabeller!M196","v":20.76590666642559},{"$f":"Skyggetabeller!N196","v":20.866323418964285},{"$f":"Skyggetabeller!O196","v":21.934737831098904},{"$f":"Skyggetabeller!P196","v":22.177110118644833},{"$f":"Skyggetabeller!Q196","v":21.859104208867883},{"$f":"Skyggetabeller!R196","v":21.750730299988241}]
[null,{"$f":"Skyggetabeller!B195","v":"Antal 0-17-årige"},null,{"$f":"Skyggetabeller!D195","v":105885},{"$f":"Skyggetabeller!E195","v":106913},{"$f":"Skyggetabeller!F195","v":107770},{"$f":"Skyggetabeller!G195","v":108734},{"$f":"Skyggetabeller!H195","v":109335},{"$f":"Skyggetabeller!I195","v":110138},{"$f":"Skyggetabeller!J195","v":110822},{"$f":"Skyggetabeller!K195","v":111068},{"$f":"Skyggetabeller!L195","v":110927},{"$f":"Skyggetabeller!M195","v":110614},{"$f":"Skyggetabeller!N195","v":110513},{"$f":"Skyggetabeller!O195","v":110692},{"$f":"Skyggetabeller!P195","v":110835},{"$f":"Skyggetabeller!Q195","v":111075},{"$f":"Skyggetabeller!R195","v":110571}]
[null,{"$f":"Skyggetabeller!B197","v":"Sammenligningsgruppe, gns."}]
[null,{"$f":"Skyggetabeller!B200","v":"Andel"},null,{"$f":"Skyggetabeller!D200","v":17.868782093063924},{"$f":"Skyggetabeller!E200","v":16.963393947080554},{"$f":"Skyggetabeller!F200","v":18.262313226342002},{"$f":"Skyggetabeller!G200","v":18.784443394740983},{"$f":"Skyggetabeller!H200","v":20.359394406276039},{"$f":"Skyggetabeller!I200","v":20.187115408765539},{"$f":"Skyggetabeller!J200","v":20.175301299107844},{"$f":"Skyggetabeller!K200","v":19.67939121756487},{"$f":"Skyggetabeller!L200","v":19.367674946373612},{"$f":"Skyggetabeller!M200","v":18.971496104623139},{"$f":"Skyggetabeller!N200","v":17.908164061890115},{"$f":"Skyggetabeller!O200","v":17.325501895705138},{"$f":"Skyggetabeller!P200","v":16.982303632412293},{"$f":"Skyggetabeller!Q200","v":16.439374003498401},{"$f":"Skyggetabeller!R200","v":15.649887883708343}]
[null,{"$f":"Skyggetabeller!B199","v":"Antal 0-17-årige"},null,{"$f":"Skyggetabeller!D199","v":62903},{"$f":"Skyggetabeller!E199","v":63077},{"$f":"Skyggetabeller!F199","v":63245},{"$f":"Skyggetabeller!G199","v":63510},{"$f":"Skyggetabeller!H199","v":63607},{"$f":"Skyggetabeller!I199","v":63704},{"$f":"Skyggetabeller!J199","v":63890},{"$f":"Skyggetabeller!K199","v":64128},{"$f":"Skyggetabeller!L199","v":64334},{"$f":"Skyggetabeller!M199","v":64307},{"$f":"Skyggetabeller!N199","v":64049},{"$f":"Skyggetabeller!O199","v":64356},{"$f":"Skyggetabeller!P199","v":64420},{"$f":"Skyggetabeller!Q199","v":64601},{"$f":"Skyggetabeller!R199","v":64665}]
[null,{"$f":"Skyggetabeller!B201","v":"Hele landet"}]
[null,{"$f":"Skyggetabeller!B204","v":"Andel"},null,{"$f":"Skyggetabeller!D204","v":20.299588855000124},{"$f":"Skyggetabeller!E204","v":20.059844014268517},{"$f":"Skyggetabeller!F204","v":20.076792723996654},{"$f":"Skyggetabeller!G204","v":20.038805880252454},{"$f":"Skyggetabeller!H204","v":20.72374090799407},{"$f":"Skyggetabeller!I204","v":20.62623158619223},{"$f":"Skyggetabeller!J204","v":21.349933743672782},{"$f":"Skyggetabeller!K204","v":21.44876052338757},{"$f":"Skyggetabeller!L204","v":21.872170356261904},{"$f":"Skyggetabeller!M204","v":22.710257483667341},{"$f":"Skyggetabeller!N204","v":23.033696158040609},{"$f":"Skyggetabeller!O204","v":23.187649383799926},{"$f":"Skyggetabeller!P204","v":23.701045323901596},{"$f":"Skyggetabeller!Q204","v":23.969637359249273},{"$f":"Skyggetabeller!R204","v":23.732030753424059}]
[null,{"$f":"Skyggetabeller!B203","v":"Antal 0-17-årige"},null,{"$f":"Skyggetabeller!D203","v":1168201},{"$f":"Skyggetabeller!E203","v":1165363},{"$f":"Skyggetabeller!F203","v":1165475},{"$f":"Skyggetabeller!G203","v":1162195},{"$f":"Skyggetabeller!H203","v":1160360},{"$f":"Skyggetabeller!I203","v":1156537},{"$f":"Skyggetabeller!J203","v":1156116},{"$f":"Skyggetabeller!K203","v":1153027},{"$f":"Skyggetabeller!L203","v":1152972},{"$f":"Skyggetabeller!M203","v":1151374},{"$f":"Skyggetabeller!N203","v":1151704},{"$f":"Skyggetabeller!O203","v":1157254},{"$f":"Skyggetabeller!P203","v":1155814},{"$f":"Skyggetabeller!Q203","v":1151415},{"$f":"Skyggetabeller!R203","v":1148490}]
[null,{"$f":"Registerdata!$B$30","v":"Anm.: Hvis nøgletallet er angivet med * er der foretaget en diskretionering af data, da der er for få observationer. "}]
[null,{"$f":"IF('Dine valg'!$G$24=\"\",\"Ingen sammenligningsgruppe valgt.\",\"Anm.: Valgte kommuner i sammenligningsgruppen: \"&'Dine valg'!$G$24&\" \"&'Dine valg'!$G$25&\" \"&'Dine valg'!$G$26&\" \"&'Dine valg'!$G$27&\" \"&'Dine valg'!$G$28&\" \"&'Dine valg'!$G$29&\" \"&'Dine valg'!$G$30)","v":"Anm.: Valgte kommuner i sammenligningsgruppen: Aarhus      "}]
[null,{"$f":"Registerdata!$B$32","v":"Kilde: Socialstyrelsens egne beregninger baseret på registerdata fra Danmarks Statistik."}]
[]
[null,"Figur 5.1: Modtagere af døgnophold",null,null,null,null,null,"Figur 5.2: Modtagere af hjemmebaserede anbringelser"]
[]
[]
[]
[]
[]
[]
[]
[]
[]
[]
[]
[]
[]
[]
[]
[]
[]
[]
[]
[]
[null,"Figur 5.3: Modtagere af ikke-forældrerettede forebyggende foranstaltninger",null,null,null,null,null,"Figur 5.4: Modtagere af forældrerettede indsatser"]
[]
[]
[]
[]
[]
[]
[]
[]
[]
[]
[]
[]
[]
[]
[]
[]
[]
[]
[]
[]
[]
[]
[]
[null,"Anm.: Hvis nøgletallet har værdien 0 i grafen kan det enten betyde 0 %, eller at der er foretaget en diskretionering af data, da der er for få observationer. Se tilhørende tabeller for værdien."]
[null,{"$f":"IF('Dine valg'!$G$24=\"\",\"Ingen sammenligningsgruppe valgt.\",\"Anm.: Valgte kommuner i sammenligningsgruppen: \"&'Dine valg'!$G$24&\" \"&'Dine valg'!$G$25&\" \"&'Dine valg'!$G$26&\" \"&'Dine valg'!$G$27&\" \"&'Dine valg'!$G$28&\" \"&'Dine valg'!$G$29&\" \"&'Dine valg'!$G$30)","v":"Anm.: Valgte kommuner i sammenligningsgruppen: Aarhus      "}]
[null,{"$f":"Registerdata!$B$32","v":"Kilde: Socialstyrelsens egne beregninger baseret på registerdata fra Danmarks Statistik."}]
[]
[null,"Tabel 5.1: Modtagere af døgnophold"]
[]
[null,{"$f":"Skyggetabeller!B207","v":"Nøgletal 5.1\nModtagere af døgnophold for både forældremyndigheds-indehaveren, barnet eller den unge og andre medlemmer af familien"},null,"2017-01-01","2017-07-01","2018-01-01","2018-07-01","2019-01-01","2019-07-01","2020-01-01","2020-07-01","2021-01-01","2021-07-01","2022-01-01","2022-07-01","2023-01-01","2023-07-01","2024-01-01"]
[null,{"$f":"Skyggetabeller!B208","v":"København"}]
[null,{"$f":"Skyggetabeller!B211","v":"Andel"},null,{"$f":"Skyggetabeller!D211","v":7.5553666713887704E-2},{"$f":"Skyggetabeller!E211","v":5.6120396958274484E-2},{"$f":"Skyggetabeller!F211","v":3.7116080541894775E-2},{"$f":"Skyggetabeller!G211","v":0.11036106461640333},{"$f":"Skyggetabeller!H211","v":0.12804682855444277},{"$f":"Skyggetabeller!I211","v":8.1715665801085913E-2},{"$f":"Skyggetabeller!J211","v":0.13535218638898416},{"$f":"Skyggetabeller!K211","v":7.2027946843375226E-2},{"$f":"Skyggetabeller!L211","v":5.408962651112894E-2},{"$f":"Skyggetabeller!M211","v":"*"},{"$f":"Skyggetabeller!N211","v":0.10858451041958865},{"$f":"Skyggetabeller!O211","v":9.0340765366964185E-2},{"$f":"Skyggetabeller!P211","v":9.9246627870257592E-2},{"$f":"Skyggetabeller!Q211","v":8.1026333558406494E-2},{"$f":"Skyggetabeller!R211","v":0.12661547783776939}]
[null,{"$f":"Skyggetabeller!B210","v":"Antal 0-17-årige"},null,{"$f":"Skyggetabeller!D210","v":105885},{"$f":"Skyggetabeller!E210","v":106913},{"$f":"Skyggetabeller!F210","v":107770},{"$f":"Skyggetabeller!G210","v":108734},{"$f":"Skyggetabeller!H210","v":109335},{"$f":"Skyggetabeller!I210","v":110138},{"$f":"Skyggetabeller!J210","v":110822},{"$f":"Skyggetabeller!K210","v":111068},{"$f":"Skyggetabeller!L210","v":110927},{"$f":"Skyggetabeller!M210","v":110614},{"$f":"Skyggetabeller!N210","v":110513},{"$f":"Skyggetabeller!O210","v":110692},{"$f":"Skyggetabeller!P210","v":110835},{"$f":"Skyggetabeller!Q210","v":111075},{"$f":"Skyggetabeller!R210","v":110571}]
[null,{"$f":"Skyggetabeller!B212","v":"Sammenligningsgruppe, gns."}]
[null,{"$f":"Skyggetabeller!B215","v":"Andel"},null,{"$f":"Skyggetabeller!D215","v":0},{"$f":"Skyggetabeller!E215","v":0},{"$f":"Skyggetabeller!F215","v":0},{"$f":"Skyggetabeller!G215","v":0},{"$f":"Skyggetabeller!H215","v":4.7164620246199315E-2},{"$f":"Skyggetabeller!I215","v":0},{"$f":"Skyggetabeller!J215","v":0},{"$f":"Skyggetabeller!K215","v":0},{"$f":"Skyggetabeller!L215","v":0},{"$f":"Skyggetabeller!M215","v":0},{"$f":"Skyggetabeller!N215","v":0},{"$f":"Skyggetabeller!O215","v":0},{"$f":"Skyggetabeller!P215","v":0},{"$f":"Skyggetabeller!Q215","v":0},{"$f":"Skyggetabeller!R215","v":0}]
[null,{"$f":"Skyggetabeller!B214","v":"Antal 0-17-årige"},null,{"$f":"Skyggetabeller!D214","v":62903},{"$f":"Skyggetabeller!E214","v":63077},{"$f":"Skyggetabeller!F214","v":63245},{"$f":"Skyggetabeller!G214","v":63510},{"$f":"Skyggetabeller!H214","v":63607},{"$f":"Skyggetabeller!I214","v":63704},{"$f":"Skyggetabeller!J214","v":63890},{"$f":"Skyggetabeller!K214","v":64128},{"$f":"Skyggetabeller!L214","v":64334},{"$f":"Skyggetabeller!M214","v":64307},{"$f":"Skyggetabeller!N214","v":64049},{"$f":"Skyggetabeller!O214","v":64356},{"$f":"Skyggetabeller!P214","v":64420},{"$f":"Skyggetabeller!Q214","v":64601},{"$f":"Skyggetabeller!R214","v":64665}]
[null,{"$f":"Skyggetabeller!B216","v":"Hele landet"}]
[null,{"$f":"Skyggetabeller!B219","v":"Andel"},null,{"$f":"Skyggetabeller!D219","v":7.0193399937168346E-2},{"$f":"Skyggetabeller!E219","v":6.3499527615000648E-2},{"$f":"Skyggetabeller!F219","v":4.8049078701816857E-2},{"$f":"Skyggetabeller!G219","v":6.883526430590392E-2},{"$f":"Skyggetabeller!H219","v":6.6358716260470893E-2},{"$f":"Skyggetabeller!I219","v":5.9660866881042288E-2},{"$f":"Skyggetabeller!J219","v":7.5251964335758689E-2},{"$f":"Skyggetabeller!K219","v":7.2851719864322345E-2},{"$f":"Skyggetabeller!L219","v":6.4181957584399263E-2},{"$f":"Skyggetabeller!M219","v":5.3848705980854179E-2},{"$f":"Skyggetabeller!N219","v":6.1647784500184079E-2},{"$f":"Skyggetabeller!O219","v":5.271098652499797E-2},{"$f":"Skyggetabeller!P219","v":6.2293760068661566E-2},{"$f":"Skyggetabeller!Q219","v":7.2953713474290333E-2},{"$f":"Skyggetabeller!R219","v":6.5303137162709302E-2}]
[null,{"$f":"Skyggetabeller!B218","v":"Antal 0-17-årige"},null,{"$f":"Skyggetabeller!D218","v":1168201},{"$f":"Skyggetabeller!E218","v":1165363},{"$f":"Skyggetabeller!F218","v":1165475},{"$f":"Skyggetabeller!G218","v":1162195},{"$f":"Skyggetabeller!H218","v":1160360},{"$f":"Skyggetabeller!I218","v":1156537},{"$f":"Skyggetabeller!J218","v":1156116},{"$f":"Skyggetabeller!K218","v":1153027},{"$f":"Skyggetabeller!L218","v":1152972},{"$f":"Skyggetabeller!M218","v":1151374},{"$f":"Skyggetabeller!N218","v":1151704},{"$f":"Skyggetabeller!O218","v":1157254},{"$f":"Skyggetabeller!P218","v":1155814},{"$f":"Skyggetabeller!Q218","v":1151415},{"$f":"Skyggetabeller!R218","v":1148490}]
[null,{"$f":"Registerdata!$B$30","v":"Anm.: Hvis nøgletallet er angivet med * er der foretaget en diskretionering af data, da der er for få observationer. "}]
[null,{"$f":"IF('Dine valg'!$G$24=\"\",\"Ingen sammenligningsgruppe valgt.\",\"Anm.: Valgte kommuner i sammenligningsgruppen: \"&'Dine valg'!$G$24&\" \"&'Dine valg'!$G$25&\" \"&'Dine valg'!$G$26&\" \"&'Dine valg'!$G$27&\" \"&'Dine valg'!$G$28&\" \"&'Dine valg'!$G$29&\" \"&'Dine valg'!$G$30)","v":"Anm.: Valgte kommuner i sammenligningsgruppen: Aarhus      "}]
[null,{"$f":"Registerdata!$B$32","v":"Kilde: Socialstyrelsens egne beregninger baseret på registerdata fra Danmarks Statistik."}]
[]
[null,{"$f":"Skyggetabeller!B221","v":"Tabel 5.2: Modtagere af hjemmebaserede anbringelser"}]
[]
[null,{"$f":"Skyggetabeller!B222","v":"Nøgletal 5.2: \nModtagere af hjemmebaserede anbringelser"},null,"2017-01-01","2017-07-01","2018-01-01","2018-07-01","2019-01-01","2019-07-01","2020-01-01","2020-07-01","2021-01-01","2021-07-01","2022-01-01","2022-07-01","2023-01-01","2023-07-01","2024-01-01"]
[null,{"$f":"Skyggetabeller!B223","v":"København"}]
[null,{"$f":"Skyggetabeller!B226","v":"Andel"},null,{"$f":"Skyggetabeller!D226","v":0.23610520848089908},{"$f":"Skyggetabeller!E226","v":0.24318838681918942},{"$f":"Skyggetabeller!F226","v":0.23197550338684234},{"$f":"Skyggetabeller!G226","v":0.14714808615520444},{"$f":"Skyggetabeller!H226","v":0.17377783875245806},{"$f":"Skyggetabeller!I226","v":8.1715665801085913E-2},{"$f":"Skyggetabeller!J226","v":9.0234790925989419E-2},{"$f":"Skyggetabeller!K226","v":8.1031440198797142E-2},{"$f":"Skyggetabeller!L226","v":0.12620912852596752},{"$f":"Skyggetabeller!M226","v":0.13560670439546529},{"$f":"Skyggetabeller!N226","v":0.12668192882285342},{"$f":"Skyggetabeller!O226","v":8.1306688830267759E-2},{"$f":"Skyggetabeller!P226","v":9.9246627870257592E-2},{"$f":"Skyggetabeller!Q226","v":9.0029259509340528E-2},{"$f":"Skyggetabeller!R226","v":0.11757151513507158}]
[null,{"$f":"Skyggetabeller!B225","v":"Antal 0-17-årige"},null,{"$f":"Skyggetabeller!D225","v":105885},{"$f":"Skyggetabeller!E225","v":106913},{"$f":"Skyggetabeller!F225","v":107770},{"$f":"Skyggetabeller!G225","v":108734},{"$f":"Skyggetabeller!H225","v":109335},{"$f":"Skyggetabeller!I225","v":110138},{"$f":"Skyggetabeller!J225","v":110822},{"$f":"Skyggetabeller!K225","v":111068},{"$f":"Skyggetabeller!L225","v":110927},{"$f":"Skyggetabeller!M225","v":110614},{"$f":"Skyggetabeller!N225","v":110513},{"$f":"Skyggetabeller!O225","v":110692},{"$f":"Skyggetabeller!P225","v":110835},{"$f":"Skyggetabeller!Q225","v":111075},{"$f":"Skyggetabeller!R225","v":110571}]
[null,{"$f":"Skyggetabeller!B227","v":"Sammenligningsgruppe, gns."}]
[null,{"$f":"Skyggetabeller!B230","v":"Andel"},null,{"$f":"Skyggetabeller!D230","v":0.38153983116862472},{"$f":"Skyggetabeller!E230","v":0.39634098007197555},{"$f":"Skyggetabeller!F230","v":0.28460747885208321},{"$f":"Skyggetabeller!G230","v":0},{"$f":"Skyggetabeller!H230","v":0.11005078057446507},{"$f":"Skyggetabeller!I230","v":7.8488007032525425E-2},{"$f":"Skyggetabeller!J230","v":0},{"$f":"Skyggetabeller!K230","v":0},{"$f":"Skyggetabeller!L230","v":0},{"$f":"Skyggetabeller!M230","v":0},{"$f":"Skyggetabeller!N230","v":0},{"$f":"Skyggetabeller!O230","v":0},{"$f":"Skyggetabeller!P230","v":0},{"$f":"Skyggetabeller!Q230","v":0},{"$f":"Skyggetabeller!R230","v":0}]
[null,{"$f":"Skyggetabeller!B229","v":"Antal 0-17-årige"},null,{"$f":"Skyggetabeller!D229","v":62903},{"$f":"Skyggetabeller!E229","v":63077},{"$f":"Skyggetabeller!F229","v":63245},{"$f":"Skyggetabeller!G229","v":63510},{"$f":"Skyggetabeller!H229","v":63607},{"$f":"Skyggetabeller!I229","v":63704},{"$f":"Skyggetabeller!J229","v":63890},{"$f":"Skyggetabeller!K229","v":64128},{"$f":"Skyggetabeller!L229","v":64334},{"$f":"Skyggetabeller!M229","v":64307},{"$f":"Skyggetabeller!N229","v":64049},{"$f":"Skyggetabeller!O229","v":64356},{"$f":"Skyggetabeller!P229","v":64420},{"$f":"Skyggetabeller!Q229","v":64601},{"$f":"Skyggetabeller!R229","v":64665}]
[null,{"$f":"Skyggetabeller!B231","v":"Hele landet"}]
[null,{"$f":"Skyggetabeller!B234","v":"Andel"},null,{"$f":"Skyggetabeller!D234","v":0.30987818021042607},{"$f":"Skyggetabeller!E234","v":0.29175458633919216},{"$f":"Skyggetabeller!F234","v":0.27714022179797937},{"$f":"Skyggetabeller!G234","v":0.2202728457788925},{"$f":"Skyggetabeller!H234","v":0.2206211865283188},{"$f":"Skyggetabeller!I234","v":0.1954109552915298},{"$f":"Skyggetabeller!J234","v":0.22056610236343066},{"$f":"Skyggetabeller!K234","v":0.20554592390290949},{"$f":"Skyggetabeller!L234","v":0.21596361403399214},{"$f":"Skyggetabeller!M234","v":0.21018365882849535},{"$f":"Skyggetabeller!N234","v":0.2179379423879747},{"$f":"Skyggetabeller!O234","v":0.21343628969958192},{"$f":"Skyggetabeller!P234","v":0.21370220467999176},{"$f":"Skyggetabeller!Q234","v":0.21017617453307452},{"$f":"Skyggetabeller!R234","v":0.22986704281273673}]
[null,{"$f":"Skyggetabeller!B233","v":"Antal 0-17-årige"},null,{"$f":"Skyggetabeller!D233","v":1168201},{"$f":"Skyggetabeller!E233","v":1165363},{"$f":"Skyggetabeller!F233","v":1165475},{"$f":"Skyggetabeller!G233","v":1162195},{"$f":"Skyggetabeller!H233","v":1160360},{"$f":"Skyggetabeller!I233","v":1156537},{"$f":"Skyggetabeller!J233","v":1156116},{"$f":"Skyggetabeller!K233","v":1153027},{"$f":"Skyggetabeller!L233","v":1152972},{"$f":"Skyggetabeller!M233","v":1151374},{"$f":"Skyggetabeller!N233","v":1151704},{"$f":"Skyggetabeller!O233","v":1157254},{"$f":"Skyggetabeller!P233","v":1155814},{"$f":"Skyggetabeller!Q233","v":1151415},{"$f":"Skyggetabeller!R233","v":1148490}]
[null,{"$f":"Registerdata!$B$30","v":"Anm.: Hvis nøgletallet er angivet med * er der foretaget en diskretionering af data, da der er for få observationer. "}]
[null,{"$f":"IF('Dine valg'!$G$24=\"\",\"Ingen sammenligningsgruppe valgt.\",\"Anm.: Valgte kommuner i sammenligningsgruppen: \"&'Dine valg'!$G$24&\" \"&'Dine valg'!$G$25&\" \"&'Dine valg'!$G$26&\" \"&'Dine valg'!$G$27&\" \"&'Dine valg'!$G$28&\" \"&'Dine valg'!$G$29&\" \"&'Dine valg'!$G$30)","v":"Anm.: Valgte kommuner i sammenligningsgruppen: Aarhus      "}]
[null,{"$f":"Registerdata!$B$32","v":"Kilde: Socialstyrelsens egne beregninger baseret på registerdata fra Danmarks Statistik."}]
[]
[null,{"$f":"Skyggetabeller!B236","v":"Tabel 5.3: Modtagere af ikke-forældrerettede forebyggende foranstaltninger"}]
[]
[null,{"$f":"Skyggetabeller!B237","v":"Nøgletal 5.3: \nBørn og unge, der modtager ikke-forældrerettede forebyggende foranstaltninger"},null,"2017-01-01","2017-07-01","2018-01-01","2018-07-01","2019-01-01","2019-07-01","2020-01-01","2020-07-01","2021-01-01","2021-07-01","2022-01-01","2022-07-01","2023-01-01","2023-07-01","2024-01-01"]
[null,{"$f":"Skyggetabeller!B238","v":"København"}]
[null,{"$f":"Skyggetabeller!B241","v":"Andel"},null,{"$f":"Skyggetabeller!D241","v":17.821221136138263},{"$f":"Skyggetabeller!E241","v":15.171213977720203},{"$f":"Skyggetabeller!F241","v":13.250440753456434},{"$f":"Skyggetabeller!G241","v":17.556606029392832},{"$f":"Skyggetabeller!H241","v":19.481410344354508},{"$f":"Skyggetabeller!I241","v":19.266738092211586},{"$f":"Skyggetabeller!J241","v":18.795906949883598},{"$f":"Skyggetabeller!K241","v":18.745273165988404},{"$f":"Skyggetabeller!L241","v":18.056920316965211},{"$f":"Skyggetabeller!M241","v":20.503733704594353},{"$f":"Skyggetabeller!N241","v":20.513423760100622},{"$f":"Skyggetabeller!O241","v":21.645647381924622},{"$f":"Skyggetabeller!P241","v":21.825235710741193},{"$f":"Skyggetabeller!Q241","v":21.562007652487058},{"$f":"Skyggetabeller!R241","v":21.361839903772239}]
[null,{"$f":"Skyggetabeller!B240","v":"Antal 0-17-årige"},null,{"$f":"Skyggetabeller!D240","v":105885},{"$f":"Skyggetabeller!E240","v":106913},{"$f":"Skyggetabeller!F240","v":107770},{"$f":"Skyggetabeller!G240","v":108734},{"$f":"Skyggetabeller!H240","v":109335},{"$f":"Skyggetabeller!I240","v":110138},{"$f":"Skyggetabeller!J240","v":110822},{"$f":"Skyggetabeller!K240","v":111068},{"$f":"Skyggetabeller!L240","v":110927},{"$f":"Skyggetabeller!M240","v":110614},{"$f":"Skyggetabeller!N240","v":110513},{"$f":"Skyggetabeller!O240","v":110692},{"$f":"Skyggetabeller!P240","v":110835},{"$f":"Skyggetabeller!Q240","v":111075},{"$f":"Skyggetabeller!R240","v":110571}]
[null,{"$f":"Skyggetabeller!B242","v":"Sammenligningsgruppe, gns."}]
[null,{"$f":"Skyggetabeller!B245","v":"Andel"},null,{"$f":"Skyggetabeller!D245","v":17.328267332241705},{"$f":"Skyggetabeller!E245","v":16.392662935776904},{"$f":"Skyggetabeller!F245","v":17.787967428255197},{"$f":"Skyggetabeller!G245","v":18.390804597701148},{"$f":"Skyggetabeller!H245","v":20.029242064552644},{"$f":"Skyggetabeller!I245","v":19.983046590480974},{"$f":"Skyggetabeller!J245","v":19.940522773516982},{"$f":"Skyggetabeller!K245","v":19.492265469061877},{"$f":"Skyggetabeller!L245","v":19.134516740759164},{"$f":"Skyggetabeller!M245","v":18.769340818262396},{"$f":"Skyggetabeller!N245","v":17.642742275445361},{"$f":"Skyggetabeller!O245","v":17.107961961588664},{"$f":"Skyggetabeller!P245","v":16.780502949394595},{"$f":"Skyggetabeller!Q245","v":16.207179455426385},{"$f":"Skyggetabeller!R245","v":15.356065877986547}]
[null,{"$f":"Skyggetabeller!B244","v":"Antal 0-17-årige"},null,{"$f":"Skyggetabeller!D244","v":62903},{"$f":"Skyggetabeller!E244","v":63077},{"$f":"Skyggetabeller!F244","v":63245},{"$f":"Skyggetabeller!G244","v":63510},{"$f":"Skyggetabeller!H244","v":63607},{"$f":"Skyggetabeller!I244","v":63704},{"$f":"Skyggetabeller!J244","v":63890},{"$f":"Skyggetabeller!K244","v":64128},{"$f":"Skyggetabeller!L244","v":64334},{"$f":"Skyggetabeller!M244","v":64307},{"$f":"Skyggetabeller!N244","v":64049},{"$f":"Skyggetabeller!O244","v":64356},{"$f":"Skyggetabeller!P244","v":64420},{"$f":"Skyggetabeller!Q244","v":64601},{"$f":"Skyggetabeller!R244","v":64665}]
[null,{"$f":"Skyggetabeller!B246","v":"Hele landet"}]
[null,{"$f":"Skyggetabeller!B249","v":"Andel"},null,{"$f":"Skyggetabeller!D249","v":19.640455709248663},{"$f":"Skyggetabeller!E249","v":19.451449891578847},{"$f":"Skyggetabeller!F249","v":19.503635856624982},{"$f":"Skyggetabeller!G249","v":19.519099634742879},{"$f":"Skyggetabeller!H249","v":20.235961253404117},{"$f":"Skyggetabeller!I249","v":20.19650041459979},{"$f":"Skyggetabeller!J249","v":20.881987620619384},{"$f":"Skyggetabeller!K249","v":20.997773686132241},{"$f":"Skyggetabeller!L249","v":21.403815530646018},{"$f":"Skyggetabeller!M249","v":22.283810473399608},{"$f":"Skyggetabeller!N249","v":22.596083715954794},{"$f":"Skyggetabeller!O249","v":22.764233262533548},{"$f":"Skyggetabeller!P249","v":23.246819990067607},{"$f":"Skyggetabeller!Q249","v":23.495438221666383},{"$f":"Skyggetabeller!R249","v":23.220054158068418}]
[null,{"$f":"Skyggetabeller!B248","v":"Antal 0-17-årige"},null,{"$f":"Skyggetabeller!D248","v":1168201},{"$f":"Skyggetabeller!E248","v":1165363},{"$f":"Skyggetabeller!F248","v":1165475},{"$f":"Skyggetabeller!G248","v":1162195},{"$f":"Skyggetabeller!H248","v":1160360},{"$f":"Skyggetabeller!I248","v":1156537},{"$f":"Skyggetabeller!J248","v":1156116},{"$f":"Skyggetabeller!K248","v":1153027},{"$f":"Skyggetabeller!L248","v":1152972},{"$f":"Skyggetabeller!M248","v":1151374},{"$f":"Skyggetabeller!N248","v":1151704},{"$f":"Skyggetabeller!O248","v":1157254},{"$f":"Skyggetabeller!P248","v":1155814},{"$f":"Skyggetabeller!Q248","v":1151415},{"$f":"Skyggetabeller!R248","v":1148490}]
[null,{"$f":"Registerdata!$B$30","v":"Anm.: Hvis nøgletallet er angivet med * er der foretaget en diskretionering af data, da der er for få observationer. "}]
[null,{"$f":"IF('Dine valg'!$G$24=\"\",\"Ingen sammenligningsgruppe valgt.\",\"Anm.: Valgte kommuner i sammenligningsgruppen: \"&'Dine valg'!$G$24&\" \"&'Dine valg'!$G$25&\" \"&'Dine valg'!$G$26&\" \"&'Dine valg'!$G$27&\" \"&'Dine valg'!$G$28&\" \"&'Dine valg'!$G$29&\" \"&'Dine valg'!$G$30)","v":"Anm.: Valgte kommuner i sammenligningsgruppen: Aarhus      "}]
[null,{"$f":"Registerdata!$B$32","v":"Kilde: Socialstyrelsens egne beregninger baseret på registerdata fra Danmarks Statistik."}]
[]
[null,{"$f":"Skyggetabeller!B251","v":"Tabel 5.4: Modtagere af forældrerettede indsatser"}]
[]
[null,{"$f":"Skyggetabeller!B252","v":"Nøgletal 5.4: \nModtagere af forældrerettede indsatser"},null,"2017-01-01","2017-07-01","2018-01-01","2018-07-01","2019-01-01","2019-07-01","2020-01-01","2020-07-01","2021-01-01","2021-07-01","2022-01-01","2022-07-01","2023-01-01","2023-07-01","2024-01-01"]
[null,{"$f":"Skyggetabeller!B253","v":"København"}]
[null,{"$f":"Skyggetabeller!B256","v":"Andel"},null,{"$f":"Skyggetabeller!D256","v":4.7221041696179814E-2},{"$f":"Skyggetabeller!E256","v":2.8060198479137242E-2},{"$f":"Skyggetabeller!F256","v":3.7116080541894775E-2},{"$f":"Skyggetabeller!G256","v":2.7590266154100831E-2},{"$f":"Skyggetabeller!H256","v":2.7438606118809165E-2},{"$f":"Skyggetabeller!I256","v":2.723855526702864E-2},{"$f":"Skyggetabeller!J256","v":4.511739546299471E-2},{"$f":"Skyggetabeller!K256","v":8.1031440198797142E-2},{"$f":"Skyggetabeller!L256","v":0.10817925302225788},{"$f":"Skyggetabeller!M256","v":"*"},{"$f":"Skyggetabeller!N256","v":0.11763321962122103},{"$f":"Skyggetabeller!O256","v":0.11744299497705345},{"$f":"Skyggetabeller!P256","v":0.15338115216312537},{"$f":"Skyggetabeller!Q256","v":0.12604096331307674},{"$f":"Skyggetabeller!R256","v":0.14470340324316502}]
[null,{"$f":"Skyggetabeller!B255","v":"Antal 0-17-årige"},null,{"$f":"Skyggetabeller!D255","v":105885},{"$f":"Skyggetabeller!E255","v":106913},{"$f":"Skyggetabeller!F255","v":107770},{"$f":"Skyggetabeller!G255","v":108734},{"$f":"Skyggetabeller!H255","v":109335},{"$f":"Skyggetabeller!I255","v":110138},{"$f":"Skyggetabeller!J255","v":110822},{"$f":"Skyggetabeller!K255","v":111068},{"$f":"Skyggetabeller!L255","v":110927},{"$f":"Skyggetabeller!M255","v":110614},{"$f":"Skyggetabeller!N255","v":110513},{"$f":"Skyggetabeller!O255","v":110692},{"$f":"Skyggetabeller!P255","v":110835},{"$f":"Skyggetabeller!Q255","v":111075},{"$f":"Skyggetabeller!R255","v":110571}]
[null,{"$f":"Skyggetabeller!B257","v":"Sammenligningsgruppe, gns."}]
[null,{"$f":"Skyggetabeller!B260","v":"Andel"},null,{"$f":"Skyggetabeller!D260","v":0},{"$f":"Skyggetabeller!E260","v":0},{"$f":"Skyggetabeller!F260","v":0},{"$f":"Skyggetabeller!G260","v":0.20469217446071486},{"$f":"Skyggetabeller!H260","v":0.17293694090273085},{"$f":"Skyggetabeller!I260","v":0.12558081125204071},{"$f":"Skyggetabeller!J260","v":0.12521521364845831},{"$f":"Skyggetabeller!K260","v":0.124750499001996},{"$f":"Skyggetabeller!L260","v":0.17098268411726303},{"$f":"Skyggetabeller!M260","v":0.15550406643133718},{"$f":"Skyggetabeller!N260","v":0.21858264766038502},{"$f":"Skyggetabeller!O260","v":0.15538566722605507},{"$f":"Skyggetabeller!P260","v":0.20180068301769635},{"$f":"Skyggetabeller!Q260","v":0.15479636538134084},{"$f":"Skyggetabeller!R260","v":0.21650042526869251}]
[null,{"$f":"Skyggetabeller!B259","v":"Antal 0-17-årige"},null,{"$f":"Skyggetabeller!D259","v":62903},{"$f":"Skyggetabeller!E259","v":63077},{"$f":"Skyggetabeller!F259","v":63245},{"$f":"Skyggetabeller!G259","v":63510},{"$f":"Skyggetabeller!H259","v":63607},{"$f":"Skyggetabeller!I259","v":63704},{"$f":"Skyggetabeller!J259","v":63890},{"$f":"Skyggetabeller!K259","v":64128},{"$f":"Skyggetabeller!L259","v":64334},{"$f":"Skyggetabeller!M259","v":64307},{"$f":"Skyggetabeller!N259","v":64049},{"$f":"Skyggetabeller!O259","v":64356},{"$f":"Skyggetabeller!P259","v":64420},{"$f":"Skyggetabeller!Q259","v":64601},{"$f":"Skyggetabeller!R259","v":64665}]
[null,{"$f":"Skyggetabeller!B261","v":"Hele landet"}]
[null,{"$f":"Skyggetabeller!B264","v":"Andel"},null,{"$f":"Skyggetabeller!D264","v":0.27906156560386441},{"$f":"Skyggetabeller!E264","v":0.25314000873547554},{"$f":"Skyggetabeller!F264","v":0.24796756687187629},{"$f":"Skyggetabeller!G264","v":0.23059813542477814},{"$f":"Skyggetabeller!H264","v":0.20079975180116513},{"$f":"Skyggetabeller!I264","v":0.17465934941986291},{"$f":"Skyggetabeller!J264","v":0.17212805635420667},{"$f":"Skyggetabeller!K264","v":0.17258919348809698},{"$f":"Skyggetabeller!L264","v":0.18820925399749516},{"$f":"Skyggetabeller!M264","v":0.16241464545838274},{"$f":"Skyggetabeller!N264","v":0.15802671519765493},{"$f":"Skyggetabeller!O264","v":0.15726884504179722},{"$f":"Skyggetabeller!P264","v":0.17822936908533726},{"$f":"Skyggetabeller!Q264","v":0.19106924957552229},{"$f":"Skyggetabeller!R264","v":0.21680641538019488}]
[null,{"$f":"Skyggetabeller!B263","v":"Antal 0-17-årige"},null,{"$f":"Skyggetabeller!D263","v":1168201},{"$f":"Skyggetabeller!E263","v":1165363},{"$f":"Skyggetabeller!F263","v":1165475},{"$f":"Skyggetabeller!G263","v":1162195},{"$f":"Skyggetabeller!H263","v":1160360},{"$f":"Skyggetabeller!I263","v":1156537},{"$f":"Skyggetabeller!J263","v":1156116},{"$f":"Skyggetabeller!K263","v":1153027},{"$f":"Skyggetabeller!L263","v":1152972},{"$f":"Skyggetabeller!M263","v":1151374},{"$f":"Skyggetabeller!N263","v":1151704},{"$f":"Skyggetabeller!O263","v":1157254},{"$f":"Skyggetabeller!P263","v":1155814},{"$f":"Skyggetabeller!Q263","v":1151415},{"$f":"Skyggetabeller!R263","v":1148490}]
[null,{"$f":"Registerdata!$B$30","v":"Anm.: Hvis nøgletallet er angivet med * er der foretaget en diskretionering af data, da der er for få observationer. "}]
[null,{"$f":"IF('Dine valg'!$G$24=\"\",\"Ingen sammenligningsgruppe valgt.\",\"Anm.: Valgte kommuner i sammenligningsgruppen: \"&'Dine valg'!$G$24&\" \"&'Dine valg'!$G$25&\" \"&'Dine valg'!$G$26&\" \"&'Dine valg'!$G$27&\" \"&'Dine valg'!$G$28&\" \"&'Dine valg'!$G$29&\" \"&'Dine valg'!$G$30)","v":"Anm.: Valgte kommuner i sammenligningsgruppen: Aarhus      "}]
[null,{"$f":"Registerdata!$B$32","v":"Kilde: Socialstyrelsens egne beregninger baseret på registerdata fra Danmarks Statistik."}]
[]
[]
[null,{"$f":"Skyggetabeller!B267","v":"Nøgletal 6: Forebyggende indsatser (§ 11, stk. 3-tilbud)"}]
[]
[null,{"$f":"\"Figur 6: Modtagere af § 11, stk. 3-tilbud for \"&Kommune&\"\"","v":"Figur 6: Modtagere af § 11, stk. 3-tilbud for København"},null,null,null,null,null,null,null,null,null,null,"Benyt, slet eller erstat gerne følgende tekst til beskrivelse af udviklingen over tid for det pågældende nøgletal. Beskrivelsen vil blive indsat i rapporten (skriv maks 20 linjer):"]
[]
[]
[]
[]
[]
[]
[]
[]
[]
[]
[]
[]
[]
[]
[]
[]
[]
[null,{"$f":"Registerdata!$B$30","v":"Anm.: Hvis nøgletallet er angivet med * er der foretaget en diskretionering af data, da der er for få observationer. "}]
[null,{"$f":"IF('Dine valg'!$G$24=\"\",\"Ingen sammenligningsgruppe valgt.\",\"Anm.: Valgte kommuner i sammenligningsgruppen: \"&'Dine valg'!$G$24&\" \"&'Dine valg'!$G$25&\" \"&'Dine valg'!$G$26&\" \"&'Dine valg'!$G$27&\" \"&'Dine valg'!$G$28&\" \"&'Dine valg'!$G$29&\" \"&'Dine valg'!$G$30)","v":"Anm.: Valgte kommuner i sammenligningsgruppen: Aarhus      "}]
[null,{"$f":"Registerdata!$B$32","v":"Kilde: Socialstyrelsens egne beregninger baseret på registerdata fra Danmarks Statistik."}]
[]
[null,{"$f":"Skyggetabeller!B269","v":"Tabel 6: Samlet antal § 11, stk. 3-tilbud for København"}]
[]
[null,{"$f":"Skyggetabeller!B270","v":"Nøgletal 6: \nModtagere af § 11, stk. 3-tilbud"},null,"2017-01-01","2017-07-01","2018-01-01","2018-07-01","2019-01-01","2019-07-01","2020-01-01","2020-07-01","2021-01-01","2021-07-01","2022-01-01","2022-07-01","2023-01-01","2023-07-01","2024-01-01"]
[null,{"$f":"Skyggetabeller!B273","v":"Andel"},null,{"$f":"Skyggetabeller!D273","v":"-"},{"$f":"Skyggetabeller!E273","v":"-"},{"$f":"Skyggetabeller!F273","v":"-"},{"$f":"Skyggetabeller!G273","v":"-"},{"$f":"Skyggetabeller!H273","v":"-"},{"$f":"Skyggetabeller!I273","v":"-"},{"$f":"Skyggetabeller!J273","v":"-"},{"$f":"Skyggetabeller!K273","v":"-"},{"$f":"Skyggetabeller!L273","v":"-"},{"$f":"Skyggetabeller!M273","v":"-"},{"$f":"Skyggetabeller!N273","v":"-"},{"$f":"Skyggetabeller!O273","v":"-"},{"$f":"Skyggetabeller!P273","v":"-"},{"$f":"Skyggetabeller!Q273","v":"-"},{"$f":"Skyggetabeller!R273","v":"-"}]
[null,{"$f":"Skyggetabeller!B272","v":"Antal 0-17-årige"},null,{"$f":"Skyggetabeller!D272","v":105885},{"$f":"Skyggetabeller!E272","v":106913},{"$f":"Skyggetabeller!F272","v":107770},{"$f":"Skyggetabeller!G272","v":108734},{"$f":"Skyggetabeller!H272","v":109335},{"$f":"Skyggetabeller!I272","v":110138},{"$f":"Skyggetabeller!J272","v":110822},{"$f":"Skyggetabeller!K272","v":111068},{"$f":"Skyggetabeller!L272","v":110927},{"$f":"Skyggetabeller!M272","v":110614},{"$f":"Skyggetabeller!N272","v":110513},{"$f":"Skyggetabeller!O272","v":110692},{"$f":"Skyggetabeller!P272","v":110835},{"$f":"Skyggetabeller!Q272","v":111075},{"$f":"Skyggetabeller!R272","v":110571}]
[null,{"$f":"Registerdata!$B$30","v":"Anm.: Hvis nøgletallet er angivet med * er der foretaget en diskretionering af data, da der er for få observationer. "}]
[null,{"$f":"IF('Dine valg'!$G$24=\"\",\"Ingen sammenligningsgruppe valgt.\",\"Anm.: Valgte kommuner i sammenligningsgruppen: \"&'Dine valg'!$G$24&\" \"&'Dine valg'!$G$25&\" \"&'Dine valg'!$G$26&\" \"&'Dine valg'!$G$27&\" \"&'Dine valg'!$G$28&\" \"&'Dine valg'!$G$29&\" \"&'Dine valg'!$G$30)","v":"Anm.: Valgte kommuner i sammenligningsgruppen: Aarhus      "}]
[null,{"$f":"Registerdata!$B$32","v":"Kilde: Socialstyrelsens egne beregninger baseret på registerdata fra Danmarks Statistik."}]
[]
[null,"Figur 6.1: Myndighedsbevilgede § 11, stk. 3-tilbud (pr. 1.000 0-17-årige)",null,null,null,null,"Figur 6.2: Øvrige § 11, stk. 3-tilbud (pr. 1.000 0-17-årige)"]
[]
[]
[]
[]
[]
[]
[]
[]
[]
[]
[]
[]
[]
[]
[]
[]
[]
[]
[]
[]
[]
[]
[]
[null,"Anm.: Hvis nøgletallet har værdien 0 i grafen kan det enten betyde 0 %, eller at der er foretaget en diskretionering af data, da der er for få observationer. Se tilhørende tabeller for værdien."]
[null,{"$f":"IF('Dine valg'!$G$24=\"\",\"Ingen sammenligningsgruppe valgt.\",\"Anm.: Valgte kommuner i sammenligningsgruppen: \"&'Dine valg'!$G$24&\" \"&'Dine valg'!$G$25&\" \"&'Dine valg'!$G$26&\" \"&'Dine valg'!$G$27&\" \"&'Dine valg'!$G$28&\" \"&'Dine valg'!$G$29&\" \"&'Dine valg'!$G$30)","v":"Anm.: Valgte kommuner i sammenligningsgruppen: Aarhus      "}]
[null,{"$f":"Registerdata!$B$32","v":"Kilde: Socialstyrelsens egne beregninger baseret på registerdata fra Danmarks Statistik."}]
[]
[null,{"$f":"Skyggetabeller!B275","v":"Tabel 6.1: Myndighedsbevilgede § 11, stk. 3-tilbud (pr. 1.000 0-17-årige) for København"}]
[]
[null,{"$f":"Skyggetabeller!B277","v":"Nøgletal 6.1: \nModtagere af myndighedsbevilgede § 11, stk. 3-tilbud"},null,"2017-01-01","2017-07-01","2018-01-01","2018-07-01","2019-01-01","2019-07-01","2020-01-01","2020-07-01","2021-01-01","2021-07-01","2022-01-01","2022-07-01","2023-01-01","2023-07-01","2024-01-01"]
[null,{"$f":"Skyggetabeller!B280","v":"Andel"},null,{"$f":"Skyggetabeller!D280","v":"-"},{"$f":"Skyggetabeller!E280","v":"-"},{"$f":"Skyggetabeller!F280","v":"-"},{"$f":"Skyggetabeller!G280","v":"-"},{"$f":"Skyggetabeller!H280","v":"-"},{"$f":"Skyggetabeller!I280","v":"-"},{"$f":"Skyggetabeller!J280","v":"-"},{"$f":"Skyggetabeller!K280","v":"-"},{"$f":"Skyggetabeller!L280","v":"-"},{"$f":"Skyggetabeller!M280","v":"-"},{"$f":"Skyggetabeller!N280","v":"-"},{"$f":"Skyggetabeller!O280","v":"-"},{"$f":"Skyggetabeller!P280","v":"-"},{"$f":"Skyggetabeller!Q280","v":"-"},{"$f":"Skyggetabeller!R280","v":"-"}]
[null,{"$f":"Skyggetabeller!B279","v":"Antal 0-17-årige"},null,{"$f":"Skyggetabeller!D279","v":105885},{"$f":"Skyggetabeller!E279","v":106913},{"$f":"Skyggetabeller!F279","v":107770},{"$f":"Skyggetabeller!G279","v":108734},{"$f":"Skyggetabeller!H279","v":109335},{"$f":"Skyggetabeller!I279","v":110138},{"$f":"Skyggetabeller!J279","v":110822},{"$f":"Skyggetabeller!K279","v":111068},{"$f":"Skyggetabeller!L279","v":110927},{"$f":"Skyggetabeller!M279","v":110614},{"$f":"Skyggetabeller!N279","v":110513},{"$f":"Skyggetabeller!O279","v":110692},{"$f":"Skyggetabeller!P279","v":110835},{"$f":"Skyggetabeller!Q279","v":111075},{"$f":"Skyggetabeller!R279","v":110571}]
[null,{"$f":"Registerdata!$B$30","v":"Anm.: Hvis nøgletallet er angivet med * er der foretaget en diskretionering af data, da der er for få observationer. "}]
[null,{"$f":"IF('Dine valg'!$G$24=\"\",\"Ingen sammenligningsgruppe valgt.\",\"Anm.: Valgte kommuner i sammenligningsgruppen: \"&'Dine valg'!$G$24&\" \"&'Dine valg'!$G$25&\" \"&'Dine valg'!$G$26&\" \"&'Dine valg'!$G$27&\" \"&'Dine valg'!$G$28&\" \"&'Dine valg'!$G$29&\" \"&'Dine valg'!$G$30)","v":"Anm.: Valgte kommuner i sammenligningsgruppen: Aarhus      "}]
[null,{"$f":"Registerdata!$B$32","v":"Kilde: Socialstyrelsens egne beregninger baseret på registerdata fra Danmarks Statistik."}]
[]
[null,{"$f":"Skyggetabeller!B281","v":"Tabel 6.2: Øvrige § 11, stk. 3-tilbud (pr. 1.000 0-17-årige) for København"}]
[]
[null,{"$f":"Skyggetabeller!B283","v":"Nøgletal 6.2: \nModtagere af øvrige § 11, stk. 3-tilbud"},null,"2017-01-01","2017-07-01","2018-01-01","2018-07-01","2019-01-01","2019-07-01","2020-01-01","2020-07-01","2021-01-01","2021-07-01","2022-01-01","2022-07-01","2023-01-01","2023-07-01","2024-01-01"]
[null,{"$f":"Skyggetabeller!B286","v":"Andel"},null,{"$f":"Skyggetabeller!D286","v":"-"},{"$f":"Skyggetabeller!E286","v":"-"},{"$f":"Skyggetabeller!F286","v":"-"},{"$f":"Skyggetabeller!G286","v":"-"},{"$f":"Skyggetabeller!H286","v":"-"},{"$f":"Skyggetabeller!I286","v":"-"},{"$f":"Skyggetabeller!J286","v":"-"},{"$f":"Skyggetabeller!K286","v":"-"},{"$f":"Skyggetabeller!L286","v":"-"},{"$f":"Skyggetabeller!M286","v":"-"},{"$f":"Skyggetabeller!N286","v":"-"},{"$f":"Skyggetabeller!O286","v":"-"},{"$f":"Skyggetabeller!P286","v":"-"},{"$f":"Skyggetabeller!Q286","v":"-"},{"$f":"Skyggetabeller!R286","v":"-"}]
[null,{"$f":"Skyggetabeller!B285","v":"Antal 0-17-årige"},null,{"$f":"Skyggetabeller!D285","v":105885},{"$f":"Skyggetabeller!E285","v":106913},{"$f":"Skyggetabeller!F285","v":107770},{"$f":"Skyggetabeller!G285","v":108734},{"$f":"Skyggetabeller!H285","v":109335},{"$f":"Skyggetabeller!I285","v":110138},{"$f":"Skyggetabeller!J285","v":110822},{"$f":"Skyggetabeller!K285","v":111068},{"$f":"Skyggetabeller!L285","v":110927},{"$f":"Skyggetabeller!M285","v":110614},{"$f":"Skyggetabeller!N285","v":110513},{"$f":"Skyggetabeller!O285","v":110692},{"$f":"Skyggetabeller!P285","v":110835},{"$f":"Skyggetabeller!Q285","v":111075},{"$f":"Skyggetabeller!R285","v":110571}]
[null,{"$f":"Registerdata!$B$30","v":"Anm.: Hvis nøgletallet er angivet med * er der foretaget en diskretionering af data, da der er for få observationer. "}]
[null,{"$f":"IF('Dine valg'!$G$24=\"\",\"Ingen sammenligningsgruppe valgt.\",\"Anm.: Valgte kommuner i sammenligningsgruppen: \"&'Dine valg'!$G$24&\" \"&'Dine valg'!$G$25&\" \"&'Dine valg'!$G$26&\" \"&'Dine valg'!$G$27&\" \"&'Dine valg'!$G$28&\" \"&'Dine valg'!$G$29&\" \"&'Dine valg'!$G$30)","v":"Anm.: Valgte kommuner i sammenligningsgruppen: Aarhus      "}]
[null,{"$f":"Registerdata!$B$32","v":"Kilde: Socialstyrelsens egne beregninger baseret på registerdata fra Danmarks Statistik."}]
[]
[]
[null,{"$f":"Skyggetabeller!B289","v":"Nøgletal 7: Fra institutionsanbringelse og ned ad trappen"}]
[]
[null,"Figur 7: Børn og unge, der ved forrige opgørelse var institutionsanbragt eller anbragt på socialpædagogisk opholdssted, og som nu ikke er anbragt eller anbragt i anden form",null,null,null,null,null,null,null,null,null,null,"Benyt, slet eller erstat gerne følgende tekst til beskrivelse af udviklingen over tid for det pågældende nøgletal. Beskrivelsen vil blive indsat i rapporten (skriv maks 20 linjer):"]
[]
[]
[]
[]
[]
[]
[]
[]
[]
[]
[]
[]
[]
[]
[]
[]
[]
[]
[]
[]
[]
[]
[null,{"$f":"Registerdata!$B$30","v":"Anm.: Hvis nøgletallet er angivet med * er der foretaget en diskretionering af data, da der er for få observationer. "}]
[null,{"$f":"IF('Dine valg'!$G$24=\"\",\"Ingen sammenligningsgruppe valgt.\",\"Anm.: Valgte kommuner i sammenligningsgruppen: \"&'Dine valg'!$G$24&\" \"&'Dine valg'!$G$25&\" \"&'Dine valg'!$G$26&\" \"&'Dine valg'!$G$27&\" \"&'Dine valg'!$G$28&\" \"&'Dine valg'!$G$29&\" \"&'Dine valg'!$G$30)","v":"Anm.: Valgte kommuner i sammenligningsgruppen: Aarhus      "}]
[null,{"$f":"Registerdata!$B$32","v":"Kilde: Socialstyrelsens egne beregninger baseret på registerdata fra Danmarks Statistik."}]
[]
[null,{"$f":"Skyggetabeller!B291","v":"Tabel 7: Fra institutionsanbringelse og ned ad trappen"}]
[]
[null,{"$f":"Skyggetabeller!B292","v":"Nøgletal 7: \nBørn og unge, der ved forrige opgørelse var institutionsanbragt eller anbragt på socialpædagogisk opholdssted, og som nu ikke er anbragt eller anbragt i anden form"},null,"2017-01-01","2017-07-01","2018-01-01","2018-07-01","2019-01-01","2019-07-01","2020-01-01","2020-07-01","2021-01-01","2021-07-01","2022-01-01","2022-07-01","2023-01-01","2023-07-01","2024-01-01"]
[null,{"$f":"Skyggetabeller!B293","v":"København"}]
[null,{"$f":"Skyggetabeller!B296","v":"Andel"},null,{"$f":"Skyggetabeller!D296","v":0.19658119658119658},{"$f":"Skyggetabeller!E296","v":0.22222222222222221},{"$f":"Skyggetabeller!F296","v":0.26431718061674009},{"$f":"Skyggetabeller!G296","v":0.23255813953488372},{"$f":"Skyggetabeller!H296","v":0.22374429223744291},{"$f":"Skyggetabeller!I296","v":0.24757281553398058},{"$f":"Skyggetabeller!J296","v":0.36923076923076925},{"$f":"Skyggetabeller!K296","v":0.19753086419753085},{"$f":"Skyggetabeller!L296","v":0.20765027322404372},{"$f":"Skyggetabeller!M296","v":0.21182266009852216},{"$f":"Skyggetabeller!N296","v":0.25339366515837103},{"$f":"Skyggetabeller!O296","v":0.25},{"$f":"Skyggetabeller!P296","v":0.1991869918699187},{"$f":"Skyggetabeller!Q296","v":0.18650793650793651},{"$f":"Skyggetabeller!R296","v":0.2518248175182482}]
[null,{"$f":"Skyggetabeller!B295","v":"Antal tidligere institutionsanbragte"},null,{"$f":"Skyggetabeller!D295","v":234},{"$f":"Skyggetabeller!E295","v":225},{"$f":"Skyggetabeller!F295","v":227},{"$f":"Skyggetabeller!G295","v":215},{"$f":"Skyggetabeller!H295","v":219},{"$f":"Skyggetabeller!I295","v":206},{"$f":"Skyggetabeller!J295","v":195},{"$f":"Skyggetabeller!K295","v":162},{"$f":"Skyggetabeller!L295","v":183},{"$f":"Skyggetabeller!M295","v":203},{"$f":"Skyggetabeller!N295","v":221},{"$f":"Skyggetabeller!O295","v":220},{"$f":"Skyggetabeller!P295","v":246},{"$f":"Skyggetabeller!Q295","v":252},{"$f":"Skyggetabeller!R295","v":274}]
[null,{"$f":"Skyggetabeller!B297","v":"Sammenligningsgruppe, gns."}]
[null,{"$f":"Skyggetabeller!B300","v":"Andel"},null,{"$f":"Skyggetabeller!D300","v":0.18},{"$f":"Skyggetabeller!E300","v":0.19148936170212766},{"$f":"Skyggetabeller!F300","v":0.18817204301075269},{"$f":"Skyggetabeller!G300","v":0.20786516853932585},{"$f":"Skyggetabeller!H300","v":0.16867469879518071},{"$f":"Skyggetabeller!I300","v":0.14450867052023122},{"$f":"Skyggetabeller!J300","v":0.1791907514450867},{"$f":"Skyggetabeller!K300","v":0.28313253012048195},{"$f":"Skyggetabeller!L300","v":0.16666666666666666},{"$f":"Skyggetabeller!M300","v":0.18343195266272189},{"$f":"Skyggetabeller!N300","v":0.23809523809523808},{"$f":"Skyggetabeller!O300","v":0.12987012987012986},{"$f":"Skyggetabeller!P300","v":0.19642857142857142},{"$f":"Skyggetabeller!Q300","v":0.18518518518518517},{"$f":"Skyggetabeller!R300","v":0.21118012422360249}]
[null,{"$f":"Skyggetabeller!B299","v":"Antal tidligere institutionsanbragte"},null,{"$f":"Skyggetabeller!D299","v":200},{"$f":"Skyggetabeller!E299","v":188},{"$f":"Skyggetabeller!F299","v":186},{"$f":"Skyggetabeller!G299","v":178},{"$f":"Skyggetabeller!H299","v":166},{"$f":"Skyggetabeller!I299","v":173},{"$f":"Skyggetabeller!J299","v":173},{"$f":"Skyggetabeller!K299","v":166},{"$f":"Skyggetabeller!L299","v":168},{"$f":"Skyggetabeller!M299","v":169},{"$f":"Skyggetabeller!N299","v":168},{"$f":"Skyggetabeller!O299","v":154},{"$f":"Skyggetabeller!P299","v":168},{"$f":"Skyggetabeller!Q299","v":162},{"$f":"Skyggetabeller!R299","v":161}]
[null,{"$f":"Skyggetabeller!B301","v":"Hele landet"}]
[null,{"$f":"Skyggetabeller!B304","v":"Andel"},null,{"$f":"Skyggetabeller!D304","v":0.18457059679767104},{"$f":"Skyggetabeller!E304","v":0.19361513449600945},{"$f":"Skyggetabeller!F304","v":0.20202312138728323},{"$f":"Skyggetabeller!G304","v":0.18937370139507273},{"$f":"Skyggetabeller!H304","v":0.19771193898503961},{"$f":"Skyggetabeller!I304","v":0.18253248715624057},{"$f":"Skyggetabeller!J304","v":0.19804996953077392},{"$f":"Skyggetabeller!K304","v":0.17073915699450215},{"$f":"Skyggetabeller!L304","v":0.17858211187556086},{"$f":"Skyggetabeller!M304","v":0.17303172737955347},{"$f":"Skyggetabeller!N304","v":0.18889524899828278},{"$f":"Skyggetabeller!O304","v":0.1646586345381526},{"$f":"Skyggetabeller!P304","v":0.17850340136054421},{"$f":"Skyggetabeller!Q304","v":0.16612729234088458},{"$f":"Skyggetabeller!R304","v":0.17007163703900238}]
[null,{"$f":"Skyggetabeller!B303","v":"Antal tidligere institutionsanbragte"},null,{"$f":"Skyggetabeller!D303","v":3435},{"$f":"Skyggetabeller!E303","v":3383},{"$f":"Skyggetabeller!F303","v":3460},{"$f":"Skyggetabeller!G303","v":3369},{"$f":"Skyggetabeller!H303","v":3409},{"$f":"Skyggetabeller!I303","v":3309},{"$f":"Skyggetabeller!J303","v":3282},{"$f":"Skyggetabeller!K303","v":3274},{"$f":"Skyggetabeller!L303","v":3343},{"$f":"Skyggetabeller!M303","v":3404},{"$f":"Skyggetabeller!N303","v":3494},{"$f":"Skyggetabeller!O303","v":3486},{"$f":"Skyggetabeller!P303","v":3675},{"$f":"Skyggetabeller!Q303","v":3708},{"$f":"Skyggetabeller!R303","v":3769}]
[null,{"$f":"Registerdata!$B$30","v":"Anm.: Hvis nøgletallet er angivet med * er der foretaget en diskretionering af data, da der er for få observationer. "}]
[null,{"$f":"IF('Dine valg'!$G$24=\"\",\"Ingen sammenligningsgruppe valgt.\",\"Anm.: Valgte kommuner i sammenligningsgruppen: \"&'Dine valg'!$G$24&\" \"&'Dine valg'!$G$25&\" \"&'Dine valg'!$G$26&\" \"&'Dine valg'!$G$27&\" \"&'Dine valg'!$G$28&\" \"&'Dine valg'!$G$29&\" \"&'Dine valg'!$G$30)","v":"Anm.: Valgte kommuner i sammenligningsgruppen: Aarhus      "}]
[null,{"$f":"Registerdata!$B$32","v":"Kilde: Socialstyrelsens egne beregninger baseret på registerdata fra Danmarks Statistik."}]
[]
[]
[null,"Figur 7.1: Børn og unge, der ved sidste opgørelse var institutionsanbragt, men som ved denne måling er hhv. anbragt i anden form eller ikke længere er anbragt",null,null,null,null,null,"Figur 7.2: Børn og unge, der ved sidste opgørelse var anbragt på socialpædagogiske opholdssteder, men som ved denne måling er hhv. anbragt i anden form eller ikke længere er anbragt"]
[]
[]
[]
[]
[]
[]
[]
[]
[]
[]
[]
[]
[]
[]
[]
[]
[]
[]
[]
[]
[]
[]
[]
[]
[]
[null,"Anm.: Hvis nøgletallet har værdien 0 i grafen kan det enten betyde 0 %, eller at der er foretaget en diskretionering af data, da der er for få observationer. Se tilhørende tabeller for værdien."]
[null,{"$f":"IF('Dine valg'!$G$24=\"\",\"Ingen sammenligningsgruppe valgt.\",\"Anm.: Valgte kommuner i sammenligningsgruppen: \"&'Dine valg'!$G$24&\" \"&'Dine valg'!$G$25&\" \"&'Dine valg'!$G$26&\" \"&'Dine valg'!$G$27&\" \"&'Dine valg'!$G$28&\" \"&'Dine valg'!$G$29&\" \"&'Dine valg'!$G$30)","v":"Anm.: Valgte kommuner i sammenligningsgruppen: Aarhus      "}]
[null,{"$f":"Registerdata!$B$32","v":"Kilde: Socialstyrelsens egne beregninger baseret på registerdata fra Danmarks Statistik."}]
[]
[]
[null,{"$f":"Skyggetabeller!B306","v":"Tabel 7.1: Fra institutionsanbringelse til anden anbringelse"}]
[]
[null,{"$f":"Skyggetabeller!B307","v":"Nøgletal 7.1: \nTidligere institutionsanbragte, som nu er anbragt i anden form"},null,"2017-01-01","2017-07-01","2018-01-01","2018-07-01","2019-01-01","2019-07-01","2020-01-01","2020-07-01","2021-01-01","2021-07-01","2022-01-01","2022-07-01","2023-01-01","2023-07-01","2024-01-01"]
[null,{"$f":"Skyggetabeller!B308","v":"København"}]
[null,{"$f":"Skyggetabeller!B311","v":"Andel"},null,{"$f":"Skyggetabeller!D311","v":3.8461538461538464E-2},{"$f":"Skyggetabeller!E311","v":1.7777777777777778E-2},{"$f":"Skyggetabeller!F311","v":3.9647577092511016E-2},{"$f":"Skyggetabeller!G311","v":2.7906976744186046E-2},{"$f":"Skyggetabeller!H311","v":4.1095890410958902E-2},{"$f":"Skyggetabeller!I311","v":1.9417475728155338E-2},{"$f":"Skyggetabeller!J311","v":3.5897435897435895E-2},{"$f":"Skyggetabeller!K311","v":"*"},{"$f":"Skyggetabeller!L311","v":3.825136612021858E-2},{"$f":"Skyggetabeller!M311","v":2.4630541871921183E-2},{"$f":"Skyggetabeller!N311","v":3.6199095022624438E-2},{"$f":"Skyggetabeller!O311","v":"*"},{"$f":"Skyggetabeller!P311","v":2.4390243902439025E-2},{"$f":"Skyggetabeller!Q311","v":"*"},{"$f":"Skyggetabeller!R311","v":"*"}]
[null,{"$f":"Skyggetabeller!B310","v":"Antal tidligere institutionsanbragte"},null,{"$f":"Skyggetabeller!D310","v":234},{"$f":"Skyggetabeller!E310","v":225},{"$f":"Skyggetabeller!F310","v":227},{"$f":"Skyggetabeller!G310","v":215},{"$f":"Skyggetabeller!H310","v":219},{"$f":"Skyggetabeller!I310","v":206},{"$f":"Skyggetabeller!J310","v":195},{"$f":"Skyggetabeller!K310","v":162},{"$f":"Skyggetabeller!L310","v":183},{"$f":"Skyggetabeller!M310","v":203},{"$f":"Skyggetabeller!N310","v":221},{"$f":"Skyggetabeller!O310","v":220},{"$f":"Skyggetabeller!P310","v":246},{"$f":"Skyggetabeller!Q310","v":252},{"$f":"Skyggetabeller!R310","v":274}]
[null,{"$f":"Skyggetabeller!B312","v":"Sammenligningsgruppe, gns."}]
[null,{"$f":"Skyggetabeller!B315","v":"Andel"},null,{"$f":"Skyggetabeller!D315","v":0.03},{"$f":"Skyggetabeller!E315","v":0},{"$f":"Skyggetabeller!F315","v":2.6881720430107527E-2},{"$f":"Skyggetabeller!G315","v":0},{"$f":"Skyggetabeller!H315","v":0},{"$f":"Skyggetabeller!I315","v":0},{"$f":"Skyggetabeller!J315","v":0},{"$f":"Skyggetabeller!K315","v":3.0120481927710843E-2},{"$f":"Skyggetabeller!L315","v":0},{"$f":"Skyggetabeller!M315","v":1.7751479289940829E-2},{"$f":"Skyggetabeller!N315","v":1.7857142857142856E-2},{"$f":"Skyggetabeller!O315","v":0},{"$f":"Skyggetabeller!P315","v":0},{"$f":"Skyggetabeller!Q315","v":0},{"$f":"Skyggetabeller!R315","v":0}]
[null,{"$f":"Skyggetabeller!B314","v":"Antal tidligere institutionsanbragte"},null,{"$f":"Skyggetabeller!D314","v":200},{"$f":"Skyggetabeller!E314","v":188},{"$f":"Skyggetabeller!F314","v":186},{"$f":"Skyggetabeller!G314","v":178},{"$f":"Skyggetabeller!H314","v":166},{"$f":"Skyggetabeller!I314","v":173},{"$f":"Skyggetabeller!J314","v":173},{"$f":"Skyggetabeller!K314","v":166},{"$f":"Skyggetabeller!L314","v":168},{"$f":"Skyggetabeller!M314","v":169},{"$f":"Skyggetabeller!N314","v":168},{"$f":"Skyggetabeller!O314","v":154},{"$f":"Skyggetabeller!P314","v":168},{"$f":"Skyggetabeller!Q314","v":162},{"$f":"Skyggetabeller!R314","v":161}]
[null,{"$f":"Skyggetabeller!B316","v":"Hele landet"}]
[null,{"$f":"Skyggetabeller!B319","v":"Andel"},null,{"$f":"Skyggetabeller!D319","v":2.212518195050946E-2},{"$f":"Skyggetabeller!E319","v":2.1874076263671299E-2},{"$f":"Skyggetabeller!F319","v":2.2832369942196531E-2},{"$f":"Skyggetabeller!G319","v":1.7215791035915702E-2},{"$f":"Skyggetabeller!H319","v":2.2587268993839837E-2},{"$f":"Skyggetabeller!I319","v":1.8736778482925355E-2},{"$f":"Skyggetabeller!J319","v":2.2547227300426569E-2},{"$f":"Skyggetabeller!K319","v":1.6188149053146E-2},{"$f":"Skyggetabeller!L319","v":2.0341011067903082E-2},{"$f":"Skyggetabeller!M319","v":1.8507638072855465E-2},{"$f":"Skyggetabeller!N319","v":1.3737836290784202E-2},{"$f":"Skyggetabeller!O319","v":1.3195639701663799E-2},{"$f":"Skyggetabeller!P319","v":1.5238095238095238E-2},{"$f":"Skyggetabeller!Q319","v":1.6181229773462782E-2},{"$f":"Skyggetabeller!R319","v":1.5123374900504112E-2}]
[null,{"$f":"Skyggetabeller!B318","v":"Antal tidligere institutionsanbragte"},null,{"$f":"Skyggetabeller!D318","v":3435},{"$f":"Skyggetabeller!E318","v":3383},{"$f":"Skyggetabeller!F318","v":3460},{"$f":"Skyggetabeller!G318","v":3369},{"$f":"Skyggetabeller!H318","v":3409},{"$f":"Skyggetabeller!I318","v":3309},{"$f":"Skyggetabeller!J318","v":3282},{"$f":"Skyggetabeller!K318","v":3274},{"$f":"Skyggetabeller!L318","v":3343},{"$f":"Skyggetabeller!M318","v":3404},{"$f":"Skyggetabeller!N318","v":3494},{"$f":"Skyggetabeller!O318","v":3486},{"$f":"Skyggetabeller!P318","v":3675},{"$f":"Skyggetabeller!Q318","v":3708},{"$f":"Skyggetabeller!R318","v":3769}]
[null,{"$f":"Registerdata!$B$30","v":"Anm.: Hvis nøgletallet er angivet med * er der foretaget en diskretionering af data, da der er for få observationer. "}]
[null,{"$f":"IF('Dine valg'!$G$24=\"\",\"Ingen sammenligningsgruppe valgt.\",\"Anm.: Valgte kommuner i sammenligningsgruppen: \"&'Dine valg'!$G$24&\" \"&'Dine valg'!$G$25&\" \"&'Dine valg'!$G$26&\" \"&'Dine valg'!$G$27&\" \"&'Dine valg'!$G$28&\" \"&'Dine valg'!$G$29&\" \"&'Dine valg'!$G$30)","v":"Anm.: Valgte kommuner i sammenligningsgruppen: Aarhus      "}]
[null,{"$f":"Registerdata!$B$32","v":"Kilde: Socialstyrelsens egne beregninger baseret på registerdata fra Danmarks Statistik."}]
[]
[null,{"$f":"Skyggetabeller!B321","v":"Tabel 7.2: Fra institutionsanbringelse til ingen anbringelse"}]
[]
[null,{"$f":"Skyggetabeller!B322","v":"Nøgletal 7.2: \nTidligere institutionsanbragte, som nu ikke er anbragt "},null,"2017-01-01","2017-07-01","2018-01-01","2018-07-01","2019-01-01","2019-07-01","2020-01-01","2020-07-01","2021-01-01","2021-07-01","2022-01-01","2022-07-01","2023-01-01","2023-07-01","2024-01-01"]
[null,{"$f":"Skyggetabeller!B323","v":"København"}]
[null,{"$f":"Skyggetabeller!B326","v":"Andel"},null,{"$f":"Skyggetabeller!D326","v":0.15811965811965811},{"$f":"Skyggetabeller!E326","v":0.20444444444444446},{"$f":"Skyggetabeller!F326","v":0.22466960352422907},{"$f":"Skyggetabeller!G326","v":0.20465116279069767},{"$f":"Skyggetabeller!H326","v":0.18264840182648401},{"$f":"Skyggetabeller!I326","v":0.22815533980582525},{"$f":"Skyggetabeller!J326","v":0.33333333333333331},{"$f":"Skyggetabeller!K326","v":"*"},{"$f":"Skyggetabeller!L326","v":0.16939890710382513},{"$f":"Skyggetabeller!M326","v":0.18719211822660098},{"$f":"Skyggetabeller!N326","v":0.21719457013574661},{"$f":"Skyggetabeller!O326","v":"*"},{"$f":"Skyggetabeller!P326","v":0.17479674796747968},{"$f":"Skyggetabeller!Q326","v":"*"},{"$f":"Skyggetabeller!R326","v":"*"}]
[null,{"$f":"Skyggetabeller!B325","v":"Antal tidligere institutionsanbragte"},null,{"$f":"Skyggetabeller!D325","v":234},{"$f":"Skyggetabeller!E325","v":225},{"$f":"Skyggetabeller!F325","v":227},{"$f":"Skyggetabeller!G325","v":215},{"$f":"Skyggetabeller!H325","v":219},{"$f":"Skyggetabeller!I325","v":206},{"$f":"Skyggetabeller!J325","v":195},{"$f":"Skyggetabeller!K325","v":162},{"$f":"Skyggetabeller!L325","v":183},{"$f":"Skyggetabeller!M325","v":203},{"$f":"Skyggetabeller!N325","v":221},{"$f":"Skyggetabeller!O325","v":220},{"$f":"Skyggetabeller!P325","v":246},{"$f":"Skyggetabeller!Q325","v":252},{"$f":"Skyggetabeller!R325","v":274}]
[null,{"$f":"Skyggetabeller!B327","v":"Sammenligningsgruppe, gns."}]
[null,{"$f":"Skyggetabeller!B330","v":"Andel"},null,{"$f":"Skyggetabeller!D330","v":0.15},{"$f":"Skyggetabeller!E330","v":0},{"$f":"Skyggetabeller!F330","v":0.16129032258064516},{"$f":"Skyggetabeller!G330","v":0},{"$f":"Skyggetabeller!H330","v":0},{"$f":"Skyggetabeller!I330","v":0.14450867052023122},{"$f":"Skyggetabeller!J330","v":0.1791907514450867},{"$f":"Skyggetabeller!K330","v":0.25301204819277107},{"$f":"Skyggetabeller!L330","v":0.16666666666666666},{"$f":"Skyggetabeller!M330","v":0.16568047337278108},{"$f":"Skyggetabeller!N330","v":0.22023809523809523},{"$f":"Skyggetabeller!O330","v":0},{"$f":"Skyggetabeller!P330","v":0.19642857142857142},{"$f":"Skyggetabeller!Q330","v":0},{"$f":"Skyggetabeller!R330","v":0}]
[null,{"$f":"Skyggetabeller!B329","v":"Antal tidligere institutionsanbragte"},null,{"$f":"Skyggetabeller!D329","v":200},{"$f":"Skyggetabeller!E329","v":188},{"$f":"Skyggetabeller!F329","v":186},{"$f":"Skyggetabeller!G329","v":178},{"$f":"Skyggetabeller!H329","v":166},{"$f":"Skyggetabeller!I329","v":173},{"$f":"Skyggetabeller!J329","v":173},{"$f":"Skyggetabeller!K329","v":166},{"$f":"Skyggetabeller!L329","v":168},{"$f":"Skyggetabeller!M329","v":169},{"$f":"Skyggetabeller!N329","v":168},{"$f":"Skyggetabeller!O329","v":154},{"$f":"Skyggetabeller!P329","v":168},{"$f":"Skyggetabeller!Q329","v":162},{"$f":"Skyggetabeller!R329","v":161}]
[null,{"$f":"Skyggetabeller!B331","v":"Hele landet"}]
[null,{"$f":"Skyggetabeller!B334","v":"Andel"},null,{"$f":"Skyggetabeller!D334","v":0.16244541484716157},{"$f":"Skyggetabeller!E334","v":0.17174105823233815},{"$f":"Skyggetabeller!F334","v":0.1791907514450867},{"$f":"Skyggetabeller!G334","v":0.17215791035915701},{"$f":"Skyggetabeller!H334","v":0.17512466999119977},{"$f":"Skyggetabeller!I334","v":0.16379570867331519},{"$f":"Skyggetabeller!J334","v":0.17550274223034734},{"$f":"Skyggetabeller!K334","v":0.15455100794135615},{"$f":"Skyggetabeller!L334","v":0.1582411008076578},{"$f":"Skyggetabeller!M334","v":0.154524089306698},{"$f":"Skyggetabeller!N334","v":0.17515741270749857},{"$f":"Skyggetabeller!O334","v":0.15146299483648881},{"$f":"Skyggetabeller!P334","v":0.16326530612244897},{"$f":"Skyggetabeller!Q334","v":0.1499460625674218},{"$f":"Skyggetabeller!R334","v":0.15494826213849827}]
[null,{"$f":"Skyggetabeller!B333","v":"Antal tidligere institutionsanbragte"},null,{"$f":"Skyggetabeller!D333","v":3435},{"$f":"Skyggetabeller!E333","v":3383},{"$f":"Skyggetabeller!F333","v":3460},{"$f":"Skyggetabeller!G333","v":3369},{"$f":"Skyggetabeller!H333","v":3409},{"$f":"Skyggetabeller!I333","v":3309},{"$f":"Skyggetabeller!J333","v":3282},{"$f":"Skyggetabeller!K333","v":3274},{"$f":"Skyggetabeller!L333","v":3343},{"$f":"Skyggetabeller!M333","v":3404},{"$f":"Skyggetabeller!N333","v":3494},{"$f":"Skyggetabeller!O333","v":3486},{"$f":"Skyggetabeller!P333","v":3675},{"$f":"Skyggetabeller!Q333","v":3708},{"$f":"Skyggetabeller!R333","v":3769}]
[null,{"$f":"Registerdata!$B$30","v":"Anm.: Hvis nøgletallet er angivet med * er der foretaget en diskretionering af data, da der er for få observationer. "}]
[null,{"$f":"IF('Dine valg'!$G$24=\"\",\"Ingen sammenligningsgruppe valgt.\",\"Anm.: Valgte kommuner i sammenligningsgruppen: \"&'Dine valg'!$G$24&\" \"&'Dine valg'!$G$25&\" \"&'Dine valg'!$G$26&\" \"&'Dine valg'!$G$27&\" \"&'Dine valg'!$G$28&\" \"&'Dine valg'!$G$29&\" \"&'Dine valg'!$G$30)","v":"Anm.: Valgte kommuner i sammenligningsgruppen: Aarhus      "}]
[null,{"$f":"Registerdata!$B$32","v":"Kilde: Socialstyrelsens egne beregninger baseret på registerdata fra Danmarks Statistik."}]
[]
[]
[null,{"$f":"Skyggetabeller!B337","v":"Nøgletal 8: Fra hjemmebaseret foranstaltning og op ad trappen"}]
[]
[null,"Figur 8: Børn og unge, der ved sidste opgørelse modtog en hjemmebaseret foranstaltning, og ikke var anbragt, som på opgørelsestidspunktet er anbragt uden for hjemmet",null,null,null,null,null,null,null,null,null,null,"Benyt, slet eller erstat gerne følgende tekst til beskrivelse af udviklingen over tid for det pågældende nøgletal. Beskrivelsen vil blive indsat i rapporten (skriv maks 20 linjer):"]
[]
[]
[]
[]
[]
[]
[]
[]
[]
[]
[]
[]
[]
[]
[]
[]
[]
[]
[]
[]
[null,{"$f":"Registerdata!$B$30","v":"Anm.: Hvis nøgletallet er angivet med * er der foretaget en diskretionering af data, da der er for få observationer. "}]
[null,{"$f":"IF('Dine valg'!$G$24=\"\",\"Ingen sammenligningsgruppe valgt.\",\"Anm.: Valgte kommuner i sammenligningsgruppen: \"&'Dine valg'!$G$24&\" \"&'Dine valg'!$G$25&\" \"&'Dine valg'!$G$26&\" \"&'Dine valg'!$G$27&\" \"&'Dine valg'!$G$28&\" \"&'Dine valg'!$G$29&\" \"&'Dine valg'!$G$30)","v":"Anm.: Valgte kommuner i sammenligningsgruppen: Aarhus      "}]
[null,{"$f":"Registerdata!$B$32","v":"Kilde: Socialstyrelsens egne beregninger baseret på registerdata fra Danmarks Statistik."}]
[]
[]
[null,{"$f":"Skyggetabeller!B339","v":"Tabel 8: Fra hjemmebaseret foranstaltning og op ad trappen"}]
[]
[null,{"$f":"Skyggetabeller!B340","v":"Nøgletal 8: \nBørn og unge, der ved sidste opgørelse modtog en hjemmebaseret foranstaltning, og ikke var anbragt, som på opgørelsestidspunktet er anbragt uden for hjemmet"},null,"2017-01-01","2017-07-01","2018-01-01","2018-07-01","2019-01-01","2019-07-01","2020-01-01","2020-07-01","2021-01-01","2021-07-01","2022-01-01","2022-07-01","2023-01-01","2023-07-01","2024-01-01"]
[null,{"$f":"Skyggetabeller!B341","v":"København"}]
[null,{"$f":"Skyggetabeller!B344","v":"Andel"},null,{"$f":"Skyggetabeller!D344","v":2.9637199795605518E-2},{"$f":"Skyggetabeller!E344","v":2.748414376321353E-2},{"$f":"Skyggetabeller!F344","v":2.9538461538461538E-2},{"$f":"Skyggetabeller!G344","v":3.9106145251396648E-2},{"$f":"Skyggetabeller!H344","v":2.9288702928870293E-2},{"$f":"Skyggetabeller!I344","v":2.2034692920768869E-2},{"$f":"Skyggetabeller!J344","v":2.1176470588235293E-2},{"$f":"Skyggetabeller!K344","v":2.2988505747126436E-2},{"$f":"Skyggetabeller!L344","v":3.0129124820659971E-2},{"$f":"Skyggetabeller!M344","v":2.8287841191066997E-2},{"$f":"Skyggetabeller!N344","v":"*"},{"$f":"Skyggetabeller!O344","v":3.1578947368421054E-2},{"$f":"Skyggetabeller!P344","v":2.6982150269821502E-2},{"$f":"Skyggetabeller!Q344","v":2.0935960591133004E-2},{"$f":"Skyggetabeller!R344","v":1.8264840182648401E-2}]
[null,{"$f":"Skyggetabeller!B343","v":"Antal tidligere modtagere"},null,{"$f":"Skyggetabeller!D343","v":1957},{"$f":"Skyggetabeller!E343","v":1892},{"$f":"Skyggetabeller!F343","v":1625},{"$f":"Skyggetabeller!G343","v":1432},{"$f":"Skyggetabeller!H343","v":1912},{"$f":"Skyggetabeller!I343","v":2133},{"$f":"Skyggetabeller!J343","v":2125},{"$f":"Skyggetabeller!K343","v":2088},{"$f":"Skyggetabeller!L343","v":2091},{"$f":"Skyggetabeller!M343","v":2015},{"$f":"Skyggetabeller!N343","v":2280},{"$f":"Skyggetabeller!O343","v":2280},{"$f":"Skyggetabeller!P343","v":2409},{"$f":"Skyggetabeller!Q343","v":2436},{"$f":"Skyggetabeller!R343","v":2409}]
[null,{"$f":"Skyggetabeller!B345","v":"Sammenligningsgruppe, gns."}]
[null,{"$f":"Skyggetabeller!B348","v":"Andel"},null,{"$f":"Skyggetabeller!D348","v":0},{"$f":"Skyggetabeller!E348","v":0},{"$f":"Skyggetabeller!F348","v":0},{"$f":"Skyggetabeller!G348","v":0},{"$f":"Skyggetabeller!H348","v":2.6248941574936496E-2},{"$f":"Skyggetabeller!I348","v":1.7898832684824902E-2},{"$f":"Skyggetabeller!J348","v":1.7174082747853241E-2},{"$f":"Skyggetabeller!K348","v":2.8861154446177848E-2},{"$f":"Skyggetabeller!L348","v":1.7488076311605722E-2},{"$f":"Skyggetabeller!M348","v":1.932367149758454E-2},{"$f":"Skyggetabeller!N348","v":1.5612161051766639E-2},{"$f":"Skyggetabeller!O348","v":2.972027972027972E-2},{"$f":"Skyggetabeller!P348","v":2.3402340234023402E-2},{"$f":"Skyggetabeller!Q348","v":2.1937842778793418E-2},{"$f":"Skyggetabeller!R348","v":2.1759697256385997E-2}]
[null,{"$f":"Skyggetabeller!B347","v":"Antal tidligere modtagere"},null,{"$f":"Skyggetabeller!D347","v":1115},{"$f":"Skyggetabeller!E347","v":1099},{"$f":"Skyggetabeller!F347","v":1043},{"$f":"Skyggetabeller!G347","v":1136},{"$f":"Skyggetabeller!H347","v":1181},{"$f":"Skyggetabeller!I347","v":1285},{"$f":"Skyggetabeller!J347","v":1281},{"$f":"Skyggetabeller!K347","v":1282},{"$f":"Skyggetabeller!L347","v":1258},{"$f":"Skyggetabeller!M347","v":1242},{"$f":"Skyggetabeller!N347","v":1217},{"$f":"Skyggetabeller!O347","v":1144},{"$f":"Skyggetabeller!P347","v":1111},{"$f":"Skyggetabeller!Q347","v":1094},{"$f":"Skyggetabeller!R347","v":1057}]
[null,{"$f":"Skyggetabeller!B349","v":"Hele landet"}]
[null,{"$f":"Skyggetabeller!B352","v":"Andel"},null,{"$f":"Skyggetabeller!D352","v":3.5036496350364967E-2},{"$f":"Skyggetabeller!E352","v":3.4593897722389341E-2},{"$f":"Skyggetabeller!F352","v":3.3053172494883071E-2},{"$f":"Skyggetabeller!G352","v":3.3145091225021718E-2},{"$f":"Skyggetabeller!H352","v":3.1150612120419988E-2},{"$f":"Skyggetabeller!I352","v":2.8590705912119423E-2},{"$f":"Skyggetabeller!J352","v":3.1196943972835314E-2},{"$f":"Skyggetabeller!K352","v":3.1017624584035168E-2},{"$f":"Skyggetabeller!L352","v":3.0766079475624743E-2},{"$f":"Skyggetabeller!M352","v":3.1492267523599113E-2},{"$f":"Skyggetabeller!N352","v":2.8555951091162358E-2},{"$f":"Skyggetabeller!O352","v":3.1099748149278791E-2},{"$f":"Skyggetabeller!P352","v":2.8839629043202895E-2},{"$f":"Skyggetabeller!Q352","v":2.703601108033241E-2},{"$f":"Skyggetabeller!R352","v":2.8233051002823306E-2}]
[null,{"$f":"Skyggetabeller!B351","v":"Antal tidligere modtagere"},null,{"$f":"Skyggetabeller!D351","v":23290},{"$f":"Skyggetabeller!E351","v":23270},{"$f":"Skyggetabeller!F351","v":22963},{"$f":"Skyggetabeller!G351","v":23020},{"$f":"Skyggetabeller!H351","v":22953},{"$f":"Skyggetabeller!I351","v":23714},{"$f":"Skyggetabeller!J351","v":23560},{"$f":"Skyggetabeller!K351","v":24341},{"$f":"Skyggetabeller!L351","v":24410},{"$f":"Skyggetabeller!M351","v":24895},{"$f":"Skyggetabeller!N351","v":25844},{"$f":"Skyggetabeller!O351","v":26206},{"$f":"Skyggetabeller!P351","v":26526},{"$f":"Skyggetabeller!Q351","v":27075},{"$f":"Skyggetabeller!R351","v":27273}]
[null,{"$f":"Registerdata!$B$30","v":"Anm.: Hvis nøgletallet er angivet med * er der foretaget en diskretionering af data, da der er for få observationer. "}]
[null,{"$f":"IF('Dine valg'!$G$24=\"\",\"Ingen sammenligningsgruppe valgt.\",\"Anm.: Valgte kommuner i sammenligningsgruppen: \"&'Dine valg'!$G$24&\" \"&'Dine valg'!$G$25&\" \"&'Dine valg'!$G$26&\" \"&'Dine valg'!$G$27&\" \"&'Dine valg'!$G$28&\" \"&'Dine valg'!$G$29&\" \"&'Dine valg'!$G$30)","v":"Anm.: Valgte kommuner i sammenligningsgruppen: Aarhus      "}]
[null,{"$f":"Registerdata!$B$32","v":"Kilde: Socialstyrelsens egne beregninger baseret på registerdata fra Danmarks Statistik."}]
[]
[]
[null,{"$f":"Skyggetabeller!B355","v":"Nøgletal 9: Fra hjemmebaseret foranstaltning og ned ad trappen"}]
[]
[null,"Figur 9: Børn og unge, der ved sidste opgørelse modtog en hjemmebaseret foranstaltning, som på opgørelsestidspunktet hverken modtager en hjemmebaseret foranstaltning eller er anbragt udenfor hjemmet",null,null,null,null,null,null,null,null,null,null,"Benyt, slet eller erstat gerne følgende tekst til beskrivelse af udviklingen over tid for det pågældende nøgletal. Beskrivelsen vil blive indsat i rapporten (skriv maks 20 linjer):"]
[]
[]
[]
[]
[]
[]
[]
[]
[]
[]
[]
[]
[]
[]
[]
[]
[]
[]
[]
[]
[]
[]
[]
[]
[null,{"$f":"Registerdata!$B$30","v":"Anm.: Hvis nøgletallet er angivet med * er der foretaget en diskretionering af data, da der er for få observationer. "}]
[null,{"$f":"IF('Dine valg'!$G$24=\"\",\"Ingen sammenligningsgruppe valgt.\",\"Anm.: Valgte kommuner i sammenligningsgruppen: \"&'Dine valg'!$G$24&\" \"&'Dine valg'!$G$25&\" \"&'Dine valg'!$G$26&\" \"&'Dine valg'!$G$27&\" \"&'Dine valg'!$G$28&\" \"&'Dine valg'!$G$29&\" \"&'Dine valg'!$G$30)","v":"Anm.: Valgte kommuner i sammenligningsgruppen: Aarhus      "}]
[null,{"$f":"Registerdata!$B$32","v":"Kilde: Socialstyrelsens egne beregninger baseret på registerdata fra Danmarks Statistik."}]
[]
[]
[null,{"$f":"Skyggetabeller!B357","v":"Tabel 9: Fra hjemmebaseret foranstaltning og ned ad trappen"}]
[]
[null,{"$f":"Skyggetabeller!B358","v":"Nøgletal 9: Tidligere modtagere af hjemmebaserede foranstaltninger, som nu er rykket ned ad trappen"},null,"2017-01-01","2017-07-01","2018-01-01","2018-07-01","2019-01-01","2019-07-01","2020-01-01","2020-07-01","2021-01-01","2021-07-01","2022-01-01","2022-07-01","2023-01-01","2023-07-01","2024-01-01"]
[null,{"$f":"Skyggetabeller!B359","v":"København"}]
[null,{"$f":"Skyggetabeller!B362","v":"Andel"},null,{"$f":"Skyggetabeller!D362","v":0.28787116255661804},{"$f":"Skyggetabeller!E362","v":0.27012987012987011},{"$f":"Skyggetabeller!F362","v":0.24864212432106217},{"$f":"Skyggetabeller!G362","v":0.16906228610540724},{"$f":"Skyggetabeller!H362","v":0.23247422680412372},{"$f":"Skyggetabeller!I362","v":0.25392428439519854},{"$f":"Skyggetabeller!J362","v":0.27251516565562295},{"$f":"Skyggetabeller!K362","v":0.21249408424041646},{"$f":"Skyggetabeller!L362","v":0.26470588235294118},{"$f":"Skyggetabeller!M362","v":0.1995085995085995},{"$f":"Skyggetabeller!N362","v":0.25511536787113626},{"$f":"Skyggetabeller!O362","v":0.24501300954032956},{"$f":"Skyggetabeller!P362","v":0.25164744645799014},{"$f":"Skyggetabeller!Q362","v":0.27583401139137509},{"$f":"Skyggetabeller!R362","v":0.27224052718286657}]
[null,{"$f":"Skyggetabeller!B361","v":"Antal tidligere modtagere"},null,{"$f":"Skyggetabeller!D361","v":1987},{"$f":"Skyggetabeller!E361","v":1925},{"$f":"Skyggetabeller!F361","v":1657},{"$f":"Skyggetabeller!G361","v":1461},{"$f":"Skyggetabeller!H361","v":1940},{"$f":"Skyggetabeller!I361","v":2166},{"$f":"Skyggetabeller!J361","v":2143},{"$f":"Skyggetabeller!K361","v":2113},{"$f":"Skyggetabeller!L361","v":2108},{"$f":"Skyggetabeller!M361","v":2035},{"$f":"Skyggetabeller!N361","v":2297},{"$f":"Skyggetabeller!O361","v":2306},{"$f":"Skyggetabeller!P361","v":2428},{"$f":"Skyggetabeller!Q361","v":2458},{"$f":"Skyggetabeller!R361","v":2428}]
[null,{"$f":"Skyggetabeller!B363","v":"Sammenligningsgruppe, gns."}]
[null,{"$f":"Skyggetabeller!B366","v":"Andel"},null,{"$f":"Skyggetabeller!D366","v":0.27665198237885463},{"$f":"Skyggetabeller!E366","v":0.26334519572953735},{"$f":"Skyggetabeller!F366","v":0.25420560747663551},{"$f":"Skyggetabeller!G366","v":0.25974025974025972},{"$f":"Skyggetabeller!H366","v":0.25817267393126569},{"$f":"Skyggetabeller!I366","v":0.2911196911196911},{"$f":"Skyggetabeller!J366","v":0.29237947122861585},{"$f":"Skyggetabeller!K366","v":0.2451512800620636},{"$f":"Skyggetabeller!L366","v":0.2797147385103011},{"$f":"Skyggetabeller!M366","v":0.26565008025682185},{"$f":"Skyggetabeller!N366","v":0.29672131147540981},{"$f":"Skyggetabeller!O366","v":0.28683522231909331},{"$f":"Skyggetabeller!P366","v":0.28789237668161433},{"$f":"Skyggetabeller!Q366","v":0.29524680073126142},{"$f":"Skyggetabeller!R366","v":0.29566854990583802}]
[null,{"$f":"Skyggetabeller!B365","v":"Antal tidligere modtagere"},null,{"$f":"Skyggetabeller!D365","v":1135},{"$f":"Skyggetabeller!E365","v":1124},{"$f":"Skyggetabeller!F365","v":1070},{"$f":"Skyggetabeller!G365","v":1155},{"$f":"Skyggetabeller!H365","v":1193},{"$f":"Skyggetabeller!I365","v":1295},{"$f":"Skyggetabeller!J365","v":1286},{"$f":"Skyggetabeller!K365","v":1289},{"$f":"Skyggetabeller!L365","v":1262},{"$f":"Skyggetabeller!M365","v":1246},{"$f":"Skyggetabeller!N365","v":1220},{"$f":"Skyggetabeller!O365","v":1147},{"$f":"Skyggetabeller!P365","v":1115},{"$f":"Skyggetabeller!Q365","v":1094},{"$f":"Skyggetabeller!R365","v":1062}]
[null,{"$f":"Skyggetabeller!B367","v":"Hele landet"}]
[null,{"$f":"Skyggetabeller!B370","v":"Andel"},null,{"$f":"Skyggetabeller!D370","v":0.22970864780537167},{"$f":"Skyggetabeller!E370","v":0.24917770093615585},{"$f":"Skyggetabeller!F370","v":0.23420456003764384},{"$f":"Skyggetabeller!G370","v":0.26466943031753493},{"$f":"Skyggetabeller!H370","v":0.23985572587917042},{"$f":"Skyggetabeller!I370","v":0.28377760219570008},{"$f":"Skyggetabeller!J370","v":0.25210647662963737},{"$f":"Skyggetabeller!K370","v":0.23526313657172954},{"$f":"Skyggetabeller!L370","v":0.24863531600016173},{"$f":"Skyggetabeller!M370","v":0.23126338329764454},{"$f":"Skyggetabeller!N370","v":0.25210341135077252},{"$f":"Skyggetabeller!O370","v":0.24751206272617612},{"$f":"Skyggetabeller!P370","v":0.25680107326526047},{"$f":"Skyggetabeller!Q370","v":0.25859677301598888},{"$f":"Skyggetabeller!R370","v":0.27511866371970001}]
[null,{"$f":"Skyggetabeller!B369","v":"Antal tidligere modtagere"},null,{"$f":"Skyggetabeller!D369","v":23717},{"$f":"Skyggetabeller!E369","v":23714},{"$f":"Skyggetabeller!F369","v":23377},{"$f":"Skyggetabeller!G369","v":23399},{"$f":"Skyggetabeller!H369","v":23289},{"$f":"Skyggetabeller!I369","v":24047},{"$f":"Skyggetabeller!J369","v":23855},{"$f":"Skyggetabeller!K369","v":24683},{"$f":"Skyggetabeller!L369","v":24731},{"$f":"Skyggetabeller!M369","v":25218},{"$f":"Skyggetabeller!N369","v":26148},{"$f":"Skyggetabeller!O369","v":26528},{"$f":"Skyggetabeller!P369","v":26834},{"$f":"Skyggetabeller!Q369","v":27394},{"$f":"Skyggetabeller!R369","v":27599}]
[null,{"$f":"Registerdata!$B$30","v":"Anm.: Hvis nøgletallet er angivet med * er der foretaget en diskretionering af data, da der er for få observationer. "}]
[null,{"$f":"IF('Dine valg'!$G$24=\"\",\"Ingen sammenligningsgruppe valgt.\",\"Anm.: Valgte kommuner i sammenligningsgruppen: \"&'Dine valg'!$G$24&\" \"&'Dine valg'!$G$25&\" \"&'Dine valg'!$G$26&\" \"&'Dine valg'!$G$27&\" \"&'Dine valg'!$G$28&\" \"&'Dine valg'!$G$29&\" \"&'Dine valg'!$G$30)","v":"Anm.: Valgte kommuner i sammenligningsgruppen: Aarhus      "}]
[null,{"$f":"Registerdata!$B$32","v":"Kilde: Socialstyrelsens egne beregninger baseret på registerdata fra Danmarks Statistik."}]
[]
[]
[null,{"$f":"Skyggetabeller!B373","v":"Nøgletal 10: Fra forebyggende indsatser og op ad trappen"}]
[]
[null,{"$f":"\"Figur 10: Andel modtagere af § 11, stk. 3-indsats, der efterfølgende får en afgørelse om § 50 undersøgelse for \"&Kommune&\"\"","v":"Figur 10: Andel modtagere af § 11, stk. 3-indsats, der efterfølgende får en afgørelse om § 50 undersøgelse for København"},null,null,null,null,null,null,null,null,null,null,"Benyt, slet eller erstat gerne følgende tekst til beskrivelse af udviklingen over tid for det pågældende nøgletal. Beskrivelsen vil blive indsat i rapporten (skriv maks 20 linjer):"]
[]
[]
[]
[]
[]
[]
[]
[]
[]
[]
[]
[]
[]
[]
[]
[]
[]
[]
[]
[]
[]
[]
[null,{"$f":"Registerdata!$B$30","v":"Anm.: Hvis nøgletallet er angivet med * er der foretaget en diskretionering af data, da der er for få observationer. "}]
[null,{"$f":"IF('Dine valg'!$G$24=\"\",\"Ingen sammenligningsgruppe valgt.\",\"Anm.: Valgte kommuner i sammenligningsgruppen: \"&'Dine valg'!$G$24&\" \"&'Dine valg'!$G$25&\" \"&'Dine valg'!$G$26&\" \"&'Dine valg'!$G$27&\" \"&'Dine valg'!$G$28&\" \"&'Dine valg'!$G$29&\" \"&'Dine valg'!$G$30)","v":"Anm.: Valgte kommuner i sammenligningsgruppen: Aarhus      "}]
[null,{"$f":"Registerdata!$B$32","v":"Kilde: Socialstyrelsens egne beregninger baseret på registerdata fra Danmarks Statistik."}]
[]
[]
[null,{"$f":"Skyggetabeller!B375","v":"Tabel 10: Fra forebyggende indsatser og op ad trappen for København"}]
[]
[null,{"$f":"Skyggetabeller!B376","v":"Nøgletal 10: Tidligere modtagere af forebyggende indsatser, som nu er rykket ned ad trappen"},null,"2017-01-01","2017-07-01","2018-01-01","2018-07-01","2019-01-01","2019-07-01","2020-01-01","2020-07-01","2021-01-01","2021-07-01","2022-01-01","2022-07-01","2023-01-01","2023-07-01","2024-01-01"]
[null,{"$f":"Skyggetabeller!B386","v":"Andel"},null,{"$f":"Skyggetabeller!D379","v":"-"},{"$f":"Skyggetabeller!E379","v":"-"},{"$f":"Skyggetabeller!F379","v":"-"},{"$f":"Skyggetabeller!G379","v":"-"},{"$f":"Skyggetabeller!H379","v":"-"},{"$f":"Skyggetabeller!I379","v":"-"},{"$f":"Skyggetabeller!J379","v":"-"},{"$f":"Skyggetabeller!K379","v":"-"},{"$f":"Skyggetabeller!L379","v":"-"},{"$f":"Skyggetabeller!M379","v":"-"},{"$f":"Skyggetabeller!N379","v":"-"},{"$f":"Skyggetabeller!O379","v":"-"},{"$f":"Skyggetabeller!P379","v":"-"},{"$f":"Skyggetabeller!Q379","v":"-"},{"$f":"Skyggetabeller!R379","v":"-"}]
[null,{"$f":"Skyggetabeller!B385","v":"Antal tidligere modtagere"},null,{"$f":"Skyggetabeller!D378","v":0},{"$f":"Skyggetabeller!E378","v":0},{"$f":"Skyggetabeller!F378","v":0},{"$f":"Skyggetabeller!G378","v":0},{"$f":"Skyggetabeller!H378","v":0},{"$f":"Skyggetabeller!I378","v":0},{"$f":"Skyggetabeller!J378","v":0},{"$f":"Skyggetabeller!K378","v":0},{"$f":"Skyggetabeller!L378","v":0},{"$f":"Skyggetabeller!M378","v":0},{"$f":"Skyggetabeller!N378","v":0},{"$f":"Skyggetabeller!O378","v":0},{"$f":"Skyggetabeller!P378","v":0},{"$f":"Skyggetabeller!Q378","v":0},{"$f":"Skyggetabeller!R378","v":0}]
[]
[null,{"$f":"Registerdata!$B$30","v":"Anm.: Hvis nøgletallet er angivet med * er der foretaget en diskretionering af data, da der er for få observationer. "}]
[null,{"$f":"IF('Dine valg'!$G$24=\"\",\"Ingen sammenligningsgruppe valgt.\",\"Anm.: Valgte kommuner i sammenligningsgruppen: \"&'Dine valg'!$G$24&\" \"&'Dine valg'!$G$25&\" \"&'Dine valg'!$G$26&\" \"&'Dine valg'!$G$27&\" \"&'Dine valg'!$G$28&\" \"&'Dine valg'!$G$29&\" \"&'Dine valg'!$G$30)","v":"Anm.: Valgte kommuner i sammenligningsgruppen: Aarhus      "}]
[null,{"$f":"Registerdata!$B$32","v":"Kilde: Socialstyrelsens egne beregninger baseret på registerdata fra Danmarks Statistik."}]
[]
[]
[null,"Figur 10.1: Andel børn der har modtaget en myndighedsbevilget § 11, stk. 3-indsats og efterfølgende får en afgørelse om en § 50 undersøgelse",null,null,null,null,"Figur 10.2: Andel børn der har modtaget en ikke-myndighedsbevilget § 11, stk. 3-indsats og efterfølgende får en afgørelse om en § 50 undersøgelse"]
[]
[]
[]
[]
[]
[]
[]
[]
[]
[]
[]
[]
[]
[]
[]
[]
[]
[null,{"$f":"Registerdata!$B$30","v":"Anm.: Hvis nøgletallet er angivet med * er der foretaget en diskretionering af data, da der er for få observationer. "}]
[null,{"$f":"IF('Dine valg'!$G$24=\"\",\"Ingen sammenligningsgruppe valgt.\",\"Anm.: Valgte kommuner i sammenligningsgruppen: \"&'Dine valg'!$G$24&\" \"&'Dine valg'!$G$25&\" \"&'Dine valg'!$G$26&\" \"&'Dine valg'!$G$27&\" \"&'Dine valg'!$G$28&\" \"&'Dine valg'!$G$29&\" \"&'Dine valg'!$G$30)","v":"Anm.: Valgte kommuner i sammenligningsgruppen: Aarhus      "}]
[null,{"$f":"Registerdata!$B$32","v":"Kilde: Socialstyrelsens egne beregninger baseret på registerdata fra Danmarks Statistik."}]
[]
[]
[null,{"$f":"Skyggetabeller!B381","v":"Tabel 10.1: Fra myndighedsbevilget § 11, stk. 3-indsats og op ad trappen"}]
[]
[null,{"$f":"Skyggetabeller!B383","v":"Nøgletal 10.1: Tidligere modtagere af myndighedsbevilget § 11, stk. 3-indsats, som nu er rykket ned ad trappen"},null,"2017-01-01","2017-07-01","2018-01-01","2018-07-01","2019-01-01","2019-07-01","2020-01-01","2020-07-01","2021-01-01","2021-07-01","2022-01-01","2022-07-01","2023-01-01","2023-07-01","2024-01-01"]
[null,{"$f":"Skyggetabeller!B386","v":"Andel"},null,{"$f":"Skyggetabeller!D386","v":"-"},{"$f":"Skyggetabeller!E386","v":"-"},{"$f":"Skyggetabeller!F386","v":"-"},{"$f":"Skyggetabeller!G386","v":"-"},{"$f":"Skyggetabeller!H386","v":"-"},{"$f":"Skyggetabeller!I386","v":"-"},{"$f":"Skyggetabeller!J386","v":"-"},{"$f":"Skyggetabeller!K386","v":"-"},{"$f":"Skyggetabeller!L386","v":"-"},{"$f":"Skyggetabeller!M386","v":"-"},{"$f":"Skyggetabeller!N386","v":"-"},{"$f":"Skyggetabeller!O386","v":"-"},{"$f":"Skyggetabeller!P386","v":"-"},{"$f":"Skyggetabeller!Q386","v":"-"},{"$f":"Skyggetabeller!R386","v":"-"}]
[null,{"$f":"Skyggetabeller!B385","v":"Antal tidligere modtagere"},null,{"$f":"Skyggetabeller!D385","v":0},{"$f":"Skyggetabeller!E385","v":0},{"$f":"Skyggetabeller!F385","v":0},{"$f":"Skyggetabeller!G385","v":0},{"$f":"Skyggetabeller!H385","v":0},{"$f":"Skyggetabeller!I385","v":0},{"$f":"Skyggetabeller!J385","v":0},{"$f":"Skyggetabeller!K385","v":0},{"$f":"Skyggetabeller!L385","v":0},{"$f":"Skyggetabeller!M385","v":0},{"$f":"Skyggetabeller!N385","v":0},{"$f":"Skyggetabeller!O385","v":0},{"$f":"Skyggetabeller!P385","v":0},{"$f":"Skyggetabeller!Q385","v":0},{"$f":"Skyggetabeller!R385","v":0}]
[null,{"$f":"Registerdata!$B$30","v":"Anm.: Hvis nøgletallet er angivet med * er der foretaget en diskretionering af data, da der er for få observationer. "}]
[null,{"$f":"IF('Dine valg'!$G$24=\"\",\"Ingen sammenligningsgruppe valgt.\",\"Anm.: Valgte kommuner i sammenligningsgruppen: \"&'Dine valg'!$G$24&\" \"&'Dine valg'!$G$25&\" \"&'Dine valg'!$G$26&\" \"&'Dine valg'!$G$27&\" \"&'Dine valg'!$G$28&\" \"&'Dine valg'!$G$29&\" \"&'Dine valg'!$G$30)","v":"Anm.: Valgte kommuner i sammenligningsgruppen: Aarhus      "}]
[null,{"$f":"Registerdata!$B$32","v":"Kilde: Socialstyrelsens egne beregninger baseret på registerdata fra Danmarks Statistik."}]
[]
[null,{"$f":"Skyggetabeller!B388","v":"Tabel 10.2: Fra ikke-myndighedsbevilget § 11, stk. 3-indsats og op ad trappen"}]
[]
[null,{"$f":"Skyggetabeller!B390","v":"Nøgletal 10.2: Tidligere modtagere af ikke-myndighedsbevilget § 11, stk. 3-indsats, som nu er rykket ned ad trappen"},null,"2017-01-01","2017-07-01","2018-01-01","2018-07-01","2019-01-01","2019-07-01","2020-01-01","2020-07-01","2021-01-01","2021-07-01","2022-01-01","2022-07-01","2023-01-01","2023-07-01","2024-01-01"]
[null,{"$f":"Skyggetabeller!B393","v":"Andel"},null,{"$f":"Skyggetabeller!D393","v":"-"},{"$f":"Skyggetabeller!E393","v":"-"},{"$f":"Skyggetabeller!F393","v":"-"},{"$f":"Skyggetabeller!G393","v":"-"},{"$f":"Skyggetabeller!H393","v":"-"},{"$f":"Skyggetabeller!I393","v":"-"},{"$f":"Skyggetabeller!J393","v":"-"},{"$f":"Skyggetabeller!K393","v":"-"},{"$f":"Skyggetabeller!L393","v":"-"},{"$f":"Skyggetabeller!M393","v":"-"},{"$f":"Skyggetabeller!N393","v":"-"},{"$f":"Skyggetabeller!O393","v":"-"},{"$f":"Skyggetabeller!P393","v":"-"},{"$f":"Skyggetabeller!Q393","v":"-"},{"$f":"Skyggetabeller!R393","v":"-"}]
[null,{"$f":"Skyggetabeller!B392","v":"Antal tidligere modtagere"},null,{"$f":"Skyggetabeller!D392","v":0},{"$f":"Skyggetabeller!E392","v":0},{"$f":"Skyggetabeller!F392","v":0},{"$f":"Skyggetabeller!G392","v":0},{"$f":"Skyggetabeller!H392","v":0},{"$f":"Skyggetabeller!I392","v":0},{"$f":"Skyggetabeller!J392","v":0},{"$f":"Skyggetabeller!K392","v":0},{"$f":"Skyggetabeller!L392","v":0},{"$f":"Skyggetabeller!M392","v":0},{"$f":"Skyggetabeller!N392","v":0},{"$f":"Skyggetabeller!O392","v":0},{"$f":"Skyggetabeller!P392","v":0},{"$f":"Skyggetabeller!Q392","v":0},{"$f":"Skyggetabeller!R392","v":0}]
[]
[null,{"$f":"Registerdata!$B$30","v":"Anm.: Hvis nøgletallet er angivet med * er der foretaget en diskretionering af data, da der er for få observationer. "}]
[null,{"$f":"IF('Dine valg'!$G$24=\"\",\"Ingen sammenligningsgruppe valgt.\",\"Anm.: Valgte kommuner i sammenligningsgruppen: \"&'Dine valg'!$G$24&\" \"&'Dine valg'!$G$25&\" \"&'Dine valg'!$G$26&\" \"&'Dine valg'!$G$27&\" \"&'Dine valg'!$G$28&\" \"&'Dine valg'!$G$29&\" \"&'Dine valg'!$G$30)","v":"Anm.: Valgte kommuner i sammenligningsgruppen: Aarhus      "}]
[null,{"$f":"Registerdata!$B$32","v":"Kilde: Socialstyrelsens egne beregninger baseret på registerdata fra Danmarks Statistik."}]
[]
[]
[null,{"$f":"Skyggetabeller!B396","v":"Nøgletal 11: Frekvens af opfølgninger"}]
[]
[null,{"$f":"\"Figur 11: Gennemsnitlig frekvens i opfølgninger for institutionsanbringelser, anbringelser i plejefamilier og hjemmebaserede foranstaltninger for \"&Kommune&\"\"","v":"Figur 11: Gennemsnitlig frekvens i opfølgninger for institutionsanbringelser, anbringelser i plejefamilier og hjemmebaserede foranstaltninger for København"},null,null,null,null,null,null,null,null,null,null,"Benyt, slet eller erstat gerne følgende tekst til beskrivelse af udviklingen over tid for det pågældende nøgletal. Beskrivelsen vil blive indsat i rapporten (skriv maks 20 linjer):"]
[]
[]
[]
[]
[]
[]
[]
[]
[]
[]
[]
[]
[]
[]
[]
[]
[]
[]
[]
[]
[null,{"$f":"Registerdata!$B$30","v":"Anm.: Hvis nøgletallet er angivet med * er der foretaget en diskretionering af data, da der er for få observationer. "}]
[null,{"$f":"IF('Dine valg'!$G$24=\"\",\"Ingen sammenligningsgruppe valgt.\",\"Anm.: Valgte kommuner i sammenligningsgruppen: \"&'Dine valg'!$G$24&\" \"&'Dine valg'!$G$25&\" \"&'Dine valg'!$G$26&\" \"&'Dine valg'!$G$27&\" \"&'Dine valg'!$G$28&\" \"&'Dine valg'!$G$29&\" \"&'Dine valg'!$G$30)","v":"Anm.: Valgte kommuner i sammenligningsgruppen: Aarhus      "}]
[null,{"$f":"Registerdata!$B$32","v":"Kilde: Socialstyrelsens egne beregninger baseret på registerdata fra Danmarks Statistik."}]
[]
[]
[null,{"$f":"Skyggetabeller!B398","v":"Tabel 11: Frekvens af opfølgninger for København"}]
[]
[null,{"$f":"Skyggetabeller!B399","v":"Nøgletal 11.1: \nFrekvens i opfølgninger for institutionsanbringelser"},null,"2017-01-01","2017-07-01","2018-01-01","2018-07-01","2019-01-01","2019-07-01","2020-01-01","2020-07-01","2021-01-01","2021-07-01","2022-01-01","2022-07-01","2023-01-01","2023-07-01","2024-01-01"]
[null,{"$f":"Skyggetabeller!B400","v":"Antal dage"},null,{"$f":"Skyggetabeller!D400","v":0},{"$f":"Skyggetabeller!E400","v":0},{"$f":"Skyggetabeller!F400","v":0},{"$f":"Skyggetabeller!G400","v":0},{"$f":"Skyggetabeller!H400","v":0},{"$f":"Skyggetabeller!I400","v":0},{"$f":"Skyggetabeller!J400","v":0},{"$f":"Skyggetabeller!K400","v":0},{"$f":"Skyggetabeller!L400","v":0},{"$f":"Skyggetabeller!M400","v":0},{"$f":"Skyggetabeller!N400","v":0},{"$f":"Skyggetabeller!O400","v":0},{"$f":"Skyggetabeller!P400","v":0},{"$f":"Skyggetabeller!Q400","v":0},{"$f":"Skyggetabeller!R400","v":0}]
[null,{"$f":"Skyggetabeller!B401","v":"Antal opfølgninger"},null,{"$f":"Skyggetabeller!D401","v":0},{"$f":"Skyggetabeller!E401","v":0},{"$f":"Skyggetabeller!F401","v":0},{"$f":"Skyggetabeller!G401","v":0},{"$f":"Skyggetabeller!H401","v":0},{"$f":"Skyggetabeller!I401","v":0},{"$f":"Skyggetabeller!J401","v":0},{"$f":"Skyggetabeller!K401","v":0},{"$f":"Skyggetabeller!L401","v":0},{"$f":"Skyggetabeller!M401","v":0},{"$f":"Skyggetabeller!N401","v":0},{"$f":"Skyggetabeller!O401","v":0},{"$f":"Skyggetabeller!P401","v":0},{"$f":"Skyggetabeller!Q401","v":0},{"$f":"Skyggetabeller!R401","v":0}]
[null,{"$f":"Skyggetabeller!B402","v":"Varighed"},null,{"$f":"Skyggetabeller!D402","v":"-"},{"$f":"Skyggetabeller!E402","v":"-"},{"$f":"Skyggetabeller!F402","v":"-"},{"$f":"Skyggetabeller!G402","v":"-"},{"$f":"Skyggetabeller!H402","v":"-"},{"$f":"Skyggetabeller!I402","v":"-"},{"$f":"Skyggetabeller!J402","v":"-"},{"$f":"Skyggetabeller!K402","v":"-"},{"$f":"Skyggetabeller!L402","v":"-"},{"$f":"Skyggetabeller!M402","v":"-"},{"$f":"Skyggetabeller!N402","v":"-"},{"$f":"Skyggetabeller!O402","v":"-"},{"$f":"Skyggetabeller!P402","v":"-"},{"$f":"Skyggetabeller!Q402","v":"-"},{"$f":"Skyggetabeller!R402","v":"-"}]
[]
[null,{"$f":"Skyggetabeller!B404","v":"Nøgletal 11.2: \nFrekvens i opfølgninger for plejefamilier"},null,"2017-01-01","2017-07-01","2018-01-01","2018-07-01","2019-01-01","2019-07-01","2020-01-01","2020-07-01","2021-01-01","2021-07-01","2022-01-01","2022-07-01","2023-01-01","2023-07-01","2024-01-01"]
[null,{"$f":"Skyggetabeller!B405","v":"Antal dage"},null,{"$f":"Skyggetabeller!D405","v":0},{"$f":"Skyggetabeller!E405","v":0},{"$f":"Skyggetabeller!F405","v":0},{"$f":"Skyggetabeller!G405","v":0},{"$f":"Skyggetabeller!H405","v":0},{"$f":"Skyggetabeller!I405","v":0},{"$f":"Skyggetabeller!J405","v":0},{"$f":"Skyggetabeller!K405","v":0},{"$f":"Skyggetabeller!L405","v":0},{"$f":"Skyggetabeller!M405","v":0},{"$f":"Skyggetabeller!N405","v":0},{"$f":"Skyggetabeller!O405","v":0},{"$f":"Skyggetabeller!P405","v":0},{"$f":"Skyggetabeller!Q405","v":0},{"$f":"Skyggetabeller!R405","v":0}]
[null,{"$f":"Skyggetabeller!B406","v":"Antal opfølgninger"},null,{"$f":"Skyggetabeller!D406","v":0},{"$f":"Skyggetabeller!E406","v":0},{"$f":"Skyggetabeller!F406","v":0},{"$f":"Skyggetabeller!G406","v":0},{"$f":"Skyggetabeller!H406","v":0},{"$f":"Skyggetabeller!I406","v":0},{"$f":"Skyggetabeller!J406","v":0},{"$f":"Skyggetabeller!K406","v":0},{"$f":"Skyggetabeller!L406","v":0},{"$f":"Skyggetabeller!M406","v":0},{"$f":"Skyggetabeller!N406","v":0},{"$f":"Skyggetabeller!O406","v":0},{"$f":"Skyggetabeller!P406","v":0},{"$f":"Skyggetabeller!Q406","v":0},{"$f":"Skyggetabeller!R406","v":0}]
[null,{"$f":"Skyggetabeller!B407","v":"Varighed"},null,{"$f":"Skyggetabeller!D407","v":"-"},{"$f":"Skyggetabeller!E407","v":"-"},{"$f":"Skyggetabeller!F407","v":"-"},{"$f":"Skyggetabeller!G407","v":"-"},{"$f":"Skyggetabeller!H407","v":"-"},{"$f":"Skyggetabeller!I407","v":"-"},{"$f":"Skyggetabeller!J407","v":"-"},{"$f":"Skyggetabeller!K407","v":"-"},{"$f":"Skyggetabeller!L407","v":"-"},{"$f":"Skyggetabeller!M407","v":"-"},{"$f":"Skyggetabeller!N407","v":"-"},{"$f":"Skyggetabeller!O407","v":"-"},{"$f":"Skyggetabeller!P407","v":"-"},{"$f":"Skyggetabeller!Q407","v":"-"},{"$f":"Skyggetabeller!R407","v":"-"}]
[]
[null,{"$f":"Skyggetabeller!B409","v":"Nøgletal 11.3: \nFrekvens i opfølgninger for hjemmebaserede foranstaltninger"},null,"2017-01-01","2017-07-01","2018-01-01","2018-07-01","2019-01-01","2019-07-01","2020-01-01","2020-07-01","2021-01-01","2021-07-01","2022-01-01","2022-07-01","2023-01-01","2023-07-01","2024-01-01"]
[null,{"$f":"Skyggetabeller!B410","v":"Antal dage"},null,{"$f":"Skyggetabeller!D410","v":0},{"$f":"Skyggetabeller!E410","v":0},{"$f":"Skyggetabeller!F410","v":0},{"$f":"Skyggetabeller!G410","v":0},{"$f":"Skyggetabeller!H410","v":0},{"$f":"Skyggetabeller!I410","v":0},{"$f":"Skyggetabeller!J410","v":0},{"$f":"Skyggetabeller!K410","v":0},{"$f":"Skyggetabeller!L410","v":0},{"$f":"Skyggetabeller!M410","v":0},{"$f":"Skyggetabeller!N410","v":0},{"$f":"Skyggetabeller!O410","v":0},{"$f":"Skyggetabeller!P410","v":0},{"$f":"Skyggetabeller!Q410","v":0},{"$f":"Skyggetabeller!R410","v":0}]
[null,{"$f":"Skyggetabeller!B411","v":"Antal opfølgninger"},null,{"$f":"Skyggetabeller!D411","v":0},{"$f":"Skyggetabeller!E411","v":0},{"$f":"Skyggetabeller!F411","v":0},{"$f":"Skyggetabeller!G411","v":0},{"$f":"Skyggetabeller!H411","v":0},{"$f":"Skyggetabeller!I411","v":0},{"$f":"Skyggetabeller!J411","v":0},{"$f":"Skyggetabeller!K411","v":0},{"$f":"Skyggetabeller!L411","v":0},{"$f":"Skyggetabeller!M411","v":0},{"$f":"Skyggetabeller!N411","v":0},{"$f":"Skyggetabeller!O411","v":0},{"$f":"Skyggetabeller!P411","v":0},{"$f":"Skyggetabeller!Q411","v":0},{"$f":"Skyggetabeller!R411","v":0}]
[null,{"$f":"Skyggetabeller!B412","v":"Varighed"},null,{"$f":"Skyggetabeller!D412","v":"-"},{"$f":"Skyggetabeller!E412","v":"-"},{"$f":"Skyggetabeller!F412","v":"-"},{"$f":"Skyggetabeller!G412","v":"-"},{"$f":"Skyggetabeller!H412","v":"-"},{"$f":"Skyggetabeller!I412","v":"-"},{"$f":"Skyggetabeller!J412","v":"-"},{"$f":"Skyggetabeller!K412","v":"-"},{"$f":"Skyggetabeller!L412","v":"-"},{"$f":"Skyggetabeller!M412","v":"-"},{"$f":"Skyggetabeller!N412","v":"-"},{"$f":"Skyggetabeller!O412","v":"-"},{"$f":"Skyggetabeller!P412","v":"-"},{"$f":"Skyggetabeller!Q412","v":"-"},{"$f":"Skyggetabeller!R412","v":"-"}]
[null,{"$f":"Registerdata!$B$30","v":"Anm.: Hvis nøgletallet er angivet med * er der foretaget en diskretionering af data, da der er for få observationer. "}]
[null,{"$f":"IF('Dine valg'!$G$24=\"\",\"Ingen sammenligningsgruppe valgt.\",\"Anm.: Valgte kommuner i sammenligningsgruppen: \"&'Dine valg'!$G$24&\" \"&'Dine valg'!$G$25&\" \"&'Dine valg'!$G$26&\" \"&'Dine valg'!$G$27&\" \"&'Dine valg'!$G$28&\" \"&'Dine valg'!$G$29&\" \"&'Dine valg'!$G$30)","v":"Anm.: Valgte kommuner i sammenligningsgruppen: Aarhus      "}]
[null,{"$f":"Registerdata!$B$32","v":"Kilde: Socialstyrelsens egne beregninger baseret på registerdata fra Danmarks Statistik."}]

{"sheet":"Skyggetabeller","index":5,"n_rows":412,"n_cols":18,"rows_kept":412,"cut":false,"hidden":false,"merged":[[205,1,205,4],[380,1,381,12],[387,1,388,12]]}
[]
[]
[null,"Skyggetabeller"]
[]
[]
[null,"Nøgletal 1: Institutionsanbringelser"]
[]
[null,"Tabel 1: Institutionsanbringelser"]
[null,"Nøgletal 1: \nInstitutionsanbringelser",null,"2017-01-01","2017-07-01","2018-01-01","2018-07-01","2019-01-01","2019-07-01","2020-01-01","2020-07-01","2021-01-01","2021-07-01","2022-01-01","2022-07-01","2023-01-01","2023-07-01","2024-01-01"]
[null,{"$f":"IF(Kommune=\"\",\"Kommune\",Kommune)","v":"København"}]
[null,"Antal anbragte",null,{"$f":"IFERROR(INDEX(Data_kom2,MATCH(1,(komnavn2=Kommune)*(komaar2=D9),0),4),\"Data ikke tilføjet\")","v":225},{"$f":"IFERROR(INDEX(Data_kom2,MATCH(1,(komnavn2=Kommune)*(komaar2=E9),0),4),\"Data ikke tilføjet\")","v":227},{"$f":"IFERROR(INDEX(Data_kom2,MATCH(1,(komnavn2=Kommune)*(komaar2=F9),0),4),\"Data ikke tilføjet\")","v":215},{"$f":"IFERROR(INDEX(Data_kom2,MATCH(1,(komnavn2=Kommune)*(komaar2=G9),0),4),\"Data ikke tilføjet\")","v":219},{"$f":"IFERROR(INDEX(Data_kom2,MATCH(1,(komnavn2=Kommune)*(komaar2=H9),0),4),\"Data ikke tilføjet\")","v":206},{"$f":"IFERROR(INDEX(Data_kom2,MATCH(1,(komnavn2=Kommune)*(komaar2=I9),0),4),\"Data ikke tilføjet\")","v":195},{"$f":"IFERROR(INDEX(Data_kom2,MATCH(1,(komnavn2=Kommune)*(komaar2=J9),0),4),\"Data ikke tilføjet\")","v":162},{"$f":"IFERROR(INDEX(Data_kom2,MATCH(1,(komnavn2=Kommune)*(komaar2=K9),0),4),\"Data ikke tilføjet\")","v":183},{"$f":"IFERROR(INDEX(Data_kom2,MATCH(1,(komnavn2=Kommune)*(komaar2=L9),0),4),\"Data ikke tilføjet\")","v":203},{"$f":"IFERROR(INDEX(Data_kom2,MATCH(1,(komnavn2=Kommune)*(komaar2=M9),0),4),\"Data ikke tilføjet\")","v":221},{"$f":"IFERROR(INDEX(Data_kom2,MATCH(1,(komnavn2=Kommune)*(komaar2=N9),0),4),\"Data ikke tilføjet\")","v":220},{"$f":"IFERROR(INDEX(Data_kom2,MATCH(1,(komnavn2=Kommune)*(komaar2=O9),0),4),\"Data ikke tilføjet\")","v":246},{"$f":"IFERROR(INDEX(Data_kom2,MATCH(1,(komnavn2=Kommune)*(komaar2=P9),0),4),\"Data ikke tilføjet\")","v":252},{"$f":"IFERROR(INDEX(Data_kom2,MATCH(1,(komnavn2=Kommune)*(komaar2=Q9),0),4),\"Data ikke tilføjet\")","v":274},{"$f":"IFERROR(INDEX(Data_kom2,MATCH(1,(komnavn2=Kommune)*(komaar2=R9),0),4),\"Data ikke tilføjet\")","v":254}]
[null,"Antal 0-17-årige",null,{"$f":"IFERROR(INDEX(Data_kom2,MATCH(1,(komnavn2=Kommune)*(komaar2=D9),0),2),\"Data ikke tilføjet\")","v":105885},{"$f":"IFERROR(INDEX(Data_kom2,MATCH(1,(komnavn2=Kommune)*(komaar2=E9),0),2),\"Data ikke tilføjet\")","v":106913},{"$f":"IFERROR(INDEX(Data_kom2,MATCH(1,(komnavn2=Kommune)*(komaar2=F9),0),2),\"Data ikke tilføjet\")","v":107770},{"$f":"IFERROR(INDEX(Data_kom2,MATCH(1,(komnavn2=Kommune)*(komaar2=G9),0),2),\"Data ikke tilføjet\")","v":108734},{"$f":"IFERROR(INDEX(Data_kom2,MATCH(1,(komnavn2=Kommune)*(komaar2=H9),0),2),\"Data ikke tilføjet\")","v":109335},{"$f":"IFERROR(INDEX(Data_kom2,MATCH(1,(komnavn2=Kommune)*(komaar2=I9),0),2),\"Data ikke tilføjet\")","v":110138},{"$f":"IFERROR(INDEX(Data_kom2,MATCH(1,(komnavn2=Kommune)*(komaar2=J9),0),2),\"Data ikke tilføjet\")","v":110822},{"$f":"IFERROR(INDEX(Data_kom2,MATCH(1,(komnavn2=Kommune)*(komaar2=K9),0),2),\"Data ikke tilføjet\")","v":111068},{"$f":"IFERROR(INDEX(Data_kom2,MATCH(1,(komnavn2=Kommune)*(komaar2=L9),0),2),\"Data ikke tilføjet\")","v":110927},{"$f":"IFERROR(INDEX(Data_kom2,MATCH(1,(komnavn2=Kommune)*(komaar2=M9),0),2),\"Data ikke tilføjet\")","v":110614},{"$f":"IFERROR(INDEX(Data_kom2,MATCH(1,(komnavn2=Kommune)*(komaar2=N9),0),2),\"Data ikke tilføjet\")","v":110513},{"$f":"IFERROR(INDEX(Data_kom2,MATCH(1,(komnavn2=Kommune)*(komaar2=O9),0),2),\"Data ikke tilføjet\")","v":110692},{"$f":"IFERROR(INDEX(Data_kom2,MATCH(1,(komnavn2=Kommune)*(komaar2=P9),0),2),\"Data ikke tilføjet\")","v":110835},{"$f":"IFERROR(INDEX(Data_kom2,MATCH(1,(komnavn2=Kommune)*(komaar2=Q9),0),2),\"Data ikke tilføjet\")","v":111075},{"$f":"IFERROR(INDEX(Data_kom2,MATCH(1,(komnavn2=Kommune)*(komaar2=R9),0),2),\"Data ikke tilføjet\")","v":110571}]
[null,"Andel",null,{"$f":"IFERROR(IF(D11=\"*\",\"*\",IF(D12=0,\"#I/T\",(D11/D12*1000))),\"Data ikke tilføjet\")","v":2.1249468763280914},2.1232216849213845,1.9949893291268441,2.0140894292493612,1.8841176201582293,1.7705060923568614,1.4618036130010286,1.6476392840422083,1.8300323636265292,{"$f":"IFERROR(IF(M11=\"*\",\"*\",IF(M12=0,\"#I/T\",(M11/M12*1000))),\"Data ikke tilføjet\")","v":1.9979387780931888},1.9907160243591249,2.2223828280273192,2.2736500203004466,2.4668017105559308,2.297166526485245]
[null,"Sammenligningsgruppe, gns."]
[null,"Antal anbragte",null,{"$f":"IF('Dine valg'!$G$24=\"\",\"-\",SUMIF(Hjælpefane!$D$7:$D$111,\"=\"&D$9,Hjælpefane!$E$7:$E$111))","v":188},{"$f":"IF('Dine valg'!$G$24=\"\",\"-\",SUMIF(Hjælpefane!$D$7:$D$111,\"=\"&E$9,Hjælpefane!$E$7:$E$111))","v":186},{"$f":"IF('Dine valg'!$G$24=\"\",\"-\",SUMIF(Hjælpefane!$D$7:$D$111,\"=\"&F$9,Hjælpefane!$E$7:$E$111))","v":178},{"$f":"IF('Dine valg'!$G$24=\"\",\"-\",SUMIF(Hjælpefane!$D$7:$D$111,\"=\"&G$9,Hjælpefane!$E$7:$E$111))","v":166},{"$f":"IF('Dine valg'!$G$24=\"\",\"-\",SUMIF(Hjælpefane!$D$7:$D$111,\"=\"&H$9,Hjælpefane!$E$7:$E$111))","v":173},{"$f":"IF('Dine valg'!$G$24=\"\",\"-\",SUMIF(Hjælpefane!$D$7:$D$111,\"=\"&I$9,Hjælpefane!$E$7:$E$111))","v":173},{"$f":"IF('Dine valg'!$G$24=\"\",\"-\",SUMIF(Hjælpefane!$D$7:$D$111,\"=\"&J$9,Hjælpefane!$E$7:$E$111))","v":166},{"$f":"IF('Dine valg'!$G$24=\"\",\"-\",SUMIF(Hjælpefane!$D$7:$D$111,\"=\"&K$9,Hjælpefane!$E$7:$E$111))","v":168},{"$f":"IF('Dine valg'!$G$24=\"\",\"-\",SUMIF(Hjælpefane!$D$7:$D$111,\"=\"&L$9,Hjælpefane!$E$7:$E$111))","v":169},{"$f":"IF('Dine valg'!$G$24=\"\",\"-\",SUMIF(Hjælpefane!$D$7:$D$111,\"=\"&M$9,Hjælpefane!$E$7:$E$111))","v":168},{"$f":"IF('Dine valg'!$G$24=\"\",\"-\",SUMIF(Hjælpefane!$D$7:$D$111,\"=\"&N$9,Hjælpefane!$E$7:$E$111))","v":154},{"$f":"IF('Dine valg'!$G$24=\"\",\"-\",SUMIF(Hjælpefane!$D$7:$D$111,\"=\"&O$9,Hjælpefane!$E$7:$E$111))","v":168},{"$f":"IF('Dine valg'!$G$24=\"\",\"-\",SUMIF(Hjælpefane!$D$7:$D$111,\"=\"&P$9,Hjælpefane!$E$7:$E$111))","v":162},{"$f":"IF('Dine valg'!$G$24=\"\",\"-\",SUMIF(Hjælpefane!$D$7:$D$111,\"=\"&Q$9,Hjælpefane!$E$7:$E$111))","v":161},{"$f":"IF('Dine valg'!$G$24=\"\",\"-\",SUMIF(Hjælpefane!$D$7:$D$111,\"=\"&R$9,Hjælpefane!$E$7:$E$111))","v":152}]
[null,"Antal 0-17-årige",null,{"$f":"IF('Dine valg'!$G$24=\"\",\"-\",SUMIF(Hjælpefane!$D$7:$D$111,\"=\"&D$9,Hjælpefane!$C$7:$C$111))","v":62903},{"$f":"IF('Dine valg'!$G$24=\"\",\"-\",SUMIF(Hjælpefane!$D$7:$D$111,\"=\"&E$9,Hjælpefane!$C$7:$C$111))","v":63077},{"$f":"IF('Dine valg'!$G$24=\"\",\"-\",SUMIF(Hjælpefane!$D$7:$D$111,\"=\"&F$9,Hjælpefane!$C$7:$C$111))","v":63245},{"$f":"IF('Dine valg'!$G$24=\"\",\"-\",SUMIF(Hjælpefane!$D$7:$D$111,\"=\"&G$9,Hjælpefane!$C$7:$C$111))","v":63510},{"$f":"IF('Dine valg'!$G$24=\"\",\"-\",SUMIF(Hjælpefane!$D$7:$D$111,\"=\"&H$9,Hjælpefane!$C$7:$C$111))","v":63607},{"$f":"IF('Dine valg'!$G$24=\"\",\"-\",SUMIF(Hjælpefane!$D$7:$D$111,\"=\"&I$9,Hjælpefane!$C$7:$C$111))","v":63704},{"$f":"IF('Dine valg'!$G$24=\"\",\"-\",SUMIF(Hjælpefane!$D$7:$D$111,\"=\"&J$9,Hjælpefane!$C$7:$C$111))","v":63890},{"$f":"IF('Dine valg'!$G$24=\"\",\"-\",SUMIF(Hjælpefane!$D$7:$D$111,\"=\"&K$9,Hjælpefane!$C$7:$C$111))","v":64128},{"$f":"IF('Dine valg'!$G$24=\"\",\"-\",SUMIF(Hjælpefane!$D$7:$D$111,\"=\"&L$9,Hjælpefane!$C$7:$C$111))","v":64334},{"$f":"IF('Dine valg'!$G$24=\"\",\"-\",SUMIF(Hjælpefane!$D$7:$D$111,\"=\"&M$9,Hjælpefane!$C$7:$C$111))","v":64307},{"$f":"IF('Dine valg'!$G$24=\"\",\"-\",SUMIF(Hjælpefane!$D$7:$D$111,\"=\"&N$9,Hjælpefane!$C$7:$C$111))","v":64049},{"$f":"IF('Dine valg'!$G$24=\"\",\"-\",SUMIF(Hjælpefane!$D$7:$D$111,\"=\"&O$9,Hjælpefane!$C$7:$C$111))","v":64356},{"$f":"IF('Dine valg'!$G$24=\"\",\"-\",SUMIF(Hjælpefane!$D$7:$D$111,\"=\"&P$9,Hjælpefane!$C$7:$C$111))","v":64420},{"$f":"IF('Dine valg'!$G$24=\"\",\"-\",SUMIF(Hjælpefane!$D$7:$D$111,\"=\"&Q$9,Hjælpefane!$C$7:$C$111))","v":64601},{"$f":"IF('Dine valg'!$G$24=\"\",\"-\",SUMIF(Hjælpefane!$D$7:$D$111,\"=\"&R$9,Hjælpefane!$C$7:$C$111))","v":64665}]
[null,"Andel",null,{"$f":"IFERROR(IF(D15=\"*\",\"*\",IF(D16=\"\",\"Indtast data\",(D15/D16*1000))),\"-\")","v":2.9887286774875603},{"$f":"IFERROR(IF(E15=\"*\",\"*\",IF(E16=\"\",\"Indtast data\",(E15/E16*1000))),\"-\")","v":2.9487768917354975},2.8144517353150444,2.6137616123445127,2.7198264341974938,2.7156850433253799,2.5982156832055097,2.6197604790419158,2.6269157832561318,{"$f":"IFERROR(IF(M15=\"*\",\"*\",IF(M16=\"\",\"Indtast data\",(M15/M16*1000))),\"-\")","v":2.6124683160464648},2.4044091242642351,2.6104792093977252,2.5147469729897547,2.4922214826395876,2.3505760457743756]
[null,"Hele landet"]
[null,"Antal anbragte",null,{"$f":"INDEX(Data_land,MATCH(Skyggetabeller!D9,Data!landaar,0),4)","v":3383},{"$f":"INDEX(Data_land,MATCH(Skyggetabeller!E9,Data!landaar,0),4)","v":3460},{"$f":"INDEX(Data_land,MATCH(Skyggetabeller!F9,Data!landaar,0),4)","v":3369},{"$f":"INDEX(Data_land,MATCH(Skyggetabeller!G9,Data!landaar,0),4)","v":3409},{"$f":"INDEX(Data_land,MATCH(Skyggetabeller!H9,Data!landaar,0),4)","v":3309},{"$f":"INDEX(Data_land,MATCH(Skyggetabeller!I9,Data!landaar,0),4)","v":3282},{"$f":"INDEX(Data_land,MATCH(Skyggetabeller!J9,Data!landaar,0),4)","v":3274},{"$f":"INDEX(Data_land,MATCH(Skyggetabeller!K9,Data!landaar,0),4)","v":3343},{"$f":"INDEX(Data_land,MATCH(Skyggetabeller!L9,Data!landaar,0),4)","v":3404},{"$f":"INDEX(Data_land,MATCH(Skyggetabeller!M9,Data!landaar,0),4)","v":3494},{"$f":"INDEX(Data_land,MATCH(Skyggetabeller!N9,Data!landaar,0),4)","v":3486},{"$f":"INDEX(Data_land,MATCH(Skyggetabeller!O9,Data!landaar,0),4)","v":3675},{"$f":"INDEX(Data_land,MATCH(Skyggetabeller!P9,Data!landaar,0),4)","v":3708},{"$f":"INDEX(Data_land,MATCH(Skyggetabeller!Q9,Data!landaar,0),4)","v":3769},{"$f":"INDEX(Data_land,MATCH(Skyggetabeller!R9,Data!landaar,0),4)","v":3790}]
[null,"Antal 0-17-årige",null,{"$f":"INDEX(Data_land,MATCH(Skyggetabeller!D9,Data!landaar,0),2)","v":1168201},{"$f":"INDEX(Data_land,MATCH(Skyggetabeller!E9,Data!landaar,0),2)","v":1165363},{"$f":"INDEX(Data_land,MATCH(Skyggetabeller!F9,Data!landaar,0),2)","v":1165475},{"$f":"INDEX(Data_land,MATCH(Skyggetabeller!G9,Data!landaar,0),2)","v":1162195},{"$f":"INDEX(Data_land,MATCH(Skyggetabeller!H9,Data!landaar,0),2)","v":1160360},{"$f":"INDEX(Data_land,MATCH(Skyggetabeller!I9,Data!landaar,0),2)","v":1156537},{"$f":"INDEX(Data_land,MATCH(Skyggetabeller!J9,Data!landaar,0),2)","v":1156116},{"$f":"INDEX(Data_land,MATCH(Skyggetabeller!K9,Data!landaar,0),2)","v":1153027},{"$f":"INDEX(Data_land,MATCH(Skyggetabeller!L9,Data!landaar,0),2)","v":1152972},{"$f":"INDEX(Data_land,MATCH(Skyggetabeller!M9,Data!landaar,0),2)","v":1151374},{"$f":"INDEX(Data_land,MATCH(Skyggetabeller!N9,Data!landaar,0),2)","v":1151704},{"$f":"INDEX(Data_land,MATCH(Skyggetabeller!O9,Data!landaar,0),2)","v":1157254},{"$f":"INDEX(Data_land,MATCH(Skyggetabeller!P9,Data!landaar,0),2)","v":1155814},{"$f":"INDEX(Data_land,MATCH(Skyggetabeller!Q9,Data!landaar,0),2)","v":1151415},{"$f":"INDEX(Data_land,MATCH(Skyggetabeller!R9,Data!landaar,0),2)","v":1148490}]
[null,"Andel",null,{"$f":"IFERROR(IF(D19=\"*\",\"*\",IF(D20=0,\"#I/T\",(D19/D20*1000))),\"Data ikke tilføjet\")","v":2.8959057559443968},2.9690319668635436,2.8906668954718033,2.9332427002353305,2.8517011961804957,2.8377821029504462,2.8318957613249878,2.8993249941241621,2.9523700488823668,{"$f":"IFERROR(IF(M19=\"*\",\"*\",IF(M20=0,\"#I/T\",(M19/M20*1000))),\"Data ikke tilføjet\")","v":3.0346351402758791},3.0268193910935448,3.1756209094978285,3.2081286435360705,3.2733636438642888,3.2999851979555763]
[]
[null,"Tabel 1.1: Anbragte på døgninstitutioner"]
[null,"Nøgletal 1.1\nAnbragte på døgninstitutioner",null,"2017-01-01","2017-07-01","2018-01-01","2018-07-01","2019-01-01","2019-07-01","2020-01-01","2020-07-01","2021-01-01","2021-07-01","2022-01-01","2022-07-01","2023-01-01","2023-07-01","2024-01-01"]
[null,{"$f":"IF(Kommune=\"\",\"Kommune\",Kommune)","v":"København"}]
[null,"Antal anbragte",null,{"$f":"IFERROR(IF(INDEX(Data_kom2,MATCH(1,(komnavn2=Kommune)*(komaar2=D24),0),5)=\"*\",\"*\",INDEX(Data_kom2,MATCH(1,(komnavn2=Kommune)*(komaar2=D24),0),5)),\"Data ikke tilføjet\")","v":172},{"$f":"IFERROR(IF(INDEX(Data_kom2,MATCH(1,(komnavn2=Kommune)*(komaar2=E24),0),5)=\"*\",\"*\",INDEX(Data_kom2,MATCH(1,(komnavn2=Kommune)*(komaar2=E24),0),5)),\"Data ikke tilføjet\")","v":183},{"$f":"IFERROR(IF(INDEX(Data_kom2,MATCH(1,(komnavn2=Kommune)*(komaar2=F24),0),5)=\"*\",\"*\",INDEX(Data_kom2,MATCH(1,(komnavn2=Kommune)*(komaar2=F24),0),5)),\"Data ikke tilføjet\")","v":176},{"$f":"IFERROR(IF(INDEX(Data_kom2,MATCH(1,(komnavn2=Kommune)*(komaar2=G24),0),5)=\"*\",\"*\",INDEX(Data_kom2,MATCH(1,(komnavn2=Kommune)*(komaar2=G24),0),5)),\"Data ikke tilføjet\")","v":176},{"$f":"IFERROR(IF(INDEX(Data_kom2,MATCH(1,(komnavn2=Kommune)*(komaar2=H24),0),5)=\"*\",\"*\",INDEX(Data_kom2,MATCH(1,(komnavn2=Kommune)*(komaar2=H24),0),5)),\"Data ikke tilføjet\")","v":164},{"$f":"IFERROR(IF(INDEX(Data_kom2,MATCH(1,(komnavn2=Kommune)*(komaar2=I24),0),5)=\"*\",\"*\",INDEX(Data_kom2,MATCH(1,(komnavn2=Kommune)*(komaar2=I24),0),5)),\"Data ikke tilføjet\")","v":155},{"$f":"IFERROR(IF(INDEX(Data_kom2,MATCH(1,(komnavn2=Kommune)*(komaar2=J24),0),5)=\"*\",\"*\",INDEX(Data_kom2,MATCH(1,(komnavn2=Kommune)*(komaar2=J24),0),5)),\"Data ikke tilføjet\")","v":139},{"$f":"IFERROR(IF(INDEX(Data_kom2,MATCH(1,(komnavn2=Kommune)*(komaar2=K24),0),5)=\"*\",\"*\",INDEX(Data_kom2,MATCH(1,(komnavn2=Kommune)*(komaar2=K24),0),5)),\"Data ikke tilføjet\")","v":148},{"$f":"IFERROR(IF(INDEX(Data_kom2,MATCH(1,(komnavn2=Kommune)*(komaar2=L24),0),5)=\"*\",\"*\",INDEX(Data_kom2,MATCH(1,(komnavn2=Kommune)*(komaar2=L24),0),5)),\"Data ikke tilføjet\")","v":159},{"$f":"IFERROR(IF(INDEX(Data_kom2,MATCH(1,(komnavn2=Kommune)*(komaar2=M24),0),5)=\"*\",\"*\",INDEX(Data_kom2,MATCH(1,(komnavn2=Kommune)*(komaar2=M24),0),5)),\"Data ikke tilføjet\")","v":164},{"$f":"IFERROR(IF(INDEX(Data_kom2,MATCH(1,(komnavn2=Kommune)*(komaar2=N24),0),5)=\"*\",\"*\",INDEX(Data_kom2,MATCH(1,(komnavn2=Kommune)*(komaar2=N24),0),5)),\"Data ikke tilføjet\")","v":171},{"$f":"IFERROR(IF(INDEX(Data_kom2,MATCH(1,(komnavn2=Kommune)*(komaar2=O24),0),5)=\"*\",\"*\",INDEX(Data_kom2,MATCH(1,(komnavn2=Kommune)*(komaar2=O24),0),5)),\"Data ikke tilføjet\")","v":194},{"$f":"IFERROR(IF(INDEX(Data_kom2,MATCH(1,(komnavn2=Kommune)*(komaar2=P24),0),5)=\"*\",\"*\",INDEX(Data_kom2,MATCH(1,(komnavn2=Kommune)*(komaar2=P24),0),5)),\"Data ikke tilføjet\")","v":200},{"$f":"IFERROR(IF(INDEX(Data_kom2,MATCH(1,(komnavn2=Kommune)*(komaar2=Q24),0),5)=\"*\",\"*\",INDEX(Data_kom2,MATCH(1,(komnavn2=Kommune)*(komaar2=Q24),0),5)),\"Data ikke tilføjet\")","v":220},{"$f":"IFERROR(IF(INDEX(Data_kom2,MATCH(1,(komnavn2=Kommune)*(komaar2=R24),0),5)=\"*\",\"*\",INDEX(Data_kom2,MATCH(1,(komnavn2=Kommune)*(komaar2=R24),0),5)),\"Data ikke tilføjet\")","v":189}]
[null,"Antal 0-17-årige",null,{"$f":"D$11","v":225},{"$f":"E$11","v":227},215,219,206,195,162,183,203,221,220,246,252,274,254]
[null,"Andel",null,{"$f":"IFERROR(IF(D26=\"*\",\"*\",IF(D27=0,\"#I/T\",(D26/D27))),\"Data ikke tilføjet\")","v":0.76444444444444448},{"$f":"IFERROR(IF(E26=\"*\",\"*\",IF(E27=0,\"#I/T\",(E26/E27))),\"Data ikke tilføjet\")","v":0.80616740088105732},{"$f":"IFERROR(IF(F26=\"*\",\"*\",IF(F27=0,\"#I/T\",(F26/F27))),\"Data ikke tilføjet\")","v":0.81860465116279069},{"$f":"IFERROR(IF(G26=\"*\",\"*\",IF(G27=0,\"#I/T\",(G26/G27))),\"Data ikke tilføjet\")","v":0.80365296803652964},{"$f":"IFERROR(IF(H26=\"*\",\"*\",IF(H27=0,\"#I/T\",(H26/H27))),\"Data ikke tilføjet\")","v":0.79611650485436891},{"$f":"IFERROR(IF(I26=\"*\",\"*\",IF(I27=0,\"#I/T\",(I26/I27))),\"Data ikke tilføjet\")","v":0.79487179487179482},{"$f":"IFERROR(IF(J26=\"*\",\"*\",IF(J27=0,\"#I/T\",(J26/J27))),\"Data ikke tilføjet\")","v":0.85802469135802473},{"$f":"IFERROR(IF(K26=\"*\",\"*\",IF(K27=0,\"#I/T\",(K26/K27))),\"Data ikke tilføjet\")","v":0.80874316939890711},{"$f":"IFERROR(IF(L26=\"*\",\"*\",IF(L27=0,\"#I/T\",(L26/L27))),\"Data ikke tilføjet\")","v":0.78325123152709364},{"$f":"IFERROR(IF(M26=\"*\",\"*\",IF(M27=0,\"#I/T\",(M26/M27))),\"Data ikke tilføjet\")","v":0.74208144796380093},{"$f":"IFERROR(IF(N26=\"*\",\"*\",IF(N27=0,\"#I/T\",(N26/N27))),\"Data ikke tilføjet\")","v":0.77727272727272723},{"$f":"IFERROR(IF(O26=\"*\",\"*\",IF(O27=0,\"#I/T\",(O26/O27))),\"Data ikke tilføjet\")","v":0.78861788617886175},{"$f":"IFERROR(IF(P26=\"*\",\"*\",IF(P27=0,\"#I/T\",(P26/P27))),\"Data ikke tilføjet\")","v":0.79365079365079361},{"$f":"IFERROR(IF(Q26=\"*\",\"*\",IF(Q27=0,\"#I/T\",(Q26/Q27))),\"Data ikke tilføjet\")","v":0.8029197080291971},{"$f":"IFERROR(IF(R26=\"*\",\"*\",IF(R27=0,\"#I/T\",(R26/R27))),\"Data ikke tilføjet\")","v":0.74409448818897639}]
[null,"Sammenligningsgruppe, gns."]
[null,"Antal anbragte",null,{"$f":"IF('Dine valg'!$G$24=\"\",\"-\",SUMIF(Hjælpefane!$D$7:$D$111,\"=\"&D$9,Hjælpefane!$F$7:$F$111))","v":129},{"$f":"IF('Dine valg'!$G$24=\"\",\"-\",SUMIF(Hjælpefane!$D$7:$D$111,\"=\"&E$9,Hjælpefane!$F$7:$F$111))","v":130},{"$f":"IF('Dine valg'!$G$24=\"\",\"-\",SUMIF(Hjælpefane!$D$7:$D$111,\"=\"&F$9,Hjælpefane!$F$7:$F$111))","v":116},{"$f":"IF('Dine valg'!$G$24=\"\",\"-\",SUMIF(Hjælpefane!$D$7:$D$111,\"=\"&G$9,Hjælpefane!$F$7:$F$111))","v":113},{"$f":"IF('Dine valg'!$G$24=\"\",\"-\",SUMIF(Hjælpefane!$D$7:$D$111,\"=\"&H$9,Hjælpefane!$F$7:$F$111))","v":116},{"$f":"IF('Dine valg'!$G$24=\"\",\"-\",SUMIF(Hjælpefane!$D$7:$D$111,\"=\"&I$9,Hjælpefane!$F$7:$F$111))","v":122},{"$f":"IF('Dine valg'!$G$24=\"\",\"-\",SUMIF(Hjælpefane!$D$7:$D$111,\"=\"&J$9,Hjælpefane!$F$7:$F$111))","v":116},{"$f":"IF('Dine valg'!$G$24=\"\",\"-\",SUMIF(Hjælpefane!$D$7:$D$111,\"=\"&K$9,Hjælpefane!$F$7:$F$111))","v":121},{"$f":"IF('Dine valg'!$G$24=\"\",\"-\",SUMIF(Hjælpefane!$D$7:$D$111,\"=\"&L$9,Hjælpefane!$F$7:$F$111))","v":115},{"$f":"IF('Dine valg'!$G$24=\"\",\"-\",SUMIF(Hjælpefane!$D$7:$D$111,\"=\"&M$9,Hjælpefane!$F$7:$F$111))","v":112},{"$f":"IF('Dine valg'!$G$24=\"\",\"-\",SUMIF(Hjælpefane!$D$7:$D$111,\"=\"&N$9,Hjælpefane!$F$7:$F$111))","v":102},{"$f":"IF('Dine valg'!$G$24=\"\",\"-\",SUMIF(Hjælpefane!$D$7:$D$111,\"=\"&O$9,Hjælpefane!$F$7:$F$111))","v":105},{"$f":"IF('Dine valg'!$G$24=\"\",\"-\",SUMIF(Hjælpefane!$D$7:$D$111,\"=\"&P$9,Hjælpefane!$F$7:$F$111))","v":103},{"$f":"IF('Dine valg'!$G$24=\"\",\"-\",SUMIF(Hjælpefane!$D$7:$D$111,\"=\"&Q$9,Hjælpefane!$F$7:$F$111))","v":110},{"$f":"IF('Dine valg'!$G$24=\"\",\"-\",SUMIF(Hjælpefane!$D$7:$D$111,\"=\"&R$9,Hjælpefane!$F$7:$F$111))","v":101}]
[null,"Antal 0-17-årige",null,{"$f":"D$15","v":188},{"$f":"E$15","v":186},178,166,173,173,166,168,169,168,154,168,162,161,152]
[null,"Andel",null,{"$f":"IFERROR(IF(D30=\"*\",\"*\",IF(D31=\"\",\"Indtast data\",(D30/D31))),\"-\")","v":0.68617021276595747},{"$f":"IFERROR(IF(E30=\"*\",\"*\",IF(E31=\"\",\"Indtast data\",(E30/E31))),\"-\")","v":0.69892473118279574},0.651685393258427,0.68072289156626509,0.67052023121387283,0.7052023121387283,0.6987951807228916,0.72023809523809523,0.68047337278106512,{"$f":"IFERROR(IF(M30=\"*\",\"*\",IF(M31=\"\",\"Indtast data\",(M30/M31))),\"-\")","v":0.66666666666666663},0.66233766233766234,0.625,0.63580246913580252,0.68322981366459623,0.66447368421052633]
[null,"Hele landet"]
[null,"Antal anbragte",null,{"$f":"INDEX(Data_land,MATCH(Skyggetabeller!D24,Data!landaar,0),5)","v":1818},{"$f":"INDEX(Data_land,MATCH(Skyggetabeller!E24,Data!landaar,0),5)","v":1809},{"$f":"INDEX(Data_land,MATCH(Skyggetabeller!F24,Data!landaar,0),5)","v":1761},{"$f":"INDEX(Data_land,MATCH(Skyggetabeller!G24,Data!landaar,0),5)","v":1780},{"$f":"INDEX(Data_land,MATCH(Skyggetabeller!H24,Data!landaar,0),5)","v":1704},{"$f":"INDEX(Data_land,MATCH(Skyggetabeller!I24,Data!landaar,0),5)","v":1695},{"$f":"INDEX(Data_land,MATCH(Skyggetabeller!J24,Data!landaar,0),5)","v":1680},{"$f":"INDEX(Data_land,MATCH(Skyggetabeller!K24,Data!landaar,0),5)","v":1669},{"$f":"INDEX(Data_land,MATCH(Skyggetabeller!L24,Data!landaar,0),5)","v":1694},{"$f":"INDEX(Data_land,MATCH(Skyggetabeller!M24,Data!landaar,0),5)","v":1680},{"$f":"INDEX(Data_land,MATCH(Skyggetabeller!N24,Data!landaar,0),5)","v":1689},{"$f":"INDEX(Data_land,MATCH(Skyggetabeller!O24,Data!landaar,0),5)","v":1762},{"$f":"INDEX(Data_land,MATCH(Skyggetabeller!P24,Data!landaar,0),5)","v":1768},{"$f":"INDEX(Data_land,MATCH(Skyggetabeller!Q24,Data!landaar,0),5)","v":1815},{"$f":"INDEX(Data_land,MATCH(Skyggetabeller!R24,Data!landaar,0),5)","v":1800}]
[null,"Antal 0-17-årige",null,{"$f":"INDEX(Data_land,MATCH(Skyggetabeller!D24,Data!landaar,0),4)","v":3383},{"$f":"INDEX(Data_land,MATCH(Skyggetabeller!E24,Data!landaar,0),4)","v":3460},{"$f":"INDEX(Data_land,MATCH(Skyggetabeller!F24,Data!landaar,0),4)","v":3369},{"$f":"INDEX(Data_land,MATCH(Skyggetabeller!G24,Data!landaar,0),4)","v":3409},{"$f":"INDEX(Data_land,MATCH(Skyggetabeller!H24,Data!landaar,0),4)","v":3309},{"$f":"INDEX(Data_land,MATCH(Skyggetabeller!I24,Data!landaar,0),4)","v":3282},{"$f":"INDEX(Data_land,MATCH(Skyggetabeller!J24,Data!landaar,0),4)","v":3274},{"$f":"INDEX(Data_land,MATCH(Skyggetabeller!K24,Data!landaar,0),4)","v":3343},{"$f":"INDEX(Data_land,MATCH(Skyggetabeller!L24,Data!landaar,0),4)","v":3404},{"$f":"INDEX(Data_land,MATCH(Skyggetabeller!M24,Data!landaar,0),4)","v":3494},{"$f":"INDEX(Data_land,MATCH(Skyggetabeller!N24,Data!landaar,0),4)","v":3486},{"$f":"INDEX(Data_land,MATCH(Skyggetabeller!O24,Data!landaar,0),4)","v":3675},{"$f":"INDEX(Data_land,MATCH(Skyggetabeller!P24,Data!landaar,0),4)","v":3708},{"$f":"INDEX(Data_land,MATCH(Skyggetabeller!Q24,Data!landaar,0),4)","v":3769},{"$f":"INDEX(Data_land,MATCH(Skyggetabeller!R24,Data!landaar,0),4)","v":3790}]
[null,"Andel",null,{"$f":"IFERROR(IF(D34=\"*\",\"*\",IF(D35=0,\"#I/T\",(D34/D35))),\"Data ikke tilføjet\")","v":0.5373928465858705},{"$f":"IFERROR(IF(E34=\"*\",\"*\",IF(E35=0,\"#I/T\",(E34/E35))),\"Data ikke tilføjet\")","v":0.52283236994219651},{"$f":"IFERROR(IF(F34=\"*\",\"*\",IF(F35=0,\"#I/T\",(F34/F35))),\"Data ikke tilføjet\")","v":0.52270703472840607},{"$f":"IFERROR(IF(G34=\"*\",\"*\",IF(G35=0,\"#I/T\",(G34/G35))),\"Data ikke tilføjet\")","v":0.52214725726019362},{"$f":"IFERROR(IF(H34=\"*\",\"*\",IF(H35=0,\"#I/T\",(H34/H35))),\"Data ikke tilføjet\")","v":0.51495920217588398},{"$f":"IFERROR(IF(I34=\"*\",\"*\",IF(I35=0,\"#I/T\",(I34/I35))),\"Data ikke tilføjet\")","v":0.51645338208409508},{"$f":"IFERROR(IF(J34=\"*\",\"*\",IF(J35=0,\"#I/T\",(J34/J35))),\"Data ikke tilføjet\")","v":0.51313378130726939},{"$f":"IFERROR(IF(K34=\"*\",\"*\",IF(K35=0,\"#I/T\",(K34/K35))),\"Data ikke tilføjet\")","v":0.49925216871073885},{"$f":"IFERROR(IF(L34=\"*\",\"*\",IF(L35=0,\"#I/T\",(L34/L35))),\"Data ikke tilføjet\")","v":0.49764982373678024},{"$f":"IFERROR(IF(M34=\"*\",\"*\",IF(M35=0,\"#I/T\",(M34/M35))),\"Data ikke tilføjet\")","v":0.48082427017744706},{"$f":"IFERROR(IF(N34=\"*\",\"*\",IF(N35=0,\"#I/T\",(N34/N35))),\"Data ikke tilføjet\")","v":0.48450946643717729},{"$f":"IFERROR(IF(O34=\"*\",\"*\",IF(O35=0,\"#I/T\",(O34/O35))),\"Data ikke tilføjet\")","v":0.47945578231292518},{"$f":"IFERROR(IF(P34=\"*\",\"*\",IF(P35=0,\"#I/T\",(P34/P35))),\"Data ikke tilføjet\")","v":0.47680690399136999},{"$f":"IFERROR(IF(Q34=\"*\",\"*\",IF(Q35=0,\"#I/T\",(Q34/Q35))),\"Data ikke tilføjet\")","v":0.481560095516052},{"$f":"IFERROR(IF(R34=\"*\",\"*\",IF(R35=0,\"#I/T\",(R34/R35))),\"Data ikke tilføjet\")","v":0.47493403693931396}]
[]
[null,"Tabel 1.2: Anbragte på sikrede døgninstitutioner"]
[null,"Nøgletal 1.2\nAnbragte på sikrede døgninstitutioner",null,"2017-01-01","2017-07-01","2018-01-01","2018-07-01","2019-01-01","2019-07-01","2020-01-01","2020-07-01","2021-01-01","2021-07-01","2022-01-01","2022-07-01","2023-01-01","2023-07-01","2024-01-01"]
[null,{"$f":"IF(Kommune=\"\",\"Kommune\",Kommune)","v":"København"}]
[null,"Antal anbragte",null,{"$f":"IFERROR(IF(INDEX(Data_kom2,MATCH(1,(komnavn2=Kommune)*(komaar2=D39),0),6)=\"*\",\"*\",INDEX(Data_kom2,MATCH(1,(komnavn2=Kommune)*(komaar2=D39),0),6)),\"Data ikke tilføjet\")","v":7},{"$f":"IFERROR(IF(INDEX(Data_kom2,MATCH(1,(komnavn2=Kommune)*(komaar2=E39),0),6)=\"*\",\"*\",INDEX(Data_kom2,MATCH(1,(komnavn2=Kommune)*(komaar2=E39),0),6)),\"Data ikke tilføjet\")","v":6},{"$f":"IFERROR(IF(INDEX(Data_kom2,MATCH(1,(komnavn2=Kommune)*(komaar2=F39),0),6)=\"*\",\"*\",INDEX(Data_kom2,MATCH(1,(komnavn2=Kommune)*(komaar2=F39),0),6)),\"Data ikke tilføjet\")","v":6},{"$f":"IFERROR(IF(INDEX(Data_kom2,MATCH(1,(komnavn2=Kommune)*(komaar2=G39),0),6)=\"*\",\"*\",INDEX(Data_kom2,MATCH(1,(komnavn2=Kommune)*(komaar2=G39),0),6)),\"Data ikke tilføjet\")","v":11},{"$f":"IFERROR(IF(INDEX(Data_kom2,MATCH(1,(komnavn2=Kommune)*(komaar2=H39),0),6)=\"*\",\"*\",INDEX(Data_kom2,MATCH(1,(komnavn2=Kommune)*(komaar2=H39),0),6)),\"Data ikke tilføjet\")","v":9},{"$f":"IFERROR(IF(INDEX(Data_kom2,MATCH(1,(komnavn2=Kommune)*(komaar2=I39),0),6)=\"*\",\"*\",INDEX(Data_kom2,MATCH(1,(komnavn2=Kommune)*(komaar2=I39),0),6)),\"Data ikke tilføjet\")","v":4},{"$f":"IFERROR(IF(INDEX(Data_kom2,MATCH(1,(komnavn2=Kommune)*(komaar2=J39),0),6)=\"*\",\"*\",INDEX(Data_kom2,MATCH(1,(komnavn2=Kommune)*(komaar2=J39),0),6)),\"Data ikke tilføjet\")","v":"*"},{"$f":"IFERROR(IF(INDEX(Data_kom2,MATCH(1,(komnavn2=Kommune)*(komaar2=K39),0),6)=\"*\",\"*\",INDEX(Data_kom2,MATCH(1,(komnavn2=Kommune)*(komaar2=K39),0),6)),\"Data ikke tilføjet\")","v":9},{"$f":"IFERROR(IF(INDEX(Data_kom2,MATCH(1,(komnavn2=Kommune)*(komaar2=L39),0),6)=\"*\",\"*\",INDEX(Data_kom2,MATCH(1,(komnavn2=Kommune)*(komaar2=L39),0),6)),\"Data ikke tilføjet\")","v":17},{"$f":"IFERROR(IF(INDEX(Data_kom2,MATCH(1,(komnavn2=Kommune)*(komaar2=M39),0),6)=\"*\",\"*\",INDEX(Data_kom2,MATCH(1,(komnavn2=Kommune)*(komaar2=M39),0),6)),\"Data ikke tilføjet\")","v":23},{"$f":"IFERROR(IF(INDEX(Data_kom2,MATCH(1,(komnavn2=Kommune)*(komaar2=N39),0),6)=\"*\",\"*\",INDEX(Data_kom2,MATCH(1,(komnavn2=Kommune)*(komaar2=N39),0),6)),\"Data ikke tilføjet\")","v":18},{"$f":"IFERROR(IF(INDEX(Data_kom2,MATCH(1,(komnavn2=Kommune)*(komaar2=O39),0),6)=\"*\",\"*\",INDEX(Data_kom2,MATCH(1,(komnavn2=Kommune)*(komaar2=O39),0),6)),\"Data ikke tilføjet\")","v":16},{"$f":"IFERROR(IF(INDEX(Data_kom2,MATCH(1,(komnavn2=Kommune)*(komaar2=P39),0),6)=\"*\",\"*\",INDEX(Data_kom2,MATCH(1,(komnavn2=Kommune)*(komaar2=P39),0),6)),\"Data ikke tilføjet\")","v":11},{"$f":"IFERROR(IF(INDEX(Data_kom2,MATCH(1,(komnavn2=Kommune)*(komaar2=Q39),0),6)=\"*\",\"*\",INDEX(Data_kom2,MATCH(1,(komnavn2=Kommune)*(komaar2=Q39),0),6)),\"Data ikke tilføjet\")","v":12},{"$f":"IFERROR(IF(INDEX(Data_kom2,MATCH(1,(komnavn2=Kommune)*(komaar2=R39),0),6)=\"*\",\"*\",INDEX(Data_kom2,MATCH(1,(komnavn2=Kommune)*(komaar2=R39),0),6)),\"Data ikke tilføjet\")","v":12}]
[null,"Antal 0-17-årige",null,{"$f":"D$11","v":225},{"$f":"E$11","v":227},215,219,206,195,162,183,203,221,220,246,252,274,254]
[null,"Andel",null,{"$f":"IFERROR(IF(D41=\"*\",\"*\",IF(D42=0,\"#I/T\",(D41/D42))),\"Data ikke tilføjet\")","v":3.111111111111111E-2},{"$f":"IFERROR(IF(E41=\"*\",\"*\",IF(E42=0,\"#I/T\",(E41/E42))),\"Data ikke tilføjet\")","v":2.643171806167401E-2},{"$f":"IFERROR(IF(F41=\"*\",\"*\",IF(F42=0,\"#I/T\",(F41/F42))),\"Data ikke tilføjet\")","v":2.7906976744186046E-2},{"$f":"IFERROR(IF(G41=\"*\",\"*\",IF(G42=0,\"#I/T\",(G41/G42))),\"Data ikke tilføjet\")","v":5.0228310502283102E-2},{"$f":"IFERROR(IF(H41=\"*\",\"*\",IF(H42=0,\"#I/T\",(H41/H42))),\"Data ikke tilføjet\")","v":4.3689320388349516E-2},{"$f":"IFERROR(IF(I41=\"*\",\"*\",IF(I42=0,\"#I/T\",(I41/I42))),\"Data ikke tilføjet\")","v":2.0512820512820513E-2},{"$f":"IFERROR(IF(J41=\"*\",\"*\",IF(J42=0,\"#I/T\",(J41/J42))),\"Data ikke tilføjet\")","v":"*"},{"$f":"IFERROR(IF(K41=\"*\",\"*\",IF(K42=0,\"#I/T\",(K41/K42))),\"Data ikke tilføjet\")","v":4.9180327868852458E-2},{"$f":"IFERROR(IF(L41=\"*\",\"*\",IF(L42=0,\"#I/T\",(L41/L42))),\"Data ikke tilføjet\")","v":8.3743842364532015E-2},{"$f":"IFERROR(IF(M41=\"*\",\"*\",IF(M42=0,\"#I/T\",(M41/M42))),\"Data ikke tilføjet\")","v":0.10407239819004525},{"$f":"IFERROR(IF(N41=\"*\",\"*\",IF(N42=0,\"#I/T\",(N41/N42))),\"Data ikke tilføjet\")","v":8.1818181818181818E-2},{"$f":"IFERROR(IF(O41=\"*\",\"*\",IF(O42=0,\"#I/T\",(O41/O42))),\"Data ikke tilføjet\")","v":6.5040650406504072E-2},{"$f":"IFERROR(IF(P41=\"*\",\"*\",IF(P42=0,\"#I/T\",(P41/P42))),\"Data ikke tilføjet\")","v":4.3650793650793648E-2},{"$f":"IFERROR(IF(Q41=\"*\",\"*\",IF(Q42=0,\"#I/T\",(Q41/Q42))),\"Data ikke tilføjet\")","v":4.3795620437956206E-2},{"$f":"IFERROR(IF(R41=\"*\",\"*\",IF(R42=0,\"#I/T\",(R41/R42))),\"Data ikke tilføjet\")","v":4.7244094488188976E-2}]
[null,"Sammenligningsgruppe, gns."]
[null,"Antal anbragte",null,{"$f":"IF('Dine valg'!$G$24=\"\",\"-\",SUMIF(Hjælpefane!$D$7:$D$111,\"=\"&D$9,Hjælpefane!$G$7:$G$111))","v":3},{"$f":"IF('Dine valg'!$G$24=\"\",\"-\",SUMIF(Hjælpefane!$D$7:$D$111,\"=\"&E$9,Hjælpefane!$G$7:$G$111))","v":4},{"$f":"IF('Dine valg'!$G$24=\"\",\"-\",SUMIF(Hjælpefane!$D$7:$D$111,\"=\"&F$9,Hjælpefane!$G$7:$G$111))","v":4},{"$f":"IF('Dine valg'!$G$24=\"\",\"-\",SUMIF(Hjælpefane!$D$7:$D$111,\"=\"&G$9,Hjælpefane!$G$7:$G$111))","v":7},{"$f":"IF('Dine valg'!$G$24=\"\",\"-\",SUMIF(Hjælpefane!$D$7:$D$111,\"=\"&H$9,Hjælpefane!$G$7:$G$111))","v":10},{"$f":"IF('Dine valg'!$G$24=\"\",\"-\",SUMIF(Hjælpefane!$D$7:$D$111,\"=\"&I$9,Hjælpefane!$G$7:$G$111))","v":8},{"$f":"IF('Dine valg'!$G$24=\"\",\"-\",SUMIF(Hjælpefane!$D$7:$D$111,\"=\"&J$9,Hjælpefane!$G$7:$G$111))","v":15},{"$f":"IF('Dine valg'!$G$24=\"\",\"-\",SUMIF(Hjælpefane!$D$7:$D$111,\"=\"&K$9,Hjælpefane!$G$7:$G$111))","v":10},{"$f":"IF('Dine valg'!$G$24=\"\",\"-\",SUMIF(Hjælpefane!$D$7:$D$111,\"=\"&L$9,Hjælpefane!$G$7:$G$111))","v":14},{"$f":"IF('Dine valg'!$G$24=\"\",\"-\",SUMIF(Hjælpefane!$D$7:$D$111,\"=\"&M$9,Hjælpefane!$G$7:$G$111))","v":11},{"$f":"IF('Dine valg'!$G$24=\"\",\"-\",SUMIF(Hjælpefane!$D$7:$D$111,\"=\"&N$9,Hjælpefane!$G$7:$G$111))","v":11},{"$f":"IF('Dine valg'!$G$24=\"\",\"-\",SUMIF(Hjælpefane!$D$7:$D$111,\"=\"&O$9,Hjælpefane!$G$7:$G$111))","v":14},{"$f":"IF('Dine valg'!$G$24=\"\",\"-\",SUMIF(Hjælpefane!$D$7:$D$111,\"=\"&P$9,Hjælpefane!$G$7:$G$111))","v":10},{"$f":"IF('Dine valg'!$G$24=\"\",\"-\",SUMIF(Hjælpefane!$D$7:$D$111,\"=\"&Q$9,Hjælpefane!$G$7:$G$111))","v":13},{"$f":"IF('Dine valg'!$G$24=\"\",\"-\",SUMIF(Hjælpefane!$D$7:$D$111,\"=\"&R$9,Hjælpefane!$G$7:$G$111))","v":8}]
[null,"Antal 0-17-årige",null,{"$f":"D$15","v":188},{"$f":"E$15","v":186},178,166,173,173,166,168,169,168,154,168,162,161,152]
[null,"Andel",null,{"$f":"IFERROR(IF(D45=\"*\",\"*\",IF(D46=\"\",\"Indtast data\",(D45/D46))),\"-\")","v":1.5957446808510637E-2},{"$f":"IFERROR(IF(E45=\"*\",\"*\",IF(E46=\"\",\"Indtast data\",(E45/E46))),\"-\")","v":2.1505376344086023E-2},2.247191011235955E-2,4.2168674698795178E-2,5.7803468208092484E-2,4.6242774566473986E-2,9.036144578313253E-2,5.9523809523809521E-2,8.2840236686390539E-2,{"$f":"IFERROR(IF(M45=\"*\",\"*\",IF(M46=\"\",\"Indtast data\",(M45/M46))),\"-\")","v":6.5476190476190479E-2},7.1428571428571425E-2,8.3333333333333329E-2,6.1728395061728392E-2,8.0745341614906832E-2,5.2631578947368418E-2]
[null,"Hele landet"]
[null,"Antal anbragte",null,{"$f":"INDEX(Data_land,MATCH(Skyggetabeller!D39,Data!landaar,0),6)","v":81},{"$f":"INDEX(Data_land,MATCH(Skyggetabeller!E39,Data!landaar,0),6)","v":80},{"$f":"INDEX(Data_land,MATCH(Skyggetabeller!F39,Data!landaar,0),6)","v":64},{"$f":"INDEX(Data_land,MATCH(Skyggetabeller!G39,Data!landaar,0),6)","v":85},{"$f":"INDEX(Data_land,MATCH(Skyggetabeller!H39,Data!landaar,0),6)","v":76},{"$f":"INDEX(Data_land,MATCH(Skyggetabeller!I39,Data!landaar,0),6)","v":71},{"$f":"INDEX(Data_land,MATCH(Skyggetabeller!J39,Data!landaar,0),6)","v":77},{"$f":"INDEX(Data_land,MATCH(Skyggetabeller!K39,Data!landaar,0),6)","v":82},{"$f":"INDEX(Data_land,MATCH(Skyggetabeller!L39,Data!landaar,0),6)","v":95},{"$f":"INDEX(Data_land,MATCH(Skyggetabeller!M39,Data!landaar,0),6)","v":97},{"$f":"INDEX(Data_land,MATCH(Skyggetabeller!N39,Data!landaar,0),6)","v":84},{"$f":"INDEX(Data_land,MATCH(Skyggetabeller!O39,Data!landaar,0),6)","v":87},{"$f":"INDEX(Data_land,MATCH(Skyggetabeller!P39,Data!landaar,0),6)","v":86},{"$f":"INDEX(Data_land,MATCH(Skyggetabeller!Q39,Data!landaar,0),6)","v":91},{"$f":"INDEX(Data_land,MATCH(Skyggetabeller!R39,Data!landaar,0),6)","v":95}]
[null,"Antal 0-17-årige",null,{"$f":"INDEX(Data_land,MATCH(Skyggetabeller!D39,Data!landaar,0),4)","v":3383},{"$f":"INDEX(Data_land,MATCH(Skyggetabeller!E39,Data!landaar,0),4)","v":3460},{"$f":"INDEX(Data_land,MATCH(Skyggetabeller!F39,Data!landaar,0),4)","v":3369},{"$f":"INDEX(Data_land,MATCH(Skyggetabeller!G39,Data!landaar,0),4)","v":3409},{"$f":"INDEX(Data_land,MATCH(Skyggetabeller!H39,Data!landaar,0),4)","v":3309},{"$f":"INDEX(Data_land,MATCH(Skyggetabeller!I39,Data!landaar,0),4)","v":3282},{"$f":"INDEX(Data_land,MATCH(Skyggetabeller!J39,Data!landaar,0),4)","v":3274},{"$f":"INDEX(Data_land,MATCH(Skyggetabeller!K39,Data!landaar,0),4)","v":3343},{"$f":"INDEX(Data_land,MATCH(Skyggetabeller!L39,Data!landaar,0),4)","v":3404},{"$f":"INDEX(Data_land,MATCH(Skyggetabeller!M39,Data!landaar,0),4)","v":3494},{"$f":"INDEX(Data_land,MATCH(Skyggetabeller!N39,Data!landaar,0),4)","v":3486},{"$f":"INDEX(Data_land,MATCH(Skyggetabeller!O39,Data!landaar,0),4)","v":3675},{"$f":"INDEX(Data_land,MATCH(Skyggetabeller!P39,Data!landaar,0),4)","v":3708},{"$f":"INDEX(Data_land,MATCH(Skyggetabeller!Q39,Data!landaar,0),4)","v":3769},{"$f":"INDEX(Data_land,MATCH(Skyggetabeller!R39,Data!landaar,0),4)","v":3790}]
[null,"Andel",null,{"$f":"IFERROR(IF(D49=\"*\",\"*\",IF(D50=0,\"#I/T\",(D49/D50))),\"Data ikke tilføjet\")","v":2.3943245639964528E-2},{"$f":"IFERROR(IF(E49=\"*\",\"*\",IF(E50=0,\"#I/T\",(E49/E50))),\"Data ikke tilføjet\")","v":2.3121387283236993E-2},{"$f":"IFERROR(IF(F49=\"*\",\"*\",IF(F50=0,\"#I/T\",(F49/F50))),\"Data ikke tilføjet\")","v":1.8996734936182844E-2},{"$f":"IFERROR(IF(G49=\"*\",\"*\",IF(G50=0,\"#I/T\",(G49/G50))),\"Data ikke tilføjet\")","v":2.4933998239953067E-2},{"$f":"IFERROR(IF(H49=\"*\",\"*\",IF(H50=0,\"#I/T\",(H49/H50))),\"Data ikke tilføjet\")","v":2.2967663946811726E-2},{"$f":"IFERROR(IF(I49=\"*\",\"*\",IF(I50=0,\"#I/T\",(I49/I50))),\"Data ikke tilføjet\")","v":2.1633150517976842E-2},{"$f":"IFERROR(IF(J49=\"*\",\"*\",IF(J50=0,\"#I/T\",(J49/J50))),\"Data ikke tilføjet\")","v":2.3518631643249847E-2},{"$f":"IFERROR(IF(K49=\"*\",\"*\",IF(K50=0,\"#I/T\",(K49/K50))),\"Data ikke tilføjet\")","v":2.4528866287765481E-2},{"$f":"IFERROR(IF(L49=\"*\",\"*\",IF(L50=0,\"#I/T\",(L49/L50))),\"Data ikke tilføjet\")","v":2.7908343125734428E-2},{"$f":"IFERROR(IF(M49=\"*\",\"*\",IF(M50=0,\"#I/T\",(M49/M50))),\"Data ikke tilføjet\")","v":2.7761877504293073E-2},{"$f":"IFERROR(IF(N49=\"*\",\"*\",IF(N50=0,\"#I/T\",(N49/N50))),\"Data ikke tilføjet\")","v":2.4096385542168676E-2},{"$f":"IFERROR(IF(O49=\"*\",\"*\",IF(O50=0,\"#I/T\",(O49/O50))),\"Data ikke tilføjet\")","v":2.3673469387755101E-2},{"$f":"IFERROR(IF(P49=\"*\",\"*\",IF(P50=0,\"#I/T\",(P49/P50))),\"Data ikke tilføjet\")","v":2.3193096008629989E-2},{"$f":"IFERROR(IF(Q49=\"*\",\"*\",IF(Q50=0,\"#I/T\",(Q49/Q50))),\"Data ikke tilføjet\")","v":2.4144335367471476E-2},{"$f":"IFERROR(IF(R49=\"*\",\"*\",IF(R50=0,\"#I/T\",(R49/R50))),\"Data ikke tilføjet\")","v":2.5065963060686015E-2}]
[]
[]
[null,"Tabel 1.3: Anbragte på socialpædagogiske opholdssteder"]
[null,"Nøgletal 1.3\nAnbragte på socialpædagogiske opholdssteder",null,"2017-01-01","2017-07-01","2018-01-01","2018-07-01","2019-01-01","2019-07-01","2020-01-01","2020-07-01","2021-01-01","2021-07-01","2022-01-01","2022-07-01","2023-01-01","2023-07-01","2024-01-01"]
[null,{"$f":"IF(Kommune=\"\",\"Kommune\",Kommune)","v":"København"}]
[null,"Antal anbragte",null,{"$f":"IFERROR(IF(INDEX(Data_kom2,MATCH(1,(komnavn2=Kommune)*(komaar2=D55),0),7)=\"*\",\"*\",INDEX(Data_kom2,MATCH(1,(komnavn2=Kommune)*(komaar2=D55),0),7)),\"Data ikke tilføjet\")","v":46},{"$f":"IFERROR(IF(INDEX(Data_kom2,MATCH(1,(komnavn2=Kommune)*(komaar2=E55),0),7)=\"*\",\"*\",INDEX(Data_kom2,MATCH(1,(komnavn2=Kommune)*(komaar2=E55),0),7)),\"Data ikke tilføjet\")","v":38},{"$f":"IFERROR(IF(INDEX(Data_kom2,MATCH(1,(komnavn2=Kommune)*(komaar2=F55),0),7)=\"*\",\"*\",INDEX(Data_kom2,MATCH(1,(komnavn2=Kommune)*(komaar2=F55),0),7)),\"Data ikke tilføjet\")","v":33},{"$f":"IFERROR(IF(INDEX(Data_kom2,MATCH(1,(komnavn2=Kommune)*(komaar2=G55),0),7)=\"*\",\"*\",INDEX(Data_kom2,MATCH(1,(komnavn2=Kommune)*(komaar2=G55),0),7)),\"Data ikke tilføjet\")","v":32},{"$f":"IFERROR(IF(INDEX(Data_kom2,MATCH(1,(komnavn2=Kommune)*(komaar2=H55),0),7)=\"*\",\"*\",INDEX(Data_kom2,MATCH(1,(komnavn2=Kommune)*(komaar2=H55),0),7)),\"Data ikke tilføjet\")","v":33},{"$f":"IFERROR(IF(INDEX(Data_kom2,MATCH(1,(komnavn2=Kommune)*(komaar2=I55),0),7)=\"*\",\"*\",INDEX(Data_kom2,MATCH(1,(komnavn2=Kommune)*(komaar2=I55),0),7)),\"Data ikke tilføjet\")","v":36},{"$f":"IFERROR(IF(INDEX(Data_kom2,MATCH(1,(komnavn2=Kommune)*(komaar2=J55),0),7)=\"*\",\"*\",INDEX(Data_kom2,MATCH(1,(komnavn2=Kommune)*(komaar2=J55),0),7)),\"Data ikke tilføjet\")","v":"*"},{"$f":"IFERROR(IF(INDEX(Data_kom2,MATCH(1,(komnavn2=Kommune)*(komaar2=K55),0),7)=\"*\",\"*\",INDEX(Data_kom2,MATCH(1,(komnavn2=Kommune)*(komaar2=K55),0),7)),\"Data ikke tilføjet\")","v":26},{"$f":"IFERROR(IF(INDEX(Data_kom2,MATCH(1,(komnavn2=Kommune)*(komaar2=L55),0),7)=\"*\",\"*\",INDEX(Data_kom2,MATCH(1,(komnavn2=Kommune)*(komaar2=L55),0),7)),\"Data ikke tilføjet\")","v":27},{"$f":"IFERROR(IF(INDEX(Data_kom2,MATCH(1,(komnavn2=Kommune)*(komaar2=M55),0),7)=\"*\",\"*\",INDEX(Data_kom2,MATCH(1,(komnavn2=Kommune)*(komaar2=M55),0),7)),\"Data ikke tilføjet\")","v":34},{"$f":"IFERROR(IF(INDEX(Data_kom2,MATCH(1,(komnavn2=Kommune)*(komaar2=N55),0),7)=\"*\",\"*\",INDEX(Data_kom2,MATCH(1,(komnavn2=Kommune)*(komaar2=N55),0),7)),\"Data ikke tilføjet\")","v":31},{"$f":"IFERROR(IF(INDEX(Data_kom2,MATCH(1,(komnavn2=Kommune)*(komaar2=O55),0),7)=\"*\",\"*\",INDEX(Data_kom2,MATCH(1,(komnavn2=Kommune)*(komaar2=O55),0),7)),\"Data ikke tilføjet\")","v":36},{"$f":"IFERROR(IF(INDEX(Data_kom2,MATCH(1,(komnavn2=Kommune)*(komaar2=P55),0),7)=\"*\",\"*\",INDEX(Data_kom2,MATCH(1,(komnavn2=Kommune)*(komaar2=P55),0),7)),\"Data ikke tilføjet\")","v":41},{"$f":"IFERROR(IF(INDEX(Data_kom2,MATCH(1,(komnavn2=Kommune)*(komaar2=Q55),0),7)=\"*\",\"*\",INDEX(Data_kom2,MATCH(1,(komnavn2=Kommune)*(komaar2=Q55),0),7)),\"Data ikke tilføjet\")","v":42},{"$f":"IFERROR(IF(INDEX(Data_kom2,MATCH(1,(komnavn2=Kommune)*(komaar2=R55),0),7)=\"*\",\"*\",INDEX(Data_kom2,MATCH(1,(komnavn2=Kommune)*(komaar2=R55),0),7)),\"Data ikke tilføjet\")","v":53}]
[null,"Antal 0-17-årige",null,{"$f":"D$11","v":225},{"$f":"E$11","v":227},215,219,206,195,162,183,203,221,220,246,252,274,254]
[null,"Andel",null,{"$f":"IFERROR(IF(D57=\"*\",\"*\",IF(D58=0,\"#I/T\",(D57/D58))),\"Data ikke tilføjet\")","v":0.20444444444444446},{"$f":"IFERROR(IF(E57=\"*\",\"*\",IF(E58=0,\"#I/T\",(E57/E58))),\"Data ikke tilføjet\")","v":0.16740088105726872},{"$f":"IFERROR(IF(F57=\"*\",\"*\",IF(F58=0,\"#I/T\",(F57/F58))),\"Data ikke tilføjet\")","v":0.15348837209302327},{"$f":"IFERROR(IF(G57=\"*\",\"*\",IF(G58=0,\"#I/T\",(G57/G58))),\"Data ikke tilføjet\")","v":0.14611872146118721},{"$f":"IFERROR(IF(H57=\"*\",\"*\",IF(H58=0,\"#I/T\",(H57/H58))),\"Data ikke tilføjet\")","v":0.16019417475728157},{"$f":"IFERROR(IF(I57=\"*\",\"*\",IF(I58=0,\"#I/T\",(I57/I58))),\"Data ikke tilføjet\")","v":0.18461538461538463},{"$f":"IFERROR(IF(J57=\"*\",\"*\",IF(J58=0,\"#I/T\",(J57/J58))),\"Data ikke tilføjet\")","v":"*"},{"$f":"IFERROR(IF(K57=\"*\",\"*\",IF(K58=0,\"#I/T\",(K57/K58))),\"Data ikke tilføjet\")","v":0.14207650273224043},{"$f":"IFERROR(IF(L57=\"*\",\"*\",IF(L58=0,\"#I/T\",(L57/L58))),\"Data ikke tilføjet\")","v":0.13300492610837439},{"$f":"IFERROR(IF(M57=\"*\",\"*\",IF(M58=0,\"#I/T\",(M57/M58))),\"Data ikke tilføjet\")","v":0.15384615384615385},{"$f":"IFERROR(IF(N57=\"*\",\"*\",IF(N58=0,\"#I/T\",(N57/N58))),\"Data ikke tilføjet\")","v":0.1409090909090909},{"$f":"IFERROR(IF(O57=\"*\",\"*\",IF(O58=0,\"#I/T\",(O57/O58))),\"Data ikke tilføjet\")","v":0.14634146341463414},{"$f":"IFERROR(IF(P57=\"*\",\"*\",IF(P58=0,\"#I/T\",(P57/P58))),\"Data ikke tilføjet\")","v":0.1626984126984127},{"$f":"IFERROR(IF(Q57=\"*\",\"*\",IF(Q58=0,\"#I/T\",(Q57/Q58))),\"Data ikke tilføjet\")","v":0.15328467153284672},{"$f":"IFERROR(IF(R57=\"*\",\"*\",IF(R58=0,\"#I/T\",(R57/R58))),\"Data ikke tilføjet\")","v":0.20866141732283464}]
[null,"Sammenligningsgruppe, gns."]
[null,"Antal anbragte",null,{"$f":"IF('Dine valg'!$G$24=\"\",\"-\",SUMIF(Hjælpefane!$D$7:$D$111,\"=\"&D$9,Hjælpefane!$H$7:$H$111))","v":56},{"$f":"IF('Dine valg'!$G$24=\"\",\"-\",SUMIF(Hjælpefane!$D$7:$D$111,\"=\"&E$9,Hjælpefane!$H$7:$H$111))","v":52},{"$f":"IF('Dine valg'!$G$24=\"\",\"-\",SUMIF(Hjælpefane!$D$7:$D$111,\"=\"&F$9,Hjælpefane!$H$7:$H$111))","v":58},{"$f":"IF('Dine valg'!$G$24=\"\",\"-\",SUMIF(Hjælpefane!$D$7:$D$111,\"=\"&G$9,Hjælpefane!$H$7:$H$111))","v":46},{"$f":"IF('Dine valg'!$G$24=\"\",\"-\",SUMIF(Hjælpefane!$D$7:$D$111,\"=\"&H$9,Hjælpefane!$H$7:$H$111))","v":47},{"$f":"IF('Dine valg'!$G$24=\"\",\"-\",SUMIF(Hjælpefane!$D$7:$D$111,\"=\"&I$9,Hjælpefane!$H$7:$H$111))","v":43},{"$f":"IF('Dine valg'!$G$24=\"\",\"-\",SUMIF(Hjælpefane!$D$7:$D$111,\"=\"&J$9,Hjælpefane!$H$7:$H$111))","v":35},{"$f":"IF('Dine valg'!$G$24=\"\",\"-\",SUMIF(Hjælpefane!$D$7:$D$111,\"=\"&K$9,Hjælpefane!$H$7:$H$111))","v":37},{"$f":"IF('Dine valg'!$G$24=\"\",\"-\",SUMIF(Hjælpefane!$D$7:$D$111,\"=\"&L$9,Hjælpefane!$H$7:$H$111))","v":40},{"$f":"IF('Dine valg'!$G$24=\"\",\"-\",SUMIF(Hjælpefane!$D$7:$D$111,\"=\"&M$9,Hjælpefane!$H$7:$H$111))","v":45},{"$f":"IF('Dine valg'!$G$24=\"\",\"-\",SUMIF(Hjælpefane!$D$7:$D$111,\"=\"&N$9,Hjælpefane!$H$7:$H$111))","v":41},{"$f":"IF('Dine valg'!$G$24=\"\",\"-\",SUMIF(Hjælpefane!$D$7:$D$111,\"=\"&O$9,Hjælpefane!$H$7:$H$111))","v":49},{"$f":"IF('Dine valg'!$G$24=\"\",\"-\",SUMIF(Hjælpefane!$D$7:$D$111,\"=\"&P$9,Hjælpefane!$H$7:$H$111))","v":49},{"$f":"IF('Dine valg'!$G$24=\"\",\"-\",SUMIF(Hjælpefane!$D$7:$D$111,\"=\"&Q$9,Hjælpefane!$H$7:$H$111))","v":38},{"$f":"IF('Dine valg'!$G$24=\"\",\"-\",SUMIF(Hjælpefane!$D$7:$D$111,\"=\"&R$9,Hjælpefane!$H$7:$H$111))","v":43}]
[null,"Antal 0-17-årige",null,{"$f":"D$15","v":188},{"$f":"E$15","v":186},178,166,173,173,166,168,169,168,154,168,162,161,152]
[null,"Andel",null,{"$f":"IFERROR(IF(D61=\"*\",\"*\",IF(D62=\"\",\"Indtast data\",(D61/D62))),\"-\")","v":0.2978723404255319},{"$f":"IFERROR(IF(E61=\"*\",\"*\",IF(E62=\"\",\"Indtast data\",(E61/E62))),\"-\")","v":0.27956989247311825},{"$f":"IFERROR(IF(F61=\"*\",\"*\",IF(F62=\"\",\"Indtast data\",(F61/F62))),\"-\")","v":0.3258426966292135},{"$f":"IFERROR(IF(G61=\"*\",\"*\",IF(G62=\"\",\"Indtast data\",(G61/G62))),\"-\")","v":0.27710843373493976},{"$f":"IFERROR(IF(H61=\"*\",\"*\",IF(H62=\"\",\"Indtast data\",(H61/H62))),\"-\")","v":0.27167630057803466},{"$f":"IFERROR(IF(I61=\"*\",\"*\",IF(I62=\"\",\"Indtast data\",(I61/I62))),\"-\")","v":0.24855491329479767},{"$f":"IFERROR(IF(J61=\"*\",\"*\",IF(J62=\"\",\"Indtast data\",(J61/J62))),\"-\")","v":0.21084337349397592},{"$f":"IFERROR(IF(K61=\"*\",\"*\",IF(K62=\"\",\"Indtast data\",(K61/K62))),\"-\")","v":0.22023809523809523},{"$f":"IFERROR(IF(L61=\"*\",\"*\",IF(L62=\"\",\"Indtast data\",(L61/L62))),\"-\")","v":0.23668639053254437},0.26785714285714285,0.26623376623376621,0.29166666666666669,0.30246913580246915,0.2360248447204969,0.28289473684210525]
[null,"Hele landet"]
[null,"Antal anbragte",null,{"$f":"INDEX(Data_land,MATCH(Skyggetabeller!D55,Data!landaar,0),7)","v":1484},{"$f":"INDEX(Data_land,MATCH(Skyggetabeller!E55,Data!landaar,0),7)","v":1571},{"$f":"INDEX(Data_land,MATCH(Skyggetabeller!F55,Data!landaar,0),7)","v":1544},{"$f":"INDEX(Data_land,MATCH(Skyggetabeller!G55,Data!landaar,0),7)","v":1544},{"$f":"INDEX(Data_land,MATCH(Skyggetabeller!H55,Data!landaar,0),7)","v":1529},{"$f":"INDEX(Data_land,MATCH(Skyggetabeller!I55,Data!landaar,0),7)","v":1516},{"$f":"INDEX(Data_land,MATCH(Skyggetabeller!J55,Data!landaar,0),7)","v":1517},{"$f":"INDEX(Data_land,MATCH(Skyggetabeller!K55,Data!landaar,0),7)","v":1592},{"$f":"INDEX(Data_land,MATCH(Skyggetabeller!L55,Data!landaar,0),7)","v":1615},{"$f":"INDEX(Data_land,MATCH(Skyggetabeller!M55,Data!landaar,0),7)","v":1717},{"$f":"INDEX(Data_land,MATCH(Skyggetabeller!N55,Data!landaar,0),7)","v":1713},{"$f":"INDEX(Data_land,MATCH(Skyggetabeller!O55,Data!landaar,0),7)","v":1826},{"$f":"INDEX(Data_land,MATCH(Skyggetabeller!P55,Data!landaar,0),7)","v":1854},{"$f":"INDEX(Data_land,MATCH(Skyggetabeller!Q55,Data!landaar,0),7)","v":1863},{"$f":"INDEX(Data_land,MATCH(Skyggetabeller!R55,Data!landaar,0),7)","v":1895}]
[null,"Antal 0-17-årige",null,{"$f":"INDEX(Data_land,MATCH(Skyggetabeller!D55,Data!landaar,0),4)","v":3383},{"$f":"INDEX(Data_land,MATCH(Skyggetabeller!E55,Data!landaar,0),4)","v":3460},{"$f":"INDEX(Data_land,MATCH(Skyggetabeller!F55,Data!landaar,0),4)","v":3369},{"$f":"INDEX(Data_land,MATCH(Skyggetabeller!G55,Data!landaar,0),4)","v":3409},{"$f":"INDEX(Data_land,MATCH(Skyggetabeller!H55,Data!landaar,0),4)","v":3309},{"$f":"INDEX(Data_land,MATCH(Skyggetabeller!I55,Data!landaar,0),4)","v":3282},{"$f":"INDEX(Data_land,MATCH(Skyggetabeller!J55,Data!landaar,0),4)","v":3274},{"$f":"INDEX(Data_land,MATCH(Skyggetabeller!K55,Data!landaar,0),4)","v":3343},{"$f":"INDEX(Data_land,MATCH(Skyggetabeller!L55,Data!landaar,0),4)","v":3404},{"$f":"INDEX(Data_land,MATCH(Skyggetabeller!M55,Data!landaar,0),4)","v":3494},{"$f":"INDEX(Data_land,MATCH(Skyggetabeller!N55,Data!landaar,0),4)","v":3486},{"$f":"INDEX(Data_land,MATCH(Skyggetabeller!O55,Data!landaar,0),4)","v":3675},{"$f":"INDEX(Data_land,MATCH(Skyggetabeller!P55,Data!landaar,0),4)","v":3708},{"$f":"INDEX(Data_land,MATCH(Skyggetabeller!Q55,Data!landaar,0),4)","v":3769},{"$f":"INDEX(Data_land,MATCH(Skyggetabeller!R55,Data!landaar,0),4)","v":3790}]
[null,"Andel",null,{"$f":"IFERROR(IF(D65=\"*\",\"*\",IF(D66=0,\"#I/T\",(D65/D66))),\"Data ikke tilføjet\")","v":0.43866390777416492},{"$f":"IFERROR(IF(E65=\"*\",\"*\",IF(E66=0,\"#I/T\",(E65/E66))),\"Data ikke tilføjet\")","v":0.45404624277456646},{"$f":"IFERROR(IF(F65=\"*\",\"*\",IF(F66=0,\"#I/T\",(F65/F66))),\"Data ikke tilføjet\")","v":0.45829623033541111},{"$f":"IFERROR(IF(G65=\"*\",\"*\",IF(G66=0,\"#I/T\",(G65/G66))),\"Data ikke tilføjet\")","v":0.45291874449985331},{"$f":"IFERROR(IF(H65=\"*\",\"*\",IF(H66=0,\"#I/T\",(H65/H66))),\"Data ikke tilføjet\")","v":0.46207313387730431},{"$f":"IFERROR(IF(I65=\"*\",\"*\",IF(I66=0,\"#I/T\",(I65/I66))),\"Data ikke tilføjet\")","v":0.4619134673979281},{"$f":"IFERROR(IF(J65=\"*\",\"*\",IF(J66=0,\"#I/T\",(J65/J66))),\"Data ikke tilføjet\")","v":0.46334758704948076},{"$f":"IFERROR(IF(K65=\"*\",\"*\",IF(K66=0,\"#I/T\",(K65/K66))),\"Data ikke tilføjet\")","v":0.47621896500149569},{"$f":"IFERROR(IF(L65=\"*\",\"*\",IF(L66=0,\"#I/T\",(L65/L66))),\"Data ikke tilføjet\")","v":0.47444183313748534},{"$f":"IFERROR(IF(M65=\"*\",\"*\",IF(M66=0,\"#I/T\",(M65/M66))),\"Data ikke tilføjet\")","v":0.49141385231825985},{"$f":"IFERROR(IF(N65=\"*\",\"*\",IF(N66=0,\"#I/T\",(N65/N66))),\"Data ikke tilføjet\")","v":0.49139414802065406},{"$f":"IFERROR(IF(O65=\"*\",\"*\",IF(O66=0,\"#I/T\",(O65/O66))),\"Data ikke tilføjet\")","v":0.49687074829931971},{"$f":"IFERROR(IF(P65=\"*\",\"*\",IF(P66=0,\"#I/T\",(P65/P66))),\"Data ikke tilføjet\")","v":0.5},{"$f":"IFERROR(IF(Q65=\"*\",\"*\",IF(Q66=0,\"#I/T\",(Q65/Q66))),\"Data ikke tilføjet\")","v":0.49429556911647654},{"$f":"IFERROR(IF(R65=\"*\",\"*\",IF(R66=0,\"#I/T\",(R65/R66))),\"Data ikke tilføjet\")","v":0.5}]
[]
[null,"Tabel 1.4 - 1.6: Fordeling af institutionsanbragte for hver aktør"]
[]
[null,{"$f":"\"Tabel 1.4: Fordeling af institutionsanbragte for \"&Kommune","v":"Tabel 1.4: Fordeling af institutionsanbragte for København"}]
[null,{"$f":"\"Nøgletal 1.4\nFordeling af anbragte for \"&Kommune","v":"Nøgletal 1.4\nFordeling af anbragte for København"},null,"2017-01-01","2017-07-01","2018-01-01","2018-07-01","2019-01-01","2019-07-01","2020-01-01","2020-07-01","2021-01-01","2021-07-01","2022-01-01","2022-07-01","2023-01-01","2023-07-01","2024-01-01"]
[null,"Døgninstitutioner",null,{"$f":"D28","v":0.76444444444444448},0.80616740088105732,0.81860465116279069,0.80365296803652964,0.79611650485436891,0.79487179487179482,0.85802469135802473,0.80874316939890711,0.78325123152709364,0.74208144796380093,{"$f":"N28","v":0.77727272727272723},0.78861788617886175,0.79365079365079361,{"$f":"Q28","v":0.8029197080291971},0.74409448818897639]
[null,"Sikrede døgninstitutioner",null,{"$f":"D43","v":3.111111111111111E-2},2.643171806167401E-2,2.7906976744186046E-2,5.0228310502283102E-2,4.3689320388349516E-2,2.0512820512820513E-2,"*",4.9180327868852458E-2,8.3743842364532015E-2,0.10407239819004525,{"$f":"N43","v":8.1818181818181818E-2},6.5040650406504072E-2,4.3650793650793648E-2,{"$f":"Q43","v":4.3795620437956206E-2},4.7244094488188976E-2]
[null,"Socialpædagogiske opholdssteder",null,{"$f":"D59","v":0.20444444444444446},0.16740088105726872,0.15348837209302327,0.14611872146118721,0.16019417475728157,0.18461538461538463,"*",0.14207650273224043,0.13300492610837439,0.15384615384615385,{"$f":"N59","v":0.1409090909090909},0.14634146341463414,0.1626984126984127,{"$f":"Q59","v":0.15328467153284672},0.20866141732283464]
[]
[null,{"$f":"\"Tabel 1.5: Fordeling af institutionsanbragte for \"&B60","v":"Tabel 1.5: Fordeling af institutionsanbragte for Sammenligningsgruppe, gns."}]
[null,{"$f":"\"Nøgletal 1.5\nFordeling af anbragte for \"&B60","v":"Nøgletal 1.5\nFordeling af anbragte for Sammenligningsgruppe, gns."},null,"2017-01-01","2017-07-01","2018-01-01","2018-07-01","2019-01-01","2019-07-01","2020-01-01","2020-07-01","2021-01-01","2021-07-01","2022-01-01","2022-07-01","2023-01-01","2023-07-01","2024-01-01"]
[null,"Døgninstitutioner",null,{"$f":"D32","v":0.68617021276595747},{"$f":"E32","v":0.69892473118279574},0.651685393258427,0.68072289156626509,0.67052023121387283,0.7052023121387283,0.6987951807228916,0.72023809523809523,0.68047337278106512,0.66666666666666663,{"$f":"N32","v":0.66233766233766234},0.625,0.63580246913580252,{"$f":"Q32","v":0.68322981366459623},0.66447368421052633]
[null,"Sikrede døgninstitutioner",null,{"$f":"D47","v":1.5957446808510637E-2},2.1505376344086023E-2,2.247191011235955E-2,4.2168674698795178E-2,5.7803468208092484E-2,4.6242774566473986E-2,9.036144578313253E-2,5.9523809523809521E-2,8.2840236686390539E-2,6.5476190476190479E-2,{"$f":"N47","v":7.1428571428571425E-2},8.3333333333333329E-2,6.1728395061728392E-2,{"$f":"Q47","v":8.0745341614906832E-2},5.2631578947368418E-2]
[null,"Socialpædagogiske opholdssteder",null,{"$f":"D63","v":0.2978723404255319},0.27956989247311825,0.3258426966292135,0.27710843373493976,0.27167630057803466,0.24855491329479767,0.21084337349397592,0.22023809523809523,0.23668639053254437,0.26785714285714285,{"$f":"N63","v":0.26623376623376621},0.29166666666666669,0.30246913580246915,{"$f":"Q63","v":0.2360248447204969},0.28289473684210525]
[]
[null,{"$f":"\"Tabel 1.6: Fordeling af institutionsanbragte for \"&B64","v":"Tabel 1.6: Fordeling af institutionsanbragte for Hele landet"}]
[null,{"$f":"\"Nøgletal 1.6\nFordeling af anbragte for \"&B64&\"en\"","v":"Nøgletal 1.6\nFordeling af anbragte for Hele landeten"},null,"2017-01-01","2017-07-01","2018-01-01","2018-07-01","2019-01-01","2019-07-01","2020-01-01","2020-07-01","2021-01-01","2021-07-01","2022-01-01","2022-07-01","2023-01-01","2023-07-01","2024-01-01"]
[null,"Døgninstitutioner",null,{"$f":"D36","v":0.5373928465858705},0.52283236994219651,0.52270703472840607,0.52214725726019362,0.51495920217588398,0.51645338208409508,0.51313378130726939,0.49925216871073885,0.49764982373678024,0.48082427017744706,{"$f":"N36","v":0.48450946643717729},0.47945578231292518,0.47680690399136999,0.481560095516052,0.47493403693931396]
[null,"Sikrede døgninstitutioner",null,{"$f":"D51","v":2.3943245639964528E-2},2.3121387283236993E-2,1.8996734936182844E-2,2.4933998239953067E-2,2.2967663946811726E-2,2.1633150517976842E-2,2.3518631643249847E-2,2.4528866287765481E-2,2.7908343125734428E-2,2.7761877504293073E-2,{"$f":"N51","v":2.4096385542168676E-2},2.3673469387755101E-2,2.3193096008629989E-2,2.4144335367471476E-2,2.5065963060686015E-2]
[null,"Socialpædagogiske opholdssteder",null,{"$f":"D67","v":0.43866390777416492},0.45404624277456646,0.45829623033541111,0.45291874449985331,0.46207313387730431,0.4619134673979281,0.46334758704948076,0.47621896500149569,0.47444183313748534,0.49141385231825985,{"$f":"N67","v":0.49139414802065406},0.49687074829931971,0.5,0.49429556911647654,0.5]
[]
[]
[null,"Nøgletal 2: Varighed af institutionsanbringelser"]
[]
[null,"Tabel 2: Gennemsnitlig varighed af igangværende institutionsanbringelser"]
[null,"Nøgletal 2: \nGennemsnitlig varighed af igangværende institutionsanbringelser",null,"2017-01-01","2017-07-01","2018-01-01","2018-07-01","2019-01-01","2019-07-01","2020-01-01","2020-07-01","2021-01-01","2021-07-01","2022-01-01","2022-07-01","2023-01-01","2023-07-01","2024-01-01"]
[null,{"$f":"IF(Kommune=\"\",\"Kommune\",Kommune)","v":"København"}]
[null,"Samlet antal dage",null,{"$f":"IFERROR(IF(INDEX(Data_kom2,MATCH(1,(komnavn2=Kommune)*(komaar2=D93),0),8)=\"*\",\"*\",INDEX(Data_kom2,MATCH(1,(komnavn2=Kommune)*(komaar2=D93),0),8)),\"Data ikke tilføjet\")","v":183355},{"$f":"IFERROR(IF(INDEX(Data_kom2,MATCH(1,(komnavn2=Kommune)*(komaar2=E93),0),8)=\"*\",\"*\",INDEX(Data_kom2,MATCH(1,(komnavn2=Kommune)*(komaar2=E93),0),8)),\"Data ikke tilføjet\")","v":171090},{"$f":"IFERROR(IF(INDEX(Data_kom2,MATCH(1,(komnavn2=Kommune)*(komaar2=F93),0),8)=\"*\",\"*\",INDEX(Data_kom2,MATCH(1,(komnavn2=Kommune)*(komaar2=F93),0),8)),\"Data ikke tilføjet\")","v":161575},{"$f":"IFERROR(IF(INDEX(Data_kom2,MATCH(1,(komnavn2=Kommune)*(komaar2=G93),0),8)=\"*\",\"*\",INDEX(Data_kom2,MATCH(1,(komnavn2=Kommune)*(komaar2=G93),0),8)),\"Data ikke tilføjet\")","v":163682},{"$f":"IFERROR(IF(INDEX(Data_kom2,MATCH(1,(komnavn2=Kommune)*(komaar2=H93),0),8)=\"*\",\"*\",INDEX(Data_kom2,MATCH(1,(komnavn2=Kommune)*(komaar2=H93),0),8)),\"Data ikke tilføjet\")","v":156703},{"$f":"IFERROR(IF(INDEX(Data_kom2,MATCH(1,(komnavn2=Kommune)*(komaar2=I93),0),8)=\"*\",\"*\",INDEX(Data_kom2,MATCH(1,(komnavn2=Kommune)*(komaar2=I93),0),8)),\"Data ikke tilføjet\")","v":158572},{"$f":"IFERROR(IF(INDEX(Data_kom2,MATCH(1,(komnavn2=Kommune)*(komaar2=J93),0),8)=\"*\",\"*\",INDEX(Data_kom2,MATCH(1,(komnavn2=Kommune)*(komaar2=J93),0),8)),\"Data ikke tilføjet\")","v":133661},{"$f":"IFERROR(IF(INDEX(Data_kom2,MATCH(1,(komnavn2=Kommune)*(komaar2=K93),0),8)=\"*\",\"*\",INDEX(Data_kom2,MATCH(1,(komnavn2=Kommune)*(komaar2=K93),0),8)),\"Data ikke tilføjet\")","v":132974},{"$f":"IFERROR(IF(INDEX(Data_kom2,MATCH(1,(komnavn2=Kommune)*(komaar2=L93),0),8)=\"*\",\"*\",INDEX(Data_kom2,MATCH(1,(komnavn2=Kommune)*(komaar2=L93),0),8)),\"Data ikke tilføjet\")","v":133256},{"$f":"IFERROR(IF(INDEX(Data_kom2,MATCH(1,(komnavn2=Kommune)*(komaar2=M93),0),8)=\"*\",\"*\",INDEX(Data_kom2,MATCH(1,(komnavn2=Kommune)*(komaar2=M93),0),8)),\"Data ikke tilføjet\")","v":137290},{"$f":"IFERROR(IF(INDEX(Data_kom2,MATCH(1,(komnavn2=Kommune)*(komaar2=N93),0),8)=\"*\",\"*\",INDEX(Data_kom2,MATCH(1,(komnavn2=Kommune)*(komaar2=N93),0),8)),\"Data ikke tilføjet\")","v":135855},{"$f":"IFERROR(IF(INDEX(Data_kom2,MATCH(1,(komnavn2=Kommune)*(komaar2=O93),0),8)=\"*\",\"*\",INDEX(Data_kom2,MATCH(1,(komnavn2=Kommune)*(komaar2=O93),0),8)),\"Data ikke tilføjet\")","v":140964},{"$f":"IFERROR(IF(INDEX(Data_kom2,MATCH(1,(komnavn2=Kommune)*(komaar2=P93),0),8)=\"*\",\"*\",INDEX(Data_kom2,MATCH(1,(komnavn2=Kommune)*(komaar2=P93),0),8)),\"Data ikke tilføjet\")","v":151891},{"$f":"IFERROR(IF(INDEX(Data_kom2,MATCH(1,(komnavn2=Kommune)*(komaar2=Q93),0),8)=\"*\",\"*\",INDEX(Data_kom2,MATCH(1,(komnavn2=Kommune)*(komaar2=Q93),0),8)),\"Data ikke tilføjet\")","v":170292},{"$f":"IFERROR(IF(INDEX(Data_kom2,MATCH(1,(komnavn2=Kommune)*(komaar2=R93),0),8)=\"*\",\"*\",INDEX(Data_kom2,MATCH(1,(komnavn2=Kommune)*(komaar2=R93),0),8)),\"Data ikke tilføjet\")","v":181227}]
[null,"Antal anbragte",null,{"$f":"IFERROR(INDEX(Data_kom2,MATCH(1,(komnavn2=Kommune)*(komaar2=D$93),0),4),\"Data ikke tilføjet\")","v":225},{"$f":"IFERROR(INDEX(Data_kom2,MATCH(1,(komnavn2=Kommune)*(komaar2=E$93),0),4),\"Data ikke tilføjet\")","v":227},{"$f":"IFERROR(INDEX(Data_kom2,MATCH(1,(komnavn2=Kommune)*(komaar2=F$93),0),4),\"Data ikke tilføjet\")","v":215},{"$f":"IFERROR(INDEX(Data_kom2,MATCH(1,(komnavn2=Kommune)*(komaar2=G$93),0),4),\"Data ikke tilføjet\")","v":219},{"$f":"IFERROR(INDEX(Data_kom2,MATCH(1,(komnavn2=Kommune)*(komaar2=H$93),0),4),\"Data ikke tilføjet\")","v":206},{"$f":"IFERROR(INDEX(Data_kom2,MATCH(1,(komnavn2=Kommune)*(komaar2=I$93),0),4),\"Data ikke tilføjet\")","v":195},{"$f":"IFERROR(INDEX(Data_kom2,MATCH(1,(komnavn2=Kommune)*(komaar2=J$93),0),4),\"Data ikke tilføjet\")","v":162},{"$f":"IFERROR(INDEX(Data_kom2,MATCH(1,(komnavn2=Kommune)*(komaar2=K$93),0),4),\"Data ikke tilføjet\")","v":183},{"$f":"IFERROR(INDEX(Data_kom2,MATCH(1,(komnavn2=Kommune)*(komaar2=L$93),0),4),\"Data ikke tilføjet\")","v":203},{"$f":"IFERROR(INDEX(Data_kom2,MATCH(1,(komnavn2=Kommune)*(komaar2=M$93),0),4),\"Data ikke tilføjet\")","v":221},{"$f":"IFERROR(INDEX(Data_kom2,MATCH(1,(komnavn2=Kommune)*(komaar2=N$93),0),4),\"Data ikke tilføjet\")","v":220},{"$f":"IFERROR(INDEX(Data_kom2,MATCH(1,(komnavn2=Kommune)*(komaar2=O$93),0),4),\"Data ikke tilføjet\")","v":246},{"$f":"IFERROR(INDEX(Data_kom2,MATCH(1,(komnavn2=Kommune)*(komaar2=P$93),0),4),\"Data ikke tilføjet\")","v":252},{"$f":"IFERROR(INDEX(Data_kom2,MATCH(1,(komnavn2=Kommune)*(komaar2=Q$93),0),4),\"Data ikke tilføjet\")","v":274},{"$f":"IFERROR(INDEX(Data_kom2,MATCH(1,(komnavn2=Kommune)*(komaar2=R$93),0),4),\"Data ikke tilføjet\")","v":254}]
[null,"Gennemsnitlig varighed",null,{"$f":"IFERROR(IF(D95=\"*\",\"*\",IF(D96=0,\"#I/T\",(D95/D96))),\"Data ikke tilføjet\")","v":814.91111111111115},{"$f":"IFERROR(IF(E95=\"*\",\"*\",IF(E96=0,\"#I/T\",(E95/E96))),\"Data ikke tilføjet\")","v":753.70044052863432},{"$f":"IFERROR(IF(F95=\"*\",\"*\",IF(F96=0,\"#I/T\",(F95/F96))),\"Data ikke tilføjet\")","v":751.51162790697674},{"$f":"IFERROR(IF(G95=\"*\",\"*\",IF(G96=0,\"#I/T\",(G95/G96))),\"Data ikke tilføjet\")","v":747.40639269406392},{"$f":"IFERROR(IF(H95=\"*\",\"*\",IF(H96=0,\"#I/T\",(H95/H96))),\"Data ikke tilføjet\")","v":760.69417475728153},{"$f":"IFERROR(IF(I95=\"*\",\"*\",IF(I96=0,\"#I/T\",(I95/I96))),\"Data ikke tilføjet\")","v":813.18974358974356},{"$f":"IFERROR(IF(J95=\"*\",\"*\",IF(J96=0,\"#I/T\",(J95/J96))),\"Data ikke tilføjet\")","v":825.0679012345679},{"$f":"IFERROR(IF(K95=\"*\",\"*\",IF(K96=0,\"#I/T\",(K95/K96))),\"Data ikke tilføjet\")","v":726.63387978142077},{"$f":"IFERROR(IF(L95=\"*\",\"*\",IF(L96=0,\"#I/T\",(L95/L96))),\"Data ikke tilføjet\")","v":656.43349753694577},{"$f":"IFERROR(IF(M95=\"*\",\"*\",IF(M96=0,\"#I/T\",(M95/M96))),\"Data ikke tilføjet\")","v":621.22171945701359},{"$f":"IFERROR(IF(N95=\"*\",\"*\",IF(N96=0,\"#I/T\",(N95/N96))),\"Data ikke tilføjet\")","v":617.52272727272725},{"$f":"IFERROR(IF(O95=\"*\",\"*\",IF(O96=0,\"#I/T\",(O95/O96))),\"Data ikke tilføjet\")","v":573.02439024390242},{"$f":"IFERROR(IF(P95=\"*\",\"*\",IF(P96=0,\"#I/T\",(P95/P96))),\"Data ikke tilføjet\")","v":602.74206349206349},{"$f":"IFERROR(IF(Q95=\"*\",\"*\",IF(Q96=0,\"#I/T\",(Q95/Q96))),\"Data ikke tilføjet\")","v":621.50364963503648},{"$f":"IFERROR(IF(R95=\"*\",\"*\",IF(R96=0,\"#I/T\",(R95/R96))),\"Data ikke tilføjet\")","v":713.49212598425197}]
[null,"Sammenligningsgruppe, gns."]
[null,"Samlet antal dage",null,{"$f":"IF('Dine valg'!$G$24=\"\",\"-\",SUMIF(Hjælpefane!$D$7:$D$111,\"=\"&D$9,Hjælpefane!$I$7:$I$111))","v":197062},{"$f":"IF('Dine valg'!$G$24=\"\",\"-\",SUMIF(Hjælpefane!$D$7:$D$111,\"=\"&E$9,Hjælpefane!$I$7:$I$111))","v":192986},{"$f":"IF('Dine valg'!$G$24=\"\",\"-\",SUMIF(Hjælpefane!$D$7:$D$111,\"=\"&F$9,Hjælpefane!$I$7:$I$111))","v":180503},{"$f":"IF('Dine valg'!$G$24=\"\",\"-\",SUMIF(Hjælpefane!$D$7:$D$111,\"=\"&G$9,Hjælpefane!$I$7:$I$111))","v":156486},{"$f":"IF('Dine valg'!$G$24=\"\",\"-\",SUMIF(Hjælpefane!$D$7:$D$111,\"=\"&H$9,Hjælpefane!$I$7:$I$111))","v":144862},{"$f":"IF('Dine valg'!$G$24=\"\",\"-\",SUMIF(Hjælpefane!$D$7:$D$111,\"=\"&I$9,Hjælpefane!$I$7:$I$111))","v":158343},{"$f":"IF('Dine valg'!$G$24=\"\",\"-\",SUMIF(Hjælpefane!$D$7:$D$111,\"=\"&J$9,Hjælpefane!$I$7:$I$111))","v":156232},{"$f":"IF('Dine valg'!$G$24=\"\",\"-\",SUMIF(Hjælpefane!$D$7:$D$111,\"=\"&K$9,Hjælpefane!$I$7:$I$111))","v":140915},{"$f":"IF('Dine valg'!$G$24=\"\",\"-\",SUMIF(Hjælpefane!$D$7:$D$111,\"=\"&L$9,Hjælpefane!$I$7:$I$111))","v":147293},{"$f":"IF('Dine valg'!$G$24=\"\",\"-\",SUMIF(Hjælpefane!$D$7:$D$111,\"=\"&M$9,Hjælpefane!$I$7:$I$111))","v":149129},{"$f":"IF('Dine valg'!$G$24=\"\",\"-\",SUMIF(Hjælpefane!$D$7:$D$111,\"=\"&N$9,Hjælpefane!$I$7:$I$111))","v":145303},{"$f":"IF('Dine valg'!$G$24=\"\",\"-\",SUMIF(Hjælpefane!$D$7:$D$111,\"=\"&O$9,Hjælpefane!$I$7:$I$111))","v":150498},{"$f":"IF('Dine valg'!$G$24=\"\",\"-\",SUMIF(Hjælpefane!$D$7:$D$111,\"=\"&P$9,Hjælpefane!$I$7:$I$111))","v":140834},{"$f":"IF('Dine valg'!$G$24=\"\",\"-\",SUMIF(Hjælpefane!$D$7:$D$111,\"=\"&Q$9,Hjælpefane!$I$7:$I$111))","v":134907},{"$f":"IF('Dine valg'!$G$24=\"\",\"-\",SUMIF(Hjælpefane!$D$7:$D$111,\"=\"&R$9,Hjælpefane!$I$7:$I$111))","v":131601}]
[null,"Antal anbragte",null,{"$f":"IF('Dine valg'!$G$24=\"\",\"-\",SUMIF(Hjælpefane!$D$7:$D$111,\"=\"&D$9,Hjælpefane!$E$7:$E$111))","v":188},{"$f":"IF('Dine valg'!$G$24=\"\",\"-\",SUMIF(Hjælpefane!$D$7:$D$111,\"=\"&E$9,Hjælpefane!$E$7:$E$111))","v":186},{"$f":"IF('Dine valg'!$G$24=\"\",\"-\",SUMIF(Hjælpefane!$D$7:$D$111,\"=\"&F$9,Hjælpefane!$E$7:$E$111))","v":178},{"$f":"IF('Dine valg'!$G$24=\"\",\"-\",SUMIF(Hjælpefane!$D$7:$D$111,\"=\"&G$9,Hjælpefane!$E$7:$E$111))","v":166},{"$f":"IF('Dine valg'!$G$24=\"\",\"-\",SUMIF(Hjælpefane!$D$7:$D$111,\"=\"&H$9,Hjælpefane!$E$7:$E$111))","v":173},{"$f":"IF('Dine valg'!$G$24=\"\",\"-\",SUMIF(Hjælpefane!$D$7:$D$111,\"=\"&I$9,Hjælpefane!$E$7:$E$111))","v":173},{"$f":"IF('Dine valg'!$G$24=\"\",\"-\",SUMIF(Hjælpefane!$D$7:$D$111,\"=\"&J$9,Hjælpefane!$E$7:$E$111))","v":166},{"$f":"IF('Dine valg'!$G$24=\"\",\"-\",SUMIF(Hjælpefane!$D$7:$D$111,\"=\"&K$9,Hjælpefane!$E$7:$E$111))","v":168},{"$f":"IF('Dine valg'!$G$24=\"\",\"-\",SUMIF(Hjælpefane!$D$7:$D$111,\"=\"&L$9,Hjælpefane!$E$7:$E$111))","v":169},{"$f":"IF('Dine valg'!$G$24=\"\",\"-\",SUMIF(Hjælpefane!$D$7:$D$111,\"=\"&M$9,Hjælpefane!$E$7:$E$111))","v":168},{"$f":"IF('Dine valg'!$G$24=\"\",\"-\",SUMIF(Hjælpefane!$D$7:$D$111,\"=\"&N$9,Hjælpefane!$E$7:$E$111))","v":154},{"$f":"IF('Dine valg'!$G$24=\"\",\"-\",SUMIF(Hjælpefane!$D$7:$D$111,\"=\"&O$9,Hjælpefane!$E$7:$E$111))","v":168},{"$f":"IF('Dine valg'!$G$24=\"\",\"-\",SUMIF(Hjælpefane!$D$7:$D$111,\"=\"&P$9,Hjælpefane!$E$7:$E$111))","v":162},{"$f":"IF('Dine valg'!$G$24=\"\",\"-\",SUMIF(Hjælpefane!$D$7:$D$111,\"=\"&Q$9,Hjælpefane!$E$7:$E$111))","v":161},{"$f":"IF('Dine valg'!$G$24=\"\",\"-\",SUMIF(Hjælpefane!$D$7:$D$111,\"=\"&R$9,Hjælpefane!$E$7:$E$111))","v":152}]
[null,"Gennemsnitlig varighed",null,{"$f":"IFERROR(IF(D99=\"*\",\"*\",IF(D100=\"\",\"Indtast data\",(D99/D100))),\"-\")","v":1048.2021276595744},{"$f":"IFERROR(IF(E99=\"*\",\"*\",IF(E100=\"\",\"Indtast data\",(E99/E100))),\"-\")","v":1037.5591397849462},{"$f":"IFERROR(IF(F99=\"*\",\"*\",IF(F100=\"\",\"Indtast data\",(F99/F100))),\"-\")","v":1014.061797752809},{"$f":"IFERROR(IF(G99=\"*\",\"*\",IF(G100=\"\",\"Indtast data\",(G99/G100))),\"-\")","v":942.68674698795178},{"$f":"IFERROR(IF(H99=\"*\",\"*\",IF(H100=\"\",\"Indtast data\",(H99/H100))),\"-\")","v":837.35260115606934},{"$f":"IFERROR(IF(I99=\"*\",\"*\",IF(I100=\"\",\"Indtast data\",(I99/I100))),\"-\")","v":915.27745664739882},{"$f":"IFERROR(IF(J99=\"*\",\"*\",IF(J100=\"\",\"Indtast data\",(J99/J100))),\"-\")","v":941.15662650602405},{"$f":"IFERROR(IF(K99=\"*\",\"*\",IF(K100=\"\",\"Indtast data\",(K99/K100))),\"-\")","v":838.77976190476193},{"$f":"IFERROR(IF(L99=\"*\",\"*\",IF(L100=\"\",\"Indtast data\",(L99/L100))),\"-\")","v":871.55621301775147},887.67261904761904,943.52597402597405,895.82142857142856,869.34567901234573,837.93167701863354,865.79605263157896]
[null,"Hele landet"]
[null,"Samlet antal dage",null,{"$f":"INDEX(Data_land,MATCH(Skyggetabeller!D93,Data!landaar,0),8)","v":2919506},{"$f":"INDEX(Data_land,MATCH(Skyggetabeller!E93,Data!landaar,0),8)","v":2864697},{"$f":"INDEX(Data_land,MATCH(Skyggetabeller!F93,Data!landaar,0),8)","v":2780084},{"$f":"INDEX(Data_land,MATCH(Skyggetabeller!G93,Data!landaar,0),8)","v":2671592},{"$f":"INDEX(Data_land,MATCH(Skyggetabeller!H93,Data!landaar,0),8)","v":2549944},{"$f":"INDEX(Data_land,MATCH(Skyggetabeller!I93,Data!landaar,0),8)","v":2520675},{"$f":"INDEX(Data_land,MATCH(Skyggetabeller!J93,Data!landaar,0),8)","v":2479646},{"$f":"INDEX(Data_land,MATCH(Skyggetabeller!K93,Data!landaar,0),8)","v":2518184},{"$f":"INDEX(Data_land,MATCH(Skyggetabeller!L93,Data!landaar,0),8)","v":2519364},{"$f":"INDEX(Data_land,MATCH(Skyggetabeller!M93,Data!landaar,0),8)","v":2533338},{"$f":"INDEX(Data_land,MATCH(Skyggetabeller!N93,Data!landaar,0),8)","v":2554433},{"$f":"INDEX(Data_land,MATCH(Skyggetabeller!O93,Data!landaar,0),8)","v":2587666},{"$f":"INDEX(Data_land,MATCH(Skyggetabeller!P93,Data!landaar,0),8)","v":2626422},{"$f":"INDEX(Data_land,MATCH(Skyggetabeller!Q93,Data!landaar,0),8)","v":2688953},{"$f":"INDEX(Data_land,MATCH(Skyggetabeller!R93,Data!landaar,0),8)","v":2761895}]
[null,"Antal anbragte",null,{"$f":"INDEX(Data_land,MATCH(Skyggetabeller!D93,Data!landaar,0),4)","v":3383},{"$f":"INDEX(Data_land,MATCH(Skyggetabeller!E93,Data!landaar,0),4)","v":3460},{"$f":"INDEX(Data_land,MATCH(Skyggetabeller!F93,Data!landaar,0),4)","v":3369},{"$f":"INDEX(Data_land,MATCH(Skyggetabeller!G93,Data!landaar,0),4)","v":3409},{"$f":"INDEX(Data_land,MATCH(Skyggetabeller!H93,Data!landaar,0),4)","v":3309},{"$f":"INDEX(Data_land,MATCH(Skyggetabeller!I93,Data!landaar,0),4)","v":3282},{"$f":"INDEX(Data_land,MATCH(Skyggetabeller!J93,Data!landaar,0),4)","v":3274},{"$f":"INDEX(Data_land,MATCH(Skyggetabeller!K93,Data!landaar,0),4)","v":3343},{"$f":"INDEX(Data_land,MATCH(Skyggetabeller!L93,Data!landaar,0),4)","v":3404},{"$f":"INDEX(Data_land,MATCH(Skyggetabeller!M93,Data!landaar,0),4)","v":3494},{"$f":"INDEX(Data_land,MATCH(Skyggetabeller!N93,Data!landaar,0),4)","v":3486},{"$f":"INDEX(Data_land,MATCH(Skyggetabeller!O93,Data!landaar,0),4)","v":3675},{"$f":"INDEX(Data_land,MATCH(Skyggetabeller!P93,Data!landaar,0),4)","v":3708},{"$f":"INDEX(Data_land,MATCH(Skyggetabeller!Q93,Data!landaar,0),4)","v":3769},{"$f":"INDEX(Data_land,MATCH(Skyggetabeller!R93,Data!landaar,0),4)","v":3790}]
[null,"Gennemsnitlig varighed",null,{"$f":"IFERROR(IF(D103=\"*\",\"*\",IF(D104=0,\"#I/T\",(D103/D104))),\"Data ikke tilføjet\")","v":862.99320130062074},{"$f":"IFERROR(IF(E103=\"*\",\"*\",IF(E104=0,\"#I/T\",(E103/E104))),\"Data ikke tilføjet\")","v":827.94710982658955},{"$f":"IFERROR(IF(F103=\"*\",\"*\",IF(F104=0,\"#I/T\",(F103/F104))),\"Data ikke tilføjet\")","v":825.19560700504599},{"$f":"IFERROR(IF(G103=\"*\",\"*\",IF(G104=0,\"#I/T\",(G103/G104))),\"Data ikke tilføjet\")","v":783.687885010267},{"$f":"IFERROR(IF(H103=\"*\",\"*\",IF(H104=0,\"#I/T\",(H103/H104))),\"Data ikke tilføjet\")","v":770.60864309459055},{"$f":"IFERROR(IF(I103=\"*\",\"*\",IF(I104=0,\"#I/T\",(I103/I104))),\"Data ikke tilføjet\")","v":768.03016453382088},{"$f":"IFERROR(IF(J103=\"*\",\"*\",IF(J104=0,\"#I/T\",(J103/J104))),\"Data ikke tilføjet\")","v":757.3750763591936},{"$f":"IFERROR(IF(K103=\"*\",\"*\",IF(K104=0,\"#I/T\",(K103/K104))),\"Data ikke tilføjet\")","v":753.27071492671257},{"$f":"IFERROR(IF(L103=\"*\",\"*\",IF(L104=0,\"#I/T\",(L103/L104))),\"Data ikke tilføjet\")","v":740.11868390129257},{"$f":"IFERROR(IF(M103=\"*\",\"*\",IF(M104=0,\"#I/T\",(M103/M104))),\"Data ikke tilføjet\")","v":725.05380652547228},{"$f":"IFERROR(IF(N103=\"*\",\"*\",IF(N104=0,\"#I/T\",(N103/N104))),\"Data ikke tilføjet\")","v":732.76907630522089},{"$f":"IFERROR(IF(O103=\"*\",\"*\",IF(O104=0,\"#I/T\",(O103/O104))),\"Data ikke tilføjet\")","v":704.12680272108844},{"$f":"IFERROR(IF(P103=\"*\",\"*\",IF(P104=0,\"#I/T\",(P103/P104))),\"Data ikke tilføjet\")","v":708.3122977346278},{"$f":"IFERROR(IF(Q103=\"*\",\"*\",IF(Q104=0,\"#I/T\",(Q103/Q104))),\"Data ikke tilføjet\")","v":713.43937383921468},{"$f":"IFERROR(IF(R103=\"*\",\"*\",IF(R104=0,\"#I/T\",(R103/R104))),\"Data ikke tilføjet\")","v":728.73218997361482}]
[]
[null,"Tabel 2.1: Gennemsnitlig varighed af igangværende anbringelser på døgninstitution"]
[null,"Nøgletal 2.1\nGennemsnitlig varighed af igangværende anbringelser på døgninstitution",null,"2017-01-01","2017-07-01","2018-01-01","2018-07-01","2019-01-01","2019-07-01","2020-01-01","2020-07-01","2021-01-01","2021-07-01","2022-01-01","2022-07-01","2023-01-01","2023-07-01","2024-01-01"]
[null,{"$f":"IF(Kommune=\"\",\"Kommune\",Kommune)","v":"København"}]
[null,"Samlet antal dage",null,{"$f":"IFERROR(IF(INDEX(Data_kom2,MATCH(1,(komnavn2=Kommune)*(komaar2=D108),0),9)=\"*\",\"*\",INDEX(Data_kom2,MATCH(1,(komnavn2=Kommune)*(komaar2=D108),0),9)),\"Data ikke tilføjet\")","v":134446},{"$f":"IFERROR(IF(INDEX(Data_kom2,MATCH(1,(komnavn2=Kommune)*(komaar2=E108),0),9)=\"*\",\"*\",INDEX(Data_kom2,MATCH(1,(komnavn2=Kommune)*(komaar2=E108),0),9)),\"Data ikke tilføjet\")","v":126745},{"$f":"IFERROR(IF(INDEX(Data_kom2,MATCH(1,(komnavn2=Kommune)*(komaar2=F108),0),9)=\"*\",\"*\",INDEX(Data_kom2,MATCH(1,(komnavn2=Kommune)*(komaar2=F108),0),9)),\"Data ikke tilføjet\")","v":117497},{"$f":"IFERROR(IF(INDEX(Data_kom2,MATCH(1,(komnavn2=Kommune)*(komaar2=G108),0),9)=\"*\",\"*\",INDEX(Data_kom2,MATCH(1,(komnavn2=Kommune)*(komaar2=G108),0),9)),\"Data ikke tilføjet\")","v":118319},{"$f":"IFERROR(IF(INDEX(Data_kom2,MATCH(1,(komnavn2=Kommune)*(komaar2=H108),0),9)=\"*\",\"*\",INDEX(Data_kom2,MATCH(1,(komnavn2=Kommune)*(komaar2=H108),0),9)),\"Data ikke tilføjet\")","v":112040},{"$f":"IFERROR(IF(INDEX(Data_kom2,MATCH(1,(komnavn2=Kommune)*(komaar2=I108),0),9)=\"*\",\"*\",INDEX(Data_kom2,MATCH(1,(komnavn2=Kommune)*(komaar2=I108),0),9)),\"Data ikke tilføjet\")","v":110718},{"$f":"IFERROR(IF(INDEX(Data_kom2,MATCH(1,(komnavn2=Kommune)*(komaar2=J108),0),9)=\"*\",\"*\",INDEX(Data_kom2,MATCH(1,(komnavn2=Kommune)*(komaar2=J108),0),9)),\"Data ikke tilføjet\")","v":102261},{"$f":"IFERROR(IF(INDEX(Data_kom2,MATCH(1,(komnavn2=Kommune)*(komaar2=K108),0),9)=\"*\",\"*\",INDEX(Data_kom2,MATCH(1,(komnavn2=Kommune)*(komaar2=K108),0),9)),\"Data ikke tilføjet\")","v":97534},{"$f":"IFERROR(IF(INDEX(Data_kom2,MATCH(1,(komnavn2=Kommune)*(komaar2=L108),0),9)=\"*\",\"*\",INDEX(Data_kom2,MATCH(1,(komnavn2=Kommune)*(komaar2=L108),0),9)),\"Data ikke tilføjet\")","v":99356},{"$f":"IFERROR(IF(INDEX(Data_kom2,MATCH(1,(komnavn2=Kommune)*(komaar2=M108),0),9)=\"*\",\"*\",INDEX(Data_kom2,MATCH(1,(komnavn2=Kommune)*(komaar2=M108),0),9)),\"Data ikke tilføjet\")","v":99035},{"$f":"IFERROR(IF(INDEX(Data_kom2,MATCH(1,(komnavn2=Kommune)*(komaar2=N108),0),9)=\"*\",\"*\",INDEX(Data_kom2,MATCH(1,(komnavn2=Kommune)*(komaar2=N108),0),9)),\"Data ikke tilføjet\")","v":99578},{"$f":"IFERROR(IF(INDEX(Data_kom2,MATCH(1,(komnavn2=Kommune)*(komaar2=O108),0),9)=\"*\",\"*\",INDEX(Data_kom2,MATCH(1,(komnavn2=Kommune)*(komaar2=O108),0),9)),\"Data ikke tilføjet\")","v":101578},{"$f":"IFERROR(IF(INDEX(Data_kom2,MATCH(1,(komnavn2=Kommune)*(komaar2=P108),0),9)=\"*\",\"*\",INDEX(Data_kom2,MATCH(1,(komnavn2=Kommune)*(komaar2=P108),0),9)),\"Data ikke tilføjet\")","v":118164},{"$f":"IFERROR(IF(INDEX(Data_kom2,MATCH(1,(komnavn2=Kommune)*(komaar2=Q108),0),9)=\"*\",\"*\",INDEX(Data_kom2,MATCH(1,(komnavn2=Kommune)*(komaar2=Q108),0),9)),\"Data ikke tilføjet\")","v":135596},{"$f":"IFERROR(IF(INDEX(Data_kom2,MATCH(1,(komnavn2=Kommune)*(komaar2=R108),0),9)=\"*\",\"*\",INDEX(Data_kom2,MATCH(1,(komnavn2=Kommune)*(komaar2=R108),0),9)),\"Data ikke tilføjet\")","v":142911}]
[null,"Antal anbragte",null,{"$f":"D26","v":172},183,176,176,164,155,139,148,159,{"$f":"M26","v":164},171,194,200,220,189]
[null,"Gennemsnitlig varighed",null,{"$f":"IFERROR(IF(D110=\"*\",\"*\",IF(D111=0,\"#I/T\",(D110/D111))),\"Data ikke tilføjet\")","v":781.66279069767438},{"$f":"IFERROR(IF(E110=\"*\",\"*\",IF(E111=0,\"#I/T\",(E110/E111))),\"Data ikke tilføjet\")","v":692.59562841530055},{"$f":"IFERROR(IF(F110=\"*\",\"*\",IF(F111=0,\"#I/T\",(F110/F111))),\"Data ikke tilføjet\")","v":667.59659090909088},{"$f":"IFERROR(IF(G110=\"*\",\"*\",IF(G111=0,\"#I/T\",(G110/G111))),\"Data ikke tilføjet\")","v":672.2670454545455},{"$f":"IFERROR(IF(H110=\"*\",\"*\",IF(H111=0,\"#I/T\",(H110/H111))),\"Data ikke tilføjet\")","v":683.17073170731703},{"$f":"IFERROR(IF(I110=\"*\",\"*\",IF(I111=0,\"#I/T\",(I110/I111))),\"Data ikke tilføjet\")","v":714.30967741935478},{"$f":"IFERROR(IF(J110=\"*\",\"*\",IF(J111=0,\"#I/T\",(J110/J111))),\"Data ikke tilføjet\")","v":735.69064748201436},{"$f":"IFERROR(IF(K110=\"*\",\"*\",IF(K111=0,\"#I/T\",(K110/K111))),\"Data ikke tilføjet\")","v":659.01351351351354},{"$f":"IFERROR(IF(L110=\"*\",\"*\",IF(L111=0,\"#I/T\",(L110/L111))),\"Data ikke tilføjet\")","v":624.88050314465409},{"$f":"IFERROR(IF(M110=\"*\",\"*\",IF(M111=0,\"#I/T\",(M110/M111))),\"Data ikke tilføjet\")","v":603.8719512195122},{"$f":"IFERROR(IF(N110=\"*\",\"*\",IF(N111=0,\"#I/T\",(N110/N111))),\"Data ikke tilføjet\")","v":582.32748538011697},{"$f":"IFERROR(IF(O110=\"*\",\"*\",IF(O111=0,\"#I/T\",(O110/O111))),\"Data ikke tilføjet\")","v":523.59793814432987},{"$f":"IFERROR(IF(P110=\"*\",\"*\",IF(P111=0,\"#I/T\",(P110/P111))),\"Data ikke tilføjet\")","v":590.82000000000005},{"$f":"IFERROR(IF(Q110=\"*\",\"*\",IF(Q111=0,\"#I/T\",(Q110/Q111))),\"Data ikke tilføjet\")","v":616.34545454545457},{"$f":"IFERROR(IF(R110=\"*\",\"*\",IF(R111=0,\"#I/T\",(R110/R111))),\"Data ikke tilføjet\")","v":756.14285714285711}]
[null,"Sammenligningsgruppe, gns."]
[null,"Samlet antal dage",null,{"$f":"IF('Dine valg'!$G$24=\"\",\"-\",SUMIF(Hjælpefane!$D$7:$D$111,\"=\"&D$9,Hjælpefane!$J$7:$J$111))","v":150304},{"$f":"IF('Dine valg'!$G$24=\"\",\"-\",SUMIF(Hjælpefane!$D$7:$D$111,\"=\"&E$9,Hjælpefane!$J$7:$J$111))","v":150184},{"$f":"IF('Dine valg'!$G$24=\"\",\"-\",SUMIF(Hjælpefane!$D$7:$D$111,\"=\"&F$9,Hjælpefane!$J$7:$J$111))","v":134878},{"$f":"IF('Dine valg'!$G$24=\"\",\"-\",SUMIF(Hjælpefane!$D$7:$D$111,\"=\"&G$9,Hjælpefane!$J$7:$J$111))","v":119397},{"$f":"IF('Dine valg'!$G$24=\"\",\"-\",SUMIF(Hjælpefane!$D$7:$D$111,\"=\"&H$9,Hjælpefane!$J$7:$J$111))","v":110606},{"$f":"IF('Dine valg'!$G$24=\"\",\"-\",SUMIF(Hjælpefane!$D$7:$D$111,\"=\"&I$9,Hjælpefane!$J$7:$J$111))","v":122426},{"$f":"IF('Dine valg'!$G$24=\"\",\"-\",SUMIF(Hjælpefane!$D$7:$D$111,\"=\"&J$9,Hjælpefane!$J$7:$J$111))","v":124048},{"$f":"IF('Dine valg'!$G$24=\"\",\"-\",SUMIF(Hjælpefane!$D$7:$D$111,\"=\"&K$9,Hjælpefane!$J$7:$J$111))","v":115596},{"$f":"IF('Dine valg'!$G$24=\"\",\"-\",SUMIF(Hjælpefane!$D$7:$D$111,\"=\"&L$9,Hjælpefane!$J$7:$J$111))","v":119524},{"$f":"IF('Dine valg'!$G$24=\"\",\"-\",SUMIF(Hjælpefane!$D$7:$D$111,\"=\"&M$9,Hjælpefane!$J$7:$J$111))","v":125178},{"$f":"IF('Dine valg'!$G$24=\"\",\"-\",SUMIF(Hjælpefane!$D$7:$D$111,\"=\"&N$9,Hjælpefane!$J$7:$J$111))","v":122621},{"$f":"IF('Dine valg'!$G$24=\"\",\"-\",SUMIF(Hjælpefane!$D$7:$D$111,\"=\"&O$9,Hjælpefane!$J$7:$J$111))","v":121875},{"$f":"IF('Dine valg'!$G$24=\"\",\"-\",SUMIF(Hjælpefane!$D$7:$D$111,\"=\"&P$9,Hjælpefane!$J$7:$J$111))","v":114322},{"$f":"IF('Dine valg'!$G$24=\"\",\"-\",SUMIF(Hjælpefane!$D$7:$D$111,\"=\"&Q$9,Hjælpefane!$J$7:$J$111))","v":111343},{"$f":"IF('Dine valg'!$G$24=\"\",\"-\",SUMIF(Hjælpefane!$D$7:$D$111,\"=\"&R$9,Hjælpefane!$J$7:$J$111))","v":109315}]
[null,"Antal anbragte",null,{"$f":"IF('Dine valg'!$G$24=\"\",\"-\",SUMIF(Hjælpefane!$D$7:$D$111,\"=\"&D$9,Hjælpefane!$F$7:$F$111))","v":129},{"$f":"IF('Dine valg'!$G$24=\"\",\"-\",SUMIF(Hjælpefane!$D$7:$D$111,\"=\"&E$9,Hjælpefane!$F$7:$F$111))","v":130},{"$f":"IF('Dine valg'!$G$24=\"\",\"-\",SUMIF(Hjælpefane!$D$7:$D$111,\"=\"&F$9,Hjælpefane!$F$7:$F$111))","v":116},{"$f":"IF('Dine valg'!$G$24=\"\",\"-\",SUMIF(Hjælpefane!$D$7:$D$111,\"=\"&G$9,Hjælpefane!$F$7:$F$111))","v":113},{"$f":"IF('Dine valg'!$G$24=\"\",\"-\",SUMIF(Hjælpefane!$D$7:$D$111,\"=\"&H$9,Hjælpefane!$F$7:$F$111))","v":116},{"$f":"IF('Dine valg'!$G$24=\"\",\"-\",SUMIF(Hjælpefane!$D$7:$D$111,\"=\"&I$9,Hjælpefane!$F$7:$F$111))","v":122},{"$f":"IF('Dine valg'!$G$24=\"\",\"-\",SUMIF(Hjælpefane!$D$7:$D$111,\"=\"&J$9,Hjælpefane!$F$7:$F$111))","v":116},{"$f":"IF('Dine valg'!$G$24=\"\",\"-\",SUMIF(Hjælpefane!$D$7:$D$111,\"=\"&K$9,Hjælpefane!$F$7:$F$111))","v":121},{"$f":"IF('Dine valg'!$G$24=\"\",\"-\",SUMIF(Hjælpefane!$D$7:$D$111,\"=\"&L$9,Hjælpefane!$F$7:$F$111))","v":115},{"$f":"IF('Dine valg'!$G$24=\"\",\"-\",SUMIF(Hjælpefane!$D$7:$D$111,\"=\"&M$9,Hjælpefane!$F$7:$F$111))","v":112},{"$f":"IF('Dine valg'!$G$24=\"\",\"-\",SUMIF(Hjælpefane!$D$7:$D$111,\"=\"&N$9,Hjælpefane!$F$7:$F$111))","v":102},{"$f":"IF('Dine valg'!$G$24=\"\",\"-\",SUMIF(Hjælpefane!$D$7:$D$111,\"=\"&O$9,Hjælpefane!$F$7:$F$111))","v":105},{"$f":"IF('Dine valg'!$G$24=\"\",\"-\",SUMIF(Hjælpefane!$D$7:$D$111,\"=\"&P$9,Hjælpefane!$F$7:$F$111))","v":103},{"$f":"IF('Dine valg'!$G$24=\"\",\"-\",SUMIF(Hjælpefane!$D$7:$D$111,\"=\"&Q$9,Hjælpefane!$F$7:$F$111))","v":110},{"$f":"IF('Dine valg'!$G$24=\"\",\"-\",SUMIF(Hjælpefane!$D$7:$D$111,\"=\"&R$9,Hjælpefane!$F$7:$F$111))","v":101}]
[null,"Gennemsnitlig varighed",null,{"$f":"IFERROR(IF(D114=\"*\",\"*\",IF(D115=\"\",\"Indtast data\",(D114/D115))),\"-\")","v":1165.1472868217054},{"$f":"IFERROR(IF(E114=\"*\",\"*\",IF(E115=\"\",\"Indtast data\",(E114/E115))),\"-\")","v":1155.2615384615385},{"$f":"IFERROR(IF(F114=\"*\",\"*\",IF(F115=\"\",\"Indtast data\",(F114/F115))),\"-\")","v":1162.7413793103449},{"$f":"IFERROR(IF(G114=\"*\",\"*\",IF(G115=\"\",\"Indtast data\",(G114/G115))),\"-\")","v":1056.6106194690265},{"$f":"IFERROR(IF(H114=\"*\",\"*\",IF(H115=\"\",\"Indtast data\",(H114/H115))),\"-\")","v":953.5},{"$f":"IFERROR(IF(I114=\"*\",\"*\",IF(I115=\"\",\"Indtast data\",(I114/I115))),\"-\")","v":1003.4918032786885},{"$f":"IFERROR(IF(J114=\"*\",\"*\",IF(J115=\"\",\"Indtast data\",(J114/J115))),\"-\")","v":1069.3793103448277},{"$f":"IFERROR(IF(K114=\"*\",\"*\",IF(K115=\"\",\"Indtast data\",(K114/K115))),\"-\")","v":955.3388429752066},{"$f":"IFERROR(IF(L114=\"*\",\"*\",IF(L115=\"\",\"Indtast data\",(L114/L115))),\"-\")","v":1039.3391304347826},1117.6607142857142,1202.1666666666667,1160.7142857142858,1109.9223300970873,1012.2090909090909,1082.3267326732673]
[null,"Hele landet"]
[null,"Samlet antal dage",null,{"$f":"INDEX(Data_land,MATCH(Skyggetabeller!D108,Data!landaar,0),9)","v":1742648},{"$f":"INDEX(Data_land,MATCH(Skyggetabeller!E108,Data!landaar,0),9)","v":1681708},{"$f":"INDEX(Data_land,MATCH(Skyggetabeller!F108,Data!landaar,0),9)","v":1627312},{"$f":"INDEX(Data_land,MATCH(Skyggetabeller!G108,Data!landaar,0),9)","v":1556475},{"$f":"INDEX(Data_land,MATCH(Skyggetabeller!H108,Data!landaar,0),9)","v":1474692},{"$f":"INDEX(Data_land,MATCH(Skyggetabeller!I108,Data!landaar,0),9)","v":1472207},{"$f":"INDEX(Data_land,MATCH(Skyggetabeller!J108,Data!landaar,0),9)","v":1450623},{"$f":"INDEX(Data_land,MATCH(Skyggetabeller!K108,Data!landaar,0),9)","v":1435480},{"$f":"INDEX(Data_land,MATCH(Skyggetabeller!L108,Data!landaar,0),9)","v":1423295},{"$f":"INDEX(Data_land,MATCH(Skyggetabeller!M108,Data!landaar,0),9)","v":1404018},{"$f":"INDEX(Data_land,MATCH(Skyggetabeller!N108,Data!landaar,0),9)","v":1404124},{"$f":"INDEX(Data_land,MATCH(Skyggetabeller!O108,Data!landaar,0),9)","v":1421269},{"$f":"INDEX(Data_land,MATCH(Skyggetabeller!P108,Data!landaar,0),9)","v":1443374},{"$f":"INDEX(Data_land,MATCH(Skyggetabeller!Q108,Data!landaar,0),9)","v":1489560},{"$f":"INDEX(Data_land,MATCH(Skyggetabeller!R108,Data!landaar,0),9)","v":1543409}]
[null,"Antal anbragte",null,{"$f":"INDEX(Data_land,MATCH(Skyggetabeller!D108,Data!landaar,0),5)","v":1818},{"$f":"INDEX(Data_land,MATCH(Skyggetabeller!E108,Data!landaar,0),5)","v":1809},{"$f":"INDEX(Data_land,MATCH(Skyggetabeller!F108,Data!landaar,0),5)","v":1761},{"$f":"INDEX(Data_land,MATCH(Skyggetabeller!G108,Data!landaar,0),5)","v":1780},{"$f":"INDEX(Data_land,MATCH(Skyggetabeller!H108,Data!landaar,0),5)","v":1704},{"$f":"INDEX(Data_land,MATCH(Skyggetabeller!I108,Data!landaar,0),5)","v":1695},{"$f":"INDEX(Data_land,MATCH(Skyggetabeller!J108,Data!landaar,0),5)","v":1680},{"$f":"INDEX(Data_land,MATCH(Skyggetabeller!K108,Data!landaar,0),5)","v":1669},{"$f":"INDEX(Data_land,MATCH(Skyggetabeller!L108,Data!landaar,0),5)","v":1694},{"$f":"INDEX(Data_land,MATCH(Skyggetabeller!M108,Data!landaar,0),5)","v":1680},{"$f":"INDEX(Data_land,MATCH(Skyggetabeller!N108,Data!landaar,0),5)","v":1689},{"$f":"INDEX(Data_land,MATCH(Skyggetabeller!O108,Data!landaar,0),5)","v":1762},{"$f":"INDEX(Data_land,MATCH(Skyggetabeller!P108,Data!landaar,0),5)","v":1768},{"$f":"INDEX(Data_land,MATCH(Skyggetabeller!Q108,Data!landaar,0),5)","v":1815},{"$f":"INDEX(Data_land,MATCH(Skyggetabeller!R108,Data!landaar,0),5)","v":1800}]
[null,"Gennemsnitlig varighed",null,{"$f":"IFERROR(IF(D118=\"*\",\"*\",IF(D119=0,\"#I/T\",(D118/D119))),\"Data ikke tilføjet\")","v":958.55225522552257},{"$f":"IFERROR(IF(E118=\"*\",\"*\",IF(E119=0,\"#I/T\",(E118/E119))),\"Data ikke tilføjet\")","v":929.63405196241013},{"$f":"IFERROR(IF(F118=\"*\",\"*\",IF(F119=0,\"#I/T\",(F118/F119))),\"Data ikke tilføjet\")","v":924.08404315729695},{"$f":"IFERROR(IF(G118=\"*\",\"*\",IF(G119=0,\"#I/T\",(G118/G119))),\"Data ikke tilføjet\")","v":874.42415730337075},{"$f":"IFERROR(IF(H118=\"*\",\"*\",IF(H119=0,\"#I/T\",(H118/H119))),\"Data ikke tilføjet\")","v":865.42957746478874},{"$f":"IFERROR(IF(I118=\"*\",\"*\",IF(I119=0,\"#I/T\",(I118/I119))),\"Data ikke tilføjet\")","v":868.55870206489681},{"$f":"IFERROR(IF(J118=\"*\",\"*\",IF(J119=0,\"#I/T\",(J118/J119))),\"Data ikke tilføjet\")","v":863.46607142857147},{"$f":"IFERROR(IF(K118=\"*\",\"*\",IF(K119=0,\"#I/T\",(K118/K119))),\"Data ikke tilføjet\")","v":860.08388256440981},{"$f":"IFERROR(IF(L118=\"*\",\"*\",IF(L119=0,\"#I/T\",(L118/L119))),\"Data ikke tilføjet\")","v":840.19775678866586},{"$f":"IFERROR(IF(M118=\"*\",\"*\",IF(M119=0,\"#I/T\",(M118/M119))),\"Data ikke tilføjet\")","v":835.72500000000002},{"$f":"IFERROR(IF(N118=\"*\",\"*\",IF(N119=0,\"#I/T\",(N118/N119))),\"Data ikke tilføjet\")","v":831.3345174659562},{"$f":"IFERROR(IF(O118=\"*\",\"*\",IF(O119=0,\"#I/T\",(O118/O119))),\"Data ikke tilføjet\")","v":806.62258796821789},{"$f":"IFERROR(IF(P118=\"*\",\"*\",IF(P119=0,\"#I/T\",(P118/P119))),\"Data ikke tilføjet\")","v":816.3880090497737},{"$f":"IFERROR(IF(Q118=\"*\",\"*\",IF(Q119=0,\"#I/T\",(Q118/Q119))),\"Data ikke tilføjet\")","v":820.69421487603302},{"$f":"IFERROR(IF(R118=\"*\",\"*\",IF(R119=0,\"#I/T\",(R118/R119))),\"Data ikke tilføjet\")","v":857.44944444444445}]
[]
[null,"Tabel 2.2: Gennemsnitlig varighed af igangværende anbringelser på sikret døgninstitution"]
[null,"Nøgletal 2.2: \nGennemsnitlig varighed af igangværende anbringelser på sikret døgninstitution",null,"2017-01-01","2017-07-01","2018-01-01","2018-07-01","2019-01-01","2019-07-01","2020-01-01","2020-07-01","2021-01-01","2021-07-01","2022-01-01","2022-07-01","2023-01-01","2023-07-01","2024-01-01"]
[null,{"$f":"IF(Kommune=\"\",\"Kommune\",Kommune)","v":"København"}]
[null,"Samlet antal dage",null,{"$f":"IFERROR(IF(INDEX(Data_kom2,MATCH(1,(komnavn2=Kommune)*(komaar2=D123),0),10)=\"*\",\"*\",INDEX(Data_kom2,MATCH(1,(komnavn2=Kommune)*(komaar2=D123),0),10)),\"Data ikke tilføjet\")","v":2067},{"$f":"IFERROR(IF(INDEX(Data_kom2,MATCH(1,(komnavn2=Kommune)*(komaar2=E123),0),10)=\"*\",\"*\",INDEX(Data_kom2,MATCH(1,(komnavn2=Kommune)*(komaar2=E123),0),10)),\"Data ikke tilføjet\")","v":2443},{"$f":"IFERROR(IF(INDEX(Data_kom2,MATCH(1,(komnavn2=Kommune)*(komaar2=F123),0),10)=\"*\",\"*\",INDEX(Data_kom2,MATCH(1,(komnavn2=Kommune)*(komaar2=F123),0),10)),\"Data ikke tilføjet\")","v":2098},{"$f":"IFERROR(IF(INDEX(Data_kom2,MATCH(1,(komnavn2=Kommune)*(komaar2=G123),0),10)=\"*\",\"*\",INDEX(Data_kom2,MATCH(1,(komnavn2=Kommune)*(komaar2=G123),0),10)),\"Data ikke tilføjet\")","v":3026},{"$f":"IFERROR(IF(INDEX(Data_kom2,MATCH(1,(komnavn2=Kommune)*(komaar2=H123),0),10)=\"*\",\"*\",INDEX(Data_kom2,MATCH(1,(komnavn2=Kommune)*(komaar2=H123),0),10)),\"Data ikke tilføjet\")","v":2960},{"$f":"IFERROR(IF(INDEX(Data_kom2,MATCH(1,(komnavn2=Kommune)*(komaar2=I123),0),10)=\"*\",\"*\",INDEX(Data_kom2,MATCH(1,(komnavn2=Kommune)*(komaar2=I123),0),10)),\"Data ikke tilføjet\")","v":"*"},{"$f":"IFERROR(IF(INDEX(Data_kom2,MATCH(1,(komnavn2=Kommune)*(komaar2=J123),0),10)=\"*\",\"*\",INDEX(Data_kom2,MATCH(1,(komnavn2=Kommune)*(komaar2=J123),0),10)),\"Data ikke tilføjet\")","v":"*"},{"$f":"IFERROR(IF(INDEX(Data_kom2,MATCH(1,(komnavn2=Kommune)*(komaar2=K123),0),10)=\"*\",\"*\",INDEX(Data_kom2,MATCH(1,(komnavn2=Kommune)*(komaar2=K123),0),10)),\"Data ikke tilføjet\")","v":801},{"$f":"IFERROR(IF(INDEX(Data_kom2,MATCH(1,(komnavn2=Kommune)*(komaar2=L123),0),10)=\"*\",\"*\",INDEX(Data_kom2,MATCH(1,(komnavn2=Kommune)*(komaar2=L123),0),10)),\"Data ikke tilføjet\")","v":1693},{"$f":"IFERROR(IF(INDEX(Data_kom2,MATCH(1,(komnavn2=Kommune)*(komaar2=M123),0),10)=\"*\",\"*\",INDEX(Data_kom2,MATCH(1,(komnavn2=Kommune)*(komaar2=M123),0),10)),\"Data ikke tilføjet\")","v":2581},{"$f":"IFERROR(IF(INDEX(Data_kom2,MATCH(1,(komnavn2=Kommune)*(komaar2=N123),0),10)=\"*\",\"*\",INDEX(Data_kom2,MATCH(1,(komnavn2=Kommune)*(komaar2=N123),0),10)),\"Data ikke tilføjet\")","v":2750},{"$f":"IFERROR(IF(INDEX(Data_kom2,MATCH(1,(komnavn2=Kommune)*(komaar2=O123),0),10)=\"*\",\"*\",INDEX(Data_kom2,MATCH(1,(komnavn2=Kommune)*(komaar2=O123),0),10)),\"Data ikke tilføjet\")","v":2047},{"$f":"IFERROR(IF(INDEX(Data_kom2,MATCH(1,(komnavn2=Kommune)*(komaar2=P123),0),10)=\"*\",\"*\",INDEX(Data_kom2,MATCH(1,(komnavn2=Kommune)*(komaar2=P123),0),10)),\"Data ikke tilføjet\")","v":2600},{"$f":"IFERROR(IF(INDEX(Data_kom2,MATCH(1,(komnavn2=Kommune)*(komaar2=Q123),0),10)=\"*\",\"*\",INDEX(Data_kom2,MATCH(1,(komnavn2=Kommune)*(komaar2=Q123),0),10)),\"Data ikke tilføjet\")","v":2483},{"$f":"IFERROR(IF(INDEX(Data_kom2,MATCH(1,(komnavn2=Kommune)*(komaar2=R123),0),10)=\"*\",\"*\",INDEX(Data_kom2,MATCH(1,(komnavn2=Kommune)*(komaar2=R123),0),10)),\"Data ikke tilføjet\")","v":3671}]
[null,"Antal anbragte",null,{"$f":"D41","v":7},6,6,11,9,4,"*",9,17,{"$f":"M41","v":23},18,16,11,12,12]
[null,"Gennemsnitlig varighed",null,{"$f":"IFERROR(IF(D125=\"*\",\"*\",IF(D126=0,\"#I/T\",(D125/D126))),\"Data ikke tilføjet\")","v":295.28571428571428},{"$f":"IFERROR(IF(E125=\"*\",\"*\",IF(E126=0,\"#I/T\",(E125/E126))),\"Data ikke tilføjet\")","v":407.16666666666669},{"$f":"IFERROR(IF(F125=\"*\",\"*\",IF(F126=0,\"#I/T\",(F125/F126))),\"Data ikke tilføjet\")","v":349.66666666666669},{"$f":"IFERROR(IF(G125=\"*\",\"*\",IF(G126=0,\"#I/T\",(G125/G126))),\"Data ikke tilføjet\")","v":275.09090909090907},{"$f":"IFERROR(IF(H125=\"*\",\"*\",IF(H126=0,\"#I/T\",(H125/H126))),\"Data ikke tilføjet\")","v":328.88888888888891},{"$f":"IFERROR(IF(I125=\"*\",\"*\",IF(I126=0,\"#I/T\",(I125/I126))),\"Data ikke tilføjet\")","v":"*"},{"$f":"IFERROR(IF(J125=\"*\",\"*\",IF(J126=0,\"#I/T\",(J125/J126))),\"Data ikke tilføjet\")","v":"*"},{"$f":"IFERROR(IF(K125=\"*\",\"*\",IF(K126=0,\"#I/T\",(K125/K126))),\"Data ikke tilføjet\")","v":89},{"$f":"IFERROR(IF(L125=\"*\",\"*\",IF(L126=0,\"#I/T\",(L125/L126))),\"Data ikke tilføjet\")","v":99.588235294117652},{"$f":"IFERROR(IF(M125=\"*\",\"*\",IF(M126=0,\"#I/T\",(M125/M126))),\"Data ikke tilføjet\")","v":112.21739130434783},{"$f":"IFERROR(IF(N125=\"*\",\"*\",IF(N126=0,\"#I/T\",(N125/N126))),\"Data ikke tilføjet\")","v":152.77777777777777},{"$f":"IFERROR(IF(O125=\"*\",\"*\",IF(O126=0,\"#I/T\",(O125/O126))),\"Data ikke tilføjet\")","v":127.9375},{"$f":"IFERROR(IF(P125=\"*\",\"*\",IF(P126=0,\"#I/T\",(P125/P126))),\"Data ikke tilføjet\")","v":236.36363636363637},{"$f":"IFERROR(IF(Q125=\"*\",\"*\",IF(Q126=0,\"#I/T\",(Q125/Q126))),\"Data ikke tilføjet\")","v":206.91666666666666},{"$f":"IFERROR(IF(R125=\"*\",\"*\",IF(R126=0,\"#I/T\",(R125/R126))),\"Data ikke tilføjet\")","v":305.91666666666669}]
[null,"Sammenligningsgruppe, gns."]
[null,"Samlet antal dage",null,{"$f":"IF('Dine valg'!$G$24=\"\",\"-\",SUMIF(Hjælpefane!$D$7:$D$111,\"=\"&D$9,Hjælpefane!$K$7:$K$111))","v":0},{"$f":"IF('Dine valg'!$G$24=\"\",\"-\",SUMIF(Hjælpefane!$D$7:$D$111,\"=\"&E$9,Hjælpefane!$K$7:$K$111))","v":0},{"$f":"IF('Dine valg'!$G$24=\"\",\"-\",SUMIF(Hjælpefane!$D$7:$D$111,\"=\"&F$9,Hjælpefane!$K$7:$K$111))","v":0},{"$f":"IF('Dine valg'!$G$24=\"\",\"-\",SUMIF(Hjælpefane!$D$7:$D$111,\"=\"&G$9,Hjælpefane!$K$7:$K$111))","v":902},{"$f":"IF('Dine valg'!$G$24=\"\",\"-\",SUMIF(Hjælpefane!$D$7:$D$111,\"=\"&H$9,Hjælpefane!$K$7:$K$111))","v":1195},{"$f":"IF('Dine valg'!$G$24=\"\",\"-\",SUMIF(Hjælpefane!$D$7:$D$111,\"=\"&I$9,Hjælpefane!$K$7:$K$111))","v":2404},{"$f":"IF('Dine valg'!$G$24=\"\",\"-\",SUMIF(Hjælpefane!$D$7:$D$111,\"=\"&J$9,Hjælpefane!$K$7:$K$111))","v":3592},{"$f":"IF('Dine valg'!$G$24=\"\",\"-\",SUMIF(Hjælpefane!$D$7:$D$111,\"=\"&K$9,Hjælpefane!$K$7:$K$111))","v":1665},{"$f":"IF('Dine valg'!$G$24=\"\",\"-\",SUMIF(Hjælpefane!$D$7:$D$111,\"=\"&L$9,Hjælpefane!$K$7:$K$111))","v":1624},{"$f":"IF('Dine valg'!$G$24=\"\",\"-\",SUMIF(Hjælpefane!$D$7:$D$111,\"=\"&M$9,Hjælpefane!$K$7:$K$111))","v":2319},{"$f":"IF('Dine valg'!$G$24=\"\",\"-\",SUMIF(Hjælpefane!$D$7:$D$111,\"=\"&N$9,Hjælpefane!$K$7:$K$111))","v":2424},{"$f":"IF('Dine valg'!$G$24=\"\",\"-\",SUMIF(Hjælpefane!$D$7:$D$111,\"=\"&O$9,Hjælpefane!$K$7:$K$111))","v":3638},{"$f":"IF('Dine valg'!$G$24=\"\",\"-\",SUMIF(Hjælpefane!$D$7:$D$111,\"=\"&P$9,Hjælpefane!$K$7:$K$111))","v":3109},{"$f":"IF('Dine valg'!$G$24=\"\",\"-\",SUMIF(Hjælpefane!$D$7:$D$111,\"=\"&Q$9,Hjælpefane!$K$7:$K$111))","v":2546},{"$f":"IF('Dine valg'!$G$24=\"\",\"-\",SUMIF(Hjælpefane!$D$7:$D$111,\"=\"&R$9,Hjælpefane!$K$7:$K$111))","v":2065}]
[null,"Antal anbragte",null,{"$f":"IF('Dine valg'!$G$24=\"\",\"-\",SUMIF(Hjælpefane!$D$7:$D$111,\"=\"&D$9,Hjælpefane!$G$7:$G$111))","v":3},{"$f":"IF('Dine valg'!$G$24=\"\",\"-\",SUMIF(Hjælpefane!$D$7:$D$111,\"=\"&E$9,Hjælpefane!$G$7:$G$111))","v":4},{"$f":"IF('Dine valg'!$G$24=\"\",\"-\",SUMIF(Hjælpefane!$D$7:$D$111,\"=\"&F$9,Hjælpefane!$G$7:$G$111))","v":4},{"$f":"IF('Dine valg'!$G$24=\"\",\"-\",SUMIF(Hjælpefane!$D$7:$D$111,\"=\"&G$9,Hjælpefane!$G$7:$G$111))","v":7},{"$f":"IF('Dine valg'!$G$24=\"\",\"-\",SUMIF(Hjælpefane!$D$7:$D$111,\"=\"&H$9,Hjælpefane!$G$7:$G$111))","v":10},{"$f":"IF('Dine valg'!$G$24=\"\",\"-\",SUMIF(Hjælpefane!$D$7:$D$111,\"=\"&I$9,Hjælpefane!$G$7:$G$111))","v":8},{"$f":"IF('Dine valg'!$G$24=\"\",\"-\",SUMIF(Hjælpefane!$D$7:$D$111,\"=\"&J$9,Hjælpefane!$G$7:$G$111))","v":15},{"$f":"IF('Dine valg'!$G$24=\"\",\"-\",SUMIF(Hjælpefane!$D$7:$D$111,\"=\"&K$9,Hjælpefane!$G$7:$G$111))","v":10},{"$f":"IF('Dine valg'!$G$24=\"\",\"-\",SUMIF(Hjælpefane!$D$7:$D$111,\"=\"&L$9,Hjælpefane!$G$7:$G$111))","v":14},{"$f":"IF('Dine valg'!$G$24=\"\",\"-\",SUMIF(Hjælpefane!$D$7:$D$111,\"=\"&M$9,Hjælpefane!$G$7:$G$111))","v":11},{"$f":"IF('Dine valg'!$G$24=\"\",\"-\",SUMIF(Hjælpefane!$D$7:$D$111,\"=\"&N$9,Hjælpefane!$G$7:$G$111))","v":11},{"$f":"IF('Dine valg'!$G$24=\"\",\"-\",SUMIF(Hjælpefane!$D$7:$D$111,\"=\"&O$9,Hjælpefane!$G$7:$G$111))","v":14},{"$f":"IF('Dine valg'!$G$24=\"\",\"-\",SUMIF(Hjælpefane!$D$7:$D$111,\"=\"&P$9,Hjælpefane!$G$7:$G$111))","v":10},{"$f":"IF('Dine valg'!$G$24=\"\",\"-\",SUMIF(Hjælpefane!$D$7:$D$111,\"=\"&Q$9,Hjælpefane!$G$7:$G$111))","v":13},{"$f":"IF('Dine valg'!$G$24=\"\",\"-\",SUMIF(Hjælpefane!$D$7:$D$111,\"=\"&R$9,Hjælpefane!$G$7:$G$111))","v":8}]
[null,"Gennemsnitlig varighed",null,{"$f":"IFERROR(IF(D129=\"*\",\"*\",IF(D130=\"\",\"Indtast data\",(D129/D130))),\"-\")","v":0},{"$f":"IFERROR(IF(E129=\"*\",\"*\",IF(E130=\"\",\"Indtast data\",(E129/E130))),\"-\")","v":0},{"$f":"IFERROR(IF(F129=\"*\",\"*\",IF(F130=\"\",\"Indtast data\",(F129/F130))),\"-\")","v":0},{"$f":"IFERROR(IF(G129=\"*\",\"*\",IF(G130=\"\",\"Indtast data\",(G129/G130))),\"-\")","v":128.85714285714286},{"$f":"IFERROR(IF(H129=\"*\",\"*\",IF(H130=\"\",\"Indtast data\",(H129/H130))),\"-\")","v":119.5},{"$f":"IFERROR(IF(I129=\"*\",\"*\",IF(I130=\"\",\"Indtast data\",(I129/I130))),\"-\")","v":300.5},{"$f":"IFERROR(IF(J129=\"*\",\"*\",IF(J130=\"\",\"Indtast data\",(J129/J130))),\"-\")","v":239.46666666666667},{"$f":"IFERROR(IF(K129=\"*\",\"*\",IF(K130=\"\",\"Indtast data\",(K129/K130))),\"-\")","v":166.5},{"$f":"IFERROR(IF(L129=\"*\",\"*\",IF(L130=\"\",\"Indtast data\",(L129/L130))),\"-\")","v":116},210.81818181818181,220.36363636363637,259.85714285714283,310.89999999999998,195.84615384615384,258.125]
[null,"Hele landet"]
[null,"Samlet antal dage",null,{"$f":"INDEX(Data_land,MATCH(Skyggetabeller!D123,Data!landaar,0),10)","v":24418},{"$f":"INDEX(Data_land,MATCH(Skyggetabeller!E123,Data!landaar,0),10)","v":26592},{"$f":"INDEX(Data_land,MATCH(Skyggetabeller!F123,Data!landaar,0),10)","v":18299},{"$f":"INDEX(Data_land,MATCH(Skyggetabeller!G123,Data!landaar,0),10)","v":18279},{"$f":"INDEX(Data_land,MATCH(Skyggetabeller!H123,Data!landaar,0),10)","v":20518},{"$f":"INDEX(Data_land,MATCH(Skyggetabeller!I123,Data!landaar,0),10)","v":23313},{"$f":"INDEX(Data_land,MATCH(Skyggetabeller!J123,Data!landaar,0),10)","v":20262},{"$f":"INDEX(Data_land,MATCH(Skyggetabeller!K123,Data!landaar,0),10)","v":20696},{"$f":"INDEX(Data_land,MATCH(Skyggetabeller!L123,Data!landaar,0),10)","v":18628},{"$f":"INDEX(Data_land,MATCH(Skyggetabeller!M123,Data!landaar,0),10)","v":21549},{"$f":"INDEX(Data_land,MATCH(Skyggetabeller!N123,Data!landaar,0),10)","v":18321},{"$f":"INDEX(Data_land,MATCH(Skyggetabeller!O123,Data!landaar,0),10)","v":18630},{"$f":"INDEX(Data_land,MATCH(Skyggetabeller!P123,Data!landaar,0),10)","v":16479},{"$f":"INDEX(Data_land,MATCH(Skyggetabeller!Q123,Data!landaar,0),10)","v":16033},{"$f":"INDEX(Data_land,MATCH(Skyggetabeller!R123,Data!landaar,0),10)","v":20710}]
[null,"Antal anbragte",null,{"$f":"INDEX(Data_land,MATCH(Skyggetabeller!D123,Data!landaar,0),6)","v":81},{"$f":"INDEX(Data_land,MATCH(Skyggetabeller!E123,Data!landaar,0),6)","v":80},{"$f":"INDEX(Data_land,MATCH(Skyggetabeller!F123,Data!landaar,0),6)","v":64},{"$f":"INDEX(Data_land,MATCH(Skyggetabeller!G123,Data!landaar,0),6)","v":85},{"$f":"INDEX(Data_land,MATCH(Skyggetabeller!H123,Data!landaar,0),6)","v":76},{"$f":"INDEX(Data_land,MATCH(Skyggetabeller!I123,Data!landaar,0),6)","v":71},{"$f":"INDEX(Data_land,MATCH(Skyggetabeller!J123,Data!landaar,0),6)","v":77},{"$f":"INDEX(Data_land,MATCH(Skyggetabeller!K123,Data!landaar,0),6)","v":82},{"$f":"INDEX(Data_land,MATCH(Skyggetabeller!L123,Data!landaar,0),6)","v":95},{"$f":"INDEX(Data_land,MATCH(Skyggetabeller!M123,Data!landaar,0),6)","v":97},{"$f":"INDEX(Data_land,MATCH(Skyggetabeller!N123,Data!landaar,0),6)","v":84},{"$f":"INDEX(Data_land,MATCH(Skyggetabeller!O123,Data!landaar,0),6)","v":87},{"$f":"INDEX(Data_land,MATCH(Skyggetabeller!P123,Data!landaar,0),6)","v":86},{"$f":"INDEX(Data_land,MATCH(Skyggetabeller!Q123,Data!landaar,0),6)","v":91},{"$f":"INDEX(Data_land,MATCH(Skyggetabeller!R123,Data!landaar,0),6)","v":95}]
[null,"Gennemsnitlig varighed",null,{"$f":"IFERROR(IF(D133=\"*\",\"*\",IF(D134=0,\"#I/T\",(D133/D134))),\"Data ikke tilføjet\")","v":301.45679012345681},{"$f":"IFERROR(IF(E133=\"*\",\"*\",IF(E134=0,\"#I/T\",(E133/E134))),\"Data ikke tilføjet\")","v":332.4},{"$f":"IFERROR(IF(F133=\"*\",\"*\",IF(F134=0,\"#I/T\",(F133/F134))),\"Data ikke tilføjet\")","v":285.921875},{"$f":"IFERROR(IF(G133=\"*\",\"*\",IF(G134=0,\"#I/T\",(G133/G134))),\"Data ikke tilføjet\")","v":215.04705882352943},{"$f":"IFERROR(IF(H133=\"*\",\"*\",IF(H134=0,\"#I/T\",(H133/H134))),\"Data ikke tilføjet\")","v":269.9736842105263},{"$f":"IFERROR(IF(I133=\"*\",\"*\",IF(I134=0,\"#I/T\",(I133/I134))),\"Data ikke tilføjet\")","v":328.35211267605632},{"$f":"IFERROR(IF(J133=\"*\",\"*\",IF(J134=0,\"#I/T\",(J133/J134))),\"Data ikke tilføjet\")","v":263.14285714285717},{"$f":"IFERROR(IF(K133=\"*\",\"*\",IF(K134=0,\"#I/T\",(K133/K134))),\"Data ikke tilføjet\")","v":252.39024390243901},{"$f":"IFERROR(IF(L133=\"*\",\"*\",IF(L134=0,\"#I/T\",(L133/L134))),\"Data ikke tilføjet\")","v":196.08421052631579},{"$f":"IFERROR(IF(M133=\"*\",\"*\",IF(M134=0,\"#I/T\",(M133/M134))),\"Data ikke tilføjet\")","v":222.15463917525773},{"$f":"IFERROR(IF(N133=\"*\",\"*\",IF(N134=0,\"#I/T\",(N133/N134))),\"Data ikke tilføjet\")","v":218.10714285714286},{"$f":"IFERROR(IF(O133=\"*\",\"*\",IF(O134=0,\"#I/T\",(O133/O134))),\"Data ikke tilføjet\")","v":214.13793103448276},{"$f":"IFERROR(IF(P133=\"*\",\"*\",IF(P134=0,\"#I/T\",(P133/P134))),\"Data ikke tilføjet\")","v":191.61627906976744},{"$f":"IFERROR(IF(Q133=\"*\",\"*\",IF(Q134=0,\"#I/T\",(Q133/Q134))),\"Data ikke tilføjet\")","v":176.1868131868132},{"$f":"IFERROR(IF(R133=\"*\",\"*\",IF(R134=0,\"#I/T\",(R133/R134))),\"Data ikke tilføjet\")","v":218}]
[]
[null,"Tabel 2.3: Gennemsnitlig varighed af anbringelser på socialpædagogisk opholdssted"]
[null,"Nøgletal 2.3: \nGennemsnitlig varighed af igangværende anbringelser på socialpædagogisk opholdssted",null,"2017-01-01","2017-07-01","2018-01-01","2018-07-01","2019-01-01","2019-07-01","2020-01-01","2020-07-01","2021-01-01","2021-07-01","2022-01-01","2022-07-01","2023-01-01","2023-07-01","2024-01-01"]
[null,{"$f":"IF(Kommune=\"\",\"Kommune\",Kommune)","v":"København"}]
[null,"Samlet antal dage",null,{"$f":"IFERROR(IF(INDEX(Data_kom2,MATCH(1,(komnavn2=Kommune)*(komaar2=D138),0),11)=\"*\",\"*\",INDEX(Data_kom2,MATCH(1,(komnavn2=Kommune)*(komaar2=D138),0),11)),\"Data ikke tilføjet\")","v":46842},{"$f":"IFERROR(IF(INDEX(Data_kom2,MATCH(1,(komnavn2=Kommune)*(komaar2=E138),0),11)=\"*\",\"*\",INDEX(Data_kom2,MATCH(1,(komnavn2=Kommune)*(komaar2=E138),0),11)),\"Data ikke tilføjet\")","v":41902},{"$f":"IFERROR(IF(INDEX(Data_kom2,MATCH(1,(komnavn2=Kommune)*(komaar2=F138),0),11)=\"*\",\"*\",INDEX(Data_kom2,MATCH(1,(komnavn2=Kommune)*(komaar2=F138),0),11)),\"Data ikke tilføjet\")","v":41980},{"$f":"IFERROR(IF(INDEX(Data_kom2,MATCH(1,(komnavn2=Kommune)*(komaar2=G138),0),11)=\"*\",\"*\",INDEX(Data_kom2,MATCH(1,(komnavn2=Kommune)*(komaar2=G138),0),11)),\"Data ikke tilføjet\")","v":42337},{"$f":"IFERROR(IF(INDEX(Data_kom2,MATCH(1,(komnavn2=Kommune)*(komaar2=H138),0),11)=\"*\",\"*\",INDEX(Data_kom2,MATCH(1,(komnavn2=Kommune)*(komaar2=H138),0),11)),\"Data ikke tilføjet\")","v":41703},{"$f":"IFERROR(IF(INDEX(Data_kom2,MATCH(1,(komnavn2=Kommune)*(komaar2=I138),0),11)=\"*\",\"*\",INDEX(Data_kom2,MATCH(1,(komnavn2=Kommune)*(komaar2=I138),0),11)),\"Data ikke tilføjet\")","v":"*"},{"$f":"IFERROR(IF(INDEX(Data_kom2,MATCH(1,(komnavn2=Kommune)*(komaar2=J138),0),11)=\"*\",\"*\",INDEX(Data_kom2,MATCH(1,(komnavn2=Kommune)*(komaar2=J138),0),11)),\"Data ikke tilføjet\")","v":"*"},{"$f":"IFERROR(IF(INDEX(Data_kom2,MATCH(1,(komnavn2=Kommune)*(komaar2=K138),0),11)=\"*\",\"*\",INDEX(Data_kom2,MATCH(1,(komnavn2=Kommune)*(komaar2=K138),0),11)),\"Data ikke tilføjet\")","v":34639},{"$f":"IFERROR(IF(INDEX(Data_kom2,MATCH(1,(komnavn2=Kommune)*(komaar2=L138),0),11)=\"*\",\"*\",INDEX(Data_kom2,MATCH(1,(komnavn2=Kommune)*(komaar2=L138),0),11)),\"Data ikke tilføjet\")","v":32207},{"$f":"IFERROR(IF(INDEX(Data_kom2,MATCH(1,(komnavn2=Kommune)*(komaar2=M138),0),11)=\"*\",\"*\",INDEX(Data_kom2,MATCH(1,(komnavn2=Kommune)*(komaar2=M138),0),11)),\"Data ikke tilføjet\")","v":35674},{"$f":"IFERROR(IF(INDEX(Data_kom2,MATCH(1,(komnavn2=Kommune)*(komaar2=N138),0),11)=\"*\",\"*\",INDEX(Data_kom2,MATCH(1,(komnavn2=Kommune)*(komaar2=N138),0),11)),\"Data ikke tilføjet\")","v":33527},{"$f":"IFERROR(IF(INDEX(Data_kom2,MATCH(1,(komnavn2=Kommune)*(komaar2=O138),0),11)=\"*\",\"*\",INDEX(Data_kom2,MATCH(1,(komnavn2=Kommune)*(komaar2=O138),0),11)),\"Data ikke tilføjet\")","v":37339},{"$f":"IFERROR(IF(INDEX(Data_kom2,MATCH(1,(komnavn2=Kommune)*(komaar2=P138),0),11)=\"*\",\"*\",INDEX(Data_kom2,MATCH(1,(komnavn2=Kommune)*(komaar2=P138),0),11)),\"Data ikke tilføjet\")","v":31127},{"$f":"IFERROR(IF(INDEX(Data_kom2,MATCH(1,(komnavn2=Kommune)*(komaar2=Q138),0),11)=\"*\",\"*\",INDEX(Data_kom2,MATCH(1,(komnavn2=Kommune)*(komaar2=Q138),0),11)),\"Data ikke tilføjet\")","v":32213},{"$f":"IFERROR(IF(INDEX(Data_kom2,MATCH(1,(komnavn2=Kommune)*(komaar2=R138),0),11)=\"*\",\"*\",INDEX(Data_kom2,MATCH(1,(komnavn2=Kommune)*(komaar2=R138),0),11)),\"Data ikke tilføjet\")","v":34645}]
[null,"Antal anbragte",null,{"$f":"D57","v":46},38,33,32,33,36,"*",26,27,{"$f":"M57","v":34},31,36,41,42,53]
[null,"Gennemsnitlig varighed",null,{"$f":"IFERROR(IF(D140=\"*\",\"*\",IF(D141=0,\"#I/T\",(D140/D141))),\"Data ikke tilføjet\")","v":1018.304347826087},{"$f":"IFERROR(IF(E140=\"*\",\"*\",IF(E141=0,\"#I/T\",(E140/E141))),\"Data ikke tilføjet\")","v":1102.6842105263158},{"$f":"IFERROR(IF(F140=\"*\",\"*\",IF(F141=0,\"#I/T\",(F140/F141))),\"Data ikke tilføjet\")","v":1272.121212121212},{"$f":"IFERROR(IF(G140=\"*\",\"*\",IF(G141=0,\"#I/T\",(G140/G141))),\"Data ikke tilføjet\")","v":1323.03125},{"$f":"IFERROR(IF(H140=\"*\",\"*\",IF(H141=0,\"#I/T\",(H140/H141))),\"Data ikke tilføjet\")","v":1263.7272727272727},{"$f":"IFERROR(IF(I140=\"*\",\"*\",IF(I141=0,\"#I/T\",(I140/I141))),\"Data ikke tilføjet\")","v":"*"},{"$f":"IFERROR(IF(J140=\"*\",\"*\",IF(J141=0,\"#I/T\",(J140/J141))),\"Data ikke tilføjet\")","v":"*"},{"$f":"IFERROR(IF(K140=\"*\",\"*\",IF(K141=0,\"#I/T\",(K140/K141))),\"Data ikke tilføjet\")","v":1332.2692307692307},{"$f":"IFERROR(IF(L140=\"*\",\"*\",IF(L141=0,\"#I/T\",(L140/L141))),\"Data ikke tilføjet\")","v":1192.851851851852},{"$f":"IFERROR(IF(M140=\"*\",\"*\",IF(M141=0,\"#I/T\",(M140/M141))),\"Data ikke tilføjet\")","v":1049.2352941176471},{"$f":"IFERROR(IF(N140=\"*\",\"*\",IF(N141=0,\"#I/T\",(N140/N141))),\"Data ikke tilføjet\")","v":1081.516129032258},{"$f":"IFERROR(IF(O140=\"*\",\"*\",IF(O141=0,\"#I/T\",(O140/O141))),\"Data ikke tilføjet\")","v":1037.1944444444443},{"$f":"IFERROR(IF(P140=\"*\",\"*\",IF(P141=0,\"#I/T\",(P140/P141))),\"Data ikke tilføjet\")","v":759.19512195121956},{"$f":"IFERROR(IF(Q140=\"*\",\"*\",IF(Q141=0,\"#I/T\",(Q140/Q141))),\"Data ikke tilføjet\")","v":766.97619047619048},{"$f":"IFERROR(IF(R140=\"*\",\"*\",IF(R141=0,\"#I/T\",(R140/R141))),\"Data ikke tilføjet\")","v":653.67924528301887}]
[null,"Sammenligningsgruppe, gns."]
[null,"Samlet antal dage",null,{"$f":"IF('Dine valg'!$G$24=\"\",\"-\",SUMIF(Hjælpefane!$D$7:$D$111,\"=\"&D$9,Hjælpefane!$L$7:$L$111))","v":0},{"$f":"IF('Dine valg'!$G$24=\"\",\"-\",SUMIF(Hjælpefane!$D$7:$D$111,\"=\"&E$9,Hjælpefane!$L$7:$L$111))","v":0},{"$f":"IF('Dine valg'!$G$24=\"\",\"-\",SUMIF(Hjælpefane!$D$7:$D$111,\"=\"&F$9,Hjælpefane!$L$7:$L$111))","v":0},{"$f":"IF('Dine valg'!$G$24=\"\",\"-\",SUMIF(Hjælpefane!$D$7:$D$111,\"=\"&G$9,Hjælpefane!$L$7:$L$111))","v":36187},{"$f":"IF('Dine valg'!$G$24=\"\",\"-\",SUMIF(Hjælpefane!$D$7:$D$111,\"=\"&H$9,Hjælpefane!$L$7:$L$111))","v":33061},{"$f":"IF('Dine valg'!$G$24=\"\",\"-\",SUMIF(Hjælpefane!$D$7:$D$111,\"=\"&I$9,Hjælpefane!$L$7:$L$111))","v":33513},{"$f":"IF('Dine valg'!$G$24=\"\",\"-\",SUMIF(Hjælpefane!$D$7:$D$111,\"=\"&J$9,Hjælpefane!$L$7:$L$111))","v":28592},{"$f":"IF('Dine valg'!$G$24=\"\",\"-\",SUMIF(Hjælpefane!$D$7:$D$111,\"=\"&K$9,Hjælpefane!$L$7:$L$111))","v":23654},{"$f":"IF('Dine valg'!$G$24=\"\",\"-\",SUMIF(Hjælpefane!$D$7:$D$111,\"=\"&L$9,Hjælpefane!$L$7:$L$111))","v":26145},{"$f":"IF('Dine valg'!$G$24=\"\",\"-\",SUMIF(Hjælpefane!$D$7:$D$111,\"=\"&M$9,Hjælpefane!$L$7:$L$111))","v":21632},{"$f":"IF('Dine valg'!$G$24=\"\",\"-\",SUMIF(Hjælpefane!$D$7:$D$111,\"=\"&N$9,Hjælpefane!$L$7:$L$111))","v":20258},{"$f":"IF('Dine valg'!$G$24=\"\",\"-\",SUMIF(Hjælpefane!$D$7:$D$111,\"=\"&O$9,Hjælpefane!$L$7:$L$111))","v":24985},{"$f":"IF('Dine valg'!$G$24=\"\",\"-\",SUMIF(Hjælpefane!$D$7:$D$111,\"=\"&P$9,Hjælpefane!$L$7:$L$111))","v":23403},{"$f":"IF('Dine valg'!$G$24=\"\",\"-\",SUMIF(Hjælpefane!$D$7:$D$111,\"=\"&Q$9,Hjælpefane!$L$7:$L$111))","v":21018},{"$f":"IF('Dine valg'!$G$24=\"\",\"-\",SUMIF(Hjælpefane!$D$7:$D$111,\"=\"&R$9,Hjælpefane!$L$7:$L$111))","v":20221}]
[null,"Antal anbragte",null,{"$f":"IF('Dine valg'!$G$24=\"\",\"-\",SUMIF(Hjælpefane!$D$7:$D$111,\"=\"&D$9,Hjælpefane!$H$7:$H$111))","v":56},{"$f":"IF('Dine valg'!$G$24=\"\",\"-\",SUMIF(Hjælpefane!$D$7:$D$111,\"=\"&E$9,Hjælpefane!$H$7:$H$111))","v":52},{"$f":"IF('Dine valg'!$G$24=\"\",\"-\",SUMIF(Hjælpefane!$D$7:$D$111,\"=\"&F$9,Hjælpefane!$H$7:$H$111))","v":58},{"$f":"IF('Dine valg'!$G$24=\"\",\"-\",SUMIF(Hjælpefane!$D$7:$D$111,\"=\"&G$9,Hjælpefane!$H$7:$H$111))","v":46},{"$f":"IF('Dine valg'!$G$24=\"\",\"-\",SUMIF(Hjælpefane!$D$7:$D$111,\"=\"&H$9,Hjælpefane!$H$7:$H$111))","v":47},{"$f":"IF('Dine valg'!$G$24=\"\",\"-\",SUMIF(Hjælpefane!$D$7:$D$111,\"=\"&I$9,Hjælpefane!$H$7:$H$111))","v":43},{"$f":"IF('Dine valg'!$G$24=\"\",\"-\",SUMIF(Hjælpefane!$D$7:$D$111,\"=\"&J$9,Hjælpefane!$H$7:$H$111))","v":35},{"$f":"IF('Dine valg'!$G$24=\"\",\"-\",SUMIF(Hjælpefane!$D$7:$D$111,\"=\"&K$9,Hjælpefane!$H$7:$H$111))","v":37},{"$f":"IF('Dine valg'!$G$24=\"\",\"-\",SUMIF(Hjælpefane!$D$7:$D$111,\"=\"&L$9,Hjælpefane!$H$7:$H$111))","v":40},{"$f":"IF('Dine valg'!$G$24=\"\",\"-\",SUMIF(Hjælpefane!$D$7:$D$111,\"=\"&M$9,Hjælpefane!$H$7:$H$111))","v":45},{"$f":"IF('Dine valg'!$G$24=\"\",\"-\",SUMIF(Hjælpefane!$D$7:$D$111,\"=\"&N$9,Hjælpefane!$H$7:$H$111))","v":41},{"$f":"IF('Dine valg'!$G$24=\"\",\"-\",SUMIF(Hjælpefane!$D$7:$D$111,\"=\"&O$9,Hjælpefane!$H$7:$H$111))","v":49},{"$f":"IF('Dine valg'!$G$24=\"\",\"-\",SUMIF(Hjælpefane!$D$7:$D$111,\"=\"&P$9,Hjælpefane!$H$7:$H$111))","v":49},{"$f":"IF('Dine valg'!$G$24=\"\",\"-\",SUMIF(Hjælpefane!$D$7:$D$111,\"=\"&Q$9,Hjælpefane!$H$7:$H$111))","v":38},{"$f":"IF('Dine valg'!$G$24=\"\",\"-\",SUMIF(Hjælpefane!$D$7:$D$111,\"=\"&R$9,Hjælpefane!$H$7:$H$111))","v":43}]
[null,"Gennemsnitlig varighed",null,{"$f":"IFERROR(IF(D144=\"*\",\"*\",IF(D145=\"\",\"Indtast data\",(D144/D145))),\"-\")","v":0},{"$f":"IFERROR(IF(E144=\"*\",\"*\",IF(E145=\"\",\"Indtast data\",(E144/E145))),\"-\")","v":0},{"$f":"IFERROR(IF(F144=\"*\",\"*\",IF(F145=\"\",\"Indtast data\",(F144/F145))),\"-\")","v":0},{"$f":"IFERROR(IF(G144=\"*\",\"*\",IF(G145=\"\",\"Indtast data\",(G144/G145))),\"-\")","v":786.67391304347825},{"$f":"IFERROR(IF(H144=\"*\",\"*\",IF(H145=\"\",\"Indtast data\",(H144/H145))),\"-\")","v":703.42553191489367},{"$f":"IFERROR(IF(I144=\"*\",\"*\",IF(I145=\"\",\"Indtast data\",(I144/I145))),\"-\")","v":779.37209302325584},{"$f":"IFERROR(IF(J144=\"*\",\"*\",IF(J145=\"\",\"Indtast data\",(J144/J145))),\"-\")","v":816.91428571428571},{"$f":"IFERROR(IF(K144=\"*\",\"*\",IF(K145=\"\",\"Indtast data\",(K144/K145))),\"-\")","v":639.29729729729729},{"$f":"IFERROR(IF(L144=\"*\",\"*\",IF(L145=\"\",\"Indtast data\",(L144/L145))),\"-\")","v":653.625},480.71111111111111,494.09756097560978,509.89795918367349,477.61224489795916,553.10526315789468,470.25581395348837]
[null,"Hele landet"]
[null,"Samlet antal dage",null,{"$f":"INDEX(Data_land,MATCH(Skyggetabeller!D138,Data!landaar,0),11)","v":1152440},{"$f":"INDEX(Data_land,MATCH(Skyggetabeller!E138,Data!landaar,0),11)","v":1156397},{"$f":"INDEX(Data_land,MATCH(Skyggetabeller!F138,Data!landaar,0),11)","v":1134473},{"$f":"INDEX(Data_land,MATCH(Skyggetabeller!G138,Data!landaar,0),11)","v":1096838},{"$f":"INDEX(Data_land,MATCH(Skyggetabeller!H138,Data!landaar,0),11)","v":1054734},{"$f":"INDEX(Data_land,MATCH(Skyggetabeller!I138,Data!landaar,0),11)","v":1025155},{"$f":"INDEX(Data_land,MATCH(Skyggetabeller!J138,Data!landaar,0),11)","v":1008761},{"$f":"INDEX(Data_land,MATCH(Skyggetabeller!K138,Data!landaar,0),11)","v":1062008},{"$f":"INDEX(Data_land,MATCH(Skyggetabeller!L138,Data!landaar,0),11)","v":1077441},{"$f":"INDEX(Data_land,MATCH(Skyggetabeller!M138,Data!landaar,0),11)","v":1107771},{"$f":"INDEX(Data_land,MATCH(Skyggetabeller!N138,Data!landaar,0),11)","v":1131988},{"$f":"INDEX(Data_land,MATCH(Skyggetabeller!O138,Data!landaar,0),11)","v":1147767},{"$f":"INDEX(Data_land,MATCH(Skyggetabeller!P138,Data!landaar,0),11)","v":1166569},{"$f":"INDEX(Data_land,MATCH(Skyggetabeller!Q138,Data!landaar,0),11)","v":1183360},{"$f":"INDEX(Data_land,MATCH(Skyggetabeller!R138,Data!landaar,0),11)","v":1197776}]
[null,"Antal anbragte",null,{"$f":"INDEX(Data_land,MATCH(Skyggetabeller!D138,Data!landaar,0),7)","v":1484},{"$f":"INDEX(Data_land,MATCH(Skyggetabeller!E138,Data!landaar,0),7)","v":1571},{"$f":"INDEX(Data_land,MATCH(Skyggetabeller!F138,Data!landaar,0),7)","v":1544},{"$f":"INDEX(Data_land,MATCH(Skyggetabeller!G138,Data!landaar,0),7)","v":1544},{"$f":"INDEX(Data_land,MATCH(Skyggetabeller!H138,Data!landaar,0),7)","v":1529},{"$f":"INDEX(Data_land,MATCH(Skyggetabeller!I138,Data!landaar,0),7)","v":1516},{"$f":"INDEX(Data_land,MATCH(Skyggetabeller!J138,Data!landaar,0),7)","v":1517},{"$f":"INDEX(Data_land,MATCH(Skyggetabeller!K138,Data!landaar,0),7)","v":1592},{"$f":"INDEX(Data_land,MATCH(Skyggetabeller!L138,Data!landaar,0),7)","v":1615},{"$f":"INDEX(Data_land,MATCH(Skyggetabeller!M138,Data!landaar,0),7)","v":1717},{"$f":"INDEX(Data_land,MATCH(Skyggetabeller!N138,Data!landaar,0),7)","v":1713},{"$f":"INDEX(Data_land,MATCH(Skyggetabeller!O138,Data!landaar,0),7)","v":1826},{"$f":"INDEX(Data_land,MATCH(Skyggetabeller!P138,Data!landaar,0),7)","v":1854},{"$f":"INDEX(Data_land,MATCH(Skyggetabeller!Q138,Data!landaar,0),7)","v":1863},{"$f":"INDEX(Data_land,MATCH(Skyggetabeller!R138,Data!landaar,0),7)","v":1895}]
[null,"Gennemsnitlig varighed",null,{"$f":"IFERROR(IF(D148=\"*\",\"*\",IF(D149=0,\"#I/T\",(D148/D149))),\"Data ikke tilføjet\")","v":776.57681940700809},{"$f":"IFERROR(IF(E148=\"*\",\"*\",IF(E149=0,\"#I/T\",(E148/E149))),\"Data ikke tilføjet\")","v":736.08975175047738},{"$f":"IFERROR(IF(F148=\"*\",\"*\",IF(F149=0,\"#I/T\",(F148/F149))),\"Data ikke tilføjet\")","v":734.76230569948189},{"$f":"IFERROR(IF(G148=\"*\",\"*\",IF(G149=0,\"#I/T\",(G148/G149))),\"Data ikke tilføjet\")","v":710.38730569948189},{"$f":"IFERROR(IF(H148=\"*\",\"*\",IF(H149=0,\"#I/T\",(H148/H149))),\"Data ikke tilføjet\")","v":689.81948986265536},{"$f":"IFERROR(IF(I148=\"*\",\"*\",IF(I149=0,\"#I/T\",(I148/I149))),\"Data ikke tilføjet\")","v":676.22361477572565},{"$f":"IFERROR(IF(J148=\"*\",\"*\",IF(J149=0,\"#I/T\",(J148/J149))),\"Data ikke tilføjet\")","v":664.97099538562952},{"$f":"IFERROR(IF(K148=\"*\",\"*\",IF(K149=0,\"#I/T\",(K148/K149))),\"Data ikke tilføjet\")","v":667.0904522613065},{"$f":"IFERROR(IF(L148=\"*\",\"*\",IF(L149=0,\"#I/T\",(L148/L149))),\"Data ikke tilføjet\")","v":667.14613003095974},{"$f":"IFERROR(IF(M148=\"*\",\"*\",IF(M149=0,\"#I/T\",(M148/M149))),\"Data ikke tilføjet\")","v":645.17821782178214},{"$f":"IFERROR(IF(N148=\"*\",\"*\",IF(N149=0,\"#I/T\",(N148/N149))),\"Data ikke tilføjet\")","v":660.8219497956801},{"$f":"IFERROR(IF(O148=\"*\",\"*\",IF(O149=0,\"#I/T\",(O148/O149))),\"Data ikke tilføjet\")","v":628.56900328587074},{"$f":"IFERROR(IF(P148=\"*\",\"*\",IF(P149=0,\"#I/T\",(P148/P149))),\"Data ikke tilføjet\")","v":629.21736785329017},{"$f":"IFERROR(IF(Q148=\"*\",\"*\",IF(Q149=0,\"#I/T\",(Q148/Q149))),\"Data ikke tilføjet\")","v":635.19055287171227},{"$f":"IFERROR(IF(R148=\"*\",\"*\",IF(R149=0,\"#I/T\",(R148/R149))),\"Data ikke tilføjet\")","v":632.07176781002636}]
[]
[]
[null,"Nøgletal 3: Anbragte i plejefamilie"]
[]
[null,"Tabel 3: Anbragte i plejefamilie"]
[null,"Nøgletal 3: \nAnbragte i plejefamilie",null,"2017-01-01","2017-07-01","2018-01-01","2018-07-01","2019-01-01","2019-07-01","2020-01-01","2020-07-01","2021-01-01","2021-07-01","2022-01-01","2022-07-01","2023-01-01","2023-07-01","2024-01-01"]
[null,{"$f":"IF(Kommune=\"\",\"Kommune\",Kommune)","v":"København"}]
[null,"Antal anbragte",null,{"$f":"IFERROR(IF(INDEX(Data_kom2,MATCH(1,(komnavn2=Kommune)*(komaar2=D156),0),12)=\"*\",\"*\",INDEX(Data_kom2,MATCH(1,(komnavn2=Kommune)*(komaar2=D156),0),12)),\"Data ikke tilføjet\")","v":357},{"$f":"IFERROR(IF(INDEX(Data_kom2,MATCH(1,(komnavn2=Kommune)*(komaar2=E156),0),12)=\"*\",\"*\",INDEX(Data_kom2,MATCH(1,(komnavn2=Kommune)*(komaar2=E156),0),12)),\"Data ikke tilføjet\")","v":349},{"$f":"IFERROR(IF(INDEX(Data_kom2,MATCH(1,(komnavn2=Kommune)*(komaar2=F156),0),12)=\"*\",\"*\",INDEX(Data_kom2,MATCH(1,(komnavn2=Kommune)*(komaar2=F156),0),12)),\"Data ikke tilføjet\")","v":349},{"$f":"IFERROR(IF(INDEX(Data_kom2,MATCH(1,(komnavn2=Kommune)*(komaar2=G156),0),12)=\"*\",\"*\",INDEX(Data_kom2,MATCH(1,(komnavn2=Kommune)*(komaar2=G156),0),12)),\"Data ikke tilføjet\")","v":353},{"$f":"IFERROR(IF(INDEX(Data_kom2,MATCH(1,(komnavn2=Kommune)*(komaar2=H156),0),12)=\"*\",\"*\",INDEX(Data_kom2,MATCH(1,(komnavn2=Kommune)*(komaar2=H156),0),12)),\"Data ikke tilføjet\")","v":340},{"$f":"IFERROR(IF(INDEX(Data_kom2,MATCH(1,(komnavn2=Kommune)*(komaar2=I156),0),12)=\"*\",\"*\",INDEX(Data_kom2,MATCH(1,(komnavn2=Kommune)*(komaar2=I156),0),12)),\"Data ikke tilføjet\")","v":326},{"$f":"IFERROR(IF(INDEX(Data_kom2,MATCH(1,(komnavn2=Kommune)*(komaar2=J156),0),12)=\"*\",\"*\",INDEX(Data_kom2,MATCH(1,(komnavn2=Kommune)*(komaar2=J156),0),12)),\"Data ikke tilføjet\")","v":314},{"$f":"IFERROR(IF(INDEX(Data_kom2,MATCH(1,(komnavn2=Kommune)*(komaar2=K156),0),12)=\"*\",\"*\",INDEX(Data_kom2,MATCH(1,(komnavn2=Kommune)*(komaar2=K156),0),12)),\"Data ikke tilføjet\")","v":296},{"$f":"IFERROR(IF(INDEX(Data_kom2,MATCH(1,(komnavn2=Kommune)*(komaar2=L156),0),12)=\"*\",\"*\",INDEX(Data_kom2,MATCH(1,(komnavn2=Kommune)*(komaar2=L156),0),12)),\"Data ikke tilføjet\")","v":287},{"$f":"IFERROR(IF(INDEX(Data_kom2,MATCH(1,(komnavn2=Kommune)*(komaar2=M156),0),12)=\"*\",\"*\",INDEX(Data_kom2,MATCH(1,(komnavn2=Kommune)*(komaar2=M156),0),12)),\"Data ikke tilføjet\")","v":284},{"$f":"IFERROR(IF(INDEX(Data_kom2,MATCH(1,(komnavn2=Kommune)*(komaar2=N156),0),12)=\"*\",\"*\",INDEX(Data_kom2,MATCH(1,(komnavn2=Kommune)*(komaar2=N156),0),12)),\"Data ikke tilføjet\")","v":272},{"$f":"IFERROR(IF(INDEX(Data_kom2,MATCH(1,(komnavn2=Kommune)*(komaar2=O156),0),12)=\"*\",\"*\",INDEX(Data_kom2,MATCH(1,(komnavn2=Kommune)*(komaar2=O156),0),12)),\"Data ikke tilføjet\")","v":265},{"$f":"IFERROR(IF(INDEX(Data_kom2,MATCH(1,(komnavn2=Kommune)*(komaar2=P156),0),12)=\"*\",\"*\",INDEX(Data_kom2,MATCH(1,(komnavn2=Kommune)*(komaar2=P156),0),12)),\"Data ikke tilføjet\")","v":271},{"$f":"IFERROR(IF(INDEX(Data_kom2,MATCH(1,(komnavn2=Kommune)*(komaar2=Q156),0),12)=\"*\",\"*\",INDEX(Data_kom2,MATCH(1,(komnavn2=Kommune)*(komaar2=Q156),0),12)),\"Data ikke tilføjet\")","v":261},{"$f":"IFERROR(IF(INDEX(Data_kom2,MATCH(1,(komnavn2=Kommune)*(komaar2=R156),0),12)=\"*\",\"*\",INDEX(Data_kom2,MATCH(1,(komnavn2=Kommune)*(komaar2=R156),0),12)),\"Data ikke tilføjet\")","v":242}]
[null,"Antal 0-17-årige",null,{"$f":"IFERROR(INDEX(Data_kom2,MATCH(1,(komnavn2=Kommune)*(komaar2=D156),0),2),\"Data ikke tilføjet\")","v":105885},{"$f":"IFERROR(INDEX(Data_kom2,MATCH(1,(komnavn2=Kommune)*(komaar2=E156),0),2),\"Data ikke tilføjet\")","v":106913},{"$f":"IFERROR(INDEX(Data_kom2,MATCH(1,(komnavn2=Kommune)*(komaar2=F156),0),2),\"Data ikke tilføjet\")","v":107770},{"$f":"IFERROR(INDEX(Data_kom2,MATCH(1,(komnavn2=Kommune)*(komaar2=G156),0),2),\"Data ikke tilføjet\")","v":108734},{"$f":"IFERROR(INDEX(Data_kom2,MATCH(1,(komnavn2=Kommune)*(komaar2=H156),0),2),\"Data ikke tilføjet\")","v":109335},{"$f":"IFERROR(INDEX(Data_kom2,MATCH(1,(komnavn2=Kommune)*(komaar2=I156),0),2),\"Data ikke tilføjet\")","v":110138},{"$f":"IFERROR(INDEX(Data_kom2,MATCH(1,(komnavn2=Kommune)*(komaar2=J156),0),2),\"Data ikke tilføjet\")","v":110822},{"$f":"IFERROR(INDEX(Data_kom2,MATCH(1,(komnavn2=Kommune)*(komaar2=K156),0),2),\"Data ikke tilføjet\")","v":111068},{"$f":"IFERROR(INDEX(Data_kom2,MATCH(1,(komnavn2=Kommune)*(komaar2=L156),0),2),\"Data ikke tilføjet\")","v":110927},{"$f":"IFERROR(INDEX(Data_kom2,MATCH(1,(komnavn2=Kommune)*(komaar2=M156),0),2),\"Data ikke tilføjet\")","v":110614},{"$f":"IFERROR(INDEX(Data_kom2,MATCH(1,(komnavn2=Kommune)*(komaar2=N156),0),2),\"Data ikke tilføjet\")","v":110513},{"$f":"IFERROR(INDEX(Data_kom2,MATCH(1,(komnavn2=Kommune)*(komaar2=O156),0),2),\"Data ikke tilføjet\")","v":110692},{"$f":"IFERROR(INDEX(Data_kom2,MATCH(1,(komnavn2=Kommune)*(komaar2=P156),0),2),\"Data ikke tilføjet\")","v":110835},{"$f":"IFERROR(INDEX(Data_kom2,MATCH(1,(komnavn2=Kommune)*(komaar2=Q156),0),2),\"Data ikke tilføjet\")","v":111075},{"$f":"IFERROR(INDEX(Data_kom2,MATCH(1,(komnavn2=Kommune)*(komaar2=R156),0),2),\"Data ikke tilføjet\")","v":110571}]
[null,"Andel",null,{"$f":"IFERROR(IF(D158=\"*\",\"*\",IF(D159=0,\"#I/T\",(D158/D159*1000))),\"Data ikke tilføjet\")","v":3.3715823771072388},3.2643364230729661,3.2383780272803193,3.246454650799198,3.1097086934650386,2.9599230056837786,2.8333724350760678,2.6650340332048836,2.5872871347823345,{"$f":"IFERROR(IF(M158=\"*\",\"*\",IF(M159=0,\"#I/T\",(M158/M159*1000))),\"Data ikke tilføjet\")","v":2.5674869365541433},2.4612489028440092,2.3940302822245512,2.445076013894528,2.3497636731937881,2.1886389740528709]
[null,"Sammenligningsgruppe, gns."]
[null,"Antal anbragte",null,{"$f":"IF('Dine valg'!$G$24=\"\",\"-\",SUMIF(Hjælpefane!$D$7:$D$111,\"=\"&D$9,Hjælpefane!$M$7:$M$111))","v":228},{"$f":"IF('Dine valg'!$G$24=\"\",\"-\",SUMIF(Hjælpefane!$D$7:$D$111,\"=\"&E$9,Hjælpefane!$M$7:$M$111))","v":243},{"$f":"IF('Dine valg'!$G$24=\"\",\"-\",SUMIF(Hjælpefane!$D$7:$D$111,\"=\"&F$9,Hjælpefane!$M$7:$M$111))","v":244},{"$f":"IF('Dine valg'!$G$24=\"\",\"-\",SUMIF(Hjælpefane!$D$7:$D$111,\"=\"&G$9,Hjælpefane!$M$7:$M$111))","v":255},{"$f":"IF('Dine valg'!$G$24=\"\",\"-\",SUMIF(Hjælpefane!$D$7:$D$111,\"=\"&H$9,Hjælpefane!$M$7:$M$111))","v":253},{"$f":"IF('Dine valg'!$G$24=\"\",\"-\",SUMIF(Hjælpefane!$D$7:$D$111,\"=\"&I$9,Hjælpefane!$M$7:$M$111))","v":252},{"$f":"IF('Dine valg'!$G$24=\"\",\"-\",SUMIF(Hjælpefane!$D$7:$D$111,\"=\"&J$9,Hjælpefane!$M$7:$M$111))","v":248},{"$f":"IF('Dine valg'!$G$24=\"\",\"-\",SUMIF(Hjælpefane!$D$7:$D$111,\"=\"&K$9,Hjælpefane!$M$7:$M$111))","v":248},{"$f":"IF('Dine valg'!$G$24=\"\",\"-\",SUMIF(Hjælpefane!$D$7:$D$111,\"=\"&L$9,Hjælpefane!$M$7:$M$111))","v":242},{"$f":"IF('Dine valg'!$G$24=\"\",\"-\",SUMIF(Hjælpefane!$D$7:$D$111,\"=\"&M$9,Hjælpefane!$M$7:$M$111))","v":232},{"$f":"IF('Dine valg'!$G$24=\"\",\"-\",SUMIF(Hjælpefane!$D$7:$D$111,\"=\"&N$9,Hjælpefane!$M$7:$M$111))","v":231},{"$f":"IF('Dine valg'!$G$24=\"\",\"-\",SUMIF(Hjælpefane!$D$7:$D$111,\"=\"&O$9,Hjælpefane!$M$7:$M$111))","v":230},{"$f":"IF('Dine valg'!$G$24=\"\",\"-\",SUMIF(Hjælpefane!$D$7:$D$111,\"=\"&P$9,Hjælpefane!$M$7:$M$111))","v":221},{"$f":"IF('Dine valg'!$G$24=\"\",\"-\",SUMIF(Hjælpefane!$D$7:$D$111,\"=\"&Q$9,Hjælpefane!$M$7:$M$111))","v":225},{"$f":"IF('Dine valg'!$G$24=\"\",\"-\",SUMIF(Hjælpefane!$D$7:$D$111,\"=\"&R$9,Hjælpefane!$M$7:$M$111))","v":221}]
[null,"Antal 0-17-årige",null,{"$f":"IF('Dine valg'!$G$24=\"\",\"-\",SUMIF(Hjælpefane!$D$7:$D$111,\"=\"&D$9,Hjælpefane!$C$7:$C$111))","v":62903},{"$f":"IF('Dine valg'!$G$24=\"\",\"-\",SUMIF(Hjælpefane!$D$7:$D$111,\"=\"&E$9,Hjælpefane!$C$7:$C$111))","v":63077},{"$f":"IF('Dine valg'!$G$24=\"\",\"-\",SUMIF(Hjælpefane!$D$7:$D$111,\"=\"&F$9,Hjælpefane!$C$7:$C$111))","v":63245},{"$f":"IF('Dine valg'!$G$24=\"\",\"-\",SUMIF(Hjælpefane!$D$7:$D$111,\"=\"&G$9,Hjælpefane!$C$7:$C$111))","v":63510},{"$f":"IF('Dine valg'!$G$24=\"\",\"-\",SUMIF(Hjælpefane!$D$7:$D$111,\"=\"&H$9,Hjælpefane!$C$7:$C$111))","v":63607},{"$f":"IF('Dine valg'!$G$24=\"\",\"-\",SUMIF(Hjælpefane!$D$7:$D$111,\"=\"&I$9,Hjælpefane!$C$7:$C$111))","v":63704},{"$f":"IF('Dine valg'!$G$24=\"\",\"-\",SUMIF(Hjælpefane!$D$7:$D$111,\"=\"&J$9,Hjælpefane!$C$7:$C$111))","v":63890},{"$f":"IF('Dine valg'!$G$24=\"\",\"-\",SUMIF(Hjælpefane!$D$7:$D$111,\"=\"&K$9,Hjælpefane!$C$7:$C$111))","v":64128},{"$f":"IF('Dine valg'!$G$24=\"\",\"-\",SUMIF(Hjælpefane!$D$7:$D$111,\"=\"&L$9,Hjælpefane!$C$7:$C$111))","v":64334},{"$f":"IF('Dine valg'!$G$24=\"\",\"-\",SUMIF(Hjælpefane!$D$7:$D$111,\"=\"&M$9,Hjælpefane!$C$7:$C$111))","v":64307},{"$f":"IF('Dine valg'!$G$24=\"\",\"-\",SUMIF(Hjælpefane!$D$7:$D$111,\"=\"&N$9,Hjælpefane!$C$7:$C$111))","v":64049},{"$f":"IF('Dine valg'!$G$24=\"\",\"-\",SUMIF(Hjælpefane!$D$7:$D$111,\"=\"&O$9,Hjælpefane!$C$7:$C$111))","v":64356},{"$f":"IF('Dine valg'!$G$24=\"\",\"-\",SUMIF(Hjælpefane!$D$7:$D$111,\"=\"&P$9,Hjælpefane!$C$7:$C$111))","v":64420},{"$f":"IF('Dine valg'!$G$24=\"\",\"-\",SUMIF(Hjælpefane!$D$7:$D$111,\"=\"&Q$9,Hjælpefane!$C$7:$C$111))","v":64601},{"$f":"IF('Dine valg'!$G$24=\"\",\"-\",SUMIF(Hjælpefane!$D$7:$D$111,\"=\"&R$9,Hjælpefane!$C$7:$C$111))","v":64665}]
[null,"Andel",null,{"$f":"IFERROR(IF(D162=\"*\",\"*\",IF(D163=\"\",\"Indtast data\",(D162/D163*1000))),\"-\")","v":3.6246283961019348},{"$f":"IFERROR(IF(E162=\"*\",\"*\",IF(E163=\"\",\"Indtast data\",(E162/E163*1000))),\"-\")","v":3.8524343262996021},3.8580124911060163,4.0151157298063298,3.9775496407628097,3.9557955544392818,3.8816716231022066,3.8672654690618762,3.7616190505797866,{"$f":"IFERROR(IF(M162=\"*\",\"*\",IF(M163=\"\",\"Indtast data\",(M162/M163*1000))),\"-\")","v":3.6076943412070226},3.6066136863963529,3.5738703461992665,3.4306116113008382,3.482918221080169,3.4176138560272173]
[null,"Hele landet"]
[null,"Antal anbragte",null,{"$f":"INDEX(Data_land,MATCH(Skyggetabeller!D156,Data!landaar,0),12)","v":6754},{"$f":"INDEX(Data_land,MATCH(Skyggetabeller!E156,Data!landaar,0),12)","v":6801},{"$f":"INDEX(Data_land,MATCH(Skyggetabeller!F156,Data!landaar,0),12)","v":6761},{"$f":"INDEX(Data_land,MATCH(Skyggetabeller!G156,Data!landaar,0),12)","v":6807},{"$f":"INDEX(Data_land,MATCH(Skyggetabeller!H156,Data!landaar,0),12)","v":6779},{"$f":"INDEX(Data_land,MATCH(Skyggetabeller!I156,Data!landaar,0),12)","v":6771},{"$f":"INDEX(Data_land,MATCH(Skyggetabeller!J156,Data!landaar,0),12)","v":6665},{"$f":"INDEX(Data_land,MATCH(Skyggetabeller!K156,Data!landaar,0),12)","v":6603},{"$f":"INDEX(Data_land,MATCH(Skyggetabeller!L156,Data!landaar,0),12)","v":6547},{"$f":"INDEX(Data_land,MATCH(Skyggetabeller!M156,Data!landaar,0),12)","v":6540},{"$f":"INDEX(Data_land,MATCH(Skyggetabeller!N156,Data!landaar,0),12)","v":6449},{"$f":"INDEX(Data_land,MATCH(Skyggetabeller!O156,Data!landaar,0),12)","v":6384},{"$f":"INDEX(Data_land,MATCH(Skyggetabeller!P156,Data!landaar,0),12)","v":6297},{"$f":"INDEX(Data_land,MATCH(Skyggetabeller!Q156,Data!landaar,0),12)","v":6295},{"$f":"INDEX(Data_land,MATCH(Skyggetabeller!R156,Data!landaar,0),12)","v":6187}]
[null,"Antal 0-17-årige",null,{"$f":"INDEX(Data_land,MATCH(Skyggetabeller!D156,Data!landaar,0),2)","v":1168201},{"$f":"INDEX(Data_land,MATCH(Skyggetabeller!E156,Data!landaar,0),2)","v":1165363},{"$f":"INDEX(Data_land,MATCH(Skyggetabeller!F156,Data!landaar,0),2)","v":1165475},{"$f":"INDEX(Data_land,MATCH(Skyggetabeller!G156,Data!landaar,0),2)","v":1162195},{"$f":"INDEX(Data_land,MATCH(Skyggetabeller!H156,Data!landaar,0),2)","v":1160360},{"$f":"INDEX(Data_land,MATCH(Skyggetabeller!I156,Data!landaar,0),2)","v":1156537},{"$f":"INDEX(Data_land,MATCH(Skyggetabeller!J156,Data!landaar,0),2)","v":1156116},{"$f":"INDEX(Data_land,MATCH(Skyggetabeller!K156,Data!landaar,0),2)","v":1153027},{"$f":"INDEX(Data_land,MATCH(Skyggetabeller!L156,Data!landaar,0),2)","v":1152972},{"$f":"INDEX(Data_land,MATCH(Skyggetabeller!M156,Data!landaar,0),2)","v":1151374},{"$f":"INDEX(Data_land,MATCH(Skyggetabeller!N156,Data!landaar,0),2)","v":1151704},{"$f":"INDEX(Data_land,MATCH(Skyggetabeller!O156,Data!landaar,0),2)","v":1157254},{"$f":"INDEX(Data_land,MATCH(Skyggetabeller!P156,Data!landaar,0),2)","v":1155814},{"$f":"INDEX(Data_land,MATCH(Skyggetabeller!Q156,Data!landaar,0),2)","v":1151415},{"$f":"INDEX(Data_land,MATCH(Skyggetabeller!R156,Data!landaar,0),2)","v":1148490}]
[null,"Andel",null,{"$f":"IFERROR(IF(D166=\"*\",\"*\",IF(D167=0,\"#I/T\",(D166/D167*1000))),\"Data ikke tilføjet\")","v":5.7815393070199397},5.8359498285083706,5.8010682339818525,5.8570205516286,5.8421524354510677,5.8545468065440183,5.7649924402049617,5.7266655507633386,5.6783685987170545,{"$f":"IFERROR(IF(M166=\"*\",\"*\",IF(M167=0,\"#I/T\",(M166/M167*1000))),\"Data ikke tilføjet\")","v":5.6801699534642962},5.5995290456575653,5.5165071799276566,5.4481084326716926,5.4671860276268767,5.3870734616757652]
[]
[]
[null,"Nøgletal 4: Anbragte i netværksplejefamilie"]
[]
[null,"Tabel 4: Anbragte i netværksplejefamilie"]
[null,"Nøgletal 4: \nAnbragte i netværksplejefamilie",null,"2017-01-01","2017-07-01","2018-01-01","2018-07-01","2019-01-01","2019-07-01","2020-01-01","2020-07-01","2021-01-01","2021-07-01","2022-01-01","2022-07-01","2023-01-01","2023-07-01","2024-01-01"]
[null,{"$f":"IF(Kommune=\"\",\"Kommune\",Kommune)","v":"København"}]
[null,"Antal anbragte",null,{"$f":"IFERROR(IF(INDEX(Data_kom2,MATCH(1,(komnavn2=Kommune)*(komaar2=D174),0),13)=\"*\",\"*\",INDEX(Data_kom2,MATCH(1,(komnavn2=Kommune)*(komaar2=D174),0),13)),\"Data ikke tilføjet\")","v":106},{"$f":"IFERROR(IF(INDEX(Data_kom2,MATCH(1,(komnavn2=Kommune)*(komaar2=E174),0),13)=\"*\",\"*\",INDEX(Data_kom2,MATCH(1,(komnavn2=Kommune)*(komaar2=E174),0),13)),\"Data ikke tilføjet\")","v":113},{"$f":"IFERROR(IF(INDEX(Data_kom2,MATCH(1,(komnavn2=Kommune)*(komaar2=F174),0),13)=\"*\",\"*\",INDEX(Data_kom2,MATCH(1,(komnavn2=Kommune)*(komaar2=F174),0),13)),\"Data ikke tilføjet\")","v":111},{"$f":"IFERROR(IF(INDEX(Data_kom2,MATCH(1,(komnavn2=Kommune)*(komaar2=G174),0),13)=\"*\",\"*\",INDEX(Data_kom2,MATCH(1,(komnavn2=Kommune)*(komaar2=G174),0),13)),\"Data ikke tilføjet\")","v":108},{"$f":"IFERROR(IF(INDEX(Data_kom2,MATCH(1,(komnavn2=Kommune)*(komaar2=H174),0),13)=\"*\",\"*\",INDEX(Data_kom2,MATCH(1,(komnavn2=Kommune)*(komaar2=H174),0),13)),\"Data ikke tilføjet\")","v":113},{"$f":"IFERROR(IF(INDEX(Data_kom2,MATCH(1,(komnavn2=Kommune)*(komaar2=I174),0),13)=\"*\",\"*\",INDEX(Data_kom2,MATCH(1,(komnavn2=Kommune)*(komaar2=I174),0),13)),\"Data ikke tilføjet\")","v":108},{"$f":"IFERROR(IF(INDEX(Data_kom2,MATCH(1,(komnavn2=Kommune)*(komaar2=J174),0),13)=\"*\",\"*\",INDEX(Data_kom2,MATCH(1,(komnavn2=Kommune)*(komaar2=J174),0),13)),\"Data ikke tilføjet\")","v":109},{"$f":"IFERROR(IF(INDEX(Data_kom2,MATCH(1,(komnavn2=Kommune)*(komaar2=K174),0),13)=\"*\",\"*\",INDEX(Data_kom2,MATCH(1,(komnavn2=Kommune)*(komaar2=K174),0),13)),\"Data ikke tilføjet\")","v":109},{"$f":"IFERROR(IF(INDEX(Data_kom2,MATCH(1,(komnavn2=Kommune)*(komaar2=L174),0),13)=\"*\",\"*\",INDEX(Data_kom2,MATCH(1,(komnavn2=Kommune)*(komaar2=L174),0),13)),\"Data ikke tilføjet\")","v":116},{"$f":"IFERROR(IF(INDEX(Data_kom2,MATCH(1,(komnavn2=Kommune)*(komaar2=M174),0),13)=\"*\",\"*\",INDEX(Data_kom2,MATCH(1,(komnavn2=Kommune)*(komaar2=M174),0),13)),\"Data ikke tilføjet\")","v":114},{"$f":"IFERROR(IF(INDEX(Data_kom2,MATCH(1,(komnavn2=Kommune)*(komaar2=N174),0),13)=\"*\",\"*\",INDEX(Data_kom2,MATCH(1,(komnavn2=Kommune)*(komaar2=N174),0),13)),\"Data ikke tilføjet\")","v":113},{"$f":"IFERROR(IF(INDEX(Data_kom2,MATCH(1,(komnavn2=Kommune)*(komaar2=O174),0),13)=\"*\",\"*\",INDEX(Data_kom2,MATCH(1,(komnavn2=Kommune)*(komaar2=O174),0),13)),\"Data ikke tilføjet\")","v":112},{"$f":"IFERROR(IF(INDEX(Data_kom2,MATCH(1,(komnavn2=Kommune)*(komaar2=P174),0),13)=\"*\",\"*\",INDEX(Data_kom2,MATCH(1,(komnavn2=Kommune)*(komaar2=P174),0),13)),\"Data ikke tilføjet\")","v":113},{"$f":"IFERROR(IF(INDEX(Data_kom2,MATCH(1,(komnavn2=Kommune)*(komaar2=Q174),0),13)=\"*\",\"*\",INDEX(Data_kom2,MATCH(1,(komnavn2=Kommune)*(komaar2=Q174),0),13)),\"Data ikke tilføjet\")","v":107},{"$f":"IFERROR(IF(INDEX(Data_kom2,MATCH(1,(komnavn2=Kommune)*(komaar2=R174),0),13)=\"*\",\"*\",INDEX(Data_kom2,MATCH(1,(komnavn2=Kommune)*(komaar2=R174),0),13)),\"Data ikke tilføjet\")","v":118}]
[null,"Antal 0-17-årige",null,{"$f":"IFERROR(INDEX(Data_kom2,MATCH(1,(komnavn2=Kommune)*(komaar2=D174),0),2),\"Data ikke tilføjet\")","v":105885},{"$f":"IFERROR(INDEX(Data_kom2,MATCH(1,(komnavn2=Kommune)*(komaar2=E174),0),2),\"Data ikke tilføjet\")","v":106913},{"$f":"IFERROR(INDEX(Data_kom2,MATCH(1,(komnavn2=Kommune)*(komaar2=F174),0),2),\"Data ikke tilføjet\")","v":107770},{"$f":"IFERROR(INDEX(Data_kom2,MATCH(1,(komnavn2=Kommune)*(komaar2=G174),0),2),\"Data ikke tilføjet\")","v":108734},{"$f":"IFERROR(INDEX(Data_kom2,MATCH(1,(komnavn2=Kommune)*(komaar2=H174),0),2),\"Data ikke tilføjet\")","v":109335},{"$f":"IFERROR(INDEX(Data_kom2,MATCH(1,(komnavn2=Kommune)*(komaar2=I174),0),2),\"Data ikke tilføjet\")","v":110138},{"$f":"IFERROR(INDEX(Data_kom2,MATCH(1,(komnavn2=Kommune)*(komaar2=J174),0),2),\"Data ikke tilføjet\")","v":110822},{"$f":"IFERROR(INDEX(Data_kom2,MATCH(1,(komnavn2=Kommune)*(komaar2=K174),0),2),\"Data ikke tilføjet\")","v":111068},{"$f":"IFERROR(INDEX(Data_kom2,MATCH(1,(komnavn2=Kommune)*(komaar2=L174),0),2),\"Data ikke tilføjet\")","v":110927},{"$f":"IFERROR(INDEX(Data_kom2,MATCH(1,(komnavn2=Kommune)*(komaar2=M174),0),2),\"Data ikke tilføjet\")","v":110614},{"$f":"IFERROR(INDEX(Data_kom2,MATCH(1,(komnavn2=Kommune)*(komaar2=N174),0),2),\"Data ikke tilføjet\")","v":110513},{"$f":"IFERROR(INDEX(Data_kom2,MATCH(1,(komnavn2=Kommune)*(komaar2=O174),0),2),\"Data ikke tilføjet\")","v":110692},{"$f":"IFERROR(INDEX(Data_kom2,MATCH(1,(komnavn2=Kommune)*(komaar2=P174),0),2),\"Data ikke tilføjet\")","v":110835},{"$f":"IFERROR(INDEX(Data_kom2,MATCH(1,(komnavn2=Kommune)*(komaar2=Q174),0),2),\"Data ikke tilføjet\")","v":111075},{"$f":"IFERROR(INDEX(Data_kom2,MATCH(1,(komnavn2=Kommune)*(komaar2=R174),0),2),\"Data ikke tilføjet\")","v":110571}]
[null,"Andel",null,{"$f":"IFERROR(IF(D176=\"*\",\"*\",IF(D177=0,\"#I/T\",(D176/D177*1000))),\"Data ikke tilføjet\")","v":1.0010860839590121},1.0569341427141694,1.02997123503758,0.99324958154762999,1.0335208304751453,0.98058798961303084,0.98355922109328464,0.98138077574098748,1.0457327792151596,{"$f":"IFERROR(IF(M176=\"*\",\"*\",IF(M177=0,\"#I/T\",(M176/M177*1000))),\"Data ikke tilføjet\")","v":1.0306109534055363},1.0225041397844596,1.011816572109999,1.0195335408490098,0.96331307674994371,1.0671875989183421]
[null,"Sammenligningsgruppe, gns."]
[null,"Antal anbragte",null,{"$f":"IF('Dine valg'!$G$24=\"\",\"-\",SUMIF(Hjælpefane!$D$7:$D$111,\"=\"&D$9,Hjælpefane!$N$7:$N$111))","v":41},{"$f":"IF('Dine valg'!$G$24=\"\",\"-\",SUMIF(Hjælpefane!$D$7:$D$111,\"=\"&E$9,Hjælpefane!$N$7:$N$111))","v":35},{"$f":"IF('Dine valg'!$G$24=\"\",\"-\",SUMIF(Hjælpefane!$D$7:$D$111,\"=\"&F$9,Hjælpefane!$N$7:$N$111))","v":31},{"$f":"IF('Dine valg'!$G$24=\"\",\"-\",SUMIF(Hjælpefane!$D$7:$D$111,\"=\"&G$9,Hjælpefane!$N$7:$N$111))","v":25},{"$f":"IF('Dine valg'!$G$24=\"\",\"-\",SUMIF(Hjælpefane!$D$7:$D$111,\"=\"&H$9,Hjælpefane!$N$7:$N$111))","v":23},{"$f":"IF('Dine valg'!$G$24=\"\",\"-\",SUMIF(Hjælpefane!$D$7:$D$111,\"=\"&I$9,Hjælpefane!$N$7:$N$111))","v":23},{"$f":"IF('Dine valg'!$G$24=\"\",\"-\",SUMIF(Hjælpefane!$D$7:$D$111,\"=\"&J$9,Hjælpefane!$N$7:$N$111))","v":22},{"$f":"IF('Dine valg'!$G$24=\"\",\"-\",SUMIF(Hjælpefane!$D$7:$D$111,\"=\"&K$9,Hjælpefane!$N$7:$N$111))","v":24},{"$f":"IF('Dine valg'!$G$24=\"\",\"-\",SUMIF(Hjælpefane!$D$7:$D$111,\"=\"&L$9,Hjælpefane!$N$7:$N$111))","v":26},{"$f":"IF('Dine valg'!$G$24=\"\",\"-\",SUMIF(Hjælpefane!$D$7:$D$111,\"=\"&M$9,Hjælpefane!$N$7:$N$111))","v":25},{"$f":"IF('Dine valg'!$G$24=\"\",\"-\",SUMIF(Hjælpefane!$D$7:$D$111,\"=\"&N$9,Hjælpefane!$N$7:$N$111))","v":22},{"$f":"IF('Dine valg'!$G$24=\"\",\"-\",SUMIF(Hjælpefane!$D$7:$D$111,\"=\"&O$9,Hjælpefane!$N$7:$N$111))","v":22},{"$f":"IF('Dine valg'!$G$24=\"\",\"-\",SUMIF(Hjælpefane!$D$7:$D$111,\"=\"&P$9,Hjælpefane!$N$7:$N$111))","v":25},{"$f":"IF('Dine valg'!$G$24=\"\",\"-\",SUMIF(Hjælpefane!$D$7:$D$111,\"=\"&Q$9,Hjælpefane!$N$7:$N$111))","v":26},{"$f":"IF('Dine valg'!$G$24=\"\",\"-\",SUMIF(Hjælpefane!$D$7:$D$111,\"=\"&R$9,Hjælpefane!$N$7:$N$111))","v":27}]
[null,"Antal 0-17-årige",null,{"$f":"IF('Dine valg'!$G$24=\"\",\"-\",SUMIF(Hjælpefane!$D$7:$D$111,\"=\"&D$9,Hjælpefane!$C$7:$C$111))","v":62903},{"$f":"IF('Dine valg'!$G$24=\"\",\"-\",SUMIF(Hjælpefane!$D$7:$D$111,\"=\"&E$9,Hjælpefane!$C$7:$C$111))","v":63077},{"$f":"IF('Dine valg'!$G$24=\"\",\"-\",SUMIF(Hjælpefane!$D$7:$D$111,\"=\"&F$9,Hjælpefane!$C$7:$C$111))","v":63245},{"$f":"IF('Dine valg'!$G$24=\"\",\"-\",SUMIF(Hjælpefane!$D$7:$D$111,\"=\"&G$9,Hjælpefane!$C$7:$C$111))","v":63510},{"$f":"IF('Dine valg'!$G$24=\"\",\"-\",SUMIF(Hjælpefane!$D$7:$D$111,\"=\"&H$9,Hjælpefane!$C$7:$C$111))","v":63607},{"$f":"IF('Dine valg'!$G$24=\"\",\"-\",SUMIF(Hjælpefane!$D$7:$D$111,\"=\"&I$9,Hjælpefane!$C$7:$C$111))","v":63704},{"$f":"IF('Dine valg'!$G$24=\"\",\"-\",SUMIF(Hjælpefane!$D$7:$D$111,\"=\"&J$9,Hjælpefane!$C$7:$C$111))","v":63890},{"$f":"IF('Dine valg'!$G$24=\"\",\"-\",SUMIF(Hjælpefane!$D$7:$D$111,\"=\"&K$9,Hjælpefane!$C$7:$C$111))","v":64128},{"$f":"IF('Dine valg'!$G$24=\"\",\"-\",SUMIF(Hjælpefane!$D$7:$D$111,\"=\"&L$9,Hjælpefane!$C$7:$C$111))","v":64334},{"$f":"IF('Dine valg'!$G$24=\"\",\"-\",SUMIF(Hjælpefane!$D$7:$D$111,\"=\"&M$9,Hjælpefane!$C$7:$C$111))","v":64307},{"$f":"IF('Dine valg'!$G$24=\"\",\"-\",SUMIF(Hjælpefane!$D$7:$D$111,\"=\"&N$9,Hjælpefane!$C$7:$C$111))","v":64049},{"$f":"IF('Dine valg'!$G$24=\"\",\"-\",SUMIF(Hjælpefane!$D$7:$D$111,\"=\"&O$9,Hjælpefane!$C$7:$C$111))","v":64356},{"$f":"IF('Dine valg'!$G$24=\"\",\"-\",SUMIF(Hjælpefane!$D$7:$D$111,\"=\"&P$9,Hjælpefane!$C$7:$C$111))","v":64420},{"$f":"IF('Dine valg'!$G$24=\"\",\"-\",SUMIF(Hjælpefane!$D$7:$D$111,\"=\"&Q$9,Hjælpefane!$C$7:$C$111))","v":64601},{"$f":"IF('Dine valg'!$G$24=\"\",\"-\",SUMIF(Hjælpefane!$D$7:$D$111,\"=\"&R$9,Hjælpefane!$C$7:$C$111))","v":64665}]
[null,"Andel",null,{"$f":"IFERROR(IF(D180=\"*\",\"*\",IF(D181=\"\",\"Indtast data\",(D180/D181*1000))),\"-\")","v":0.6517972115797338},{"$f":"IFERROR(IF(E180=\"*\",\"*\",IF(E181=\"\",\"Indtast data\",(E180/E181*1000))),\"-\")","v":0.55487737210076571},{"$f":"IFERROR(IF(F180=\"*\",\"*\",IF(F181=\"\",\"Indtast data\",(F180/F181*1000))),\"-\")","v":0.4901573246896988},{"$f":"IFERROR(IF(G180=\"*\",\"*\",IF(G181=\"\",\"Indtast data\",(G180/G181*1000))),\"-\")","v":0.39363879703983623},{"$f":"IFERROR(IF(H180=\"*\",\"*\",IF(H181=\"\",\"Indtast data\",(H180/H181*1000))),\"-\")","v":0.36159542188752808},{"$f":"IFERROR(IF(I180=\"*\",\"*\",IF(I181=\"\",\"Indtast data\",(I180/I181*1000))),\"-\")","v":0.36104483234961698},{"$f":"IFERROR(IF(J180=\"*\",\"*\",IF(J181=\"\",\"Indtast data\",(J180/J181*1000))),\"-\")","v":0.34434183753326031},{"$f":"IFERROR(IF(K180=\"*\",\"*\",IF(K181=\"\",\"Indtast data\",(K180/K181*1000))),\"-\")","v":0.37425149700598803},{"$f":"IFERROR(IF(L180=\"*\",\"*\",IF(L181=\"\",\"Indtast data\",(L180/L181*1000))),\"-\")","v":0.40414088973171264},0.38876016607834296,0.34348701775203361,0.34184846789732115,0.38807823657249302,0.40247054999148618,0.41753653444676414]
[null,"Hele landet"]
[null,"Antal anbragte",null,{"$f":"INDEX(Data_land,MATCH(Skyggetabeller!D174,Data!landaar,0),13)","v":955},{"$f":"INDEX(Data_land,MATCH(Skyggetabeller!E174,Data!landaar,0),13)","v":1000},{"$f":"INDEX(Data_land,MATCH(Skyggetabeller!F174,Data!landaar,0),13)","v":965},{"$f":"INDEX(Data_land,MATCH(Skyggetabeller!G174,Data!landaar,0),13)","v":944},{"$f":"INDEX(Data_land,MATCH(Skyggetabeller!H174,Data!landaar,0),13)","v":944},{"$f":"INDEX(Data_land,MATCH(Skyggetabeller!I174,Data!landaar,0),13)","v":917},{"$f":"INDEX(Data_land,MATCH(Skyggetabeller!J174,Data!landaar,0),13)","v":899},{"$f":"INDEX(Data_land,MATCH(Skyggetabeller!K174,Data!landaar,0),13)","v":922},{"$f":"INDEX(Data_land,MATCH(Skyggetabeller!L174,Data!landaar,0),13)","v":947},{"$f":"INDEX(Data_land,MATCH(Skyggetabeller!M174,Data!landaar,0),13)","v":952},{"$f":"INDEX(Data_land,MATCH(Skyggetabeller!N174,Data!landaar,0),13)","v":935},{"$f":"INDEX(Data_land,MATCH(Skyggetabeller!O174,Data!landaar,0),13)","v":963},{"$f":"INDEX(Data_land,MATCH(Skyggetabeller!P174,Data!landaar,0),13)","v":1006},{"$f":"INDEX(Data_land,MATCH(Skyggetabeller!Q174,Data!landaar,0),13)","v":1009},{"$f":"INDEX(Data_land,MATCH(Skyggetabeller!R174,Data!landaar,0),13)","v":1030}]
[null,"Antal 0-17-årige",null,{"$f":"INDEX(Data_land,MATCH(Skyggetabeller!D174,Data!landaar,0),2)","v":1168201},{"$f":"INDEX(Data_land,MATCH(Skyggetabeller!E174,Data!landaar,0),2)","v":1165363},{"$f":"INDEX(Data_land,MATCH(Skyggetabeller!F174,Data!landaar,0),2)","v":1165475},{"$f":"INDEX(Data_land,MATCH(Skyggetabeller!G174,Data!landaar,0),2)","v":1162195},{"$f":"INDEX(Data_land,MATCH(Skyggetabeller!H174,Data!landaar,0),2)","v":1160360},{"$f":"INDEX(Data_land,MATCH(Skyggetabeller!I174,Data!landaar,0),2)","v":1156537},{"$f":"INDEX(Data_land,MATCH(Skyggetabeller!J174,Data!landaar,0),2)","v":1156116},{"$f":"INDEX(Data_land,MATCH(Skyggetabeller!K174,Data!landaar,0),2)","v":1153027},{"$f":"INDEX(Data_land,MATCH(Skyggetabeller!L174,Data!landaar,0),2)","v":1152972},{"$f":"INDEX(Data_land,MATCH(Skyggetabeller!M174,Data!landaar,0),2)","v":1151374},{"$f":"INDEX(Data_land,MATCH(Skyggetabeller!N174,Data!landaar,0),2)","v":1151704},{"$f":"INDEX(Data_land,MATCH(Skyggetabeller!O174,Data!landaar,0),2)","v":1157254},{"$f":"INDEX(Data_land,MATCH(Skyggetabeller!P174,Data!landaar,0),2)","v":1155814},{"$f":"INDEX(Data_land,MATCH(Skyggetabeller!Q174,Data!landaar,0),2)","v":1151415},{"$f":"INDEX(Data_land,MATCH(Skyggetabeller!R174,Data!landaar,0),2)","v":1148490}]
[null,"Andel",null,{"$f":"IFERROR(IF(D184=\"*\",\"*\",IF(D185=0,\"#I/T\",(D184/D185*1000))),\"Data ikke tilføjet\")","v":0.81749630414628993},0.85810172452703581,0.82798858834380828,0.81225611880966619,0.81354062532317561,0.79288427434660547,0.77760363146950651,0.79963435374887148,0.8213555923300826,{"$f":"IFERROR(IF(M184=\"*\",\"*\",IF(M185=0,\"#I/T\",(M184/M185*1000))),\"Data ikke tilføjet\")","v":0.82683819506085776},0.81184054236157899,0.83214229546841056,0.87038225873713249,0.87631305828046357,0.89682975036787427]
[]
[]
[null,"Nøgletal 5: Hjemmebaserede foranstaltninger"]
[]
[null,"Tabel 5: Modtagere af hjemmebaserede foranstaltninger"]
[null,"Nøgletal 5: \nModtagere af hjemmebaserede foranstaltninger",null,"2017-01-01","2017-07-01","2018-01-01","2018-07-01","2019-01-01","2019-07-01","2020-01-01","2020-07-01","2021-01-01","2021-07-01","2022-01-01","2022-07-01","2023-01-01","2023-07-01","2024-01-01"]
[null,{"$f":"IF(Kommune=\"\",\"Kommune\",Kommune)","v":"København"}]
[null,"Antal modtagere",null,{"$f":"IFERROR(IF(INDEX(Data_kom2,MATCH(1,(komnavn2=Kommune)*(komaar2=D192),0),14)=\"*\",\"*\",INDEX(Data_kom2,MATCH(1,(komnavn2=Kommune)*(komaar2=D192),0),14)),\"Data ikke tilføjet\")","v":1925},{"$f":"IFERROR(IF(INDEX(Data_kom2,MATCH(1,(komnavn2=Kommune)*(komaar2=E192),0),14)=\"*\",\"*\",INDEX(Data_kom2,MATCH(1,(komnavn2=Kommune)*(komaar2=E192),0),14)),\"Data ikke tilføjet\")","v":1657},{"$f":"IFERROR(IF(INDEX(Data_kom2,MATCH(1,(komnavn2=Kommune)*(komaar2=F192),0),14)=\"*\",\"*\",INDEX(Data_kom2,MATCH(1,(komnavn2=Kommune)*(komaar2=F192),0),14)),\"Data ikke tilføjet\")","v":1461},{"$f":"IFERROR(IF(INDEX(Data_kom2,MATCH(1,(komnavn2=Kommune)*(komaar2=G192),0),14)=\"*\",\"*\",INDEX(Data_kom2,MATCH(1,(komnavn2=Kommune)*(komaar2=G192),0),14)),\"Data ikke tilføjet\")","v":1940},{"$f":"IFERROR(IF(INDEX(Data_kom2,MATCH(1,(komnavn2=Kommune)*(komaar2=H192),0),14)=\"*\",\"*\",INDEX(Data_kom2,MATCH(1,(komnavn2=Kommune)*(komaar2=H192),0),14)),\"Data ikke tilføjet\")","v":2166},{"$f":"IFERROR(IF(INDEX(Data_kom2,MATCH(1,(komnavn2=Kommune)*(komaar2=I192),0),14)=\"*\",\"*\",INDEX(Data_kom2,MATCH(1,(komnavn2=Kommune)*(komaar2=I192),0),14)),\"Data ikke tilføjet\")","v":2143},{"$f":"IFERROR(IF(INDEX(Data_kom2,MATCH(1,(komnavn2=Kommune)*(komaar2=J192),0),14)=\"*\",\"*\",INDEX(Data_kom2,MATCH(1,(komnavn2=Kommune)*(komaar2=J192),0),14)),\"Data ikke tilføjet\")","v":2113},{"$f":"IFERROR(IF(INDEX(Data_kom2,MATCH(1,(komnavn2=Kommune)*(komaar2=K192),0),14)=\"*\",\"*\",INDEX(Data_kom2,MATCH(1,(komnavn2=Kommune)*(komaar2=K192),0),14)),\"Data ikke tilføjet\")","v":2108},{"$f":"IFERROR(IF(INDEX(Data_kom2,MATCH(1,(komnavn2=Kommune)*(komaar2=L192),0),14)=\"*\",\"*\",INDEX(Data_kom2,MATCH(1,(komnavn2=Kommune)*(komaar2=L192),0),14)),\"Data ikke tilføjet\")","v":2035},{"$f":"IFERROR(IF(INDEX(Data_kom2,MATCH(1,(komnavn2=Kommune)*(komaar2=M192),0),14)=\"*\",\"*\",INDEX(Data_kom2,MATCH(1,(komnavn2=Kommune)*(komaar2=M192),0),14)),\"Data ikke tilføjet\")","v":2297},{"$f":"IFERROR(IF(INDEX(Data_kom2,MATCH(1,(komnavn2=Kommune)*(komaar2=N192),0),14)=\"*\",\"*\",INDEX(Data_kom2,MATCH(1,(komnavn2=Kommune)*(komaar2=N192),0),14)),\"Data ikke tilføjet\")","v":2306},{"$f":"IFERROR(IF(INDEX(Data_kom2,MATCH(1,(komnavn2=Kommune)*(komaar2=O192),0),14)=\"*\",\"*\",INDEX(Data_kom2,MATCH(1,(komnavn2=Kommune)*(komaar2=O192),0),14)),\"Data ikke tilføjet\")","v":2428},{"$f":"IFERROR(IF(INDEX(Data_kom2,MATCH(1,(komnavn2=Kommune)*(komaar2=P192),0),14)=\"*\",\"*\",INDEX(Data_kom2,MATCH(1,(komnavn2=Kommune)*(komaar2=P192),0),14)),\"Data ikke tilføjet\")","v":2458},{"$f":"IFERROR(IF(INDEX(Data_kom2,MATCH(1,(komnavn2=Kommune)*(komaar2=Q192),0),14)=\"*\",\"*\",INDEX(Data_kom2,MATCH(1,(komnavn2=Kommune)*(komaar2=Q192),0),14)),\"Data ikke tilføjet\")","v":2428},{"$f":"IFERROR(IF(INDEX(Data_kom2,MATCH(1,(komnavn2=Kommune)*(komaar2=R192),0),14)=\"*\",\"*\",INDEX(Data_kom2,MATCH(1,(komnavn2=Kommune)*(komaar2=R192),0),14)),\"Data ikke tilføjet\")","v":2405}]
[null,"Antal 0-17-årige",null,{"$f":"IFERROR(INDEX(Data_kom2,MATCH(1,(komnavn2=Kommune)*(komaar2=D192),0),2),\"Data ikke tilføjet\")","v":105885},{"$f":"IFERROR(INDEX(Data_kom2,MATCH(1,(komnavn2=Kommune)*(komaar2=E192),0),2),\"Data ikke tilføjet\")","v":106913},{"$f":"IFERROR(INDEX(Data_kom2,MATCH(1,(komnavn2=Kommune)*(komaar2=F192),0),2),\"Data ikke tilføjet\")","v":107770},{"$f":"IFERROR(INDEX(Data_kom2,MATCH(1,(komnavn2=Kommune)*(komaar2=G192),0),2),\"Data ikke tilføjet\")","v":108734},{"$f":"IFERROR(INDEX(Data_kom2,MATCH(1,(komnavn2=Kommune)*(komaar2=H192),0),2),\"Data ikke tilføjet\")","v":109335},{"$f":"IFERROR(INDEX(Data_kom2,MATCH(1,(komnavn2=Kommune)*(komaar2=I192),0),2),\"Data ikke tilføjet\")","v":110138},{"$f":"IFERROR(INDEX(Data_kom2,MATCH(1,(komnavn2=Kommune)*(komaar2=J192),0),2),\"Data ikke tilføjet\")","v":110822},{"$f":"IFERROR(INDEX(Data_kom2,MATCH(1,(komnavn2=Kommune)*(komaar2=K192),0),2),\"Data ikke tilføjet\")","v":111068},{"$f":"IFERROR(INDEX(Data_kom2,MATCH(1,(komnavn2=Kommune)*(komaar2=L192),0),2),\"Data ikke tilføjet\")","v":110927},{"$f":"IFERROR(INDEX(Data_kom2,MATCH(1,(komnavn2=Kommune)*(komaar2=M192),0),2),\"Data ikke tilføjet\")","v":110614},{"$f":"IFERROR(INDEX(Data_kom2,MATCH(1,(komnavn2=Kommune)*(komaar2=N192),0),2),\"Data ikke tilføjet\")","v":110513},{"$f":"IFERROR(INDEX(Data_kom2,MATCH(1,(komnavn2=Kommune)*(komaar2=O192),0),2),\"Data ikke tilføjet\")","v":110692},{"$f":"IFERROR(INDEX(Data_kom2,MATCH(1,(komnavn2=Kommune)*(komaar2=P192),0),2),\"Data ikke tilføjet\")","v":110835},{"$f":"IFERROR(INDEX(Data_kom2,MATCH(1,(komnavn2=Kommune)*(komaar2=Q192),0),2),\"Data ikke tilføjet\")","v":111075},{"$f":"IFERROR(INDEX(Data_kom2,MATCH(1,(komnavn2=Kommune)*(komaar2=R192),0),2),\"Data ikke tilføjet\")","v":110571}]
[null,"Andel",null,{"$f":"IFERROR(IF(D194=\"*\",\"*\",IF(D195=0,\"#I/T\",(D194/D195*1000))),\"Data ikke tilføjet\")","v":18.18010105302923},15.498582959976803,13.556648417927068,17.841705446318542,19.810673617780218,19.457407979080788,19.066611322661565,18.979363993229374,18.345398325024565,{"$f":"IFERROR(IF(M194=\"*\",\"*\",IF(M195=0,\"#I/T\",(M194/M195*1000))),\"Data ikke tilføjet\")","v":20.76590666642559},20.866323418964285,21.934737831098904,22.177110118644833,21.859104208867883,21.750730299988241]
[null,"Sammenligningsgruppe, gns."]
[null,"Antal modtagere",null,{"$f":"IF('Dine valg'!$G$24=\"\",\"-\",SUMIF(Hjælpefane!$D$7:$D$111,\"=\"&D$9,Hjælpefane!$O$7:$O$111))","v":1124},{"$f":"IF('Dine valg'!$G$24=\"\",\"-\",SUMIF(Hjælpefane!$D$7:$D$111,\"=\"&E$9,Hjælpefane!$O$7:$O$111))","v":1070},{"$f":"IF('Dine valg'!$G$24=\"\",\"-\",SUMIF(Hjælpefane!$D$7:$D$111,\"=\"&F$9,Hjælpefane!$O$7:$O$111))","v":1155},{"$f":"IF('Dine valg'!$G$24=\"\",\"-\",SUMIF(Hjælpefane!$D$7:$D$111,\"=\"&G$9,Hjælpefane!$O$7:$O$111))","v":1193},{"$f":"IF('Dine valg'!$G$24=\"\",\"-\",SUMIF(Hjælpefane!$D$7:$D$111,\"=\"&H$9,Hjælpefane!$O$7:$O$111))","v":1295},{"$f":"IF('Dine valg'!$G$24=\"\",\"-\",SUMIF(Hjælpefane!$D$7:$D$111,\"=\"&I$9,Hjælpefane!$O$7:$O$111))","v":1286},{"$f":"IF('Dine valg'!$G$24=\"\",\"-\",SUMIF(Hjælpefane!$D$7:$D$111,\"=\"&J$9,Hjælpefane!$O$7:$O$111))","v":1289},{"$f":"IF('Dine valg'!$G$24=\"\",\"-\",SUMIF(Hjælpefane!$D$7:$D$111,\"=\"&K$9,Hjælpefane!$O$7:$O$111))","v":1262},{"$f":"IF('Dine valg'!$G$24=\"\",\"-\",SUMIF(Hjælpefane!$D$7:$D$111,\"=\"&L$9,Hjælpefane!$O$7:$O$111))","v":1246},{"$f":"IF('Dine valg'!$G$24=\"\",\"-\",SUMIF(Hjælpefane!$D$7:$D$111,\"=\"&M$9,Hjælpefane!$O$7:$O$111))","v":1220},{"$f":"IF('Dine valg'!$G$24=\"\",\"-\",SUMIF(Hjælpefane!$D$7:$D$111,\"=\"&N$9,Hjælpefane!$O$7:$O$111))","v":1147},{"$f":"IF('Dine valg'!$G$24=\"\",\"-\",SUMIF(Hjælpefane!$D$7:$D$111,\"=\"&O$9,Hjælpefane!$O$7:$O$111))","v":1115},{"$f":"IF('Dine valg'!$G$24=\"\",\"-\",SUMIF(Hjælpefane!$D$7:$D$111,\"=\"&P$9,Hjælpefane!$O$7:$O$111))","v":1094},{"$f":"IF('Dine valg'!$G$24=\"\",\"-\",SUMIF(Hjælpefane!$D$7:$D$111,\"=\"&Q$9,Hjælpefane!$O$7:$O$111))","v":1062},{"$f":"IF('Dine valg'!$G$24=\"\",\"-\",SUMIF(Hjælpefane!$D$7:$D$111,\"=\"&R$9,Hjælpefane!$O$7:$O$111))","v":1012}]
[null,"Antal 0-17-årige",null,{"$f":"IF('Dine valg'!$G$24=\"\",\"-\",SUMIF(Hjælpefane!$D$7:$D$111,\"=\"&D$9,Hjælpefane!$C$7:$C$111))","v":62903},{"$f":"IF('Dine valg'!$G$24=\"\",\"-\",SUMIF(Hjælpefane!$D$7:$D$111,\"=\"&E$9,Hjælpefane!$C$7:$C$111))","v":63077},{"$f":"IF('Dine valg'!$G$24=\"\",\"-\",SUMIF(Hjælpefane!$D$7:$D$111,\"=\"&F$9,Hjælpefane!$C$7:$C$111))","v":63245},{"$f":"IF('Dine valg'!$G$24=\"\",\"-\",SUMIF(Hjælpefane!$D$7:$D$111,\"=\"&G$9,Hjælpefane!$C$7:$C$111))","v":63510},{"$f":"IF('Dine valg'!$G$24=\"\",\"-\",SUMIF(Hjælpefane!$D$7:$D$111,\"=\"&H$9,Hjælpefane!$C$7:$C$111))","v":63607},{"$f":"IF('Dine valg'!$G$24=\"\",\"-\",SUMIF(Hjælpefane!$D$7:$D$111,\"=\"&I$9,Hjælpefane!$C$7:$C$111))","v":63704},{"$f":"IF('Dine valg'!$G$24=\"\",\"-\",SUMIF(Hjælpefane!$D$7:$D$111,\"=\"&J$9,Hjælpefane!$C$7:$C$111))","v":63890},{"$f":"IF('Dine valg'!$G$24=\"\",\"-\",SUMIF(Hjælpefane!$D$7:$D$111,\"=\"&K$9,Hjælpefane!$C$7:$C$111))","v":64128},{"$f":"IF('Dine valg'!$G$24=\"\",\"-\",SUMIF(Hjælpefane!$D$7:$D$111,\"=\"&L$9,Hjælpefane!$C$7:$C$111))","v":64334},{"$f":"IF('Dine valg'!$G$24=\"\",\"-\",SUMIF(Hjælpefane!$D$7:$D$111,\"=\"&M$9,Hjælpefane!$C$7:$C$111))","v":64307},{"$f":"IF('Dine valg'!$G$24=\"\",\"-\",SUMIF(Hjælpefane!$D$7:$D$111,\"=\"&N$9,Hjælpefane!$C$7:$C$111))","v":64049},{"$f":"IF('Dine valg'!$G$24=\"\",\"-\",SUMIF(Hjælpefane!$D$7:$D$111,\"=\"&O$9,Hjælpefane!$C$7:$C$111))","v":64356},{"$f":"IF('Dine valg'!$G$24=\"\",\"-\",SUMIF(Hjælpefane!$D$7:$D$111,\"=\"&P$9,Hjælpefane!$C$7:$C$111))","v":64420},{"$f":"IF('Dine valg'!$G$24=\"\",\"-\",SUMIF(Hjælpefane!$D$7:$D$111,\"=\"&Q$9,Hjælpefane!$C$7:$C$111))","v":64601},{"$f":"IF('Dine valg'!$G$24=\"\",\"-\",SUMIF(Hjælpefane!$D$7:$D$111,\"=\"&R$9,Hjælpefane!$C$7:$C$111))","v":64665}]
[null,"Andel",null,{"$f":"IFERROR(IF(D198=\"*\",\"*\",IF(D199=\"\",\"Indtast data\",(D198/D199*1000))),\"-\")","v":17.868782093063924},{"$f":"IFERROR(IF(E198=\"*\",\"*\",IF(E199=\"\",\"Indtast data\",(E198/E199*1000))),\"-\")","v":16.963393947080554},{"$f":"IFERROR(IF(F198=\"*\",\"*\",IF(F199=\"\",\"Indtast data\",(F198/F199*1000))),\"-\")","v":18.262313226342002},{"$f":"IFERROR(IF(G198=\"*\",\"*\",IF(G199=\"\",\"Indtast data\",(G198/G199*1000))),\"-\")","v":18.784443394740983},{"$f":"IFERROR(IF(H198=\"*\",\"*\",IF(H199=\"\",\"Indtast data\",(H198/H199*1000))),\"-\")","v":20.359394406276039},{"$f":"IFERROR(IF(I198=\"*\",\"*\",IF(I199=\"\",\"Indtast data\",(I198/I199*1000))),\"-\")","v":20.187115408765539},{"$f":"IFERROR(IF(J198=\"*\",\"*\",IF(J199=\"\",\"Indtast data\",(J198/J199*1000))),\"-\")","v":20.175301299107844},{"$f":"IFERROR(IF(K198=\"*\",\"*\",IF(K199=\"\",\"Indtast data\",(K198/K199*1000))),\"-\")","v":19.67939121756487},{"$f":"IFERROR(IF(L198=\"*\",\"*\",IF(L199=\"\",\"Indtast data\",(L198/L199*1000))),\"-\")","v":19.367674946373612},18.971496104623139,17.908164061890115,17.325501895705138,16.982303632412293,16.439374003498401,15.649887883708343]
[null,"Hele landet"]
[null,"Antal modtagere",null,{"$f":"INDEX(Data_land,MATCH(Skyggetabeller!D192,Data!landaar,0),14)","v":23714},{"$f":"INDEX(Data_land,MATCH(Skyggetabeller!E192,Data!landaar,0),14)","v":23377},{"$f":"INDEX(Data_land,MATCH(Skyggetabeller!F192,Data!landaar,0),14)","v":23399},{"$f":"INDEX(Data_land,MATCH(Skyggetabeller!G192,Data!landaar,0),14)","v":23289},{"$f":"INDEX(Data_land,MATCH(Skyggetabeller!H192,Data!landaar,0),14)","v":24047},{"$f":"INDEX(Data_land,MATCH(Skyggetabeller!I192,Data!landaar,0),14)","v":23855},{"$f":"INDEX(Data_land,MATCH(Skyggetabeller!J192,Data!landaar,0),14)","v":24683},{"$f":"INDEX(Data_land,MATCH(Skyggetabeller!K192,Data!landaar,0),14)","v":24731},{"$f":"INDEX(Data_land,MATCH(Skyggetabeller!L192,Data!landaar,0),14)","v":25218},{"$f":"INDEX(Data_land,MATCH(Skyggetabeller!M192,Data!landaar,0),14)","v":26148},{"$f":"INDEX(Data_land,MATCH(Skyggetabeller!N192,Data!landaar,0),14)","v":26528},{"$f":"INDEX(Data_land,MATCH(Skyggetabeller!O192,Data!landaar,0),14)","v":26834},{"$f":"INDEX(Data_land,MATCH(Skyggetabeller!P192,Data!landaar,0),14)","v":27394},{"$f":"INDEX(Data_land,MATCH(Skyggetabeller!Q192,Data!landaar,0),14)","v":27599},{"$f":"INDEX(Data_land,MATCH(Skyggetabeller!R192,Data!landaar,0),14)","v":27256}]
[null,"Antal 0-17-årige",null,{"$f":"INDEX(Data_land,MATCH(Skyggetabeller!D192,Data!landaar,0),2)","v":1168201},{"$f":"INDEX(Data_land,MATCH(Skyggetabeller!E192,Data!landaar,0),2)","v":1165363},{"$f":"INDEX(Data_land,MATCH(Skyggetabeller!F192,Data!landaar,0),2)","v":1165475},{"$f":"INDEX(Data_land,MATCH(Skyggetabeller!G192,Data!landaar,0),2)","v":1162195},{"$f":"INDEX(Data_land,MATCH(Skyggetabeller!H192,Data!landaar,0),2)","v":1160360},{"$f":"INDEX(Data_land,MATCH(Skyggetabeller!I192,Data!landaar,0),2)","v":1156537},{"$f":"INDEX(Data_land,MATCH(Skyggetabeller!J192,Data!landaar,0),2)","v":1156116},{"$f":"INDEX(Data_land,MATCH(Skyggetabeller!K192,Data!landaar,0),2)","v":1153027},{"$f":"INDEX(Data_land,MATCH(Skyggetabeller!L192,Data!landaar,0),2)","v":1152972},{"$f":"INDEX(Data_land,MATCH(Skyggetabeller!M192,Data!landaar,0),2)","v":1151374},{"$f":"INDEX(Data_land,MATCH(Skyggetabeller!N192,Data!landaar,0),2)","v":1151704},{"$f":"INDEX(Data_land,MATCH(Skyggetabeller!O192,Data!landaar,0),2)","v":1157254},{"$f":"INDEX(Data_land,MATCH(Skyggetabeller!P192,Data!landaar,0),2)","v":1155814},{"$f":"INDEX(Data_land,MATCH(Skyggetabeller!Q192,Data!landaar,0),2)","v":1151415},{"$f":"INDEX(Data_land,MATCH(Skyggetabeller!R192,Data!landaar,0),2)","v":1148490}]
[null,"Andel",null,{"$f":"IFERROR(IF(D202=\"*\",\"*\",IF(D203=0,\"#I/T\",(D202/D203*1000))),\"Data ikke tilføjet\")","v":20.299588855000124},20.059844014268517,20.076792723996654,20.038805880252454,20.72374090799407,20.62623158619223,21.349933743672782,21.44876052338757,21.872170356261904,{"$f":"IFERROR(IF(M202=\"*\",\"*\",IF(M203=0,\"#I/T\",(M202/M203*1000))),\"Data ikke tilføjet\")","v":22.710257483667341},23.033696158040609,23.187649383799926,23.701045323901596,23.969637359249273,23.732030753424059]
[]
[null,"Tabel 5.1: Modtagere af døgnophold"]
[null,"Nøgletal 5.1\nModtagere af døgnophold for både forældremyndigheds-indehaveren, barnet eller den unge og andre medlemmer af familien",null,"2017-01-01","2017-07-01","2018-01-01","2018-07-01","2019-01-01","2019-07-01","2020-01-01","2020-07-01","2021-01-01","2021-07-01","2022-01-01","2022-07-01","2023-01-01","2023-07-01","2024-01-01"]
[null,{"$f":"IF(Kommune=\"\",\"Kommune\",Kommune)","v":"København"}]
[null,"Antal modtagere",null,{"$f":"IFERROR(IF(INDEX(Data_kom2,MATCH(1,(komnavn2=Kommune)*(komaar2=D207),0),15)=\"*\",\"*\",INDEX(Data_kom2,MATCH(1,(komnavn2=Kommune)*(komaar2=D207),0),15)),\"Data ikke tilføjet\")","v":8},{"$f":"IFERROR(IF(INDEX(Data_kom2,MATCH(1,(komnavn2=Kommune)*(komaar2=E207),0),15)=\"*\",\"*\",INDEX(Data_kom2,MATCH(1,(komnavn2=Kommune)*(komaar2=E207),0),15)),\"Data ikke tilføjet\")","v":6},{"$f":"IFERROR(IF(INDEX(Data_kom2,MATCH(1,(komnavn2=Kommune)*(komaar2=F207),0),15)=\"*\",\"*\",INDEX(Data_kom2,MATCH(1,(komnavn2=Kommune)*(komaar2=F207),0),15)),\"Data ikke tilføjet\")","v":4},{"$f":"IFERROR(IF(INDEX(Data_kom2,MATCH(1,(komnavn2=Kommune)*(komaar2=G207),0),15)=\"*\",\"*\",INDEX(Data_kom2,MATCH(1,(komnavn2=Kommune)*(komaar2=G207),0),15)),\"Data ikke tilføjet\")","v":12},{"$f":"IFERROR(IF(INDEX(Data_kom2,MATCH(1,(komnavn2=Kommune)*(komaar2=H207),0),15)=\"*\",\"*\",INDEX(Data_kom2,MATCH(1,(komnavn2=Kommune)*(komaar2=H207),0),15)),\"Data ikke tilføjet\")","v":14},{"$f":"IFERROR(IF(INDEX(Data_kom2,MATCH(1,(komnavn2=Kommune)*(komaar2=I207),0),15)=\"*\",\"*\",INDEX(Data_kom2,MATCH(1,(komnavn2=Kommune)*(komaar2=I207),0),15)),\"Data ikke tilføjet\")","v":9},{"$f":"IFERROR(IF(INDEX(Data_kom2,MATCH(1,(komnavn2=Kommune)*(komaar2=J207),0),15)=\"*\",\"*\",INDEX(Data_kom2,MATCH(1,(komnavn2=Kommune)*(komaar2=J207),0),15)),\"Data ikke tilføjet\")","v":15},{"$f":"IFERROR(IF(INDEX(Data_kom2,MATCH(1,(komnavn2=Kommune)*(komaar2=K207),0),15)=\"*\",\"*\",INDEX(Data_kom2,MATCH(1,(komnavn2=Kommune)*(komaar2=K207),0),15)),\"Data ikke tilføjet\")","v":8},{"$f":"IFERROR(IF(INDEX(Data_kom2,MATCH(1,(komnavn2=Kommune)*(komaar2=L207),0),15)=\"*\",\"*\",INDEX(Data_kom2,MATCH(1,(komnavn2=Kommune)*(komaar2=L207),0),15)),\"Data ikke tilføjet\")","v":6},{"$f":"IFERROR(IF(INDEX(Data_kom2,MATCH(1,(komnavn2=Kommune)*(komaar2=M207),0),15)=\"*\",\"*\",INDEX(Data_kom2,MATCH(1,(komnavn2=Kommune)*(komaar2=M207),0),15)),\"Data ikke tilføjet\")","v":"*"},{"$f":"IFERROR(IF(INDEX(Data_kom2,MATCH(1,(komnavn2=Kommune)*(komaar2=N207),0),15)=\"*\",\"*\",INDEX(Data_kom2,MATCH(1,(komnavn2=Kommune)*(komaar2=N207),0),15)),\"Data ikke tilføjet\")","v":12},{"$f":"IFERROR(IF(INDEX(Data_kom2,MATCH(1,(komnavn2=Kommune)*(komaar2=O207),0),15)=\"*\",\"*\",INDEX(Data_kom2,MATCH(1,(komnavn2=Kommune)*(komaar2=O207),0),15)),\"Data ikke tilføjet\")","v":10},{"$f":"IFERROR(IF(INDEX(Data_kom2,MATCH(1,(komnavn2=Kommune)*(komaar2=P207),0),15)=\"*\",\"*\",INDEX(Data_kom2,MATCH(1,(komnavn2=Kommune)*(komaar2=P207),0),15)),\"Data ikke tilføjet\")","v":11},{"$f":"IFERROR(IF(INDEX(Data_kom2,MATCH(1,(komnavn2=Kommune)*(komaar2=Q207),0),15)=\"*\",\"*\",INDEX(Data_kom2,MATCH(1,(komnavn2=Kommune)*(komaar2=Q207),0),15)),\"Data ikke tilføjet\")","v":9},{"$f":"IFERROR(IF(INDEX(Data_kom2,MATCH(1,(komnavn2=Kommune)*(komaar2=R207),0),15)=\"*\",\"*\",INDEX(Data_kom2,MATCH(1,(komnavn2=Kommune)*(komaar2=R207),0),15)),\"Data ikke tilføjet\")","v":14}]
[null,"Antal 0-17-årige",null,{"$f":"IFERROR(INDEX(Data_kom2,MATCH(1,(komnavn2=Kommune)*(komaar2=D207),0),2),\"Data ikke tilføjet\")","v":105885},{"$f":"IFERROR(INDEX(Data_kom2,MATCH(1,(komnavn2=Kommune)*(komaar2=E207),0),2),\"Data ikke tilføjet\")","v":106913},{"$f":"IFERROR(INDEX(Data_kom2,MATCH(1,(komnavn2=Kommune)*(komaar2=F207),0),2),\"Data ikke tilføjet\")","v":107770},{"$f":"IFERROR(INDEX(Data_kom2,MATCH(1,(komnavn2=Kommune)*(komaar2=G207),0),2),\"Data ikke tilføjet\")","v":108734},{"$f":"IFERROR(INDEX(Data_kom2,MATCH(1,(komnavn2=Kommune)*(komaar2=H207),0),2),\"Data ikke tilføjet\")","v":109335},{"$f":"IFERROR(INDEX(Data_kom2,MATCH(1,(komnavn2=Kommune)*(komaar2=I207),0),2),\"Data ikke tilføjet\")","v":110138},{"$f":"IFERROR(INDEX(Data_kom2,MATCH(1,(komnavn2=Kommune)*(komaar2=J207),0),2),\"Data ikke tilføjet\")","v":110822},{"$f":"IFERROR(INDEX(Data_kom2,MATCH(1,(komnavn2=Kommune)*(komaar2=K207),0),2),\"Data ikke tilføjet\")","v":111068},{"$f":"IFERROR(INDEX(Data_kom2,MATCH(1,(komnavn2=Kommune)*(komaar2=L207),0),2),\"Data ikke tilføjet\")","v":110927},{"$f":"IFERROR(INDEX(Data_kom2,MATCH(1,(komnavn2=Kommune)*(komaar2=M207),0),2),\"Data ikke tilføjet\")","v":110614},{"$f":"IFERROR(INDEX(Data_kom2,MATCH(1,(komnavn2=Kommune)*(komaar2=N207),0),2),\"Data ikke tilføjet\")","v":110513},{"$f":"IFERROR(INDEX(Data_kom2,MATCH(1,(komnavn2=Kommune)*(komaar2=O207),0),2),\"Data ikke tilføjet\")","v":110692},{"$f":"IFERROR(INDEX(Data_kom2,MATCH(1,(komnavn2=Kommune)*(komaar2=P207),0),2),\"Data ikke tilføjet\")","v":110835},{"$f":"IFERROR(INDEX(Data_kom2,MATCH(1,(komnavn2=Kommune)*(komaar2=Q207),0),2),\"Data ikke tilføjet\")","v":111075},{"$f":"IFERROR(INDEX(Data_kom2,MATCH(1,(komnavn2=Kommune)*(komaar2=R207),0),2),\"Data ikke tilføjet\")","v":110571}]
[null,"Andel",null,{"$f":"IFERROR(IF(D209=\"*\",\"*\",IF(D210=0,\"#I/T\",(D209/D210*1000))),\"Data ikke tilføjet\")","v":7.5553666713887704E-2},5.6120396958274484E-2,3.7116080541894775E-2,0.11036106461640333,0.12804682855444277,8.1715665801085913E-2,0.13535218638898416,7.2027946843375226E-2,5.408962651112894E-2,{"$f":"IFERROR(IF(M209=\"*\",\"*\",IF(M210=0,\"#I/T\",(M209/M210*1000))),\"Data ikke tilføjet\")","v":"*"},0.10858451041958865,9.0340765366964185E-2,9.9246627870257592E-2,8.1026333558406494E-2,0.12661547783776939]
[null,"Sammenligningsgruppe, gns."]
[null,"Antal modtagere",null,{"$f":"IF('Dine valg'!$G$24=\"\",\"-\",SUMIF(Hjælpefane!$D$7:$D$111,\"=\"&D$9,Hjælpefane!$P$7:$P$111))","v":0},{"$f":"IF('Dine valg'!$G$24=\"\",\"-\",SUMIF(Hjælpefane!$D$7:$D$111,\"=\"&E$9,Hjælpefane!$P$7:$P$111))","v":0},{"$f":"IF('Dine valg'!$G$24=\"\",\"-\",SUMIF(Hjælpefane!$D$7:$D$111,\"=\"&F$9,Hjælpefane!$P$7:$P$111))","v":0},{"$f":"IF('Dine valg'!$G$24=\"\",\"-\",SUMIF(Hjælpefane!$D$7:$D$111,\"=\"&G$9,Hjælpefane!$P$7:$P$111))","v":0},{"$f":"IF('Dine valg'!$G$24=\"\",\"-\",SUMIF(Hjælpefane!$D$7:$D$111,\"=\"&H$9,Hjælpefane!$P$7:$P$111))","v":3},{"$f":"IF('Dine valg'!$G$24=\"\",\"-\",SUMIF(Hjælpefane!$D$7:$D$111,\"=\"&I$9,Hjælpefane!$P$7:$P$111))","v":0},{"$f":"IF('Dine valg'!$G$24=\"\",\"-\",SUMIF(Hjælpefane!$D$7:$D$111,\"=\"&J$9,Hjælpefane!$P$7:$P$111))","v":0},{"$f":"IF('Dine valg'!$G$24=\"\",\"-\",SUMIF(Hjælpefane!$D$7:$D$111,\"=\"&K$9,Hjælpefane!$P$7:$P$111))","v":0},{"$f":"IF('Dine valg'!$G$24=\"\",\"-\",SUMIF(Hjælpefane!$D$7:$D$111,\"=\"&L$9,Hjælpefane!$P$7:$P$111))","v":0},{"$f":"IF('Dine valg'!$G$24=\"\",\"-\",SUMIF(Hjælpefane!$D$7:$D$111,\"=\"&M$9,Hjælpefane!$P$7:$P$111))","v":0},{"$f":"IF('Dine valg'!$G$24=\"\",\"-\",SUMIF(Hjælpefane!$D$7:$D$111,\"=\"&N$9,Hjælpefane!$P$7:$P$111))","v":0},{"$f":"IF('Dine valg'!$G$24=\"\",\"-\",SUMIF(Hjælpefane!$D$7:$D$111,\"=\"&O$9,Hjælpefane!$P$7:$P$111))","v":0},{"$f":"IF('Dine valg'!$G$24=\"\",\"-\",SUMIF(Hjælpefane!$D$7:$D$111,\"=\"&P$9,Hjælpefane!$P$7:$P$111))","v":0},{"$f":"IF('Dine valg'!$G$24=\"\",\"-\",SUMIF(Hjælpefane!$D$7:$D$111,\"=\"&Q$9,Hjælpefane!$P$7:$P$111))","v":0},{"$f":"IF('Dine valg'!$G$24=\"\",\"-\",SUMIF(Hjælpefane!$D$7:$D$111,\"=\"&R$9,Hjælpefane!$P$7:$P$111))","v":0}]
[null,"Antal 0-17-årige",null,{"$f":"IF('Dine valg'!$G$24=\"\",\"-\",SUMIF(Hjælpefane!$D$7:$D$111,\"=\"&D$9,Hjælpefane!$C$7:$C$111))","v":62903},{"$f":"IF('Dine valg'!$G$24=\"\",\"-\",SUMIF(Hjælpefane!$D$7:$D$111,\"=\"&E$9,Hjælpefane!$C$7:$C$111))","v":63077},{"$f":"IF('Dine valg'!$G$24=\"\",\"-\",SUMIF(Hjælpefane!$D$7:$D$111,\"=\"&F$9,Hjælpefane!$C$7:$C$111))","v":63245},{"$f":"IF('Dine valg'!$G$24=\"\",\"-\",SUMIF(Hjælpefane!$D$7:$D$111,\"=\"&G$9,Hjælpefane!$C$7:$C$111))","v":63510},{"$f":"IF('Dine valg'!$G$24=\"\",\"-\",SUMIF(Hjælpefane!$D$7:$D$111,\"=\"&H$9,Hjælpefane!$C$7:$C$111))","v":63607},{"$f":"IF('Dine valg'!$G$24=\"\",\"-\",SUMIF(Hjælpefane!$D$7:$D$111,\"=\"&I$9,Hjælpefane!$C$7:$C$111))","v":63704},{"$f":"IF('Dine valg'!$G$24=\"\",\"-\",SUMIF(Hjælpefane!$D$7:$D$111,\"=\"&J$9,Hjælpefane!$C$7:$C$111))","v":63890},{"$f":"IF('Dine valg'!$G$24=\"\",\"-\",SUMIF(Hjælpefane!$D$7:$D$111,\"=\"&K$9,Hjælpefane!$C$7:$C$111))","v":64128},{"$f":"IF('Dine valg'!$G$24=\"\",\"-\",SUMIF(Hjælpefane!$D$7:$D$111,\"=\"&L$9,Hjælpefane!$C$7:$C$111))","v":64334},{"$f":"IF('Dine valg'!$G$24=\"\",\"-\",SUMIF(Hjælpefane!$D$7:$D$111,\"=\"&M$9,Hjælpefane!$C$7:$C$111))","v":64307},{"$f":"IF('Dine valg'!$G$24=\"\",\"-\",SUMIF(Hjælpefane!$D$7:$D$111,\"=\"&N$9,Hjælpefane!$C$7:$C$111))","v":64049},{"$f":"IF('Dine valg'!$G$24=\"\",\"-\",SUMIF(Hjælpefane!$D$7:$D$111,\"=\"&O$9,Hjælpefane!$C$7:$C$111))","v":64356},{"$f":"IF('Dine valg'!$G$24=\"\",\"-\",SUMIF(Hjælpefane!$D$7:$D$111,\"=\"&P$9,Hjælpefane!$C$7:$C$111))","v":64420},{"$f":"IF('Dine valg'!$G$24=\"\",\"-\",SUMIF(Hjælpefane!$D$7:$D$111,\"=\"&Q$9,Hjælpefane!$C$7:$C$111))","v":64601},{"$f":"IF('Dine valg'!$G$24=\"\",\"-\",SUMIF(Hjælpefane!$D$7:$D$111,\"=\"&R$9,Hjælpefane!$C$7:$C$111))","v":64665}]
[null,"Andel",null,{"$f":"IFERROR(IF(D213=\"*\",\"*\",IF(D214=\"\",\"Indtast data\",(D213/D214*1000))),\"-\")","v":0},{"$f":"IFERROR(IF(E213=\"*\",\"*\",IF(E214=\"\",\"Indtast data\",(E213/E214*1000))),\"-\")","v":0},0,0,4.7164620246199315E-2,0,0,0,0,{"$f":"IFERROR(IF(M213=\"*\",\"*\",IF(M214=\"\",\"Indtast data\",(M213/M214*1000))),\"-\")","v":0},0,0,0,0,0]
[null,"Hele landet"]
[null,"Antal modtagere",null,{"$f":"INDEX(Data_land,MATCH(Skyggetabeller!D207,Data!landaar,0),15)","v":82},{"$f":"INDEX(Data_land,MATCH(Skyggetabeller!E207,Data!landaar,0),15)","v":74},{"$f":"INDEX(Data_land,MATCH(Skyggetabeller!F207,Data!landaar,0),15)","v":56},{"$f":"INDEX(Data_land,MATCH(Skyggetabeller!G207,Data!landaar,0),15)","v":80},{"$f":"INDEX(Data_land,MATCH(Skyggetabeller!H207,Data!landaar,0),15)","v":77},{"$f":"INDEX(Data_land,MATCH(Skyggetabeller!I207,Data!landaar,0),15)","v":69},{"$f":"INDEX(Data_land,MATCH(Skyggetabeller!J207,Data!landaar,0),15)","v":87},{"$f":"INDEX(Data_land,MATCH(Skyggetabeller!K207,Data!landaar,0),15)","v":84},{"$f":"INDEX(Data_land,MATCH(Skyggetabeller!L207,Data!landaar,0),15)","v":74},{"$f":"INDEX(Data_land,MATCH(Skyggetabeller!M207,Data!landaar,0),15)","v":62},{"$f":"INDEX(Data_land,MATCH(Skyggetabeller!N207,Data!landaar,0),15)","v":71},{"$f":"INDEX(Data_land,MATCH(Skyggetabeller!O207,Data!landaar,0),15)","v":61},{"$f":"INDEX(Data_land,MATCH(Skyggetabeller!P207,Data!landaar,0),15)","v":72},{"$f":"INDEX(Data_land,MATCH(Skyggetabeller!Q207,Data!landaar,0),15)","v":84},{"$f":"INDEX(Data_land,MATCH(Skyggetabeller!R207,Data!landaar,0),15)","v":75}]
[null,"Antal 0-17-årige",null,{"$f":"INDEX(Data_land,MATCH(Skyggetabeller!D207,Data!landaar,0),2)","v":1168201},{"$f":"INDEX(Data_land,MATCH(Skyggetabeller!E207,Data!landaar,0),2)","v":1165363},{"$f":"INDEX(Data_land,MATCH(Skyggetabeller!F207,Data!landaar,0),2)","v":1165475},{"$f":"INDEX(Data_land,MATCH(Skyggetabeller!G207,Data!landaar,0),2)","v":1162195},{"$f":"INDEX(Data_land,MATCH(Skyggetabeller!H207,Data!landaar,0),2)","v":1160360},{"$f":"INDEX(Data_land,MATCH(Skyggetabeller!I207,Data!landaar,0),2)","v":1156537},{"$f":"INDEX(Data_land,MATCH(Skyggetabeller!J207,Data!landaar,0),2)","v":1156116},{"$f":"INDEX(Data_land,MATCH(Skyggetabeller!K207,Data!landaar,0),2)","v":1153027},{"$f":"INDEX(Data_land,MATCH(Skyggetabeller!L207,Data!landaar,0),2)","v":1152972},{"$f":"INDEX(Data_land,MATCH(Skyggetabeller!M207,Data!landaar,0),2)","v":1151374},{"$f":"INDEX(Data_land,MATCH(Skyggetabeller!N207,Data!landaar,0),2)","v":1151704},{"$f":"INDEX(Data_land,MATCH(Skyggetabeller!O207,Data!landaar,0),2)","v":1157254},{"$f":"INDEX(Data_land,MATCH(Skyggetabeller!P207,Data!landaar,0),2)","v":1155814},{"$f":"INDEX(Data_land,MATCH(Skyggetabeller!Q207,Data!landaar,0),2)","v":1151415},{"$f":"INDEX(Data_land,MATCH(Skyggetabeller!R207,Data!landaar,0),2)","v":1148490}]
[null,"Andel",null,{"$f":"IFERROR(IF(D217=\"*\",\"*\",IF(D218=0,\"#I/T\",(D217/D218*1000))),\"Data ikke tilføjet\")","v":7.0193399937168346E-2},6.3499527615000648E-2,4.8049078701816857E-2,6.883526430590392E-2,6.6358716260470893E-2,5.9660866881042288E-2,7.5251964335758689E-2,7.2851719864322345E-2,6.4181957584399263E-2,{"$f":"IFERROR(IF(M217=\"*\",\"*\",IF(M218=0,\"#I/T\",(M217/M218*1000))),\"Data ikke tilføjet\")","v":5.3848705980854179E-2},6.1647784500184079E-2,5.271098652499797E-2,6.2293760068661566E-2,7.2953713474290333E-2,6.5303137162709302E-2]
[]
[null,"Tabel 5.2: Modtagere af hjemmebaserede anbringelser"]
[null,"Nøgletal 5.2: \nModtagere af hjemmebaserede anbringelser",null,"2017-01-01","2017-07-01","2018-01-01","2018-07-01","2019-01-01","2019-07-01","2020-01-01","2020-07-01","2021-01-01","2021-07-01","2022-01-01","2022-07-01","2023-01-01","2023-07-01","2024-01-01"]
[null,{"$f":"IF(Kommune=\"\",\"Kommune\",Kommune)","v":"København"}]
[null,"Antal modtagere",null,{"$f":"IFERROR(IF(INDEX(Data_kom2,MATCH(1,(komnavn2=Kommune)*(komaar2=D222),0),16)=\"*\",\"*\",INDEX(Data_kom2,MATCH(1,(komnavn2=Kommune)*(komaar2=D222),0),16)),\"Data ikke tilføjet\")","v":25},{"$f":"IFERROR(IF(INDEX(Data_kom2,MATCH(1,(komnavn2=Kommune)*(komaar2=E222),0),16)=\"*\",\"*\",INDEX(Data_kom2,MATCH(1,(komnavn2=Kommune)*(komaar2=E222),0),16)),\"Data ikke tilføjet\")","v":26},{"$f":"IFERROR(IF(INDEX(Data_kom2,MATCH(1,(komnavn2=Kommune)*(komaar2=F222),0),16)=\"*\",\"*\",INDEX(Data_kom2,MATCH(1,(komnavn2=Kommune)*(komaar2=F222),0),16)),\"Data ikke tilføjet\")","v":25},{"$f":"IFERROR(IF(INDEX(Data_kom2,MATCH(1,(komnavn2=Kommune)*(komaar2=G222),0),16)=\"*\",\"*\",INDEX(Data_kom2,MATCH(1,(komnavn2=Kommune)*(komaar2=G222),0),16)),\"Data ikke tilføjet\")","v":16},{"$f":"IFERROR(IF(INDEX(Data_kom2,MATCH(1,(komnavn2=Kommune)*(komaar2=H222),0),16)=\"*\",\"*\",INDEX(Data_kom2,MATCH(1,(komnavn2=Kommune)*(komaar2=H222),0),16)),\"Data ikke tilføjet\")","v":19},{"$f":"IFERROR(IF(INDEX(Data_kom2,MATCH(1,(komnavn2=Kommune)*(komaar2=I222),0),16)=\"*\",\"*\",INDEX(Data_kom2,MATCH(1,(komnavn2=Kommune)*(komaar2=I222),0),16)),\"Data ikke tilføjet\")","v":9},{"$f":"IFERROR(IF(INDEX(Data_kom2,MATCH(1,(komnavn2=Kommune)*(komaar2=J222),0),16)=\"*\",\"*\",INDEX(Data_kom2,MATCH(1,(komnavn2=Kommune)*(komaar2=J222),0),16)),\"Data ikke tilføjet\")","v":10},{"$f":"IFERROR(IF(INDEX(Data_kom2,MATCH(1,(komnavn2=Kommune)*(komaar2=K222),0),16)=\"*\",\"*\",INDEX(Data_kom2,MATCH(1,(komnavn2=Kommune)*(komaar2=K222),0),16)),\"Data ikke tilføjet\")","v":9},{"$f":"IFERROR(IF(INDEX(Data_kom2,MATCH(1,(komnavn2=Kommune)*(komaar2=L222),0),16)=\"*\",\"*\",INDEX(Data_kom2,MATCH(1,(komnavn2=Kommune)*(komaar2=L222),0),16)),\"Data ikke tilføjet\")","v":14},{"$f":"IFERROR(IF(INDEX(Data_kom2,MATCH(1,(komnavn2=Kommune)*(komaar2=M222),0),16)=\"*\",\"*\",INDEX(Data_kom2,MATCH(1,(komnavn2=Kommune)*(komaar2=M222),0),16)),\"Data ikke tilføjet\")","v":15},{"$f":"IFERROR(IF(INDEX(Data_kom2,MATCH(1,(komnavn2=Kommune)*(komaar2=N222),0),16)=\"*\",\"*\",INDEX(Data_kom2,MATCH(1,(komnavn2=Kommune)*(komaar2=N222),0),16)),\"Data ikke tilføjet\")","v":14},{"$f":"IFERROR(IF(INDEX(Data_kom2,MATCH(1,(komnavn2=Kommune)*(komaar2=O222),0),16)=\"*\",\"*\",INDEX(Data_kom2,MATCH(1,(komnavn2=Kommune)*(komaar2=O222),0),16)),\"Data ikke tilføjet\")","v":9},{"$f":"IFERROR(IF(INDEX(Data_kom2,MATCH(1,(komnavn2=Kommune)*(komaar2=P222),0),16)=\"*\",\"*\",INDEX(Data_kom2,MATCH(1,(komnavn2=Kommune)*(komaar2=P222),0),16)),\"Data ikke tilføjet\")","v":11},{"$f":"IFERROR(IF(INDEX(Data_kom2,MATCH(1,(komnavn2=Kommune)*(komaar2=Q222),0),16)=\"*\",\"*\",INDEX(Data_kom2,MATCH(1,(komnavn2=Kommune)*(komaar2=Q222),0),16)),\"Data ikke tilføjet\")","v":10},{"$f":"IFERROR(IF(INDEX(Data_kom2,MATCH(1,(komnavn2=Kommune)*(komaar2=R222),0),16)=\"*\",\"*\",INDEX(Data_kom2,MATCH(1,(komnavn2=Kommune)*(komaar2=R222),0),16)),\"Data ikke tilføjet\")","v":13}]
[null,"Antal 0-17-årige",null,{"$f":"IFERROR(INDEX(Data_kom2,MATCH(1,(komnavn2=Kommune)*(komaar2=D222),0),2),\"Data ikke tilføjet\")","v":105885},{"$f":"IFERROR(INDEX(Data_kom2,MATCH(1,(komnavn2=Kommune)*(komaar2=E222),0),2),\"Data ikke tilføjet\")","v":106913},{"$f":"IFERROR(INDEX(Data_kom2,MATCH(1,(komnavn2=Kommune)*(komaar2=F222),0),2),\"Data ikke tilføjet\")","v":107770},{"$f":"IFERROR(INDEX(Data_kom2,MATCH(1,(komnavn2=Kommune)*(komaar2=G222),0),2),\"Data ikke tilføjet\")","v":108734},{"$f":"IFERROR(INDEX(Data_kom2,MATCH(1,(komnavn2=Kommune)*(komaar2=H222),0),2),\"Data ikke tilføjet\")","v":109335},{"$f":"IFERROR(INDEX(Data_kom2,MATCH(1,(komnavn2=Kommune)*(komaar2=I222),0),2),\"Data ikke tilføjet\")","v":110138},{"$f":"IFERROR(INDEX(Data_kom2,MATCH(1,(komnavn2=Kommune)*(komaar2=J222),0),2),\"Data ikke tilføjet\")","v":110822},{"$f":"IFERROR(INDEX(Data_kom2,MATCH(1,(komnavn2=Kommune)*(komaar2=K222),0),2),\"Data ikke tilføjet\")","v":111068},{"$f":"IFERROR(INDEX(Data_kom2,MATCH(1,(komnavn2=Kommune)*(komaar2=L222),0),2),\"Data ikke tilføjet\")","v":110927},{"$f":"IFERROR(INDEX(Data_kom2,MATCH(1,(komnavn2=Kommune)*(komaar2=M222),0),2),\"Data ikke tilføjet\")","v":110614},{"$f":"IFERROR(INDEX(Data_kom2,MATCH(1,(komnavn2=Kommune)*(komaar2=N222),0),2),\"Data ikke tilføjet\")","v":110513},{"$f":"IFERROR(INDEX(Data_kom2,MATCH(1,(komnavn2=Kommune)*(komaar2=O222),0),2),\"Data ikke tilføjet\")","v":110692},{"$f":"IFERROR(INDEX(Data_kom2,MATCH(1,(komnavn2=Kommune)*(komaar2=P222),0),2),\"Data ikke tilføjet\")","v":110835},{"$f":"IFERROR(INDEX(Data_kom2,MATCH(1,(komnavn2=Kommune)*(komaar2=Q222),0),2),\"Data ikke tilføjet\")","v":111075},{"$f":"IFERROR(INDEX(Data_kom2,MATCH(1,(komnavn2=Kommune)*(komaar2=R222),0),2),\"Data ikke tilføjet\")","v":110571}]
[null,"Andel",null,{"$f":"IFERROR(IF(D224=\"*\",\"*\",IF(D225=0,\"#I/T\",(D224/D225*1000))),\"Data ikke tilføjet\")","v":0.23610520848089908},0.24318838681918942,0.23197550338684234,0.14714808615520444,0.17377783875245806,8.1715665801085913E-2,9.0234790925989419E-2,8.1031440198797142E-2,0.12620912852596752,{"$f":"IFERROR(IF(M224=\"*\",\"*\",IF(M225=0,\"#I/T\",(M224/M225*1000))),\"Data ikke tilføjet\")","v":0.13560670439546529},0.12668192882285342,8.1306688830267759E-2,9.9246627870257592E-2,9.0029259509340528E-2,0.11757151513507158]
[null,"Sammenligningsgruppe, gns."]
[null,"Antal modtagere",null,{"$f":"IF('Dine valg'!$G$24=\"\",\"-\",SUMIF(Hjælpefane!$D$7:$D$111,\"=\"&D$9,Hjælpefane!$Q$7:$Q$111))","v":24},{"$f":"IF('Dine valg'!$G$24=\"\",\"-\",SUMIF(Hjælpefane!$D$7:$D$111,\"=\"&E$9,Hjælpefane!$Q$7:$Q$111))","v":25},{"$f":"IF('Dine valg'!$G$24=\"\",\"-\",SUMIF(Hjælpefane!$D$7:$D$111,\"=\"&F$9,Hjælpefane!$Q$7:$Q$111))","v":18},{"$f":"IF('Dine valg'!$G$24=\"\",\"-\",SUMIF(Hjælpefane!$D$7:$D$111,\"=\"&G$9,Hjælpefane!$Q$7:$Q$111))","v":0},{"$f":"IF('Dine valg'!$G$24=\"\",\"-\",SUMIF(Hjælpefane!$D$7:$D$111,\"=\"&H$9,Hjælpefane!$Q$7:$Q$111))","v":7},{"$f":"IF('Dine valg'!$G$24=\"\",\"-\",SUMIF(Hjælpefane!$D$7:$D$111,\"=\"&I$9,Hjælpefane!$Q$7:$Q$111))","v":5},{"$f":"IF('Dine valg'!$G$24=\"\",\"-\",SUMIF(Hjælpefane!$D$7:$D$111,\"=\"&J$9,Hjælpefane!$Q$7:$Q$111))","v":0},{"$f":"IF('Dine valg'!$G$24=\"\",\"-\",SUMIF(Hjælpefane!$D$7:$D$111,\"=\"&K$9,Hjælpefane!$Q$7:$Q$111))","v":0},{"$f":"IF('Dine valg'!$G$24=\"\",\"-\",SUMIF(Hjælpefane!$D$7:$D$111,\"=\"&L$9,Hjælpefane!$Q$7:$Q$111))","v":0},{"$f":"IF('Dine valg'!$G$24=\"\",\"-\",SUMIF(Hjælpefane!$D$7:$D$111,\"=\"&M$9,Hjælpefane!$Q$7:$Q$111))","v":0},{"$f":"IF('Dine valg'!$G$24=\"\",\"-\",SUMIF(Hjælpefane!$D$7:$D$111,\"=\"&N$9,Hjælpefane!$Q$7:$Q$111))","v":0},{"$f":"IF('Dine valg'!$G$24=\"\",\"-\",SUMIF(Hjælpefane!$D$7:$D$111,\"=\"&O$9,Hjælpefane!$Q$7:$Q$111))","v":0},{"$f":"IF('Dine valg'!$G$24=\"\",\"-\",SUMIF(Hjælpefane!$D$7:$D$111,\"=\"&P$9,Hjælpefane!$Q$7:$Q$111))","v":0},{"$f":"IF('Dine valg'!$G$24=\"\",\"-\",SUMIF(Hjælpefane!$D$7:$D$111,\"=\"&Q$9,Hjælpefane!$Q$7:$Q$111))","v":0},{"$f":"IF('Dine valg'!$G$24=\"\",\"-\",SUMIF(Hjælpefane!$D$7:$D$111,\"=\"&R$9,Hjælpefane!$Q$7:$Q$111))","v":0}]
[null,"Antal 0-17-årige",null,{"$f":"IF('Dine valg'!$G$24=\"\",\"-\",SUMIF(Hjælpefane!$D$7:$D$111,\"=\"&D$9,Hjælpefane!$C$7:$C$111))","v":62903},{"$f":"IF('Dine valg'!$G$24=\"\",\"-\",SUMIF(Hjælpefane!$D$7:$D$111,\"=\"&E$9,Hjælpefane!$C$7:$C$111))","v":63077},{"$f":"IF('Dine valg'!$G$24=\"\",\"-\",SUMIF(Hjælpefane!$D$7:$D$111,\"=\"&F$9,Hjælpefane!$C$7:$C$111))","v":63245},{"$f":"IF('Dine valg'!$G$24=\"\",\"-\",SUMIF(Hjælpefane!$D$7:$D$111,\"=\"&G$9,Hjælpefane!$C$7:$C$111))","v":63510},{"$f":"IF('Dine valg'!$G$24=\"\",\"-\",SUMIF(Hjælpefane!$D$7:$D$111,\"=\"&H$9,Hjælpefane!$C$7:$C$111))","v":63607},{"$f":"IF('Dine valg'!$G$24=\"\",\"-\",SUMIF(Hjælpefane!$D$7:$D$111,\"=\"&I$9,Hjælpefane!$C$7:$C$111))","v":63704},{"$f":"IF('Dine valg'!$G$24=\"\",\"-\",SUMIF(Hjælpefane!$D$7:$D$111,\"=\"&J$9,Hjælpefane!$C$7:$C$111))","v":63890},{"$f":"IF('Dine valg'!$G$24=\"\",\"-\",SUMIF(Hjælpefane!$D$7:$D$111,\"=\"&K$9,Hjælpefane!$C$7:$C$111))","v":64128},{"$f":"IF('Dine valg'!$G$24=\"\",\"-\",SUMIF(Hjælpefane!$D$7:$D$111,\"=\"&L$9,Hjælpefane!$C$7:$C$111))","v":64334},{"$f":"IF('Dine valg'!$G$24=\"\",\"-\",SUMIF(Hjælpefane!$D$7:$D$111,\"=\"&M$9,Hjælpefane!$C$7:$C$111))","v":64307},{"$f":"IF('Dine valg'!$G$24=\"\",\"-\",SUMIF(Hjælpefane!$D$7:$D$111,\"=\"&N$9,Hjælpefane!$C$7:$C$111))","v":64049},{"$f":"IF('Dine valg'!$G$24=\"\",\"-\",SUMIF(Hjælpefane!$D$7:$D$111,\"=\"&O$9,Hjælpefane!$C$7:$C$111))","v":64356},{"$f":"IF('Dine valg'!$G$24=\"\",\"-\",SUMIF(Hjælpefane!$D$7:$D$111,\"=\"&P$9,Hjælpefane!$C$7:$C$111))","v":64420},{"$f":"IF('Dine valg'!$G$24=\"\",\"-\",SUMIF(Hjælpefane!$D$7:$D$111,\"=\"&Q$9,Hjælpefane!$C$7:$C$111))","v":64601},{"$f":"IF('Dine valg'!$G$24=\"\",\"-\",SUMIF(Hjælpefane!$D$7:$D$111,\"=\"&R$9,Hjælpefane!$C$7:$C$111))","v":64665}]
[null,"Andel",null,{"$f":"IFERROR(IF(D228=\"*\",\"*\",IF(D229=\"\",\"Indtast data\",(D228/D229*1000))),\"-\")","v":0.38153983116862472},{"$f":"IFERROR(IF(E228=\"*\",\"*\",IF(E229=\"\",\"Indtast data\",(E228/E229*1000))),\"-\")","v":0.39634098007197555},{"$f":"IFERROR(IF(F228=\"*\",\"*\",IF(F229=\"\",\"Indtast data\",(F228/F229*1000))),\"-\")","v":0.28460747885208321},{"$f":"IFERROR(IF(G228=\"*\",\"*\",IF(G229=\"\",\"Indtast data\",(G228/G229*1000))),\"-\")","v":0},{"$f":"IFERROR(IF(H228=\"*\",\"*\",IF(H229=\"\",\"Indtast data\",(H228/H229*1000))),\"-\")","v":0.11005078057446507},{"$f":"IFERROR(IF(I228=\"*\",\"*\",IF(I229=\"\",\"Indtast data\",(I228/I229*1000))),\"-\")","v":7.8488007032525425E-2},{"$f":"IFERROR(IF(J228=\"*\",\"*\",IF(J229=\"\",\"Indtast data\",(J228/J229*1000))),\"-\")","v":0},{"$f":"IFERROR(IF(K228=\"*\",\"*\",IF(K229=\"\",\"Indtast data\",(K228/K229*1000))),\"-\")","v":0},{"$f":"IFERROR(IF(L228=\"*\",\"*\",IF(L229=\"\",\"Indtast data\",(L228/L229*1000))),\"-\")","v":0},0,0,0,0,0,0]
[null,"Hele landet"]
[null,"Antal modtagere",null,{"$f":"INDEX(Data_land,MATCH(Skyggetabeller!D222,Data!landaar,0),16)","v":362},{"$f":"INDEX(Data_land,MATCH(Skyggetabeller!E222,Data!landaar,0),16)","v":340},{"$f":"INDEX(Data_land,MATCH(Skyggetabeller!F222,Data!landaar,0),16)","v":323},{"$f":"INDEX(Data_land,MATCH(Skyggetabeller!G222,Data!landaar,0),16)","v":256},{"$f":"INDEX(Data_land,MATCH(Skyggetabeller!H222,Data!landaar,0),16)","v":256},{"$f":"INDEX(Data_land,MATCH(Skyggetabeller!I222,Data!landaar,0),16)","v":226},{"$f":"INDEX(Data_land,MATCH(Skyggetabeller!J222,Data!landaar,0),16)","v":255},{"$f":"INDEX(Data_land,MATCH(Skyggetabeller!K222,Data!landaar,0),16)","v":237},{"$f":"INDEX(Data_land,MATCH(Skyggetabeller!L222,Data!landaar,0),16)","v":249},{"$f":"INDEX(Data_land,MATCH(Skyggetabeller!M222,Data!landaar,0),16)","v":242},{"$f":"INDEX(Data_land,MATCH(Skyggetabeller!N222,Data!landaar,0),16)","v":251},{"$f":"INDEX(Data_land,MATCH(Skyggetabeller!O222,Data!landaar,0),16)","v":247},{"$f":"INDEX(Data_land,MATCH(Skyggetabeller!P222,Data!landaar,0),16)","v":247},{"$f":"INDEX(Data_land,MATCH(Skyggetabeller!Q222,Data!landaar,0),16)","v":242},{"$f":"INDEX(Data_land,MATCH(Skyggetabeller!R222,Data!landaar,0),16)","v":264}]
[null,"Antal 0-17-årige",null,{"$f":"INDEX(Data_land,MATCH(Skyggetabeller!D222,Data!landaar,0),2)","v":1168201},{"$f":"INDEX(Data_land,MATCH(Skyggetabeller!E222,Data!landaar,0),2)","v":1165363},{"$f":"INDEX(Data_land,MATCH(Skyggetabeller!F222,Data!landaar,0),2)","v":1165475},{"$f":"INDEX(Data_land,MATCH(Skyggetabeller!G222,Data!landaar,0),2)","v":1162195},{"$f":"INDEX(Data_land,MATCH(Skyggetabeller!H222,Data!landaar,0),2)","v":1160360},{"$f":"INDEX(Data_land,MATCH(Skyggetabeller!I222,Data!landaar,0),2)","v":1156537},{"$f":"INDEX(Data_land,MATCH(Skyggetabeller!J222,Data!landaar,0),2)","v":1156116},{"$f":"INDEX(Data_land,MATCH(Skyggetabeller!K222,Data!landaar,0),2)","v":1153027},{"$f":"INDEX(Data_land,MATCH(Skyggetabeller!L222,Data!landaar,0),2)","v":1152972},{"$f":"INDEX(Data_land,MATCH(Skyggetabeller!M222,Data!landaar,0),2)","v":1151374},{"$f":"INDEX(Data_land,MATCH(Skyggetabeller!N222,Data!landaar,0),2)","v":1151704},{"$f":"INDEX(Data_land,MATCH(Skyggetabeller!O222,Data!landaar,0),2)","v":1157254},{"$f":"INDEX(Data_land,MATCH(Skyggetabeller!P222,Data!landaar,0),2)","v":1155814},{"$f":"INDEX(Data_land,MATCH(Skyggetabeller!Q222,Data!landaar,0),2)","v":1151415},{"$f":"INDEX(Data_land,MATCH(Skyggetabeller!R222,Data!landaar,0),2)","v":1148490}]
[null,"Andel",null,{"$f":"IFERROR(IF(D232=\"*\",\"*\",IF(D233=0,\"#I/T\",(D232/D233*1000))),\"Data ikke tilføjet\")","v":0.30987818021042607},0.29175458633919216,0.27714022179797937,0.2202728457788925,0.2206211865283188,0.1954109552915298,0.22056610236343066,0.20554592390290949,0.21596361403399214,{"$f":"IFERROR(IF(M232=\"*\",\"*\",IF(M233=0,\"#I/T\",(M232/M233*1000))),\"Data ikke tilføjet\")","v":0.21018365882849535},0.2179379423879747,0.21343628969958192,0.21370220467999176,0.21017617453307452,0.22986704281273673]
[]
[null,"Tabel 5.3: Modtagere af ikke-forældrerettede forebyggende foranstaltninger"]
[null,"Nøgletal 5.3: \nBørn og unge, der modtager ikke-forældrerettede forebyggende foranstaltninger",null,"2017-01-01","2017-07-01","2018-01-01","2018-07-01","2019-01-01","2019-07-01","2020-01-01","2020-07-01","2021-01-01","2021-07-01","2022-01-01","2022-07-01","2023-01-01","2023-07-01","2024-01-01"]
[null,{"$f":"IF(Kommune=\"\",\"Kommune\",Kommune)","v":"København"}]
[null,"Antal modtagere",null,{"$f":"IFERROR(IF(INDEX(Data_kom2,MATCH(1,(komnavn2=Kommune)*(komaar2=D237),0),17)=\"*\",\"*\",INDEX(Data_kom2,MATCH(1,(komnavn2=Kommune)*(komaar2=D237),0),17)),\"Data ikke tilføjet\")","v":1887},{"$f":"IFERROR(IF(INDEX(Data_kom2,MATCH(1,(komnavn2=Kommune)*(komaar2=E237),0),17)=\"*\",\"*\",INDEX(Data_kom2,MATCH(1,(komnavn2=Kommune)*(komaar2=E237),0),17)),\"Data ikke tilføjet\")","v":1622},{"$f":"IFERROR(IF(INDEX(Data_kom2,MATCH(1,(komnavn2=Kommune)*(komaar2=F237),0),17)=\"*\",\"*\",INDEX(Data_kom2,MATCH(1,(komnavn2=Kommune)*(komaar2=F237),0),17)),\"Data ikke tilføjet\")","v":1428},{"$f":"IFERROR(IF(INDEX(Data_kom2,MATCH(1,(komnavn2=Kommune)*(komaar2=G237),0),17)=\"*\",\"*\",INDEX(Data_kom2,MATCH(1,(komnavn2=Kommune)*(komaar2=G237),0),17)),\"Data ikke tilføjet\")","v":1909},{"$f":"IFERROR(IF(INDEX(Data_kom2,MATCH(1,(komnavn2=Kommune)*(komaar2=H237),0),17)=\"*\",\"*\",INDEX(Data_kom2,MATCH(1,(komnavn2=Kommune)*(komaar2=H237),0),17)),\"Data ikke tilføjet\")","v":2130},{"$f":"IFERROR(IF(INDEX(Data_kom2,MATCH(1,(komnavn2=Kommune)*(komaar2=I237),0),17)=\"*\",\"*\",INDEX(Data_kom2,MATCH(1,(komnavn2=Kommune)*(komaar2=I237),0),17)),\"Data ikke tilføjet\")","v":2122},{"$f":"IFERROR(IF(INDEX(Data_kom2,MATCH(1,(komnavn2=Kommune)*(komaar2=J237),0),17)=\"*\",\"*\",INDEX(Data_kom2,MATCH(1,(komnavn2=Kommune)*(komaar2=J237),0),17)),\"Data ikke tilføjet\")","v":2083},{"$f":"IFERROR(IF(INDEX(Data_kom2,MATCH(1,(komnavn2=Kommune)*(komaar2=K237),0),17)=\"*\",\"*\",INDEX(Data_kom2,MATCH(1,(komnavn2=Kommune)*(komaar2=K237),0),17)),\"Data ikke tilføjet\")","v":2082},{"$f":"IFERROR(IF(INDEX(Data_kom2,MATCH(1,(komnavn2=Kommune)*(komaar2=L237),0),17)=\"*\",\"*\",INDEX(Data_kom2,MATCH(1,(komnavn2=Kommune)*(komaar2=L237),0),17)),\"Data ikke tilføjet\")","v":2003},{"$f":"IFERROR(IF(INDEX(Data_kom2,MATCH(1,(komnavn2=Kommune)*(komaar2=M237),0),17)=\"*\",\"*\",INDEX(Data_kom2,MATCH(1,(komnavn2=Kommune)*(komaar2=M237),0),17)),\"Data ikke tilføjet\")","v":2268},{"$f":"IFERROR(IF(INDEX(Data_kom2,MATCH(1,(komnavn2=Kommune)*(komaar2=N237),0),17)=\"*\",\"*\",INDEX(Data_kom2,MATCH(1,(komnavn2=Kommune)*(komaar2=N237),0),17)),\"Data ikke tilføjet\")","v":2267},{"$f":"IFERROR(IF(INDEX(Data_kom2,MATCH(1,(komnavn2=Kommune)*(komaar2=O237),0),17)=\"*\",\"*\",INDEX(Data_kom2,MATCH(1,(komnavn2=Kommune)*(komaar2=O237),0),17)),\"Data ikke tilføjet\")","v":2396},{"$f":"IFERROR(IF(INDEX(Data_kom2,MATCH(1,(komnavn2=Kommune)*(komaar2=P237),0),17)=\"*\",\"*\",INDEX(Data_kom2,MATCH(1,(komnavn2=Kommune)*(komaar2=P237),0),17)),\"Data ikke tilføjet\")","v":2419},{"$f":"IFERROR(IF(INDEX(Data_kom2,MATCH(1,(komnavn2=Kommune)*(komaar2=Q237),0),17)=\"*\",\"*\",INDEX(Data_kom2,MATCH(1,(komnavn2=Kommune)*(komaar2=Q237),0),17)),\"Data ikke tilføjet\")","v":2395},{"$f":"IFERROR(IF(INDEX(Data_kom2,MATCH(1,(komnavn2=Kommune)*(komaar2=R237),0),17)=\"*\",\"*\",INDEX(Data_kom2,MATCH(1,(komnavn2=Kommune)*(komaar2=R237),0),17)),\"Data ikke tilføjet\")","v":2362}]
[null,"Antal 0-17-årige",null,{"$f":"IFERROR(INDEX(Data_kom2,MATCH(1,(komnavn2=Kommune)*(komaar2=D237),0),2),\"Data ikke tilføjet\")","v":105885},{"$f":"IFERROR(INDEX(Data_kom2,MATCH(1,(komnavn2=Kommune)*(komaar2=E237),0),2),\"Data ikke tilføjet\")","v":106913},{"$f":"IFERROR(INDEX(Data_kom2,MATCH(1,(komnavn2=Kommune)*(komaar2=F237),0),2),\"Data ikke tilføjet\")","v":107770},{"$f":"IFERROR(INDEX(Data_kom2,MATCH(1,(komnavn2=Kommune)*(komaar2=G237),0),2),\"Data ikke tilføjet\")","v":108734},{"$f":"IFERROR(INDEX(Data_kom2,MATCH(1,(komnavn2=Kommune)*(komaar2=H237),0),2),\"Data ikke tilføjet\")","v":109335},{"$f":"IFERROR(INDEX(Data_kom2,MATCH(1,(komnavn2=Kommune)*(komaar2=I237),0),2),\"Data ikke tilføjet\")","v":110138},{"$f":"IFERROR(INDEX(Data_kom2,MATCH(1,(komnavn2=Kommune)*(komaar2=J237),0),2),\"Data ikke tilføjet\")","v":110822},{"$f":"IFERROR(INDEX(Data_kom2,MATCH(1,(komnavn2=Kommune)*(komaar2=K237),0),2),\"Data ikke tilføjet\")","v":111068},{"$f":"IFERROR(INDEX(Data_kom2,MATCH(1,(komnavn2=Kommune)*(komaar2=L237),0),2),\"Data ikke tilføjet\")","v":110927},{"$f":"IFERROR(INDEX(Data_kom2,MATCH(1,(komnavn2=Kommune)*(komaar2=M237),0),2),\"Data ikke tilføjet\")","v":110614},{"$f":"IFERROR(INDEX(Data_kom2,MATCH(1,(komnavn2=Kommune)*(komaar2=N237),0),2),\"Data ikke tilføjet\")","v":110513},{"$f":"IFERROR(INDEX(Data_kom2,MATCH(1,(komnavn2=Kommune)*(komaar2=O237),0),2),\"Data ikke tilføjet\")","v":110692},{"$f":"IFERROR(INDEX(Data_kom2,MATCH(1,(komnavn2=Kommune)*(komaar2=P237),0),2),\"Data ikke tilføjet\")","v":110835},{"$f":"IFERROR(INDEX(Data_kom2,MATCH(1,(komnavn2=Kommune)*(komaar2=Q237),0),2),\"Data ikke tilføjet\")","v":111075},{"$f":"IFERROR(INDEX(Data_kom2,MATCH(1,(komnavn2=Kommune)*(komaar2=R237),0),2),\"Data ikke tilføjet\")","v":110571}]
[null,"Andel",null,{"$f":"IFERROR(IF(D239=\"*\",\"*\",IF(D240=0,\"#I/T\",(D239/D240*1000))),\"Data ikke tilføjet\")","v":17.821221136138263},15.171213977720203,13.250440753456434,17.556606029392832,19.481410344354508,19.266738092211586,18.795906949883598,18.745273165988404,18.056920316965211,{"$f":"IFERROR(IF(M239=\"*\",\"*\",IF(M240=0,\"#I/T\",(M239/M240*1000))),\"Data ikke tilføjet\")","v":20.503733704594353},20.513423760100622,21.645647381924622,21.825235710741193,21.562007652487058,21.361839903772239]
[null,"Sammenligningsgruppe, gns."]
[null,"Antal modtagere",null,{"$f":"IF('Dine valg'!$G$24=\"\",\"-\",SUMIF(Hjælpefane!$D$7:$D$111,\"=\"&D$9,Hjælpefane!$R$7:$R$111))","v":1090},{"$f":"IF('Dine valg'!$G$24=\"\",\"-\",SUMIF(Hjælpefane!$D$7:$D$111,\"=\"&E$9,Hjælpefane!$R$7:$R$111))","v":1034},{"$f":"IF('Dine valg'!$G$24=\"\",\"-\",SUMIF(Hjælpefane!$D$7:$D$111,\"=\"&F$9,Hjælpefane!$R$7:$R$111))","v":1125},{"$f":"IF('Dine valg'!$G$24=\"\",\"-\",SUMIF(Hjælpefane!$D$7:$D$111,\"=\"&G$9,Hjælpefane!$R$7:$R$111))","v":1168},{"$f":"IF('Dine valg'!$G$24=\"\",\"-\",SUMIF(Hjælpefane!$D$7:$D$111,\"=\"&H$9,Hjælpefane!$R$7:$R$111))","v":1274},{"$f":"IF('Dine valg'!$G$24=\"\",\"-\",SUMIF(Hjælpefane!$D$7:$D$111,\"=\"&I$9,Hjælpefane!$R$7:$R$111))","v":1273},{"$f":"IF('Dine valg'!$G$24=\"\",\"-\",SUMIF(Hjælpefane!$D$7:$D$111,\"=\"&J$9,Hjælpefane!$R$7:$R$111))","v":1274},{"$f":"IF('Dine valg'!$G$24=\"\",\"-\",SUMIF(Hjælpefane!$D$7:$D$111,\"=\"&K$9,Hjælpefane!$R$7:$R$111))","v":1250},{"$f":"IF('Dine valg'!$G$24=\"\",\"-\",SUMIF(Hjælpefane!$D$7:$D$111,\"=\"&L$9,Hjælpefane!$R$7:$R$111))","v":1231},{"$f":"IF('Dine valg'!$G$24=\"\",\"-\",SUMIF(Hjælpefane!$D$7:$D$111,\"=\"&M$9,Hjælpefane!$R$7:$R$111))","v":1207},{"$f":"IF('Dine valg'!$G$24=\"\",\"-\",SUMIF(Hjælpefane!$D$7:$D$111,\"=\"&N$9,Hjælpefane!$R$7:$R$111))","v":1130},{"$f":"IF('Dine valg'!$G$24=\"\",\"-\",SUMIF(Hjælpefane!$D$7:$D$111,\"=\"&O$9,Hjælpefane!$R$7:$R$111))","v":1101},{"$f":"IF('Dine valg'!$G$24=\"\",\"-\",SUMIF(Hjælpefane!$D$7:$D$111,\"=\"&P$9,Hjælpefane!$R$7:$R$111))","v":1081},{"$f":"IF('Dine valg'!$G$24=\"\",\"-\",SUMIF(Hjælpefane!$D$7:$D$111,\"=\"&Q$9,Hjælpefane!$R$7:$R$111))","v":1047},{"$f":"IF('Dine valg'!$G$24=\"\",\"-\",SUMIF(Hjælpefane!$D$7:$D$111,\"=\"&R$9,Hjælpefane!$R$7:$R$111))","v":993}]
[null,"Antal 0-17-årige",null,{"$f":"IF('Dine valg'!$G$24=\"\",\"-\",SUMIF(Hjælpefane!$D$7:$D$111,\"=\"&D$9,Hjælpefane!$C$7:$C$111))","v":62903},{"$f":"IF('Dine valg'!$G$24=\"\",\"-\",SUMIF(Hjælpefane!$D$7:$D$111,\"=\"&E$9,Hjælpefane!$C$7:$C$111))","v":63077},{"$f":"IF('Dine valg'!$G$24=\"\",\"-\",SUMIF(Hjælpefane!$D$7:$D$111,\"=\"&F$9,Hjælpefane!$C$7:$C$111))","v":63245},{"$f":"IF('Dine valg'!$G$24=\"\",\"-\",SUMIF(Hjælpefane!$D$7:$D$111,\"=\"&G$9,Hjælpefane!$C$7:$C$111))","v":63510},{"$f":"IF('Dine valg'!$G$24=\"\",\"-\",SUMIF(Hjælpefane!$D$7:$D$111,\"=\"&H$9,Hjælpefane!$C$7:$C$111))","v":63607},{"$f":"IF('Dine valg'!$G$24=\"\",\"-\",SUMIF(Hjælpefane!$D$7:$D$111,\"=\"&I$9,Hjælpefane!$C$7:$C$111))","v":63704},{"$f":"IF('Dine valg'!$G$24=\"\",\"-\",SUMIF(Hjælpefane!$D$7:$D$111,\"=\"&J$9,Hjælpefane!$C$7:$C$111))","v":63890},{"$f":"IF('Dine valg'!$G$24=\"\",\"-\",SUMIF(Hjælpefane!$D$7:$D$111,\"=\"&K$9,Hjælpefane!$C$7:$C$111))","v":64128},{"$f":"IF('Dine valg'!$G$24=\"\",\"-\",SUMIF(Hjælpefane!$D$7:$D$111,\"=\"&L$9,Hjælpefane!$C$7:$C$111))","v":64334},{"$f":"IF('Dine valg'!$G$24=\"\",\"-\",SUMIF(Hjælpefane!$D$7:$D$111,\"=\"&M$9,Hjælpefane!$C$7:$C$111))","v":64307},{"$f":"IF('Dine valg'!$G$24=\"\",\"-\",SUMIF(Hjælpefane!$D$7:$D$111,\"=\"&N$9,Hjælpefane!$C$7:$C$111))","v":64049},{"$f":"IF('Dine valg'!$G$24=\"\",\"-\",SUMIF(Hjælpefane!$D$7:$D$111,\"=\"&O$9,Hjælpefane!$C$7:$C$111))","v":64356},{"$f":"IF('Dine valg'!$G$24=\"\",\"-\",SUMIF(Hjælpefane!$D$7:$D$111,\"=\"&P$9,Hjælpefane!$C$7:$C$111))","v":64420},{"$f":"IF('Dine valg'!$G$24=\"\",\"-\",SUMIF(Hjælpefane!$D$7:$D$111,\"=\"&Q$9,Hjælpefane!$C$7:$C$111))","v":64601},{"$f":"IF('Dine valg'!$G$24=\"\",\"-\",SUMIF(Hjælpefane!$D$7:$D$111,\"=\"&R$9,Hjælpefane!$C$7:$C$111))","v":64665}]
[null,"Andel",null,{"$f":"IFERROR(IF(D243=\"*\",\"*\",IF(D244=\"\",\"Indtast data\",(D243/D244*1000))),\"-\")","v":17.328267332241705},{"$f":"IFERROR(IF(E243=\"*\",\"*\",IF(E244=\"\",\"Indtast data\",(E243/E244*1000))),\"-\")","v":16.392662935776904},{"$f":"IFERROR(IF(F243=\"*\",\"*\",IF(F244=\"\",\"Indtast data\",(F243/F244*1000))),\"-\")","v":17.787967428255197},{"$f":"IFERROR(IF(G243=\"*\",\"*\",IF(G244=\"\",\"Indtast data\",(G243/G244*1000))),\"-\")","v":18.390804597701148},{"$f":"IFERROR(IF(H243=\"*\",\"*\",IF(H244=\"\",\"Indtast data\",(H243/H244*1000))),\"-\")","v":20.029242064552644},{"$f":"IFERROR(IF(I243=\"*\",\"*\",IF(I244=\"\",\"Indtast data\",(I243/I244*1000))),\"-\")","v":19.983046590480974},{"$f":"IFERROR(IF(J243=\"*\",\"*\",IF(J244=\"\",\"Indtast data\",(J243/J244*1000))),\"-\")","v":19.940522773516982},{"$f":"IFERROR(IF(K243=\"*\",\"*\",IF(K244=\"\",\"Indtast data\",(K243/K244*1000))),\"-\")","v":19.492265469061877},{"$f":"IFERROR(IF(L243=\"*\",\"*\",IF(L244=\"\",\"Indtast data\",(L243/L244*1000))),\"-\")","v":19.134516740759164},18.769340818262396,17.642742275445361,17.107961961588664,16.780502949394595,16.207179455426385,15.356065877986547]
[null,"Hele landet"]
[null,"Antal modtagere",null,{"$f":"INDEX(Data_land,MATCH(Skyggetabeller!D237,Data!landaar,0),17)","v":22944},{"$f":"INDEX(Data_land,MATCH(Skyggetabeller!E237,Data!landaar,0),17)","v":22668},{"$f":"INDEX(Data_land,MATCH(Skyggetabeller!F237,Data!landaar,0),17)","v":22731},{"$f":"INDEX(Data_land,MATCH(Skyggetabeller!G237,Data!landaar,0),17)","v":22685},{"$f":"INDEX(Data_land,MATCH(Skyggetabeller!H237,Data!landaar,0),17)","v":23481},{"$f":"INDEX(Data_land,MATCH(Skyggetabeller!I237,Data!landaar,0),17)","v":23358},{"$f":"INDEX(Data_land,MATCH(Skyggetabeller!J237,Data!landaar,0),17)","v":24142},{"$f":"INDEX(Data_land,MATCH(Skyggetabeller!K237,Data!landaar,0),17)","v":24211},{"$f":"INDEX(Data_land,MATCH(Skyggetabeller!L237,Data!landaar,0),17)","v":24678},{"$f":"INDEX(Data_land,MATCH(Skyggetabeller!M237,Data!landaar,0),17)","v":25657},{"$f":"INDEX(Data_land,MATCH(Skyggetabeller!N237,Data!landaar,0),17)","v":26024},{"$f":"INDEX(Data_land,MATCH(Skyggetabeller!O237,Data!landaar,0),17)","v":26344},{"$f":"INDEX(Data_land,MATCH(Skyggetabeller!P237,Data!landaar,0),17)","v":26869},{"$f":"INDEX(Data_land,MATCH(Skyggetabeller!Q237,Data!landaar,0),17)","v":27053},{"$f":"INDEX(Data_land,MATCH(Skyggetabeller!R237,Data!landaar,0),17)","v":26668}]
[null,"Antal 0-17-årige",null,{"$f":"INDEX(Data_land,MATCH(Skyggetabeller!D237,Data!landaar,0),2)","v":1168201},{"$f":"INDEX(Data_land,MATCH(Skyggetabeller!E237,Data!landaar,0),2)","v":1165363},{"$f":"INDEX(Data_land,MATCH(Skyggetabeller!F237,Data!landaar,0),2)","v":1165475},{"$f":"INDEX(Data_land,MATCH(Skyggetabeller!G237,Data!landaar,0),2)","v":1162195},{"$f":"INDEX(Data_land,MATCH(Skyggetabeller!H237,Data!landaar,0),2)","v":1160360},{"$f":"INDEX(Data_land,MATCH(Skyggetabeller!I237,Data!landaar,0),2)","v":1156537},{"$f":"INDEX(Data_land,MATCH(Skyggetabeller!J237,Data!landaar,0),2)","v":1156116},{"$f":"INDEX(Data_land,MATCH(Skyggetabeller!K237,Data!landaar,0),2)","v":1153027},{"$f":"INDEX(Data_land,MATCH(Skyggetabeller!L237,Data!landaar,0),2)","v":1152972},{"$f":"INDEX(Data_land,MATCH(Skyggetabeller!M237,Data!landaar,0),2)","v":1151374},{"$f":"INDEX(Data_land,MATCH(Skyggetabeller!N237,Data!landaar,0),2)","v":1151704},{"$f":"INDEX(Data_land,MATCH(Skyggetabeller!O237,Data!landaar,0),2)","v":1157254},{"$f":"INDEX(Data_land,MATCH(Skyggetabeller!P237,Data!landaar,0),2)","v":1155814},{"$f":"INDEX(Data_land,MATCH(Skyggetabeller!Q237,Data!landaar,0),2)","v":1151415},{"$f":"INDEX(Data_land,MATCH(Skyggetabeller!R237,Data!landaar,0),2)","v":1148490}]
[null,"Andel",null,{"$f":"IFERROR(IF(D247=\"*\",\"*\",IF(D248=0,\"#I/T\",(D247/D248*1000))),\"Data ikke tilføjet\")","v":19.640455709248663},19.451449891578847,19.503635856624982,19.519099634742879,20.235961253404117,20.19650041459979,20.881987620619384,20.997773686132241,21.403815530646018,{"$f":"IFERROR(IF(M247=\"*\",\"*\",IF(M248=0,\"#I/T\",(M247/M248*1000))),\"Data ikke tilføjet\")","v":22.283810473399608},22.596083715954794,22.764233262533548,23.246819990067607,23.495438221666383,23.220054158068418]
[]
[null,"Tabel 5.4: Modtagere af forældrerettede indsatser"]
[null,"Nøgletal 5.4: \nModtagere af forældrerettede indsatser",null,"2017-01-01","2017-07-01","2018-01-01","2018-07-01","2019-01-01","2019-07-01","2020-01-01","2020-07-01","2021-01-01","2021-07-01","2022-01-01","2022-07-01","2023-01-01","2023-07-01","2024-01-01"]
[null,{"$f":"IF(Kommune=\"\",\"Kommune\",Kommune)","v":"København"}]
[null,"Antal modtagere",null,{"$f":"IFERROR(IF(INDEX(Data_kom2,MATCH(1,(komnavn2=Kommune)*(komaar2=D252),0),18)=\"*\",\"*\",INDEX(Data_kom2,MATCH(1,(komnavn2=Kommune)*(komaar2=D252),0),18)),\"Data ikke tilføjet\")","v":5},{"$f":"IFERROR(IF(INDEX(Data_kom2,MATCH(1,(komnavn2=Kommune)*(komaar2=E252),0),18)=\"*\",\"*\",INDEX(Data_kom2,MATCH(1,(komnavn2=Kommune)*(komaar2=E252),0),18)),\"Data ikke tilføjet\")","v":3},{"$f":"IFERROR(IF(INDEX(Data_kom2,MATCH(1,(komnavn2=Kommune)*(komaar2=F252),0),18)=\"*\",\"*\",INDEX(Data_kom2,MATCH(1,(komnavn2=Kommune)*(komaar2=F252),0),18)),\"Data ikke tilføjet\")","v":4},{"$f":"IFERROR(IF(INDEX(Data_kom2,MATCH(1,(komnavn2=Kommune)*(komaar2=G252),0),18)=\"*\",\"*\",INDEX(Data_kom2,MATCH(1,(komnavn2=Kommune)*(komaar2=G252),0),18)),\"Data ikke tilføjet\")","v":3},{"$f":"IFERROR(IF(INDEX(Data_kom2,MATCH(1,(komnavn2=Kommune)*(komaar2=H252),0),18)=\"*\",\"*\",INDEX(Data_kom2,MATCH(1,(komnavn2=Kommune)*(komaar2=H252),0),18)),\"Data ikke tilføjet\")","v":3},{"$f":"IFERROR(IF(INDEX(Data_kom2,MATCH(1,(komnavn2=Kommune)*(komaar2=I252),0),18)=\"*\",\"*\",INDEX(Data_kom2,MATCH(1,(komnavn2=Kommune)*(komaar2=I252),0),18)),\"Data ikke tilføjet\")","v":3},{"$f":"IFERROR(IF(INDEX(Data_kom2,MATCH(1,(komnavn2=Kommune)*(komaar2=J252),0),18)=\"*\",\"*\",INDEX(Data_kom2,MATCH(1,(komnavn2=Kommune)*(komaar2=J252),0),18)),\"Data ikke tilføjet\")","v":5},{"$f":"IFERROR(IF(INDEX(Data_kom2,MATCH(1,(komnavn2=Kommune)*(komaar2=K252),0),18)=\"*\",\"*\",INDEX(Data_kom2,MATCH(1,(komnavn2=Kommune)*(komaar2=K252),0),18)),\"Data ikke tilføjet\")","v":9},{"$f":"IFERROR(IF(INDEX(Data_kom2,MATCH(1,(komnavn2=Kommune)*(komaar2=L252),0),18)=\"*\",\"*\",INDEX(Data_kom2,MATCH(1,(komnavn2=Kommune)*(komaar2=L252),0),18)),\"Data ikke tilføjet\")","v":12},{"$f":"IFERROR(IF(INDEX(Data_kom2,MATCH(1,(komnavn2=Kommune)*(komaar2=M252),0),18)=\"*\",\"*\",INDEX(Data_kom2,MATCH(1,(komnavn2=Kommune)*(komaar2=M252),0),18)),\"Data ikke tilføjet\")","v":"*"},{"$f":"IFERROR(IF(INDEX(Data_kom2,MATCH(1,(komnavn2=Kommune)*(komaar2=N252),0),18)=\"*\",\"*\",INDEX(Data_kom2,MATCH(1,(komnavn2=Kommune)*(komaar2=N252),0),18)),\"Data ikke tilføjet\")","v":13},{"$f":"IFERROR(IF(INDEX(Data_kom2,MATCH(1,(komnavn2=Kommune)*(komaar2=O252),0),18)=\"*\",\"*\",INDEX(Data_kom2,MATCH(1,(komnavn2=Kommune)*(komaar2=O252),0),18)),\"Data ikke tilføjet\")","v":13},{"$f":"IFERROR(IF(INDEX(Data_kom2,MATCH(1,(komnavn2=Kommune)*(komaar2=P252),0),18)=\"*\",\"*\",INDEX(Data_kom2,MATCH(1,(komnavn2=Kommune)*(komaar2=P252),0),18)),\"Data ikke tilføjet\")","v":17},{"$f":"IFERROR(IF(INDEX(Data_kom2,MATCH(1,(komnavn2=Kommune)*(komaar2=Q252),0),18)=\"*\",\"*\",INDEX(Data_kom2,MATCH(1,(komnavn2=Kommune)*(komaar2=Q252),0),18)),\"Data ikke tilføjet\")","v":14},{"$f":"IFERROR(IF(INDEX(Data_kom2,MATCH(1,(komnavn2=Kommune)*(komaar2=R252),0),18)=\"*\",\"*\",INDEX(Data_kom2,MATCH(1,(komnavn2=Kommune)*(komaar2=R252),0),18)),\"Data ikke tilføjet\")","v":16}]
[null,"Antal 0-17-årige",null,{"$f":"IFERROR(INDEX(Data_kom2,MATCH(1,(komnavn2=Kommune)*(komaar2=D252),0),2),\"Data ikke tilføjet\")","v":105885},{"$f":"IFERROR(INDEX(Data_kom2,MATCH(1,(komnavn2=Kommune)*(komaar2=E252),0),2),\"Data ikke tilføjet\")","v":106913},{"$f":"IFERROR(INDEX(Data_kom2,MATCH(1,(komnavn2=Kommune)*(komaar2=F252),0),2),\"Data ikke tilføjet\")","v":107770},{"$f":"IFERROR(INDEX(Data_kom2,MATCH(1,(komnavn2=Kommune)*(komaar2=G252),0),2),\"Data ikke tilføjet\")","v":108734},{"$f":"IFERROR(INDEX(Data_kom2,MATCH(1,(komnavn2=Kommune)*(komaar2=H252),0),2),\"Data ikke tilføjet\")","v":109335},{"$f":"IFERROR(INDEX(Data_kom2,MATCH(1,(komnavn2=Kommune)*(komaar2=I252),0),2),\"Data ikke tilføjet\")","v":110138},{"$f":"IFERROR(INDEX(Data_kom2,MATCH(1,(komnavn2=Kommune)*(komaar2=J252),0),2),\"Data ikke tilføjet\")","v":110822},{"$f":"IFERROR(INDEX(Data_kom2,MATCH(1,(komnavn2=Kommune)*(komaar2=K252),0),2),\"Data ikke tilføjet\")","v":111068},{"$f":"IFERROR(INDEX(Data_kom2,MATCH(1,(komnavn2=Kommune)*(komaar2=L252),0),2),\"Data ikke tilføjet\")","v":110927},{"$f":"IFERROR(INDEX(Data_kom2,MATCH(1,(komnavn2=Kommune)*(komaar2=M252),0),2),\"Data ikke tilføjet\")","v":110614},{"$f":"IFERROR(INDEX(Data_kom2,MATCH(1,(komnavn2=Kommune)*(komaar2=N252),0),2),\"Data ikke tilføjet\")","v":110513},{"$f":"IFERROR(INDEX(Data_kom2,MATCH(1,(komnavn2=Kommune)*(komaar2=O252),0),2),\"Data ikke tilføjet\")","v":110692},{"$f":"IFERROR(INDEX(Data_kom2,MATCH(1,(komnavn2=Kommune)*(komaar2=P252),0),2),\"Data ikke tilføjet\")","v":110835},{"$f":"IFERROR(INDEX(Data_kom2,MATCH(1,(komnavn2=Kommune)*(komaar2=Q252),0),2),\"Data ikke tilføjet\")","v":111075},{"$f":"IFERROR(INDEX(Data_kom2,MATCH(1,(komnavn2=Kommune)*(komaar2=R252),0),2),\"Data ikke tilføjet\")","v":110571}]
[null,"Andel",null,{"$f":"IFERROR(IF(D254=\"*\",\"*\",IF(D255=0,\"#I/T\",(D254/D255*1000))),\"Data ikke tilføjet\")","v":4.7221041696179814E-2},2.8060198479137242E-2,3.7116080541894775E-2,2.7590266154100831E-2,2.7438606118809165E-2,2.723855526702864E-2,4.511739546299471E-2,8.1031440198797142E-2,0.10817925302225788,{"$f":"IFERROR(IF(M254=\"*\",\"*\",IF(M255=0,\"#I/T\",(M254/M255*1000))),\"Data ikke tilføjet\")","v":"*"},0.11763321962122103,0.11744299497705345,0.15338115216312537,0.12604096331307674,0.14470340324316502]
[null,"Sammenligningsgruppe, gns."]
[null,"Antal modtagere",null,{"$f":"IF('Dine valg'!$G$24=\"\",\"-\",SUMIF(Hjælpefane!$D$7:$D$111,\"=\"&D$9,Hjælpefane!$S$7:$S$111))","v":0},{"$f":"IF('Dine valg'!$G$24=\"\",\"-\",SUMIF(Hjælpefane!$D$7:$D$111,\"=\"&E$9,Hjælpefane!$S$7:$S$111))","v":0},{"$f":"IF('Dine valg'!$G$24=\"\",\"-\",SUMIF(Hjælpefane!$D$7:$D$111,\"=\"&F$9,Hjælpefane!$S$7:$S$111))","v":0},{"$f":"IF('Dine valg'!$G$24=\"\",\"-\",SUMIF(Hjælpefane!$D$7:$D$111,\"=\"&G$9,Hjælpefane!$S$7:$S$111))","v":13},{"$f":"IF('Dine valg'!$G$24=\"\",\"-\",SUMIF(Hjælpefane!$D$7:$D$111,\"=\"&H$9,Hjælpefane!$S$7:$S$111))","v":11},{"$f":"IF('Dine valg'!$G$24=\"\",\"-\",SUMIF(Hjælpefane!$D$7:$D$111,\"=\"&I$9,Hjælpefane!$S$7:$S$111))","v":8},{"$f":"IF('Dine valg'!$G$24=\"\",\"-\",SUMIF(Hjælpefane!$D$7:$D$111,\"=\"&J$9,Hjælpefane!$S$7:$S$111))","v":8},{"$f":"IF('Dine valg'!$G$24=\"\",\"-\",SUMIF(Hjælpefane!$D$7:$D$111,\"=\"&K$9,Hjælpefane!$S$7:$S$111))","v":8},{"$f":"IF('Dine valg'!$G$24=\"\",\"-\",SUMIF(Hjælpefane!$D$7:$D$111,\"=\"&L$9,Hjælpefane!$S$7:$S$111))","v":11},{"$f":"IF('Dine valg'!$G$24=\"\",\"-\",SUMIF(Hjælpefane!$D$7:$D$111,\"=\"&M$9,Hjælpefane!$S$7:$S$111))","v":10},{"$f":"IF('Dine valg'!$G$24=\"\",\"-\",SUMIF(Hjælpefane!$D$7:$D$111,\"=\"&N$9,Hjælpefane!$S$7:$S$111))","v":14},{"$f":"IF('Dine valg'!$G$24=\"\",\"-\",SUMIF(Hjælpefane!$D$7:$D$111,\"=\"&O$9,Hjælpefane!$S$7:$S$111))","v":10},{"$f":"IF('Dine valg'!$G$24=\"\",\"-\",SUMIF(Hjælpefane!$D$7:$D$111,\"=\"&P$9,Hjælpefane!$S$7:$S$111))","v":13},{"$f":"IF('Dine valg'!$G$24=\"\",\"-\",SUMIF(Hjælpefane!$D$7:$D$111,\"=\"&Q$9,Hjælpefane!$S$7:$S$111))","v":10},{"$f":"IF('Dine valg'!$G$24=\"\",\"-\",SUMIF(Hjælpefane!$D$7:$D$111,\"=\"&R$9,Hjælpefane!$S$7:$S$111))","v":14}]
[null,"Antal 0-17-årige",null,{"$f":"IF('Dine valg'!$G$24=\"\",\"-\",SUMIF(Hjælpefane!$D$7:$D$111,\"=\"&D$9,Hjælpefane!$C$7:$C$111))","v":62903},{"$f":"IF('Dine valg'!$G$24=\"\",\"-\",SUMIF(Hjælpefane!$D$7:$D$111,\"=\"&E$9,Hjælpefane!$C$7:$C$111))","v":63077},{"$f":"IF('Dine valg'!$G$24=\"\",\"-\",SUMIF(Hjælpefane!$D$7:$D$111,\"=\"&F$9,Hjælpefane!$C$7:$C$111))","v":63245},{"$f":"IF('Dine valg'!$G$24=\"\",\"-\",SUMIF(Hjælpefane!$D$7:$D$111,\"=\"&G$9,Hjælpefane!$C$7:$C$111))","v":63510},{"$f":"IF('Dine valg'!$G$24=\"\",\"-\",SUMIF(Hjælpefane!$D$7:$D$111,\"=\"&H$9,Hjælpefane!$C$7:$C$111))","v":63607},{"$f":"IF('Dine valg'!$G$24=\"\",\"-\",SUMIF(Hjælpefane!$D$7:$D$111,\"=\"&I$9,Hjælpefane!$C$7:$C$111))","v":63704},{"$f":"IF('Dine valg'!$G$24=\"\",\"-\",SUMIF(Hjælpefane!$D$7:$D$111,\"=\"&J$9,Hjælpefane!$C$7:$C$111))","v":63890},{"$f":"IF('Dine valg'!$G$24=\"\",\"-\",SUMIF(Hjælpefane!$D$7:$D$111,\"=\"&K$9,Hjælpefane!$C$7:$C$111))","v":64128},{"$f":"IF('Dine valg'!$G$24=\"\",\"-\",SUMIF(Hjælpefane!$D$7:$D$111,\"=\"&L$9,Hjælpefane!$C$7:$C$111))","v":64334},{"$f":"IF('Dine valg'!$G$24=\"\",\"-\",SUMIF(Hjælpefane!$D$7:$D$111,\"=\"&M$9,Hjælpefane!$C$7:$C$111))","v":64307},{"$f":"IF('Dine valg'!$G$24=\"\",\"-\",SUMIF(Hjælpefane!$D$7:$D$111,\"=\"&N$9,Hjælpefane!$C$7:$C$111))","v":64049},{"$f":"IF('Dine valg'!$G$24=\"\",\"-\",SUMIF(Hjælpefane!$D$7:$D$111,\"=\"&O$9,Hjælpefane!$C$7:$C$111))","v":64356},{"$f":"IF('Dine valg'!$G$24=\"\",\"-\",SUMIF(Hjælpefane!$D$7:$D$111,\"=\"&P$9,Hjælpefane!$C$7:$C$111))","v":64420},{"$f":"IF('Dine valg'!$G$24=\"\",\"-\",SUMIF(Hjælpefane!$D$7:$D$111,\"=\"&Q$9,Hjælpefane!$C$7:$C$111))","v":64601},{"$f":"IF('Dine valg'!$G$24=\"\",\"-\",SUMIF(Hjælpefane!$D$7:$D$111,\"=\"&R$9,Hjælpefane!$C$7:$C$111))","v":64665}]
[null,"Andel",null,{"$f":"IFERROR(IF(D258=\"*\",\"*\",IF(D259=\"\",\"Indtast data\",(D258/D259*1000))),\"-\")","v":0},{"$f":"IFERROR(IF(E258=\"*\",\"*\",IF(E259=\"\",\"Indtast data\",(E258/E259*1000))),\"-\")","v":0},{"$f":"IFERROR(IF(F258=\"*\",\"*\",IF(F259=\"\",\"Indtast data\",(F258/F259*1000))),\"-\")","v":0},{"$f":"IFERROR(IF(G258=\"*\",\"*\",IF(G259=\"\",\"Indtast data\",(G258/G259*1000))),\"-\")","v":0.20469217446071486},{"$f":"IFERROR(IF(H258=\"*\",\"*\",IF(H259=\"\",\"Indtast data\",(H258/H259*1000))),\"-\")","v":0.17293694090273085},{"$f":"IFERROR(IF(I258=\"*\",\"*\",IF(I259=\"\",\"Indtast data\",(I258/I259*1000))),\"-\")","v":0.12558081125204071},{"$f":"IFERROR(IF(J258=\"*\",\"*\",IF(J259=\"\",\"Indtast data\",(J258/J259*1000))),\"-\")","v":0.12521521364845831},{"$f":"IFERROR(IF(K258=\"*\",\"*\",IF(K259=\"\",\"Indtast data\",(K258/K259*1000))),\"-\")","v":0.124750499001996},{"$f":"IFERROR(IF(L258=\"*\",\"*\",IF(L259=\"\",\"Indtast data\",(L258/L259*1000))),\"-\")","v":0.17098268411726303},0.15550406643133718,0.21858264766038502,0.15538566722605507,0.20180068301769635,0.15479636538134084,0.21650042526869251]
[null,"Hele landet"]
[null,"Antal modtagere",null,{"$f":"INDEX(Data_land,MATCH(Skyggetabeller!D252,Data!landaar,0),18)","v":326},{"$f":"INDEX(Data_land,MATCH(Skyggetabeller!E252,Data!landaar,0),18)","v":295},{"$f":"INDEX(Data_land,MATCH(Skyggetabeller!F252,Data!landaar,0),18)","v":289},{"$f":"INDEX(Data_land,MATCH(Skyggetabeller!G252,Data!landaar,0),18)","v":268},{"$f":"INDEX(Data_land,MATCH(Skyggetabeller!H252,Data!landaar,0),18)","v":233},{"$f":"INDEX(Data_land,MATCH(Skyggetabeller!I252,Data!landaar,0),18)","v":202},{"$f":"INDEX(Data_land,MATCH(Skyggetabeller!J252,Data!landaar,0),18)","v":199},{"$f":"INDEX(Data_land,MATCH(Skyggetabeller!K252,Data!landaar,0),18)","v":199},{"$f":"INDEX(Data_land,MATCH(Skyggetabeller!L252,Data!landaar,0),18)","v":217},{"$f":"INDEX(Data_land,MATCH(Skyggetabeller!M252,Data!landaar,0),18)","v":187},{"$f":"INDEX(Data_land,MATCH(Skyggetabeller!N252,Data!landaar,0),18)","v":182},{"$f":"INDEX(Data_land,MATCH(Skyggetabeller!O252,Data!landaar,0),18)","v":182},{"$f":"INDEX(Data_land,MATCH(Skyggetabeller!P252,Data!landaar,0),18)","v":206},{"$f":"INDEX(Data_land,MATCH(Skyggetabeller!Q252,Data!landaar,0),18)","v":220},{"$f":"INDEX(Data_land,MATCH(Skyggetabeller!R252,Data!landaar,0),18)","v":249}]
[null,"Antal 0-17-årige",null,{"$f":"INDEX(Data_land,MATCH(Skyggetabeller!D252,Data!landaar,0),2)","v":1168201},{"$f":"INDEX(Data_land,MATCH(Skyggetabeller!E252,Data!landaar,0),2)","v":1165363},{"$f":"INDEX(Data_land,MATCH(Skyggetabeller!F252,Data!landaar,0),2)","v":1165475},{"$f":"INDEX(Data_land,MATCH(Skyggetabeller!G252,Data!landaar,0),2)","v":1162195},{"$f":"INDEX(Data_land,MATCH(Skyggetabeller!H252,Data!landaar,0),2)","v":1160360},{"$f":"INDEX(Data_land,MATCH(Skyggetabeller!I252,Data!landaar,0),2)","v":1156537},{"$f":"INDEX(Data_land,MATCH(Skyggetabeller!J252,Data!landaar,0),2)","v":1156116},{"$f":"INDEX(Data_land,MATCH(Skyggetabeller!K252,Data!landaar,0),2)","v":1153027},{"$f":"INDEX(Data_land,MATCH(Skyggetabeller!L252,Data!landaar,0),2)","v":1152972},{"$f":"INDEX(Data_land,MATCH(Skyggetabeller!M252,Data!landaar,0),2)","v":1151374},{"$f":"INDEX(Data_land,MATCH(Skyggetabeller!N252,Data!landaar,0),2)","v":1151704},{"$f":"INDEX(Data_land,MATCH(Skyggetabeller!O252,Data!landaar,0),2)","v":1157254},{"$f":"INDEX(Data_land,MATCH(Skyggetabeller!P252,Data!landaar,0),2)","v":1155814},{"$f":"INDEX(Data_land,MATCH(Skyggetabeller!Q252,Data!landaar,0),2)","v":1151415},{"$f":"INDEX(Data_land,MATCH(Skyggetabeller!R252,Data!landaar,0),2)","v":1148490}]
[null,"Andel",null,{"$f":"IFERROR(IF(D262=\"*\",\"*\",IF(D263=0,\"#I/T\",(D262/D263*1000))),\"Data ikke tilføjet\")","v":0.27906156560386441},0.25314000873547554,0.24796756687187629,0.23059813542477814,0.20079975180116513,0.17465934941986291,0.17212805635420667,0.17258919348809698,0.18820925399749516,{"$f":"IFERROR(IF(M262=\"*\",\"*\",IF(M263=0,\"#I/T\",(M262/M263*1000))),\"Data ikke tilføjet\")","v":0.16241464545838274},0.15802671519765493,0.15726884504179722,0.17822936908533726,0.19106924957552229,0.21680641538019488]
[]
[]
[null,"Nøgletal 6: Forebyggende indsatser (§ 11, stk. 3-tilbud)"]
[]
[null,{"$f":"\"Tabel 6: Samlet antal § 11, stk. 3-tilbud for \"&Kommune&\"\"","v":"Tabel 6: Samlet antal § 11, stk. 3-tilbud for København"}]
[null,"Nøgletal 6: \nModtagere af § 11, stk. 3-tilbud",null,"2017-01-01","2017-07-01","2018-01-01","2018-07-01","2019-01-01","2019-07-01","2020-01-01","2020-07-01","2021-01-01","2021-07-01","2022-01-01","2022-07-01","2023-01-01","2023-07-01","2024-01-01"]
[null,"Antal modtagere",null,{"$f":"IF(Indtastningsark!D27=0,\"Indtast data\",Indtastningsark!D27)","v":"Indtast data"},{"$f":"IF(Indtastningsark!E27=0,\"Indtast data\",Indtastningsark!E27)","v":"Indtast data"},{"$f":"IF(Indtastningsark!F27=0,\"Indtast data\",Indtastningsark!F27)","v":"Indtast data"},{"$f":"IF(Indtastningsark!G27=0,\"Indtast data\",Indtastningsark!G27)","v":"Indtast data"},{"$f":"IF(Indtastningsark!H27=0,\"Indtast data\",Indtastningsark!H27)","v":"Indtast data"},{"$f":"IF(Indtastningsark!I27=0,\"Indtast data\",Indtastningsark!I27)","v":"Indtast data"},{"$f":"IF(Indtastningsark!J27=0,\"Indtast data\",Indtastningsark!J27)","v":"Indtast data"},{"$f":"IF(Indtastningsark!K27=0,\"Indtast data\",Indtastningsark!K27)","v":"Indtast data"},{"$f":"IF(Indtastningsark!L27=0,\"Indtast data\",Indtastningsark!L27)","v":"Indtast data"},{"$f":"IF(Indtastningsark!M27=0,\"Indtast data\",Indtastningsark!M27)","v":"Indtast data"},{"$f":"IF(Indtastningsark!N27=0,\"Indtast data\",Indtastningsark!N27)","v":"Indtast data"},{"$f":"IF(Indtastningsark!O27=0,\"Indtast data\",Indtastningsark!O27)","v":"Indtast data"},{"$f":"IF(Indtastningsark!P27=0,\"Indtast data\",Indtastningsark!P27)","v":"Indtast data"},{"$f":"IF(Indtastningsark!Q27=0,\"Indtast data\",Indtastningsark!Q27)","v":"Indtast data"},{"$f":"IF(Indtastningsark!R27=0,\"Indtast data\",Indtastningsark!R27)","v":"Indtast data"}]
[null,"Antal 0-17-årige",null,{"$f":"IFERROR(INDEX(Data_kom2,MATCH(1,(komnavn2=Kommune)*(komaar2=D270),0),2),\"Data ikke tilføjet\")","v":105885},{"$f":"IFERROR(INDEX(Data_kom2,MATCH(1,(komnavn2=Kommune)*(komaar2=E270),0),2),\"Data ikke tilføjet\")","v":106913},{"$f":"IFERROR(INDEX(Data_kom2,MATCH(1,(komnavn2=Kommune)*(komaar2=F270),0),2),\"Data ikke tilføjet\")","v":107770},{"$f":"IFERROR(INDEX(Data_kom2,MATCH(1,(komnavn2=Kommune)*(komaar2=G270),0),2),\"Data ikke tilføjet\")","v":108734},{"$f":"IFERROR(INDEX(Data_kom2,MATCH(1,(komnavn2=Kommune)*(komaar2=H270),0),2),\"Data ikke tilføjet\")","v":109335},{"$f":"IFERROR(INDEX(Data_kom2,MATCH(1,(komnavn2=Kommune)*(komaar2=I270),0),2),\"Data ikke tilføjet\")","v":110138},{"$f":"IFERROR(INDEX(Data_kom2,MATCH(1,(komnavn2=Kommune)*(komaar2=J270),0),2),\"Data ikke tilføjet\")","v":110822},{"$f":"IFERROR(INDEX(Data_kom2,MATCH(1,(komnavn2=Kommune)*(komaar2=K270),0),2),\"Data ikke tilføjet\")","v":111068},{"$f":"IFERROR(INDEX(Data_kom2,MATCH(1,(komnavn2=Kommune)*(komaar2=L270),0),2),\"Data ikke tilføjet\")","v":110927},{"$f":"IFERROR(INDEX(Data_kom2,MATCH(1,(komnavn2=Kommune)*(komaar2=M270),0),2),\"Data ikke tilføjet\")","v":110614},{"$f":"IFERROR(INDEX(Data_kom2,MATCH(1,(komnavn2=Kommune)*(komaar2=N270),0),2),\"Data ikke tilføjet\")","v":110513},{"$f":"IFERROR(INDEX(Data_kom2,MATCH(1,(komnavn2=Kommune)*(komaar2=O270),0),2),\"Data ikke tilføjet\")","v":110692},{"$f":"IFERROR(INDEX(Data_kom2,MATCH(1,(komnavn2=Kommune)*(komaar2=P270),0),2),\"Data ikke tilføjet\")","v":110835},{"$f":"IFERROR(INDEX(Data_kom2,MATCH(1,(komnavn2=Kommune)*(komaar2=Q270),0),2),\"Data ikke tilføjet\")","v":111075},{"$f":"IFERROR(INDEX(Data_kom2,MATCH(1,(komnavn2=Kommune)*(komaar2=R270),0),2),\"Data ikke tilføjet\")","v":110571}]
[null,"Andel",null,{"$f":"IF(D271=\"Indtast data\",\"-\",IF(D272=0,\"#I/T\",D271/D272*1000))","v":"-"},"-","-","-","-","-","-","-","-",{"$f":"IF(M271=\"Indtast data\",\"-\",IF(M272=0,\"#I/T\",M271/M272*1000))","v":"-"},"-","-","-","-","-"]
[]
[null,{"$f":"\"Tabel 6.1: Myndighedsbevilgede § 11, stk. 3-tilbud (pr. 1.000 0-17-årige) for \"&Kommune&\"\"","v":"Tabel 6.1: Myndighedsbevilgede § 11, stk. 3-tilbud (pr. 1.000 0-17-årige) for København"}]
[null,{"$f":"\"Tabel 6.1: Modtagere af myndighedsbevilgede § 11, stk. 3-tilbud for \"&Kommune&\"\"","v":"Tabel 6.1: Modtagere af myndighedsbevilgede § 11, stk. 3-tilbud for København"}]
[null,"Nøgletal 6.1: \nModtagere af myndighedsbevilgede § 11, stk. 3-tilbud",null,"2017-01-01","2017-07-01","2018-01-01","2018-07-01","2019-01-01","2019-07-01","2020-01-01","2020-07-01","2021-01-01","2021-07-01","2022-01-01","2022-07-01","2023-01-01","2023-07-01","2024-01-01"]
[null,"Antal modtagere",null,{"$f":"IF(Indtastningsark!D32=0,\"Indtast data\",Indtastningsark!D32)","v":"Indtast data"},{"$f":"IF(Indtastningsark!E32=0,\"Indtast data\",Indtastningsark!E32)","v":"Indtast data"},{"$f":"IF(Indtastningsark!F32=0,\"Indtast data\",Indtastningsark!F32)","v":"Indtast data"},{"$f":"IF(Indtastningsark!G32=0,\"Indtast data\",Indtastningsark!G32)","v":"Indtast data"},{"$f":"IF(Indtastningsark!H32=0,\"Indtast data\",Indtastningsark!H32)","v":"Indtast data"},{"$f":"IF(Indtastningsark!I32=0,\"Indtast data\",Indtastningsark!I32)","v":"Indtast data"},{"$f":"IF(Indtastningsark!J32=0,\"Indtast data\",Indtastningsark!J32)","v":"Indtast data"},{"$f":"IF(Indtastningsark!K32=0,\"Indtast data\",Indtastningsark!K32)","v":"Indtast data"},{"$f":"IF(Indtastningsark!L32=0,\"Indtast data\",Indtastningsark!L32)","v":"Indtast data"},{"$f":"IF(Indtastningsark!M32=0,\"Indtast data\",Indtastningsark!M32)","v":"Indtast data"},{"$f":"IF(Indtastningsark!N32=0,\"Indtast data\",Indtastningsark!N32)","v":"Indtast data"},{"$f":"IF(Indtastningsark!O32=0,\"Indtast data\",Indtastningsark!O32)","v":"Indtast data"},{"$f":"IF(Indtastningsark!P32=0,\"Indtast data\",Indtastningsark!P32)","v":"Indtast data"},{"$f":"IF(Indtastningsark!Q32=0,\"Indtast data\",Indtastningsark!Q32)","v":"Indtast data"},{"$f":"IF(Indtastningsark!R32=0,\"Indtast data\",Indtastningsark!R32)","v":"Indtast data"}]
[null,"Antal 0-17-årige",null,{"$f":"IFERROR(INDEX(Data_kom2,MATCH(1,(komnavn2=Kommune)*(komaar2=D277),0),2),\"Data ikke tilføjet\")","v":105885},{"$f":"IFERROR(INDEX(Data_kom2,MATCH(1,(komnavn2=Kommune)*(komaar2=E277),0),2),\"Data ikke tilføjet\")","v":106913},{"$f":"IFERROR(INDEX(Data_kom2,MATCH(1,(komnavn2=Kommune)*(komaar2=F277),0),2),\"Data ikke tilføjet\")","v":107770},{"$f":"IFERROR(INDEX(Data_kom2,MATCH(1,(komnavn2=Kommune)*(komaar2=G277),0),2),\"Data ikke tilføjet\")","v":108734},{"$f":"IFERROR(INDEX(Data_kom2,MATCH(1,(komnavn2=Kommune)*(komaar2=H277),0),2),\"Data ikke tilføjet\")","v":109335},{"$f":"IFERROR(INDEX(Data_kom2,MATCH(1,(komnavn2=Kommune)*(komaar2=I277),0),2),\"Data ikke tilføjet\")","v":110138},{"$f":"IFERROR(INDEX(Data_kom2,MATCH(1,(komnavn2=Kommune)*(komaar2=J277),0),2),\"Data ikke tilføjet\")","v":110822},{"$f":"IFERROR(INDEX(Data_kom2,MATCH(1,(komnavn2=Kommune)*(komaar2=K277),0),2),\"Data ikke tilføjet\")","v":111068},{"$f":"IFERROR(INDEX(Data_kom2,MATCH(1,(komnavn2=Kommune)*(komaar2=L277),0),2),\"Data ikke tilføjet\")","v":110927},{"$f":"IFERROR(INDEX(Data_kom2,MATCH(1,(komnavn2=Kommune)*(komaar2=M277),0),2),\"Data ikke tilføjet\")","v":110614},{"$f":"IFERROR(INDEX(Data_kom2,MATCH(1,(komnavn2=Kommune)*(komaar2=N277),0),2),\"Data ikke tilføjet\")","v":110513},{"$f":"IFERROR(INDEX(Data_kom2,MATCH(1,(komnavn2=Kommune)*(komaar2=O277),0),2),\"Data ikke tilføjet\")","v":110692},{"$f":"IFERROR(INDEX(Data_kom2,MATCH(1,(komnavn2=Kommune)*(komaar2=P277),0),2),\"Data ikke tilføjet\")","v":110835},{"$f":"IFERROR(INDEX(Data_kom2,MATCH(1,(komnavn2=Kommune)*(komaar2=Q277),0),2),\"Data ikke tilføjet\")","v":111075},{"$f":"IFERROR(INDEX(Data_kom2,MATCH(1,(komnavn2=Kommune)*(komaar2=R277),0),2),\"Data ikke tilføjet\")","v":110571}]
[null,"Andel",null,{"$f":"IF(D278=\"Indtast data\",\"-\",IF(D279=0,\"#I/T\",D278/D279*1000))","v":"-"},"-","-","-","-","-","-","-","-",{"$f":"IF(M278=\"Indtast data\",\"-\",IF(M279=0,\"#I/T\",M278/M279*1000))","v":"-"},"-","-","-","-","-"]
[null,{"$f":"\"Tabel 6.2: Øvrige § 11, stk. 3-tilbud (pr. 1.000 0-17-årige) for \"&Kommune&\"\"","v":"Tabel 6.2: Øvrige § 11, stk. 3-tilbud (pr. 1.000 0-17-årige) for København"}]
[null,{"$f":"\"Tabel 6.2: Modtagere af øvrige § 11, stk. 3-tilbud for \"&Kommune&\"\"","v":"Tabel 6.2: Modtagere af øvrige § 11, stk. 3-tilbud for København"}]
[null,"Nøgletal 6.2: \nModtagere af øvrige § 11, stk. 3-tilbud",null,"2017-01-01","2017-07-01","2018-01-01","2018-07-01","2019-01-01","2019-07-01","2020-01-01","2020-07-01","2021-01-01","2021-07-01","2022-01-01","2022-07-01","2023-01-01","2023-07-01","2024-01-01"]
[null,"Antal modtagere",null,{"$f":"IF(Indtastningsark!D37=0,\"Indtast data\",Indtastningsark!D37)","v":"Indtast data"},{"$f":"IF(Indtastningsark!E37=0,\"Indtast data\",Indtastningsark!E37)","v":"Indtast data"},{"$f":"IF(Indtastningsark!F37=0,\"Indtast data\",Indtastningsark!F37)","v":"Indtast data"},{"$f":"IF(Indtastningsark!G37=0,\"Indtast data\",Indtastningsark!G37)","v":"Indtast data"},{"$f":"IF(Indtastningsark!H37=0,\"Indtast data\",Indtastningsark!H37)","v":"Indtast data"},{"$f":"IF(Indtastningsark!I37=0,\"Indtast data\",Indtastningsark!I37)","v":"Indtast data"},{"$f":"IF(Indtastningsark!J37=0,\"Indtast data\",Indtastningsark!J37)","v":"Indtast data"},{"$f":"IF(Indtastningsark!K37=0,\"Indtast data\",Indtastningsark!K37)","v":"Indtast data"},{"$f":"IF(Indtastningsark!L37=0,\"Indtast data\",Indtastningsark!L37)","v":"Indtast data"},{"$f":"IF(Indtastningsark!M37=0,\"Indtast data\",Indtastningsark!M37)","v":"Indtast data"},{"$f":"IF(Indtastningsark!N37=0,\"Indtast data\",Indtastningsark!N37)","v":"Indtast data"},{"$f":"IF(Indtastningsark!O37=0,\"Indtast data\",Indtastningsark!O37)","v":"Indtast data"},{"$f":"IF(Indtastningsark!P37=0,\"Indtast data\",Indtastningsark!P37)","v":"Indtast data"},{"$f":"IF(Indtastningsark!Q37=0,\"Indtast data\",Indtastningsark!Q37)","v":"Indtast data"},{"$f":"IF(Indtastningsark!R37=0,\"Indtast data\",Indtastningsark!R37)","v":"Indtast data"}]
[null,"Antal 0-17-årige",null,{"$f":"IFERROR(INDEX(Data_kom2,MATCH(1,(komnavn2=Kommune)*(komaar2=D283),0),2),\"Data ikke tilføjet\")","v":105885},{"$f":"IFERROR(INDEX(Data_kom2,MATCH(1,(komnavn2=Kommune)*(komaar2=E283),0),2),\"Data ikke tilføjet\")","v":106913},{"$f":"IFERROR(INDEX(Data_kom2,MATCH(1,(komnavn2=Kommune)*(komaar2=F283),0),2),\"Data ikke tilføjet\")","v":107770},{"$f":"IFERROR(INDEX(Data_kom2,MATCH(1,(komnavn2=Kommune)*(komaar2=G283),0),2),\"Data ikke tilføjet\")","v":108734},{"$f":"IFERROR(INDEX(Data_kom2,MATCH(1,(komnavn2=Kommune)*(komaar2=H283),0),2),\"Data ikke tilføjet\")","v":109335},{"$f":"IFERROR(INDEX(Data_kom2,MATCH(1,(komnavn2=Kommune)*(komaar2=I283),0),2),\"Data ikke tilføjet\")","v":110138},{"$f":"IFERROR(INDEX(Data_kom2,MATCH(1,(komnavn2=Kommune)*(komaar2=J283),0),2),\"Data ikke tilføjet\")","v":110822},{"$f":"IFERROR(INDEX(Data_kom2,MATCH(1,(komnavn2=Kommune)*(komaar2=K283),0),2),\"Data ikke tilføjet\")","v":111068},{"$f":"IFERROR(INDEX(Data_kom2,MATCH(1,(komnavn2=Kommune)*(komaar2=L283),0),2),\"Data ikke tilføjet\")","v":110927},{"$f":"IFERROR(INDEX(Data_kom2,MATCH(1,(komnavn2=Kommune)*(komaar2=M283),0),2),\"Data ikke tilføjet\")","v":110614},{"$f":"IFERROR(INDEX(Data_kom2,MATCH(1,(komnavn2=Kommune)*(komaar2=N283),0),2),\"Data ikke tilføjet\")","v":110513},{"$f":"IFERROR(INDEX(Data_kom2,MATCH(1,(komnavn2=Kommune)*(komaar2=O283),0),2),\"Data ikke tilføjet\")","v":110692},{"$f":"IFERROR(INDEX(Data_kom2,MATCH(1,(komnavn2=Kommune)*(komaar2=P283),0),2),\"Data ikke tilføjet\")","v":110835},{"$f":"IFERROR(INDEX(Data_kom2,MATCH(1,(komnavn2=Kommune)*(komaar2=Q283),0),2),\"Data ikke tilføjet\")","v":111075},{"$f":"IFERROR(INDEX(Data_kom2,MATCH(1,(komnavn2=Kommune)*(komaar2=R283),0),2),\"Data ikke tilføjet\")","v":110571}]
[null,"Andel",null,{"$f":"IF(D284=\"Indtast data\",\"-\",IF(D285=\"\",\"Indtast data\",D284/D285*1000))","v":"-"},"-","-","-","-","-","-","-","-",{"$f":"IF(M284=\"Indtast data\",\"-\",IF(M285=\"\",\"Indtast data\",M284/M285*1000))","v":"-"},"-","-","-","-","-"]
[]
[]
[null,"Nøgletal 7: Fra institutionsanbringelse og ned ad trappen"]
[]
[null,"Tabel 7: Fra institutionsanbringelse og ned ad trappen"]
[null,"Nøgletal 7: \nBørn og unge, der ved forrige opgørelse var institutionsanbragt eller anbragt på socialpædagogisk opholdssted, og som nu ikke er anbragt eller anbragt i anden form",null,"2017-01-01","2017-07-01","2018-01-01","2018-07-01","2019-01-01","2019-07-01","2020-01-01","2020-07-01","2021-01-01","2021-07-01","2022-01-01","2022-07-01","2023-01-01","2023-07-01","2024-01-01"]
[null,{"$f":"IF(Kommune=\"\",\"Kommune\",Kommune)","v":"København"}]
[null,"Antal, der har bevæget sig",null,{"$f":"IFERROR(IF(INDEX(Data_kom2,MATCH(1,(komnavn2=Kommune)*(komaar2=D292),0),22)=\"*\",\"*\",INDEX(Data_kom2,MATCH(1,(komnavn2=Kommune)*(komaar2=D292),0),22)),\"Data ikke tilføjet\")","v":46},{"$f":"IFERROR(IF(INDEX(Data_kom2,MATCH(1,(komnavn2=Kommune)*(komaar2=E292),0),22)=\"*\",\"*\",INDEX(Data_kom2,MATCH(1,(komnavn2=Kommune)*(komaar2=E292),0),22)),\"Data ikke tilføjet\")","v":50},{"$f":"IFERROR(IF(INDEX(Data_kom2,MATCH(1,(komnavn2=Kommune)*(komaar2=F292),0),22)=\"*\",\"*\",INDEX(Data_kom2,MATCH(1,(komnavn2=Kommune)*(komaar2=F292),0),22)),\"Data ikke tilføjet\")","v":60},{"$f":"IFERROR(IF(INDEX(Data_kom2,MATCH(1,(komnavn2=Kommune)*(komaar2=G292),0),22)=\"*\",\"*\",INDEX(Data_kom2,MATCH(1,(komnavn2=Kommune)*(komaar2=G292),0),22)),\"Data ikke tilføjet\")","v":50},{"$f":"IFERROR(IF(INDEX(Data_kom2,MATCH(1,(komnavn2=Kommune)*(komaar2=H292),0),22)=\"*\",\"*\",INDEX(Data_kom2,MATCH(1,(komnavn2=Kommune)*(komaar2=H292),0),22)),\"Data ikke tilføjet\")","v":49},{"$f":"IFERROR(IF(INDEX(Data_kom2,MATCH(1,(komnavn2=Kommune)*(komaar2=I292),0),22)=\"*\",\"*\",INDEX(Data_kom2,MATCH(1,(komnavn2=Kommune)*(komaar2=I292),0),22)),\"Data ikke tilføjet\")","v":51},{"$f":"IFERROR(IF(INDEX(Data_kom2,MATCH(1,(komnavn2=Kommune)*(komaar2=J292),0),22)=\"*\",\"*\",INDEX(Data_kom2,MATCH(1,(komnavn2=Kommune)*(komaar2=J292),0),22)),\"Data ikke tilføjet\")","v":72},{"$f":"IFERROR(IF(INDEX(Data_kom2,MATCH(1,(komnavn2=Kommune)*(komaar2=K292),0),22)=\"*\",\"*\",INDEX(Data_kom2,MATCH(1,(komnavn2=Kommune)*(komaar2=K292),0),22)),\"Data ikke tilføjet\")","v":32},{"$f":"IFERROR(IF(INDEX(Data_kom2,MATCH(1,(komnavn2=Kommune)*(komaar2=L292),0),22)=\"*\",\"*\",INDEX(Data_kom2,MATCH(1,(komnavn2=Kommune)*(komaar2=L292),0),22)),\"Data ikke tilføjet\")","v":38},{"$f":"IFERROR(IF(INDEX(Data_kom2,MATCH(1,(komnavn2=Kommune)*(komaar2=M292),0),22)=\"*\",\"*\",INDEX(Data_kom2,MATCH(1,(komnavn2=Kommune)*(komaar2=M292),0),22)),\"Data ikke tilføjet\")","v":43},{"$f":"IFERROR(IF(INDEX(Data_kom2,MATCH(1,(komnavn2=Kommune)*(komaar2=N292),0),22)=\"*\",\"*\",INDEX(Data_kom2,MATCH(1,(komnavn2=Kommune)*(komaar2=N292),0),22)),\"Data ikke tilføjet\")","v":56},{"$f":"IFERROR(IF(INDEX(Data_kom2,MATCH(1,(komnavn2=Kommune)*(komaar2=O292),0),22)=\"*\",\"*\",INDEX(Data_kom2,MATCH(1,(komnavn2=Kommune)*(komaar2=O292),0),22)),\"Data ikke tilføjet\")","v":55},{"$f":"IFERROR(IF(INDEX(Data_kom2,MATCH(1,(komnavn2=Kommune)*(komaar2=P292),0),22)=\"*\",\"*\",INDEX(Data_kom2,MATCH(1,(komnavn2=Kommune)*(komaar2=P292),0),22)),\"Data ikke tilføjet\")","v":49},{"$f":"IFERROR(IF(INDEX(Data_kom2,MATCH(1,(komnavn2=Kommune)*(komaar2=Q292),0),22)=\"*\",\"*\",INDEX(Data_kom2,MATCH(1,(komnavn2=Kommune)*(komaar2=Q292),0),22)),\"Data ikke tilføjet\")","v":47},{"$f":"IFERROR(IF(INDEX(Data_kom2,MATCH(1,(komnavn2=Kommune)*(komaar2=R292),0),22)=\"*\",\"*\",INDEX(Data_kom2,MATCH(1,(komnavn2=Kommune)*(komaar2=R292),0),22)),\"Data ikke tilføjet\")","v":69}]
[null,"Antal tidligere institutionsanbragte",null,{"$f":"IFERROR(IF(INDEX(Data_kom2,MATCH(1,(komnavn2=Kommune)*(komaar2=D292),0),23)=\"*\",\"*\",INDEX(Data_kom2,MATCH(1,(komnavn2=Kommune)*(komaar2=D292),0),23)),\"Data ikke tilføjet\")","v":234},{"$f":"IFERROR(IF(INDEX(Data_kom2,MATCH(1,(komnavn2=Kommune)*(komaar2=E292),0),23)=\"*\",\"*\",INDEX(Data_kom2,MATCH(1,(komnavn2=Kommune)*(komaar2=E292),0),23)),\"Data ikke tilføjet\")","v":225},{"$f":"IFERROR(IF(INDEX(Data_kom2,MATCH(1,(komnavn2=Kommune)*(komaar2=F292),0),23)=\"*\",\"*\",INDEX(Data_kom2,MATCH(1,(komnavn2=Kommune)*(komaar2=F292),0),23)),\"Data ikke tilføjet\")","v":227},{"$f":"IFERROR(IF(INDEX(Data_kom2,MATCH(1,(komnavn2=Kommune)*(komaar2=G292),0),23)=\"*\",\"*\",INDEX(Data_kom2,MATCH(1,(komnavn2=Kommune)*(komaar2=G292),0),23)),\"Data ikke tilføjet\")","v":215},{"$f":"IFERROR(IF(INDEX(Data_kom2,MATCH(1,(komnavn2=Kommune)*(komaar2=H292),0),23)=\"*\",\"*\",INDEX(Data_kom2,MATCH(1,(komnavn2=Kommune)*(komaar2=H292),0),23)),\"Data ikke tilføjet\")","v":219},{"$f":"IFERROR(IF(INDEX(Data_kom2,MATCH(1,(komnavn2=Kommune)*(komaar2=I292),0),23)=\"*\",\"*\",INDEX(Data_kom2,MATCH(1,(komnavn2=Kommune)*(komaar2=I292),0),23)),\"Data ikke tilføjet\")","v":206},{"$f":"IFERROR(IF(INDEX(Data_kom2,MATCH(1,(komnavn2=Kommune)*(komaar2=J292),0),23)=\"*\",\"*\",INDEX(Data_kom2,MATCH(1,(komnavn2=Kommune)*(komaar2=J292),0),23)),\"Data ikke tilføjet\")","v":195},{"$f":"IFERROR(IF(INDEX(Data_kom2,MATCH(1,(komnavn2=Kommune)*(komaar2=K292),0),23)=\"*\",\"*\",INDEX(Data_kom2,MATCH(1,(komnavn2=Kommune)*(komaar2=K292),0),23)),\"Data ikke tilføjet\")","v":162},{"$f":"IFERROR(IF(INDEX(Data_kom2,MATCH(1,(komnavn2=Kommune)*(komaar2=L292),0),23)=\"*\",\"*\",INDEX(Data_kom2,MATCH(1,(komnavn2=Kommune)*(komaar2=L292),0),23)),\"Data ikke tilføjet\")","v":183},{"$f":"IFERROR(IF(INDEX(Data_kom2,MATCH(1,(komnavn2=Kommune)*(komaar2=M292),0),23)=\"*\",\"*\",INDEX(Data_kom2,MATCH(1,(komnavn2=Kommune)*(komaar2=M292),0),23)),\"Data ikke tilføjet\")","v":203},{"$f":"IFERROR(IF(INDEX(Data_kom2,MATCH(1,(komnavn2=Kommune)*(komaar2=N292),0),23)=\"*\",\"*\",INDEX(Data_kom2,MATCH(1,(komnavn2=Kommune)*(komaar2=N292),0),23)),\"Data ikke tilføjet\")","v":221},{"$f":"IFERROR(IF(INDEX(Data_kom2,MATCH(1,(komnavn2=Kommune)*(komaar2=O292),0),23)=\"*\",\"*\",INDEX(Data_kom2,MATCH(1,(komnavn2=Kommune)*(komaar2=O292),0),23)),\"Data ikke tilføjet\")","v":220},{"$f":"IFERROR(IF(INDEX(Data_kom2,MATCH(1,(komnavn2=Kommune)*(komaar2=P292),0),23)=\"*\",\"*\",INDEX(Data_kom2,MATCH(1,(komnavn2=Kommune)*(komaar2=P292),0),23)),\"Data ikke tilføjet\")","v":246},{"$f":"IFERROR(IF(INDEX(Data_kom2,MATCH(1,(komnavn2=Kommune)*(komaar2=Q292),0),23)=\"*\",\"*\",INDEX(Data_kom2,MATCH(1,(komnavn2=Kommune)*(komaar2=Q292),0),23)),\"Data ikke tilføjet\")","v":252},{"$f":"IFERROR(IF(INDEX(Data_kom2,MATCH(1,(komnavn2=Kommune)*(komaar2=R292),0),23)=\"*\",\"*\",INDEX(Data_kom2,MATCH(1,(komnavn2=Kommune)*(komaar2=R292),0),23)),\"Data ikke tilføjet\")","v":274}]
[null,"Andel",null,{"$f":"IFERROR(IF(D294=\"*\",\"*\",IF(D295=0,\"#I/T\",(D294/D295))),\"Data ikke tilføjet\")","v":0.19658119658119658},0.22222222222222221,0.26431718061674009,0.23255813953488372,0.22374429223744291,0.24757281553398058,0.36923076923076925,0.19753086419753085,0.20765027322404372,{"$f":"IFERROR(IF(M294=\"*\",\"*\",IF(M295=0,\"#I/T\",(M294/M295))),\"Data ikke tilføjet\")","v":0.21182266009852216},0.25339366515837103,0.25,0.1991869918699187,0.18650793650793651,0.2518248175182482]
[null,"Sammenligningsgruppe, gns."]
[null,"Antal, der har bevæget sig",null,{"$f":"IF('Dine valg'!$G$24=\"\",\"-\",SUMIF(Hjælpefane!$D$7:$D$111,\"=\"&D$9,Hjælpefane!$W$7:$W$111))","v":36},{"$f":"IF('Dine valg'!$G$24=\"\",\"-\",SUMIF(Hjælpefane!$D$7:$D$111,\"=\"&E$9,Hjælpefane!$W$7:$W$111))","v":36},{"$f":"IF('Dine valg'!$G$24=\"\",\"-\",SUMIF(Hjælpefane!$D$7:$D$111,\"=\"&F$9,Hjælpefane!$W$7:$W$111))","v":35},{"$f":"IF('Dine valg'!$G$24=\"\",\"-\",SUMIF(Hjælpefane!$D$7:$D$111,\"=\"&G$9,Hjælpefane!$W$7:$W$111))","v":37},{"$f":"IF('Dine valg'!$G$24=\"\",\"-\",SUMIF(Hjælpefane!$D$7:$D$111,\"=\"&H$9,Hjælpefane!$W$7:$W$111))","v":28},{"$f":"IF('Dine valg'!$G$24=\"\",\"-\",SUMIF(Hjælpefane!$D$7:$D$111,\"=\"&I$9,Hjælpefane!$W$7:$W$111))","v":25},{"$f":"IF('Dine valg'!$G$24=\"\",\"-\",SUMIF(Hjælpefane!$D$7:$D$111,\"=\"&J$9,Hjælpefane!$W$7:$W$111))","v":31},{"$f":"IF('Dine valg'!$G$24=\"\",\"-\",SUMIF(Hjælpefane!$D$7:$D$111,\"=\"&K$9,Hjælpefane!$W$7:$W$111))","v":47},{"$f":"IF('Dine valg'!$G$24=\"\",\"-\",SUMIF(Hjælpefane!$D$7:$D$111,\"=\"&L$9,Hjælpefane!$W$7:$W$111))","v":28},{"$f":"IF('Dine valg'!$G$24=\"\",\"-\",SUMIF(Hjælpefane!$D$7:$D$111,\"=\"&M$9,Hjælpefane!$W$7:$W$111))","v":31},{"$f":"IF('Dine valg'!$G$24=\"\",\"-\",SUMIF(Hjælpefane!$D$7:$D$111,\"=\"&N$9,Hjælpefane!$W$7:$W$111))","v":40},{"$f":"IF('Dine valg'!$G$24=\"\",\"-\",SUMIF(Hjælpefane!$D$7:$D$111,\"=\"&O$9,Hjælpefane!$W$7:$W$111))","v":20},{"$f":"IF('Dine valg'!$G$24=\"\",\"-\",SUMIF(Hjælpefane!$D$7:$D$111,\"=\"&P$9,Hjælpefane!$W$7:$W$111))","v":33},{"$f":"IF('Dine valg'!$G$24=\"\",\"-\",SUMIF(Hjælpefane!$D$7:$D$111,\"=\"&Q$9,Hjælpefane!$W$7:$W$111))","v":30},{"$f":"IF('Dine valg'!$G$24=\"\",\"-\",SUMIF(Hjælpefane!$D$7:$D$111,\"=\"&R$9,Hjælpefane!$W$7:$W$111))","v":34}]
[null,"Antal tidligere institutionsanbragte",null,{"$f":"IF('Dine valg'!$G$24=\"\",\"-\",SUMIF(Hjælpefane!$D$7:$D$111,\"=\"&D$9,Hjælpefane!$X$7:$X$111))","v":200},{"$f":"IF('Dine valg'!$G$24=\"\",\"-\",SUMIF(Hjælpefane!$D$7:$D$111,\"=\"&E$9,Hjælpefane!$X$7:$X$111))","v":188},{"$f":"IF('Dine valg'!$G$24=\"\",\"-\",SUMIF(Hjælpefane!$D$7:$D$111,\"=\"&F$9,Hjælpefane!$X$7:$X$111))","v":186},{"$f":"IF('Dine valg'!$G$24=\"\",\"-\",SUMIF(Hjælpefane!$D$7:$D$111,\"=\"&G$9,Hjælpefane!$X$7:$X$111))","v":178},{"$f":"IF('Dine valg'!$G$24=\"\",\"-\",SUMIF(Hjælpefane!$D$7:$D$111,\"=\"&H$9,Hjælpefane!$X$7:$X$111))","v":166},{"$f":"IF('Dine valg'!$G$24=\"\",\"-\",SUMIF(Hjælpefane!$D$7:$D$111,\"=\"&I$9,Hjælpefane!$X$7:$X$111))","v":173},{"$f":"IF('Dine valg'!$G$24=\"\",\"-\",SUMIF(Hjælpefane!$D$7:$D$111,\"=\"&J$9,Hjælpefane!$X$7:$X$111))","v":173},{"$f":"IF('Dine valg'!$G$24=\"\",\"-\",SUMIF(Hjælpefane!$D$7:$D$111,\"=\"&K$9,Hjælpefane!$X$7:$X$111))","v":166},{"$f":"IF('Dine valg'!$G$24=\"\",\"-\",SUMIF(Hjælpefane!$D$7:$D$111,\"=\"&L$9,Hjælpefane!$X$7:$X$111))","v":168},{"$f":"IF('Dine valg'!$G$24=\"\",\"-\",SUMIF(Hjælpefane!$D$7:$D$111,\"=\"&M$9,Hjælpefane!$X$7:$X$111))","v":169},{"$f":"IF('Dine valg'!$G$24=\"\",\"-\",SUMIF(Hjælpefane!$D$7:$D$111,\"=\"&N$9,Hjælpefane!$X$7:$X$111))","v":168},{"$f":"IF('Dine valg'!$G$24=\"\",\"-\",SUMIF(Hjælpefane!$D$7:$D$111,\"=\"&O$9,Hjælpefane!$X$7:$X$111))","v":154},{"$f":"IF('Dine valg'!$G$24=\"\",\"-\",SUMIF(Hjælpefane!$D$7:$D$111,\"=\"&P$9,Hjælpefane!$X$7:$X$111))","v":168},{"$f":"IF('Dine valg'!$G$24=\"\",\"-\",SUMIF(Hjælpefane!$D$7:$D$111,\"=\"&Q$9,Hjælpefane!$X$7:$X$111))","v":162},{"$f":"IF('Dine valg'!$G$24=\"\",\"-\",SUMIF(Hjælpefane!$D$7:$D$111,\"=\"&R$9,Hjælpefane!$X$7:$X$111))","v":161}]
[null,"Andel",null,{"$f":"IFERROR(IF(D298=\"*\",\"*\",IF(D299=\"\",\"Indtast data\",(D298/D299))),\"-\")","v":0.18},{"$f":"IFERROR(IF(E298=\"*\",\"*\",IF(E299=\"\",\"Indtast data\",(E298/E299))),\"-\")","v":0.19148936170212766},0.18817204301075269,0.20786516853932585,0.16867469879518071,0.14450867052023122,0.1791907514450867,0.28313253012048195,0.16666666666666666,{"$f":"IFERROR(IF(M298=\"*\",\"*\",IF(M299=\"\",\"Indtast data\",(M298/M299))),\"-\")","v":0.18343195266272189},0.23809523809523808,0.12987012987012986,0.19642857142857142,0.18518518518518517,0.21118012422360249]
[null,"Hele landet"]
[null,"Antal, der har bevæget sig",null,{"$f":"INDEX(Data_land,MATCH(Skyggetabeller!D292,Data!landaar,0),22)","v":634},{"$f":"INDEX(Data_land,MATCH(Skyggetabeller!E292,Data!landaar,0),22)","v":655},{"$f":"INDEX(Data_land,MATCH(Skyggetabeller!F292,Data!landaar,0),22)","v":699},{"$f":"INDEX(Data_land,MATCH(Skyggetabeller!G292,Data!landaar,0),22)","v":638},{"$f":"INDEX(Data_land,MATCH(Skyggetabeller!H292,Data!landaar,0),22)","v":674},{"$f":"INDEX(Data_land,MATCH(Skyggetabeller!I292,Data!landaar,0),22)","v":604},{"$f":"INDEX(Data_land,MATCH(Skyggetabeller!J292,Data!landaar,0),22)","v":650},{"$f":"INDEX(Data_land,MATCH(Skyggetabeller!K292,Data!landaar,0),22)","v":559},{"$f":"INDEX(Data_land,MATCH(Skyggetabeller!L292,Data!landaar,0),22)","v":597},{"$f":"INDEX(Data_land,MATCH(Skyggetabeller!M292,Data!landaar,0),22)","v":589},{"$f":"INDEX(Data_land,MATCH(Skyggetabeller!N292,Data!landaar,0),22)","v":660},{"$f":"INDEX(Data_land,MATCH(Skyggetabeller!O292,Data!landaar,0),22)","v":574},{"$f":"INDEX(Data_land,MATCH(Skyggetabeller!P292,Data!landaar,0),22)","v":656},{"$f":"INDEX(Data_land,MATCH(Skyggetabeller!Q292,Data!landaar,0),22)","v":616},{"$f":"INDEX(Data_land,MATCH(Skyggetabeller!R292,Data!landaar,0),22)","v":641}]
[null,"Antal tidligere institutionsanbragte",null,{"$f":"INDEX(Data_land,MATCH(Skyggetabeller!D292,Data!landaar,0),23)","v":3435},{"$f":"INDEX(Data_land,MATCH(Skyggetabeller!E292,Data!landaar,0),23)","v":3383},{"$f":"INDEX(Data_land,MATCH(Skyggetabeller!F292,Data!landaar,0),23)","v":3460},{"$f":"INDEX(Data_land,MATCH(Skyggetabeller!G292,Data!landaar,0),23)","v":3369},{"$f":"INDEX(Data_land,MATCH(Skyggetabeller!H292,Data!landaar,0),23)","v":3409},{"$f":"INDEX(Data_land,MATCH(Skyggetabeller!I292,Data!landaar,0),23)","v":3309},{"$f":"INDEX(Data_land,MATCH(Skyggetabeller!J292,Data!landaar,0),23)","v":3282},{"$f":"INDEX(Data_land,MATCH(Skyggetabeller!K292,Data!landaar,0),23)","v":3274},{"$f":"INDEX(Data_land,MATCH(Skyggetabeller!L292,Data!landaar,0),23)","v":3343},{"$f":"INDEX(Data_land,MATCH(Skyggetabeller!M292,Data!landaar,0),23)","v":3404},{"$f":"INDEX(Data_land,MATCH(Skyggetabeller!N292,Data!landaar,0),23)","v":3494},{"$f":"INDEX(Data_land,MATCH(Skyggetabeller!O292,Data!landaar,0),23)","v":3486},{"$f":"INDEX(Data_land,MATCH(Skyggetabeller!P292,Data!landaar,0),23)","v":3675},{"$f":"INDEX(Data_land,MATCH(Skyggetabeller!Q292,Data!landaar,0),23)","v":3708},{"$f":"INDEX(Data_land,MATCH(Skyggetabeller!R292,Data!landaar,0),23)","v":3769}]
[null,"Andel",null,{"$f":"IFERROR(IF(D302=\"*\",\"*\",IF(D303=0,\"#I/T\",(D302/D303))),\"Data ikke tilføjet\")","v":0.18457059679767104},{"$f":"IFERROR(IF(E302=\"*\",\"*\",IF(E303=0,\"#I/T\",(E302/E303))),\"Data ikke tilføjet\")","v":0.19361513449600945},{"$f":"IFERROR(IF(F302=\"*\",\"*\",IF(F303=0,\"#I/T\",(F302/F303))),\"Data ikke tilføjet\")","v":0.20202312138728323},{"$f":"IFERROR(IF(G302=\"*\",\"*\",IF(G303=0,\"#I/T\",(G302/G303))),\"Data ikke tilføjet\")","v":0.18937370139507273},{"$f":"IFERROR(IF(H302=\"*\",\"*\",IF(H303=0,\"#I/T\",(H302/H303))),\"Data ikke tilføjet\")","v":0.19771193898503961},{"$f":"IFERROR(IF(I302=\"*\",\"*\",IF(I303=0,\"#I/T\",(I302/I303))),\"Data ikke tilføjet\")","v":0.18253248715624057},{"$f":"IFERROR(IF(J302=\"*\",\"*\",IF(J303=0,\"#I/T\",(J302/J303))),\"Data ikke tilføjet\")","v":0.19804996953077392},{"$f":"IFERROR(IF(K302=\"*\",\"*\",IF(K303=0,\"#I/T\",(K302/K303))),\"Data ikke tilføjet\")","v":0.17073915699450215},{"$f":"IFERROR(IF(L302=\"*\",\"*\",IF(L303=0,\"#I/T\",(L302/L303))),\"Data ikke tilføjet\")","v":0.17858211187556086},{"$f":"IFERROR(IF(M302=\"*\",\"*\",IF(M303=0,\"#I/T\",(M302/M303))),\"Data ikke tilføjet\")","v":0.17303172737955347},{"$f":"IFERROR(IF(N302=\"*\",\"*\",IF(N303=0,\"#I/T\",(N302/N303))),\"Data ikke tilføjet\")","v":0.18889524899828278},{"$f":"IFERROR(IF(O302=\"*\",\"*\",IF(O303=0,\"#I/T\",(O302/O303))),\"Data ikke tilføjet\")","v":0.1646586345381526},{"$f":"IFERROR(IF(P302=\"*\",\"*\",IF(P303=0,\"#I/T\",(P302/P303))),\"Data ikke tilføjet\")","v":0.17850340136054421},{"$f":"IFERROR(IF(Q302=\"*\",\"*\",IF(Q303=0,\"#I/T\",(Q302/Q303))),\"Data ikke tilføjet\")","v":0.16612729234088458},{"$f":"IFERROR(IF(R302=\"*\",\"*\",IF(R303=0,\"#I/T\",(R302/R303))),\"Data ikke tilføjet\")","v":0.17007163703900238}]
[]
[null,"Tabel 7.1: Fra institutionsanbringelse til anden anbringelse"]
[null,"Nøgletal 7.1: \nTidligere institutionsanbragte, som nu er anbragt i anden form",null,"2017-01-01","2017-07-01","2018-01-01","2018-07-01","2019-01-01","2019-07-01","2020-01-01","2020-07-01","2021-01-01","2021-07-01","2022-01-01","2022-07-01","2023-01-01","2023-07-01","2024-01-01"]
[null,{"$f":"IF(Kommune=\"\",\"Kommune\",Kommune)","v":"København"}]
[null,"Antal, der har bevæget sig",null,{"$f":"IFERROR(IF(INDEX(Data_kom2,MATCH(1,(komnavn2=Kommune)*(komaar2=D307),0),24)=\"*\",\"*\",INDEX(Data_kom2,MATCH(1,(komnavn2=Kommune)*(komaar2=D307),0),24)),\"Data ikke tilføjet\")","v":9},{"$f":"IFERROR(IF(INDEX(Data_kom2,MATCH(1,(komnavn2=Kommune)*(komaar2=E307),0),24)=\"*\",\"*\",INDEX(Data_kom2,MATCH(1,(komnavn2=Kommune)*(komaar2=E307),0),24)),\"Data ikke tilføjet\")","v":4},{"$f":"IFERROR(IF(INDEX(Data_kom2,MATCH(1,(komnavn2=Kommune)*(komaar2=F307),0),24)=\"*\",\"*\",INDEX(Data_kom2,MATCH(1,(komnavn2=Kommune)*(komaar2=F307),0),24)),\"Data ikke tilføjet\")","v":9},{"$f":"IFERROR(IF(INDEX(Data_kom2,MATCH(1,(komnavn2=Kommune)*(komaar2=G307),0),24)=\"*\",\"*\",INDEX(Data_kom2,MATCH(1,(komnavn2=Kommune)*(komaar2=G307),0),24)),\"Data ikke tilføjet\")","v":6},{"$f":"IFERROR(IF(INDEX(Data_kom2,MATCH(1,(komnavn2=Kommune)*(komaar2=H307),0),24)=\"*\",\"*\",INDEX(Data_kom2,MATCH(1,(komnavn2=Kommune)*(komaar2=H307),0),24)),\"Data ikke tilføjet\")","v":9},{"$f":"IFERROR(IF(INDEX(Data_kom2,MATCH(1,(komnavn2=Kommune)*(komaar2=I307),0),24)=\"*\",\"*\",INDEX(Data_kom2,MATCH(1,(komnavn2=Kommune)*(komaar2=I307),0),24)),\"Data ikke tilføjet\")","v":4},{"$f":"IFERROR(IF(INDEX(Data_kom2,MATCH(1,(komnavn2=Kommune)*(komaar2=J307),0),24)=\"*\",\"*\",INDEX(Data_kom2,MATCH(1,(komnavn2=Kommune)*(komaar2=J307),0),24)),\"Data ikke tilføjet\")","v":7},{"$f":"IFERROR(IF(INDEX(Data_kom2,MATCH(1,(komnavn2=Kommune)*(komaar2=K307),0),24)=\"*\",\"*\",INDEX(Data_kom2,MATCH(1,(komnavn2=Kommune)*(komaar2=K307),0),24)),\"Data ikke tilføjet\")","v":"*"},{"$f":"IFERROR(IF(INDEX(Data_kom2,MATCH(1,(komnavn2=Kommune)*(komaar2=L307),0),24)=\"*\",\"*\",INDEX(Data_kom2,MATCH(1,(komnavn2=Kommune)*(komaar2=L307),0),24)),\"Data ikke tilføjet\")","v":7},{"$f":"IFERROR(IF(INDEX(Data_kom2,MATCH(1,(komnavn2=Kommune)*(komaar2=M307),0),24)=\"*\",\"*\",INDEX(Data_kom2,MATCH(1,(komnavn2=Kommune)*(komaar2=M307),0),24)),\"Data ikke tilføjet\")","v":5},{"$f":"IFERROR(IF(INDEX(Data_kom2,MATCH(1,(komnavn2=Kommune)*(komaar2=N307),0),24)=\"*\",\"*\",INDEX(Data_kom2,MATCH(1,(komnavn2=Kommune)*(komaar2=N307),0),24)),\"Data ikke tilføjet\")","v":8},{"$f":"IFERROR(IF(INDEX(Data_kom2,MATCH(1,(komnavn2=Kommune)*(komaar2=O307),0),24)=\"*\",\"*\",INDEX(Data_kom2,MATCH(1,(komnavn2=Kommune)*(komaar2=O307),0),24)),\"Data ikke tilføjet\")","v":"*"},{"$f":"IFERROR(IF(INDEX(Data_kom2,MATCH(1,(komnavn2=Kommune)*(komaar2=P307),0),24)=\"*\",\"*\",INDEX(Data_kom2,MATCH(1,(komnavn2=Kommune)*(komaar2=P307),0),24)),\"Data ikke tilføjet\")","v":6},{"$f":"IFERROR(IF(INDEX(Data_kom2,MATCH(1,(komnavn2=Kommune)*(komaar2=Q307),0),24)=\"*\",\"*\",INDEX(Data_kom2,MATCH(1,(komnavn2=Kommune)*(komaar2=Q307),0),24)),\"Data ikke tilføjet\")","v":"*"},{"$f":"IFERROR(IF(INDEX(Data_kom2,MATCH(1,(komnavn2=Kommune)*(komaar2=R307),0),24)=\"*\",\"*\",INDEX(Data_kom2,MATCH(1,(komnavn2=Kommune)*(komaar2=R307),0),24)),\"Data ikke tilføjet\")","v":"*"}]
[null,"Antal tidligere institutionsanbragte",null,{"$f":"IFERROR(IF(INDEX(Data_kom2,MATCH(1,(komnavn2=Kommune)*(komaar2=D307),0),25)=\"*\",\"*\",INDEX(Data_kom2,MATCH(1,(komnavn2=Kommune)*(komaar2=D307),0),25)),\"Data ikke tilføjet\")","v":234},{"$f":"IFERROR(IF(INDEX(Data_kom2,MATCH(1,(komnavn2=Kommune)*(komaar2=E307),0),25)=\"*\",\"*\",INDEX(Data_kom2,MATCH(1,(komnavn2=Kommune)*(komaar2=E307),0),25)),\"Data ikke tilføjet\")","v":225},{"$f":"IFERROR(IF(INDEX(Data_kom2,MATCH(1,(komnavn2=Kommune)*(komaar2=F307),0),25)=\"*\",\"*\",INDEX(Data_kom2,MATCH(1,(komnavn2=Kommune)*(komaar2=F307),0),25)),\"Data ikke tilføjet\")","v":227},{"$f":"IFERROR(IF(INDEX(Data_kom2,MATCH(1,(komnavn2=Kommune)*(komaar2=G307),0),25)=\"*\",\"*\",INDEX(Data_kom2,MATCH(1,(komnavn2=Kommune)*(komaar2=G307),0),25)),\"Data ikke tilføjet\")","v":215},{"$f":"IFERROR(IF(INDEX(Data_kom2,MATCH(1,(komnavn2=Kommune)*(komaar2=H307),0),25)=\"*\",\"*\",INDEX(Data_kom2,MATCH(1,(komnavn2=Kommune)*(komaar2=H307),0),25)),\"Data ikke tilføjet\")","v":219},{"$f":"IFERROR(IF(INDEX(Data_kom2,MATCH(1,(komnavn2=Kommune)*(komaar2=I307),0),25)=\"*\",\"*\",INDEX(Data_kom2,MATCH(1,(komnavn2=Kommune)*(komaar2=I307),0),25)),\"Data ikke tilføjet\")","v":206},{"$f":"IFERROR(IF(INDEX(Data_kom2,MATCH(1,(komnavn2=Kommune)*(komaar2=J307),0),25)=\"*\",\"*\",INDEX(Data_kom2,MATCH(1,(komnavn2=Kommune)*(komaar2=J307),0),25)),\"Data ikke tilføjet\")","v":195},{"$f":"IFERROR(IF(INDEX(Data_kom2,MATCH(1,(komnavn2=Kommune)*(komaar2=K307),0),25)=\"*\",\"*\",INDEX(Data_kom2,MATCH(1,(komnavn2=Kommune)*(komaar2=K307),0),25)),\"Data ikke tilføjet\")","v":162},{"$f":"IFERROR(IF(INDEX(Data_kom2,MATCH(1,(komnavn2=Kommune)*(komaar2=L307),0),25)=\"*\",\"*\",INDEX(Data_kom2,MATCH(1,(komnavn2=Kommune)*(komaar2=L307),0),25)),\"Data ikke tilføjet\")","v":183},{"$f":"IFERROR(IF(INDEX(Data_kom2,MATCH(1,(komnavn2=Kommune)*(komaar2=M307),0),25)=\"*\",\"*\",INDEX(Data_kom2,MATCH(1,(komnavn2=Kommune)*(komaar2=M307),0),25)),\"Data ikke tilføjet\")","v":203},{"$f":"IFERROR(IF(INDEX(Data_kom2,MATCH(1,(komnavn2=Kommune)*(komaar2=N307),0),25)=\"*\",\"*\",INDEX(Data_kom2,MATCH(1,(komnavn2=Kommune)*(komaar2=N307),0),25)),\"Data ikke tilføjet\")","v":221},{"$f":"IFERROR(IF(INDEX(Data_kom2,MATCH(1,(komnavn2=Kommune)*(komaar2=O307),0),25)=\"*\",\"*\",INDEX(Data_kom2,MATCH(1,(komnavn2=Kommune)*(komaar2=O307),0),25)),\"Data ikke tilføjet\")","v":220},{"$f":"IFERROR(IF(INDEX(Data_kom2,MATCH(1,(komnavn2=Kommune)*(komaar2=P307),0),25)=\"*\",\"*\",INDEX(Data_kom2,MATCH(1,(komnavn2=Kommune)*(komaar2=P307),0),25)),\"Data ikke tilføjet\")","v":246},{"$f":"IFERROR(IF(INDEX(Data_kom2,MATCH(1,(komnavn2=Kommune)*(komaar2=Q307),0),25)=\"*\",\"*\",INDEX(Data_kom2,MATCH(1,(komnavn2=Kommune)*(komaar2=Q307),0),25)),\"Data ikke tilføjet\")","v":252},{"$f":"IFERROR(IF(INDEX(Data_kom2,MATCH(1,(komnavn2=Kommune)*(komaar2=R307),0),25)=\"*\",\"*\",INDEX(Data_kom2,MATCH(1,(komnavn2=Kommune)*(komaar2=R307),0),25)),\"Data ikke tilføjet\")","v":274}]
[null,"Andel",null,{"$f":"IFERROR(IF(D309=\"*\",\"*\",IF(D310=0,\"#I/T\",(D309/D310))),\"Data ikke tilføjet\")","v":3.8461538461538464E-2},1.7777777777777778E-2,3.9647577092511016E-2,2.7906976744186046E-2,4.1095890410958902E-2,1.9417475728155338E-2,3.5897435897435895E-2,"*",3.825136612021858E-2,{"$f":"IFERROR(IF(M309=\"*\",\"*\",IF(M310=0,\"#I/T\",(M309/M310))),\"Data ikke tilføjet\")","v":2.4630541871921183E-2},3.6199095022624438E-2,"*",2.4390243902439025E-2,"*","*"]
[null,"Sammenligningsgruppe, gns."]
[null,"Antal, der har bevæget sig",null,{"$f":"IF('Dine valg'!$G$24=\"\",\"-\",SUMIF(Hjælpefane!$D$7:$D$111,\"=\"&D$9,Hjælpefane!$Y$7:$Y$111))","v":6},{"$f":"IF('Dine valg'!$G$24=\"\",\"-\",SUMIF(Hjælpefane!$D$7:$D$111,\"=\"&E$9,Hjælpefane!$Y$7:$Y$111))","v":0},{"$f":"IF('Dine valg'!$G$24=\"\",\"-\",SUMIF(Hjælpefane!$D$7:$D$111,\"=\"&F$9,Hjælpefane!$Y$7:$Y$111))","v":5},{"$f":"IF('Dine valg'!$G$24=\"\",\"-\",SUMIF(Hjælpefane!$D$7:$D$111,\"=\"&G$9,Hjælpefane!$Y$7:$Y$111))","v":0},{"$f":"IF('Dine valg'!$G$24=\"\",\"-\",SUMIF(Hjælpefane!$D$7:$D$111,\"=\"&H$9,Hjælpefane!$Y$7:$Y$111))","v":0},{"$f":"IF('Dine valg'!$G$24=\"\",\"-\",SUMIF(Hjælpefane!$D$7:$D$111,\"=\"&I$9,Hjælpefane!$Y$7:$Y$111))","v":0},{"$f":"IF('Dine valg'!$G$24=\"\",\"-\",SUMIF(Hjælpefane!$D$7:$D$111,\"=\"&J$9,Hjælpefane!$Y$7:$Y$111))","v":0},{"$f":"IF('Dine valg'!$G$24=\"\",\"-\",SUMIF(Hjælpefane!$D$7:$D$111,\"=\"&K$9,Hjælpefane!$Y$7:$Y$111))","v":5},{"$f":"IF('Dine valg'!$G$24=\"\",\"-\",SUMIF(Hjælpefane!$D$7:$D$111,\"=\"&L$9,Hjælpefane!$Y$7:$Y$111))","v":0},{"$f":"IF('Dine valg'!$G$24=\"\",\"-\",SUMIF(Hjælpefane!$D$7:$D$111,\"=\"&M$9,Hjælpefane!$Y$7:$Y$111))","v":3},{"$f":"IF('Dine valg'!$G$24=\"\",\"-\",SUMIF(Hjælpefane!$D$7:$D$111,\"=\"&N$9,Hjælpefane!$Y$7:$Y$111))","v":3},{"$f":"IF('Dine valg'!$G$24=\"\",\"-\",SUMIF(Hjælpefane!$D$7:$D$111,\"=\"&O$9,Hjælpefane!$Y$7:$Y$111))","v":0},{"$f":"IF('Dine valg'!$G$24=\"\",\"-\",SUMIF(Hjælpefane!$D$7:$D$111,\"=\"&P$9,Hjælpefane!$Y$7:$Y$111))","v":0},{"$f":"IF('Dine valg'!$G$24=\"\",\"-\",SUMIF(Hjælpefane!$D$7:$D$111,\"=\"&Q$9,Hjælpefane!$Y$7:$Y$111))","v":0},{"$f":"IF('Dine valg'!$G$24=\"\",\"-\",SUMIF(Hjælpefane!$D$7:$D$111,\"=\"&R$9,Hjælpefane!$Y$7:$Y$111))","v":0}]
[null,"Antal tidligere institutionsanbragte",null,{"$f":"IF('Dine valg'!$G$24=\"\",\"-\",SUMIF(Hjælpefane!$D$7:$D$111,\"=\"&D$9,Hjælpefane!$Z$7:$Z$111))","v":200},{"$f":"IF('Dine valg'!$G$24=\"\",\"-\",SUMIF(Hjælpefane!$D$7:$D$111,\"=\"&E$9,Hjælpefane!$Z$7:$Z$111))","v":188},{"$f":"IF('Dine valg'!$G$24=\"\",\"-\",SUMIF(Hjælpefane!$D$7:$D$111,\"=\"&F$9,Hjælpefane!$Z$7:$Z$111))","v":186},{"$f":"IF('Dine valg'!$G$24=\"\",\"-\",SUMIF(Hjælpefane!$D$7:$D$111,\"=\"&G$9,Hjælpefane!$Z$7:$Z$111))","v":178},{"$f":"IF('Dine valg'!$G$24=\"\",\"-\",SUMIF(Hjælpefane!$D$7:$D$111,\"=\"&H$9,Hjælpefane!$Z$7:$Z$111))","v":166},{"$f":"IF('Dine valg'!$G$24=\"\",\"-\",SUMIF(Hjælpefane!$D$7:$D$111,\"=\"&I$9,Hjælpefane!$Z$7:$Z$111))","v":173},{"$f":"IF('Dine valg'!$G$24=\"\",\"-\",SUMIF(Hjælpefane!$D$7:$D$111,\"=\"&J$9,Hjælpefane!$Z$7:$Z$111))","v":173},{"$f":"IF('Dine valg'!$G$24=\"\",\"-\",SUMIF(Hjælpefane!$D$7:$D$111,\"=\"&K$9,Hjælpefane!$Z$7:$Z$111))","v":166},{"$f":"IF('Dine valg'!$G$24=\"\",\"-\",SUMIF(Hjælpefane!$D$7:$D$111,\"=\"&L$9,Hjælpefane!$Z$7:$Z$111))","v":168},{"$f":"IF('Dine valg'!$G$24=\"\",\"-\",SUMIF(Hjælpefane!$D$7:$D$111,\"=\"&M$9,Hjælpefane!$Z$7:$Z$111))","v":169},{"$f":"IF('Dine valg'!$G$24=\"\",\"-\",SUMIF(Hjælpefane!$D$7:$D$111,\"=\"&N$9,Hjælpefane!$Z$7:$Z$111))","v":168},{"$f":"IF('Dine valg'!$G$24=\"\",\"-\",SUMIF(Hjælpefane!$D$7:$D$111,\"=\"&O$9,Hjælpefane!$Z$7:$Z$111))","v":154},{"$f":"IF('Dine valg'!$G$24=\"\",\"-\",SUMIF(Hjælpefane!$D$7:$D$111,\"=\"&P$9,Hjælpefane!$Z$7:$Z$111))","v":168},{"$f":"IF('Dine valg'!$G$24=\"\",\"-\",SUMIF(Hjælpefane!$D$7:$D$111,\"=\"&Q$9,Hjælpefane!$Z$7:$Z$111))","v":162},{"$f":"IF('Dine valg'!$G$24=\"\",\"-\",SUMIF(Hjælpefane!$D$7:$D$111,\"=\"&R$9,Hjælpefane!$Z$7:$Z$111))","v":161}]
[null,"Andel",null,{"$f":"IFERROR(IF(D313=\"*\",\"*\",IF(D314=\"\",\"Indtast data\",(D313/D314))),\"-\")","v":0.03},{"$f":"IFERROR(IF(E313=\"*\",\"*\",IF(E314=\"\",\"Indtast data\",(E313/E314))),\"-\")","v":0},{"$f":"IFERROR(IF(F313=\"*\",\"*\",IF(F314=\"\",\"Indtast data\",(F313/F314))),\"-\")","v":2.6881720430107527E-2},{"$f":"IFERROR(IF(G313=\"*\",\"*\",IF(G314=\"\",\"Indtast data\",(G313/G314))),\"-\")","v":0},{"$f":"IFERROR(IF(H313=\"*\",\"*\",IF(H314=\"\",\"Indtast data\",(H313/H314))),\"-\")","v":0},{"$f":"IFERROR(IF(I313=\"*\",\"*\",IF(I314=\"\",\"Indtast data\",(I313/I314))),\"-\")","v":0},{"$f":"IFERROR(IF(J313=\"*\",\"*\",IF(J314=\"\",\"Indtast data\",(J313/J314))),\"-\")","v":0},{"$f":"IFERROR(IF(K313=\"*\",\"*\",IF(K314=\"\",\"Indtast data\",(K313/K314))),\"-\")","v":3.0120481927710843E-2},{"$f":"IFERROR(IF(L313=\"*\",\"*\",IF(L314=\"\",\"Indtast data\",(L313/L314))),\"-\")","v":0},1.7751479289940829E-2,1.7857142857142856E-2,0,0,0,0]
[null,"Hele landet"]
[null,"Antal, der har bevæget sig",null,{"$f":"INDEX(Data_land,MATCH(Skyggetabeller!D307,Data!landaar,0),24)","v":76},{"$f":"INDEX(Data_land,MATCH(Skyggetabeller!E307,Data!landaar,0),24)","v":74},{"$f":"INDEX(Data_land,MATCH(Skyggetabeller!F307,Data!landaar,0),24)","v":79},{"$f":"INDEX(Data_land,MATCH(Skyggetabeller!G307,Data!landaar,0),24)","v":58},{"$f":"INDEX(Data_land,MATCH(Skyggetabeller!H307,Data!landaar,0),24)","v":77},{"$f":"INDEX(Data_land,MATCH(Skyggetabeller!I307,Data!landaar,0),24)","v":62},{"$f":"INDEX(Data_land,MATCH(Skyggetabeller!J307,Data!landaar,0),24)","v":74},{"$f":"INDEX(Data_land,MATCH(Skyggetabeller!K307,Data!landaar,0),24)","v":53},{"$f":"INDEX(Data_land,MATCH(Skyggetabeller!L307,Data!landaar,0),24)","v":68},{"$f":"INDEX(Data_land,MATCH(Skyggetabeller!M307,Data!landaar,0),24)","v":63},{"$f":"INDEX(Data_land,MATCH(Skyggetabeller!N307,Data!landaar,0),24)","v":48},{"$f":"INDEX(Data_land,MATCH(Skyggetabeller!O307,Data!landaar,0),24)","v":46},{"$f":"INDEX(Data_land,MATCH(Skyggetabeller!P307,Data!landaar,0),24)","v":56},{"$f":"INDEX(Data_land,MATCH(Skyggetabeller!Q307,Data!landaar,0),24)","v":60},{"$f":"INDEX(Data_land,MATCH(Skyggetabeller!R307,Data!landaar,0),24)","v":57}]
[null,"Antal tidligere institutionsanbragte",null,{"$f":"INDEX(Data_land,MATCH(Skyggetabeller!D307,Data!landaar,0),25)","v":3435},{"$f":"INDEX(Data_land,MATCH(Skyggetabeller!E307,Data!landaar,0),25)","v":3383},{"$f":"INDEX(Data_land,MATCH(Skyggetabeller!F307,Data!landaar,0),25)","v":3460},{"$f":"INDEX(Data_land,MATCH(Skyggetabeller!G307,Data!landaar,0),25)","v":3369},{"$f":"INDEX(Data_land,MATCH(Skyggetabeller!H307,Data!landaar,0),25)","v":3409},{"$f":"INDEX(Data_land,MATCH(Skyggetabeller!I307,Data!landaar,0),25)","v":3309},{"$f":"INDEX(Data_land,MATCH(Skyggetabeller!J307,Data!landaar,0),25)","v":3282},{"$f":"INDEX(Data_land,MATCH(Skyggetabeller!K307,Data!landaar,0),25)","v":3274},{"$f":"INDEX(Data_land,MATCH(Skyggetabeller!L307,Data!landaar,0),25)","v":3343},{"$f":"INDEX(Data_land,MATCH(Skyggetabeller!M307,Data!landaar,0),25)","v":3404},{"$f":"INDEX(Data_land,MATCH(Skyggetabeller!N307,Data!landaar,0),25)","v":3494},{"$f":"INDEX(Data_land,MATCH(Skyggetabeller!O307,Data!landaar,0),25)","v":3486},{"$f":"INDEX(Data_land,MATCH(Skyggetabeller!P307,Data!landaar,0),25)","v":3675},{"$f":"INDEX(Data_land,MATCH(Skyggetabeller!Q307,Data!landaar,0),25)","v":3708},{"$f":"INDEX(Data_land,MATCH(Skyggetabeller!R307,Data!landaar,0),25)","v":3769}]
[null,"Andel",null,{"$f":"IFERROR(IF(D317=\"*\",\"*\",IF(D318=0,\"#I/T\",(D317/D318))),\"Data ikke tilføjet\")","v":2.212518195050946E-2},{"$f":"IFERROR(IF(E317=\"*\",\"*\",IF(E318=0,\"#I/T\",(E317/E318))),\"Data ikke tilføjet\")","v":2.1874076263671299E-2},{"$f":"IFERROR(IF(F317=\"*\",\"*\",IF(F318=0,\"#I/T\",(F317/F318))),\"Data ikke tilføjet\")","v":2.2832369942196531E-2},{"$f":"IFERROR(IF(G317=\"*\",\"*\",IF(G318=0,\"#I/T\",(G317/G318))),\"Data ikke tilføjet\")","v":1.7215791035915702E-2},{"$f":"IFERROR(IF(H317=\"*\",\"*\",IF(H318=0,\"#I/T\",(H317/H318))),\"Data ikke tilføjet\")","v":2.2587268993839837E-2},{"$f":"IFERROR(IF(I317=\"*\",\"*\",IF(I318=0,\"#I/T\",(I317/I318))),\"Data ikke tilføjet\")","v":1.8736778482925355E-2},{"$f":"IFERROR(IF(J317=\"*\",\"*\",IF(J318=0,\"#I/T\",(J317/J318))),\"Data ikke tilføjet\")","v":2.2547227300426569E-2},{"$f":"IFERROR(IF(K317=\"*\",\"*\",IF(K318=0,\"#I/T\",(K317/K318))),\"Data ikke tilføjet\")","v":1.6188149053146E-2},{"$f":"IFERROR(IF(L317=\"*\",\"*\",IF(L318=0,\"#I/T\",(L317/L318))),\"Data ikke tilføjet\")","v":2.0341011067903082E-2},{"$f":"IFERROR(IF(M317=\"*\",\"*\",IF(M318=0,\"#I/T\",(M317/M318))),\"Data ikke tilføjet\")","v":1.8507638072855465E-2},{"$f":"IFERROR(IF(N317=\"*\",\"*\",IF(N318=0,\"#I/T\",(N317/N318))),\"Data ikke tilføjet\")","v":1.3737836290784202E-2},{"$f":"IFERROR(IF(O317=\"*\",\"*\",IF(O318=0,\"#I/T\",(O317/O318))),\"Data ikke tilføjet\")","v":1.3195639701663799E-2},{"$f":"IFERROR(IF(P317=\"*\",\"*\",IF(P318=0,\"#I/T\",(P317/P318))),\"Data ikke tilføjet\")","v":1.5238095238095238E-2},{"$f":"IFERROR(IF(Q317=\"*\",\"*\",IF(Q318=0,\"#I/T\",(Q317/Q318))),\"Data ikke tilføjet\")","v":1.6181229773462782E-2},{"$f":"IFERROR(IF(R317=\"*\",\"*\",IF(R318=0,\"#I/T\",(R317/R318))),\"Data ikke tilføjet\")","v":1.5123374900504112E-2}]
[]
[null,"Tabel 7.2: Fra institutionsanbringelse til ingen anbringelse"]
[null,"Nøgletal 7.2: \nTidligere institutionsanbragte, som nu ikke er anbragt ",null,"2017-01-01","2017-07-01","2018-01-01","2018-07-01","2019-01-01","2019-07-01","2020-01-01","2020-07-01","2021-01-01","2021-07-01","2022-01-01","2022-07-01","2023-01-01","2023-07-01","2024-01-01"]
[null,{"$f":"IF(Kommune=\"\",\"Kommune\",Kommune)","v":"København"}]
[null,"Antal, der har bevæget sig",null,{"$f":"IFERROR(IF(INDEX(Data_kom2,MATCH(1,(komnavn2=Kommune)*(komaar2=D322),0),26)=\"*\",\"*\",INDEX(Data_kom2,MATCH(1,(komnavn2=Kommune)*(komaar2=D322),0),26)),\"Data ikke tilføjet\")","v":37},{"$f":"IFERROR(IF(INDEX(Data_kom2,MATCH(1,(komnavn2=Kommune)*(komaar2=E322),0),26)=\"*\",\"*\",INDEX(Data_kom2,MATCH(1,(komnavn2=Kommune)*(komaar2=E322),0),26)),\"Data ikke tilføjet\")","v":46},{"$f":"IFERROR(IF(INDEX(Data_kom2,MATCH(1,(komnavn2=Kommune)*(komaar2=F322),0),26)=\"*\",\"*\",INDEX(Data_kom2,MATCH(1,(komnavn2=Kommune)*(komaar2=F322),0),26)),\"Data ikke tilføjet\")","v":51},{"$f":"IFERROR(IF(INDEX(Data_kom2,MATCH(1,(komnavn2=Kommune)*(komaar2=G322),0),26)=\"*\",\"*\",INDEX(Data_kom2,MATCH(1,(komnavn2=Kommune)*(komaar2=G322),0),26)),\"Data ikke tilføjet\")","v":44},{"$f":"IFERROR(IF(INDEX(Data_kom2,MATCH(1,(komnavn2=Kommune)*(komaar2=H322),0),26)=\"*\",\"*\",INDEX(Data_kom2,MATCH(1,(komnavn2=Kommune)*(komaar2=H322),0),26)),\"Data ikke tilføjet\")","v":40},{"$f":"IFERROR(IF(INDEX(Data_kom2,MATCH(1,(komnavn2=Kommune)*(komaar2=I322),0),26)=\"*\",\"*\",INDEX(Data_kom2,MATCH(1,(komnavn2=Kommune)*(komaar2=I322),0),26)),\"Data ikke tilføjet\")","v":47},{"$f":"IFERROR(IF(INDEX(Data_kom2,MATCH(1,(komnavn2=Kommune)*(komaar2=J322),0),26)=\"*\",\"*\",INDEX(Data_kom2,MATCH(1,(komnavn2=Kommune)*(komaar2=J322),0),26)),\"Data ikke tilføjet\")","v":65},{"$f":"IFERROR(IF(INDEX(Data_kom2,MATCH(1,(komnavn2=Kommune)*(komaar2=K322),0),26)=\"*\",\"*\",INDEX(Data_kom2,MATCH(1,(komnavn2=Kommune)*(komaar2=K322),0),26)),\"Data ikke tilføjet\")","v":"*"},{"$f":"IFERROR(IF(INDEX(Data_kom2,MATCH(1,(komnavn2=Kommune)*(komaar2=L322),0),26)=\"*\",\"*\",INDEX(Data_kom2,MATCH(1,(komnavn2=Kommune)*(komaar2=L322),0),26)),\"Data ikke tilføjet\")","v":31},{"$f":"IFERROR(IF(INDEX(Data_kom2,MATCH(1,(komnavn2=Kommune)*(komaar2=M322),0),26)=\"*\",\"*\",INDEX(Data_kom2,MATCH(1,(komnavn2=Kommune)*(komaar2=M322),0),26)),\"Data ikke tilføjet\")","v":38},{"$f":"IFERROR(IF(INDEX(Data_kom2,MATCH(1,(komnavn2=Kommune)*(komaar2=N322),0),26)=\"*\",\"*\",INDEX(Data_kom2,MATCH(1,(komnavn2=Kommune)*(komaar2=N322),0),26)),\"Data ikke tilføjet\")","v":48},{"$f":"IFERROR(IF(INDEX(Data_kom2,MATCH(1,(komnavn2=Kommune)*(komaar2=O322),0),26)=\"*\",\"*\",INDEX(Data_kom2,MATCH(1,(komnavn2=Kommune)*(komaar2=O322),0),26)),\"Data ikke tilføjet\")","v":"*"},{"$f":"IFERROR(IF(INDEX(Data_kom2,MATCH(1,(komnavn2=Kommune)*(komaar2=P322),0),26)=\"*\",\"*\",INDEX(Data_kom2,MATCH(1,(komnavn2=Kommune)*(komaar2=P322),0),26)),\"Data ikke tilføjet\")","v":43},{"$f":"IFERROR(IF(INDEX(Data_kom2,MATCH(1,(komnavn2=Kommune)*(komaar2=Q322),0),26)=\"*\",\"*\",INDEX(Data_kom2,MATCH(1,(komnavn2=Kommune)*(komaar2=Q322),0),26)),\"Data ikke tilføjet\")","v":"*"},{"$f":"IFERROR(IF(INDEX(Data_kom2,MATCH(1,(komnavn2=Kommune)*(komaar2=R322),0),26)=\"*\",\"*\",INDEX(Data_kom2,MATCH(1,(komnavn2=Kommune)*(komaar2=R322),0),26)),\"Data ikke tilføjet\")","v":"*"}]
[null,"Antal tidligere institutionsanbragte",null,{"$f":"IFERROR(IF(INDEX(Data_kom2,MATCH(1,(komnavn2=Kommune)*(komaar2=D322),0),27)=\"*\",\"*\",INDEX(Data_kom2,MATCH(1,(komnavn2=Kommune)*(komaar2=D322),0),27)),\"Data ikke tilføjet\")","v":234},{"$f":"IFERROR(IF(INDEX(Data_kom2,MATCH(1,(komnavn2=Kommune)*(komaar2=E322),0),27)=\"*\",\"*\",INDEX(Data_kom2,MATCH(1,(komnavn2=Kommune)*(komaar2=E322),0),27)),\"Data ikke tilføjet\")","v":225},{"$f":"IFERROR(IF(INDEX(Data_kom2,MATCH(1,(komnavn2=Kommune)*(komaar2=F322),0),27)=\"*\",\"*\",INDEX(Data_kom2,MATCH(1,(komnavn2=Kommune)*(komaar2=F322),0),27)),\"Data ikke tilføjet\")","v":227},{"$f":"IFERROR(IF(INDEX(Data_kom2,MATCH(1,(komnavn2=Kommune)*(komaar2=G322),0),27)=\"*\",\"*\",INDEX(Data_kom2,MATCH(1,(komnavn2=Kommune)*(komaar2=G322),0),27)),\"Data ikke tilføjet\")","v":215},{"$f":"IFERROR(IF(INDEX(Data_kom2,MATCH(1,(komnavn2=Kommune)*(komaar2=H322),0),27)=\"*\",\"*\",INDEX(Data_kom2,MATCH(1,(komnavn2=Kommune)*(komaar2=H322),0),27)),\"Data ikke tilføjet\")","v":219},{"$f":"IFERROR(IF(INDEX(Data_kom2,MATCH(1,(komnavn2=Kommune)*(komaar2=I322),0),27)=\"*\",\"*\",INDEX(Data_kom2,MATCH(1,(komnavn2=Kommune)*(komaar2=I322),0),27)),\"Data ikke tilføjet\")","v":206},{"$f":"IFERROR(IF(INDEX(Data_kom2,MATCH(1,(komnavn2=Kommune)*(komaar2=J322),0),27)=\"*\",\"*\",INDEX(Data_kom2,MATCH(1,(komnavn2=Kommune)*(komaar2=J322),0),27)),\"Data ikke tilføjet\")","v":195},{"$f":"IFERROR(IF(INDEX(Data_kom2,MATCH(1,(komnavn2=Kommune)*(komaar2=K322),0),27)=\"*\",\"*\",INDEX(Data_kom2,MATCH(1,(komnavn2=Kommune)*(komaar2=K322),0),27)),\"Data ikke tilføjet\")","v":162},{"$f":"IFERROR(IF(INDEX(Data_kom2,MATCH(1,(komnavn2=Kommune)*(komaar2=L322),0),27)=\"*\",\"*\",INDEX(Data_kom2,MATCH(1,(komnavn2=Kommune)*(komaar2=L322),0),27)),\"Data ikke tilføjet\")","v":183},{"$f":"IFERROR(IF(INDEX(Data_kom2,MATCH(1,(komnavn2=Kommune)*(komaar2=M322),0),27)=\"*\",\"*\",INDEX(Data_kom2,MATCH(1,(komnavn2=Kommune)*(komaar2=M322),0),27)),\"Data ikke tilføjet\")","v":203},{"$f":"IFERROR(IF(INDEX(Data_kom2,MATCH(1,(komnavn2=Kommune)*(komaar2=N322),0),27)=\"*\",\"*\",INDEX(Data_kom2,MATCH(1,(komnavn2=Kommune)*(komaar2=N322),0),27)),\"Data ikke tilføjet\")","v":221},{"$f":"IFERROR(IF(INDEX(Data_kom2,MATCH(1,(komnavn2=Kommune)*(komaar2=O322),0),27)=\"*\",\"*\",INDEX(Data_kom2,MATCH(1,(komnavn2=Kommune)*(komaar2=O322),0),27)),\"Data ikke tilføjet\")","v":220},{"$f":"IFERROR(IF(INDEX(Data_kom2,MATCH(1,(komnavn2=Kommune)*(komaar2=P322),0),27)=\"*\",\"*\",INDEX(Data_kom2,MATCH(1,(komnavn2=Kommune)*(komaar2=P322),0),27)),\"Data ikke tilføjet\")","v":246},{"$f":"IFERROR(IF(INDEX(Data_kom2,MATCH(1,(komnavn2=Kommune)*(komaar2=Q322),0),27)=\"*\",\"*\",INDEX(Data_kom2,MATCH(1,(komnavn2=Kommune)*(komaar2=Q322),0),27)),\"Data ikke tilføjet\")","v":252},{"$f":"IFERROR(IF(INDEX(Data_kom2,MATCH(1,(komnavn2=Kommune)*(komaar2=R322),0),27)=\"*\",\"*\",INDEX(Data_kom2,MATCH(1,(komnavn2=Kommune)*(komaar2=R322),0),27)),\"Data ikke tilføjet\")","v":274}]
[null,"Andel",null,{"$f":"IFERROR(IF(D324=\"*\",\"*\",IF(D325=0,\"#I/T\",(D324/D325))),\"Data ikke tilføjet\")","v":0.15811965811965811},0.20444444444444446,0.22466960352422907,0.20465116279069767,0.18264840182648401,0.22815533980582525,0.33333333333333331,"*",0.16939890710382513,{"$f":"IFERROR(IF(M324=\"*\",\"*\",IF(M325=0,\"#I/T\",(M324/M325))),\"Data ikke tilføjet\")","v":0.18719211822660098},0.21719457013574661,"*",0.17479674796747968,"*","*"]
[null,"Sammenligningsgruppe, gns."]
[null,"Antal, der har bevæget sig",null,{"$f":"IF('Dine valg'!$G$24=\"\",\"-\",SUMIF(Hjælpefane!$D$7:$D$111,\"=\"&D$9,Hjælpefane!$AA$7:$AA$111))","v":30},{"$f":"IF('Dine valg'!$G$24=\"\",\"-\",SUMIF(Hjælpefane!$D$7:$D$111,\"=\"&E$9,Hjælpefane!$AA$7:$AA$111))","v":0},{"$f":"IF('Dine valg'!$G$24=\"\",\"-\",SUMIF(Hjælpefane!$D$7:$D$111,\"=\"&F$9,Hjælpefane!$AA$7:$AA$111))","v":30},{"$f":"IF('Dine valg'!$G$24=\"\",\"-\",SUMIF(Hjælpefane!$D$7:$D$111,\"=\"&G$9,Hjælpefane!$AA$7:$AA$111))","v":0},{"$f":"IF('Dine valg'!$G$24=\"\",\"-\",SUMIF(Hjælpefane!$D$7:$D$111,\"=\"&H$9,Hjælpefane!$AA$7:$AA$111))","v":0},{"$f":"IF('Dine valg'!$G$24=\"\",\"-\",SUMIF(Hjælpefane!$D$7:$D$111,\"=\"&I$9,Hjælpefane!$AA$7:$AA$111))","v":25},{"$f":"IF('Dine valg'!$G$24=\"\",\"-\",SUMIF(Hjælpefane!$D$7:$D$111,\"=\"&J$9,Hjælpefane!$AA$7:$AA$111))","v":31},{"$f":"IF('Dine valg'!$G$24=\"\",\"-\",SUMIF(Hjælpefane!$D$7:$D$111,\"=\"&K$9,Hjælpefane!$AA$7:$AA$111))","v":42},{"$f":"IF('Dine valg'!$G$24=\"\",\"-\",SUMIF(Hjælpefane!$D$7:$D$111,\"=\"&L$9,Hjælpefane!$AA$7:$AA$111))","v":28},{"$f":"IF('Dine valg'!$G$24=\"\",\"-\",SUMIF(Hjælpefane!$D$7:$D$111,\"=\"&M$9,Hjælpefane!$AA$7:$AA$111))","v":28},{"$f":"IF('Dine valg'!$G$24=\"\",\"-\",SUMIF(Hjælpefane!$D$7:$D$111,\"=\"&N$9,Hjælpefane!$AA$7:$AA$111))","v":37},{"$f":"IF('Dine valg'!$G$24=\"\",\"-\",SUMIF(Hjælpefane!$D$7:$D$111,\"=\"&O$9,Hjælpefane!$AA$7:$AA$111))","v":0},{"$f":"IF('Dine valg'!$G$24=\"\",\"-\",SUMIF(Hjælpefane!$D$7:$D$111,\"=\"&P$9,Hjælpefane!$AA$7:$AA$111))","v":33},{"$f":"IF('Dine valg'!$G$24=\"\",\"-\",SUMIF(Hjælpefane!$D$7:$D$111,\"=\"&Q$9,Hjælpefane!$AA$7:$AA$111))","v":0},{"$f":"IF('Dine valg'!$G$24=\"\",\"-\",SUMIF(Hjælpefane!$D$7:$D$111,\"=\"&R$9,Hjælpefane!$AA$7:$AA$111))","v":0}]
[null,"Antal tidligere institutionsanbragte",null,{"$f":"IF('Dine valg'!$G$24=\"\",\"-\",SUMIF(Hjælpefane!$D$7:$D$111,\"=\"&D$9,Hjælpefane!$AB$7:$AB$111))","v":200},{"$f":"IF('Dine valg'!$G$24=\"\",\"-\",SUMIF(Hjælpefane!$D$7:$D$111,\"=\"&E$9,Hjælpefane!$AB$7:$AB$111))","v":188},{"$f":"IF('Dine valg'!$G$24=\"\",\"-\",SUMIF(Hjælpefane!$D$7:$D$111,\"=\"&F$9,Hjælpefane!$AB$7:$AB$111))","v":186},{"$f":"IF('Dine valg'!$G$24=\"\",\"-\",SUMIF(Hjælpefane!$D$7:$D$111,\"=\"&G$9,Hjælpefane!$AB$7:$AB$111))","v":178},{"$f":"IF('Dine valg'!$G$24=\"\",\"-\",SUMIF(Hjælpefane!$D$7:$D$111,\"=\"&H$9,Hjælpefane!$AB$7:$AB$111))","v":166},{"$f":"IF('Dine valg'!$G$24=\"\",\"-\",SUMIF(Hjælpefane!$D$7:$D$111,\"=\"&I$9,Hjælpefane!$AB$7:$AB$111))","v":173},{"$f":"IF('Dine valg'!$G$24=\"\",\"-\",SUMIF(Hjælpefane!$D$7:$D$111,\"=\"&J$9,Hjælpefane!$AB$7:$AB$111))","v":173},{"$f":"IF('Dine valg'!$G$24=\"\",\"-\",SUMIF(Hjælpefane!$D$7:$D$111,\"=\"&K$9,Hjælpefane!$AB$7:$AB$111))","v":166},{"$f":"IF('Dine valg'!$G$24=\"\",\"-\",SUMIF(Hjælpefane!$D$7:$D$111,\"=\"&L$9,Hjælpefane!$AB$7:$AB$111))","v":168},{"$f":"IF('Dine valg'!$G$24=\"\",\"-\",SUMIF(Hjælpefane!$D$7:$D$111,\"=\"&M$9,Hjælpefane!$AB$7:$AB$111))","v":169},{"$f":"IF('Dine valg'!$G$24=\"\",\"-\",SUMIF(Hjælpefane!$D$7:$D$111,\"=\"&N$9,Hjælpefane!$AB$7:$AB$111))","v":168},{"$f":"IF('Dine valg'!$G$24=\"\",\"-\",SUMIF(Hjælpefane!$D$7:$D$111,\"=\"&O$9,Hjælpefane!$AB$7:$AB$111))","v":154},{"$f":"IF('Dine valg'!$G$24=\"\",\"-\",SUMIF(Hjælpefane!$D$7:$D$111,\"=\"&P$9,Hjælpefane!$AB$7:$AB$111))","v":168},{"$f":"IF('Dine valg'!$G$24=\"\",\"-\",SUMIF(Hjælpefane!$D$7:$D$111,\"=\"&Q$9,Hjælpefane!$AB$7:$AB$111))","v":162},{"$f":"IF('Dine valg'!$G$24=\"\",\"-\",SUMIF(Hjælpefane!$D$7:$D$111,\"=\"&R$9,Hjælpefane!$AB$7:$AB$111))","v":161}]
[null,"Andel",null,{"$f":"IFERROR(IF(D328=\"*\",\"*\",IF(D329=\"\",\"Indtast data\",(D328/D329))),\"-\")","v":0.15},{"$f":"IFERROR(IF(E328=\"*\",\"*\",IF(E329=\"\",\"Indtast data\",(E328/E329))),\"-\")","v":0},{"$f":"IFERROR(IF(F328=\"*\",\"*\",IF(F329=\"\",\"Indtast data\",(F328/F329))),\"-\")","v":0.16129032258064516},{"$f":"IFERROR(IF(G328=\"*\",\"*\",IF(G329=\"\",\"Indtast data\",(G328/G329))),\"-\")","v":0},{"$f":"IFERROR(IF(H328=\"*\",\"*\",IF(H329=\"\",\"Indtast data\",(H328/H329))),\"-\")","v":0},{"$f":"IFERROR(IF(I328=\"*\",\"*\",IF(I329=\"\",\"Indtast data\",(I328/I329))),\"-\")","v":0.14450867052023122},{"$f":"IFERROR(IF(J328=\"*\",\"*\",IF(J329=\"\",\"Indtast data\",(J328/J329))),\"-\")","v":0.1791907514450867},{"$f":"IFERROR(IF(K328=\"*\",\"*\",IF(K329=\"\",\"Indtast data\",(K328/K329))),\"-\")","v":0.25301204819277107},{"$f":"IFERROR(IF(L328=\"*\",\"*\",IF(L329=\"\",\"Indtast data\",(L328/L329))),\"-\")","v":0.16666666666666666},0.16568047337278108,0.22023809523809523,0,0.19642857142857142,0,0]
[null,"Hele landet"]
[null,"Antal, der har bevæget sig",null,{"$f":"INDEX(Data_land,MATCH(Skyggetabeller!D322,Data!landaar,0),26)","v":558},{"$f":"INDEX(Data_land,MATCH(Skyggetabeller!E322,Data!landaar,0),26)","v":581},{"$f":"INDEX(Data_land,MATCH(Skyggetabeller!F322,Data!landaar,0),26)","v":620},{"$f":"INDEX(Data_land,MATCH(Skyggetabeller!G322,Data!landaar,0),26)","v":580},{"$f":"INDEX(Data_land,MATCH(Skyggetabeller!H322,Data!landaar,0),26)","v":597},{"$f":"INDEX(Data_land,MATCH(Skyggetabeller!I322,Data!landaar,0),26)","v":542},{"$f":"INDEX(Data_land,MATCH(Skyggetabeller!J322,Data!landaar,0),26)","v":576},{"$f":"INDEX(Data_land,MATCH(Skyggetabeller!K322,Data!landaar,0),26)","v":506},{"$f":"INDEX(Data_land,MATCH(Skyggetabeller!L322,Data!landaar,0),26)","v":529},{"$f":"INDEX(Data_land,MATCH(Skyggetabeller!M322,Data!landaar,0),26)","v":526},{"$f":"INDEX(Data_land,MATCH(Skyggetabeller!N322,Data!landaar,0),26)","v":612},{"$f":"INDEX(Data_land,MATCH(Skyggetabeller!O322,Data!landaar,0),26)","v":528},{"$f":"INDEX(Data_land,MATCH(Skyggetabeller!P322,Data!landaar,0),26)","v":600},{"$f":"INDEX(Data_land,MATCH(Skyggetabeller!Q322,Data!landaar,0),26)","v":556},{"$f":"INDEX(Data_land,MATCH(Skyggetabeller!R322,Data!landaar,0),26)","v":584}]
[null,"Antal tidligere institutionsanbragte",null,{"$f":"INDEX(Data_land,MATCH(Skyggetabeller!D322,Data!landaar,0),27)","v":3435},{"$f":"INDEX(Data_land,MATCH(Skyggetabeller!E322,Data!landaar,0),27)","v":3383},{"$f":"INDEX(Data_land,MATCH(Skyggetabeller!F322,Data!landaar,0),27)","v":3460},{"$f":"INDEX(Data_land,MATCH(Skyggetabeller!G322,Data!landaar,0),27)","v":3369},{"$f":"INDEX(Data_land,MATCH(Skyggetabeller!H322,Data!landaar,0),27)","v":3409},{"$f":"INDEX(Data_land,MATCH(Skyggetabeller!I322,Data!landaar,0),27)","v":3309},{"$f":"INDEX(Data_land,MATCH(Skyggetabeller!J322,Data!landaar,0),27)","v":3282},{"$f":"INDEX(Data_land,MATCH(Skyggetabeller!K322,Data!landaar,0),27)","v":3274},{"$f":"INDEX(Data_land,MATCH(Skyggetabeller!L322,Data!landaar,0),27)","v":3343},{"$f":"INDEX(Data_land,MATCH(Skyggetabeller!M322,Data!landaar,0),27)","v":3404},{"$f":"INDEX(Data_land,MATCH(Skyggetabeller!N322,Data!landaar,0),27)","v":3494},{"$f":"INDEX(Data_land,MATCH(Skyggetabeller!O322,Data!landaar,0),27)","v":3486},{"$f":"INDEX(Data_land,MATCH(Skyggetabeller!P322,Data!landaar,0),27)","v":3675},{"$f":"INDEX(Data_land,MATCH(Skyggetabeller!Q322,Data!landaar,0),27)","v":3708},{"$f":"INDEX(Data_land,MATCH(Skyggetabeller!R322,Data!landaar,0),27)","v":3769}]
[null,"Andel",null,{"$f":"IFERROR(IF(D332=\"*\",\"*\",IF(D333=0,\"#I/T\",(D332/D333))),\"Data ikke tilføjet\")","v":0.16244541484716157},{"$f":"IFERROR(IF(E332=\"*\",\"*\",IF(E333=0,\"#I/T\",(E332/E333))),\"Data ikke tilføjet\")","v":0.17174105823233815},{"$f":"IFERROR(IF(F332=\"*\",\"*\",IF(F333=0,\"#I/T\",(F332/F333))),\"Data ikke tilføjet\")","v":0.1791907514450867},{"$f":"IFERROR(IF(G332=\"*\",\"*\",IF(G333=0,\"#I/T\",(G332/G333))),\"Data ikke tilføjet\")","v":0.17215791035915701},{"$f":"IFERROR(IF(H332=\"*\",\"*\",IF(H333=0,\"#I/T\",(H332/H333))),\"Data ikke tilføjet\")","v":0.17512466999119977},{"$f":"IFERROR(IF(I332=\"*\",\"*\",IF(I333=0,\"#I/T\",(I332/I333))),\"Data ikke tilføjet\")","v":0.16379570867331519},{"$f":"IFERROR(IF(J332=\"*\",\"*\",IF(J333=0,\"#I/T\",(J332/J333))),\"Data ikke tilføjet\")","v":0.17550274223034734},{"$f":"IFERROR(IF(K332=\"*\",\"*\",IF(K333=0,\"#I/T\",(K332/K333))),\"Data ikke tilføjet\")","v":0.15455100794135615},{"$f":"IFERROR(IF(L332=\"*\",\"*\",IF(L333=0,\"#I/T\",(L332/L333))),\"Data ikke tilføjet\")","v":0.1582411008076578},{"$f":"IFERROR(IF(M332=\"*\",\"*\",IF(M333=0,\"#I/T\",(M332/M333))),\"Data ikke tilføjet\")","v":0.154524089306698},{"$f":"IFERROR(IF(N332=\"*\",\"*\",IF(N333=0,\"#I/T\",(N332/N333))),\"Data ikke tilføjet\")","v":0.17515741270749857},{"$f":"IFERROR(IF(O332=\"*\",\"*\",IF(O333=0,\"#I/T\",(O332/O333))),\"Data ikke tilføjet\")","v":0.15146299483648881},{"$f":"IFERROR(IF(P332=\"*\",\"*\",IF(P333=0,\"#I/T\",(P332/P333))),\"Data ikke tilføjet\")","v":0.16326530612244897},{"$f":"IFERROR(IF(Q332=\"*\",\"*\",IF(Q333=0,\"#I/T\",(Q332/Q333))),\"Data ikke tilføjet\")","v":0.1499460625674218},{"$f":"IFERROR(IF(R332=\"*\",\"*\",IF(R333=0,\"#I/T\",(R332/R333))),\"Data ikke tilføjet\")","v":0.15494826213849827}]
[]
[]
[null,"Nøgletal 8: Fra hjemmebaseret foranstaltning og op ad trappen"]
[]
[null,"Tabel 8: Fra hjemmebaseret foranstaltning og op ad trappen"]
[null,"Nøgletal 8: \nBørn og unge, der ved sidste opgørelse modtog en hjemmebaseret foranstaltning, og ikke var anbragt, som på opgørelsestidspunktet er anbragt uden for hjemmet",null,"2017-01-01","2017-07-01","2018-01-01","2018-07-01","2019-01-01","2019-07-01","2020-01-01","2020-07-01","2021-01-01","2021-07-01","2022-01-01","2022-07-01","2023-01-01","2023-07-01","2024-01-01"]
[null,{"$f":"IF(Kommune=\"\",\"Kommune\",Kommune)","v":"København"}]
[null,"Antal, der har bevæget sig",null,{"$f":"IFERROR(IF(INDEX(Data_kom2,MATCH(1,(komnavn2=Kommune)*(komaar2=D340),0),28)=\"*\",\"*\",INDEX(Data_kom2,MATCH(1,(komnavn2=Kommune)*(komaar2=D340),0),28)),\"Data ikke tilføjet\")","v":58},{"$f":"IFERROR(IF(INDEX(Data_kom2,MATCH(1,(komnavn2=Kommune)*(komaar2=E340),0),28)=\"*\",\"*\",INDEX(Data_kom2,MATCH(1,(komnavn2=Kommune)*(komaar2=E340),0),28)),\"Data ikke tilføjet\")","v":52},{"$f":"IFERROR(IF(INDEX(Data_kom2,MATCH(1,(komnavn2=Kommune)*(komaar2=F340),0),28)=\"*\",\"*\",INDEX(Data_kom2,MATCH(1,(komnavn2=Kommune)*(komaar2=F340),0),28)),\"Data ikke tilføjet\")","v":48},{"$f":"IFERROR(IF(INDEX(Data_kom2,MATCH(1,(komnavn2=Kommune)*(komaar2=G340),0),28)=\"*\",\"*\",INDEX(Data_kom2,MATCH(1,(komnavn2=Kommune)*(komaar2=G340),0),28)),\"Data ikke tilføjet\")","v":56},{"$f":"IFERROR(IF(INDEX(Data_kom2,MATCH(1,(komnavn2=Kommune)*(komaar2=H340),0),28)=\"*\",\"*\",INDEX(Data_kom2,MATCH(1,(komnavn2=Kommune)*(komaar2=H340),0),28)),\"Data ikke tilføjet\")","v":56},{"$f":"IFERROR(IF(INDEX(Data_kom2,MATCH(1,(komnavn2=Kommune)*(komaar2=I340),0),28)=\"*\",\"*\",INDEX(Data_kom2,MATCH(1,(komnavn2=Kommune)*(komaar2=I340),0),28)),\"Data ikke tilføjet\")","v":47},{"$f":"IFERROR(IF(INDEX(Data_kom2,MATCH(1,(komnavn2=Kommune)*(komaar2=J340),0),28)=\"*\",\"*\",INDEX(Data_kom2,MATCH(1,(komnavn2=Kommune)*(komaar2=J340),0),28)),\"Data ikke tilføjet\")","v":45},{"$f":"IFERROR(IF(INDEX(Data_kom2,MATCH(1,(komnavn2=Kommune)*(komaar2=K340),0),28)=\"*\",\"*\",INDEX(Data_kom2,MATCH(1,(komnavn2=Kommune)*(komaar2=K340),0),28)),\"Data ikke tilføjet\")","v":48},{"$f":"IFERROR(IF(INDEX(Data_kom2,MATCH(1,(komnavn2=Kommune)*(komaar2=L340),0),28)=\"*\",\"*\",INDEX(Data_kom2,MATCH(1,(komnavn2=Kommune)*(komaar2=L340),0),28)),\"Data ikke tilføjet\")","v":63},{"$f":"IFERROR(IF(INDEX(Data_kom2,MATCH(1,(komnavn2=Kommune)*(komaar2=M340),0),28)=\"*\",\"*\",INDEX(Data_kom2,MATCH(1,(komnavn2=Kommune)*(komaar2=M340),0),28)),\"Data ikke tilføjet\")","v":57},{"$f":"IFERROR(IF(INDEX(Data_kom2,MATCH(1,(komnavn2=Kommune)*(komaar2=N340),0),28)=\"*\",\"*\",INDEX(Data_kom2,MATCH(1,(komnavn2=Kommune)*(komaar2=N340),0),28)),\"Data ikke tilføjet\")","v":"*"},{"$f":"IFERROR(IF(INDEX(Data_kom2,MATCH(1,(komnavn2=Kommune)*(komaar2=O340),0),28)=\"*\",\"*\",INDEX(Data_kom2,MATCH(1,(komnavn2=Kommune)*(komaar2=O340),0),28)),\"Data ikke tilføjet\")","v":72},{"$f":"IFERROR(IF(INDEX(Data_kom2,MATCH(1,(komnavn2=Kommune)*(komaar2=P340),0),28)=\"*\",\"*\",INDEX(Data_kom2,MATCH(1,(komnavn2=Kommune)*(komaar2=P340),0),28)),\"Data ikke tilføjet\")","v":65},{"$f":"IFERROR(IF(INDEX(Data_kom2,MATCH(1,(komnavn2=Kommune)*(komaar2=Q340),0),28)=\"*\",\"*\",INDEX(Data_kom2,MATCH(1,(komnavn2=Kommune)*(komaar2=Q340),0),28)),\"Data ikke tilføjet\")","v":51},{"$f":"IFERROR(IF(INDEX(Data_kom2,MATCH(1,(komnavn2=Kommune)*(komaar2=R340),0),28)=\"*\",\"*\",INDEX(Data_kom2,MATCH(1,(komnavn2=Kommune)*(komaar2=R340),0),28)),\"Data ikke tilføjet\")","v":44}]
[null,"Antal tidligere modtagere",null,{"$f":"IFERROR(IF(INDEX(Data_kom2,MATCH(1,(komnavn2=Kommune)*(komaar2=D340),0),29)=\"*\",\"*\",INDEX(Data_kom2,MATCH(1,(komnavn2=Kommune)*(komaar2=D340),0),29)),\"Data ikke tilføjet\")","v":1957},{"$f":"IFERROR(IF(INDEX(Data_kom2,MATCH(1,(komnavn2=Kommune)*(komaar2=E340),0),29)=\"*\",\"*\",INDEX(Data_kom2,MATCH(1,(komnavn2=Kommune)*(komaar2=E340),0),29)),\"Data ikke tilføjet\")","v":1892},{"$f":"IFERROR(IF(INDEX(Data_kom2,MATCH(1,(komnavn2=Kommune)*(komaar2=F340),0),29)=\"*\",\"*\",INDEX(Data_kom2,MATCH(1,(komnavn2=Kommune)*(komaar2=F340),0),29)),\"Data ikke tilføjet\")","v":1625},{"$f":"IFERROR(IF(INDEX(Data_kom2,MATCH(1,(komnavn2=Kommune)*(komaar2=G340),0),29)=\"*\",\"*\",INDEX(Data_kom2,MATCH(1,(komnavn2=Kommune)*(komaar2=G340),0),29)),\"Data ikke tilføjet\")","v":1432},{"$f":"IFERROR(IF(INDEX(Data_kom2,MATCH(1,(komnavn2=Kommune)*(komaar2=H340),0),29)=\"*\",\"*\",INDEX(Data_kom2,MATCH(1,(komnavn2=Kommune)*(komaar2=H340),0),29)),\"Data ikke tilføjet\")","v":1912},{"$f":"IFERROR(IF(INDEX(Data_kom2,MATCH(1,(komnavn2=Kommune)*(komaar2=I340),0),29)=\"*\",\"*\",INDEX(Data_kom2,MATCH(1,(komnavn2=Kommune)*(komaar2=I340),0),29)),\"Data ikke tilføjet\")","v":2133},{"$f":"IFERROR(IF(INDEX(Data_kom2,MATCH(1,(komnavn2=Kommune)*(komaar2=J340),0),29)=\"*\",\"*\",INDEX(Data_kom2,MATCH(1,(komnavn2=Kommune)*(komaar2=J340),0),29)),\"Data ikke tilføjet\")","v":2125},{"$f":"IFERROR(IF(INDEX(Data_kom2,MATCH(1,(komnavn2=Kommune)*(komaar2=K340),0),29)=\"*\",\"*\",INDEX(Data_kom2,MATCH(1,(komnavn2=Kommune)*(komaar2=K340),0),29)),\"Data ikke tilføjet\")","v":2088},{"$f":"IFERROR(IF(INDEX(Data_kom2,MATCH(1,(komnavn2=Kommune)*(komaar2=L340),0),29)=\"*\",\"*\",INDEX(Data_kom2,MATCH(1,(komnavn2=Kommune)*(komaar2=L340),0),29)),\"Data ikke tilføjet\")","v":2091},{"$f":"IFERROR(IF(INDEX(Data_kom2,MATCH(1,(komnavn2=Kommune)*(komaar2=M340),0),29)=\"*\",\"*\",INDEX(Data_kom2,MATCH(1,(komnavn2=Kommune)*(komaar2=M340),0),29)),\"Data ikke tilføjet\")","v":2015},{"$f":"IFERROR(IF(INDEX(Data_kom2,MATCH(1,(komnavn2=Kommune)*(komaar2=N340),0),29)=\"*\",\"*\",INDEX(Data_kom2,MATCH(1,(komnavn2=Kommune)*(komaar2=N340),0),29)),\"Data ikke tilføjet\")","v":2280},{"$f":"IFERROR(IF(INDEX(Data_kom2,MATCH(1,(komnavn2=Kommune)*(komaar2=O340),0),29)=\"*\",\"*\",INDEX(Data_kom2,MATCH(1,(komnavn2=Kommune)*(komaar2=O340),0),29)),\"Data ikke tilføjet\")","v":2280},{"$f":"IFERROR(IF(INDEX(Data_kom2,MATCH(1,(komnavn2=Kommune)*(komaar2=P340),0),29)=\"*\",\"*\",INDEX(Data_kom2,MATCH(1,(komnavn2=Kommune)*(komaar2=P340),0),29)),\"Data ikke tilføjet\")","v":2409},{"$f":"IFERROR(IF(INDEX(Data_kom2,MATCH(1,(komnavn2=Kommune)*(komaar2=Q340),0),29)=\"*\",\"*\",INDEX(Data_kom2,MATCH(1,(komnavn2=Kommune)*(komaar2=Q340),0),29)),\"Data ikke tilføjet\")","v":2436},{"$f":"IFERROR(IF(INDEX(Data_kom2,MATCH(1,(komnavn2=Kommune)*(komaar2=R340),0),29)=\"*\",\"*\",INDEX(Data_kom2,MATCH(1,(komnavn2=Kommune)*(komaar2=R340),0),29)),\"Data ikke tilføjet\")","v":2409}]
[null,"Andel",null,{"$f":"IFERROR(IF(D342=\"*\",\"*\",IF(D343=0,\"#I/T\",(D342/D343))),\"Data ikke tilføjet\")","v":2.9637199795605518E-2},2.748414376321353E-2,2.9538461538461538E-2,3.9106145251396648E-2,2.9288702928870293E-2,2.2034692920768869E-2,2.1176470588235293E-2,2.2988505747126436E-2,3.0129124820659971E-2,{"$f":"IFERROR(IF(M342=\"*\",\"*\",IF(M343=0,\"#I/T\",(M342/M343))),\"Data ikke tilføjet\")","v":2.8287841191066997E-2},"*",3.1578947368421054E-2,2.6982150269821502E-2,2.0935960591133004E-2,1.8264840182648401E-2]
[null,"Sammenligningsgruppe, gns."]
[null,"Antal, der har bevæget sig",null,{"$f":"IF('Dine valg'!$G$24=\"\",\"-\",SUMIF(Hjælpefane!$D$7:$D$111,\"=\"&D$9,Hjælpefane!$AC$7:$AC$111))","v":0},{"$f":"IF('Dine valg'!$G$24=\"\",\"-\",SUMIF(Hjælpefane!$D$7:$D$111,\"=\"&E$9,Hjælpefane!$AC$7:$AC$111))","v":0},{"$f":"IF('Dine valg'!$G$24=\"\",\"-\",SUMIF(Hjælpefane!$D$7:$D$111,\"=\"&F$9,Hjælpefane!$AC$7:$AC$111))","v":0},{"$f":"IF('Dine valg'!$G$24=\"\",\"-\",SUMIF(Hjælpefane!$D$7:$D$111,\"=\"&G$9,Hjælpefane!$AC$7:$AC$111))","v":0},{"$f":"IF('Dine valg'!$G$24=\"\",\"-\",SUMIF(Hjælpefane!$D$7:$D$111,\"=\"&H$9,Hjælpefane!$AC$7:$AC$111))","v":31},{"$f":"IF('Dine valg'!$G$24=\"\",\"-\",SUMIF(Hjælpefane!$D$7:$D$111,\"=\"&I$9,Hjælpefane!$AC$7:$AC$111))","v":23},{"$f":"IF('Dine valg'!$G$24=\"\",\"-\",SUMIF(Hjælpefane!$D$7:$D$111,\"=\"&J$9,Hjælpefane!$AC$7:$AC$111))","v":22},{"$f":"IF('Dine valg'!$G$24=\"\",\"-\",SUMIF(Hjælpefane!$D$7:$D$111,\"=\"&K$9,Hjælpefane!$AC$7:$AC$111))","v":37},{"$f":"IF('Dine valg'!$G$24=\"\",\"-\",SUMIF(Hjælpefane!$D$7:$D$111,\"=\"&L$9,Hjælpefane!$AC$7:$AC$111))","v":22},{"$f":"IF('Dine valg'!$G$24=\"\",\"-\",SUMIF(Hjælpefane!$D$7:$D$111,\"=\"&M$9,Hjælpefane!$AC$7:$AC$111))","v":24},{"$f":"IF('Dine valg'!$G$24=\"\",\"-\",SUMIF(Hjælpefane!$D$7:$D$111,\"=\"&N$9,Hjælpefane!$AC$7:$AC$111))","v":19},{"$f":"IF('Dine valg'!$G$24=\"\",\"-\",SUMIF(Hjælpefane!$D$7:$D$111,\"=\"&O$9,Hjælpefane!$AC$7:$AC$111))","v":34},{"$f":"IF('Dine valg'!$G$24=\"\",\"-\",SUMIF(Hjælpefane!$D$7:$D$111,\"=\"&P$9,Hjælpefane!$AC$7:$AC$111))","v":26},{"$f":"IF('Dine valg'!$G$24=\"\",\"-\",SUMIF(Hjælpefane!$D$7:$D$111,\"=\"&Q$9,Hjælpefane!$AC$7:$AC$111))","v":24},{"$f":"IF('Dine valg'!$G$24=\"\",\"-\",SUMIF(Hjælpefane!$D$7:$D$111,\"=\"&R$9,Hjælpefane!$AC$7:$AC$111))","v":23}]
[null,"Antal tidligere modtagere",null,{"$f":"IF('Dine valg'!$G$24=\"\",\"-\",SUMIF(Hjælpefane!$D$7:$D$111,\"=\"&D$9,Hjælpefane!$AD$7:$AD$111))","v":1115},{"$f":"IF('Dine valg'!$G$24=\"\",\"-\",SUMIF(Hjælpefane!$D$7:$D$111,\"=\"&E$9,Hjælpefane!$AD$7:$AD$111))","v":1099},{"$f":"IF('Dine valg'!$G$24=\"\",\"-\",SUMIF(Hjælpefane!$D$7:$D$111,\"=\"&F$9,Hjælpefane!$AD$7:$AD$111))","v":1043},{"$f":"IF('Dine valg'!$G$24=\"\",\"-\",SUMIF(Hjælpefane!$D$7:$D$111,\"=\"&G$9,Hjælpefane!$AD$7:$AD$111))","v":1136},{"$f":"IF('Dine valg'!$G$24=\"\",\"-\",SUMIF(Hjælpefane!$D$7:$D$111,\"=\"&H$9,Hjælpefane!$AD$7:$AD$111))","v":1181},{"$f":"IF('Dine valg'!$G$24=\"\",\"-\",SUMIF(Hjælpefane!$D$7:$D$111,\"=\"&I$9,Hjælpefane!$AD$7:$AD$111))","v":1285},{"$f":"IF('Dine valg'!$G$24=\"\",\"-\",SUMIF(Hjælpefane!$D$7:$D$111,\"=\"&J$9,Hjælpefane!$AD$7:$AD$111))","v":1281},{"$f":"IF('Dine valg'!$G$24=\"\",\"-\",SUMIF(Hjælpefane!$D$7:$D$111,\"=\"&K$9,Hjælpefane!$AD$7:$AD$111))","v":1282},{"$f":"IF('Dine valg'!$G$24=\"\",\"-\",SUMIF(Hjælpefane!$D$7:$D$111,\"=\"&L$9,Hjælpefane!$AD$7:$AD$111))","v":1258},{"$f":"IF('Dine valg'!$G$24=\"\",\"-\",SUMIF(Hjælpefane!$D$7:$D$111,\"=\"&M$9,Hjælpefane!$AD$7:$AD$111))","v":1242},{"$f":"IF('Dine valg'!$G$24=\"\",\"-\",SUMIF(Hjælpefane!$D$7:$D$111,\"=\"&N$9,Hjælpefane!$AD$7:$AD$111))","v":1217},{"$f":"IF('Dine valg'!$G$24=\"\",\"-\",SUMIF(Hjælpefane!$D$7:$D$111,\"=\"&O$9,Hjælpefane!$AD$7:$AD$111))","v":1144},{"$f":"IF('Dine valg'!$G$24=\"\",\"-\",SUMIF(Hjælpefane!$D$7:$D$111,\"=\"&P$9,Hjælpefane!$AD$7:$AD$111))","v":1111},{"$f":"IF('Dine valg'!$G$24=\"\",\"-\",SUMIF(Hjælpefane!$D$7:$D$111,\"=\"&Q$9,Hjælpefane!$AD$7:$AD$111))","v":1094},{"$f":"IF('Dine valg'!$G$24=\"\",\"-\",SUMIF(Hjælpefane!$D$7:$D$111,\"=\"&R$9,Hjælpefane!$AD$7:$AD$111))","v":1057}]
[null,"Andel",null,{"$f":"IFERROR(IF(D346=\"*\",\"*\",IF(D347=\"\",\"Indtast data\",(D346/D347))),\"-\")","v":0},{"$f":"IFERROR(IF(E346=\"*\",\"*\",IF(E347=\"\",\"Indtast data\",(E346/E347))),\"-\")","v":0},{"$f":"IFERROR(IF(F346=\"*\",\"*\",IF(F347=\"\",\"Indtast data\",(F346/F347))),\"-\")","v":0},{"$f":"IFERROR(IF(G346=\"*\",\"*\",IF(G347=\"\",\"Indtast data\",(G346/G347))),\"-\")","v":0},{"$f":"IFERROR(IF(H346=\"*\",\"*\",IF(H347=\"\",\"Indtast data\",(H346/H347))),\"-\")","v":2.6248941574936496E-2},{"$f":"IFERROR(IF(I346=\"*\",\"*\",IF(I347=\"\",\"Indtast data\",(I346/I347))),\"-\")","v":1.7898832684824902E-2},{"$f":"IFERROR(IF(J346=\"*\",\"*\",IF(J347=\"\",\"Indtast data\",(J346/J347))),\"-\")","v":1.7174082747853241E-2},{"$f":"IFERROR(IF(K346=\"*\",\"*\",IF(K347=\"\",\"Indtast data\",(K346/K347))),\"-\")","v":2.8861154446177848E-2},{"$f":"IFERROR(IF(L346=\"*\",\"*\",IF(L347=\"\",\"Indtast data\",(L346/L347))),\"-\")","v":1.7488076311605722E-2},1.932367149758454E-2,1.5612161051766639E-2,2.972027972027972E-2,2.3402340234023402E-2,2.1937842778793418E-2,2.1759697256385997E-2]
[null,"Hele landet"]
[null,"Antal, der har bevæget sig",null,{"$f":"INDEX(Data_land,MATCH(Skyggetabeller!D340,Data!landaar,0),28)","v":816},{"$f":"INDEX(Data_land,MATCH(Skyggetabeller!E340,Data!landaar,0),28)","v":805},{"$f":"INDEX(Data_land,MATCH(Skyggetabeller!F340,Data!landaar,0),28)","v":759},{"$f":"INDEX(Data_land,MATCH(Skyggetabeller!G340,Data!landaar,0),28)","v":763},{"$f":"INDEX(Data_land,MATCH(Skyggetabeller!H340,Data!landaar,0),28)","v":715},{"$f":"INDEX(Data_land,MATCH(Skyggetabeller!I340,Data!landaar,0),28)","v":678},{"$f":"INDEX(Data_land,MATCH(Skyggetabeller!J340,Data!landaar,0),28)","v":735},{"$f":"INDEX(Data_land,MATCH(Skyggetabeller!K340,Data!landaar,0),28)","v":755},{"$f":"INDEX(Data_land,MATCH(Skyggetabeller!L340,Data!landaar,0),28)","v":751},{"$f":"INDEX(Data_land,MATCH(Skyggetabeller!M340,Data!landaar,0),28)","v":784},{"$f":"INDEX(Data_land,MATCH(Skyggetabeller!N340,Data!landaar,0),28)","v":738},{"$f":"INDEX(Data_land,MATCH(Skyggetabeller!O340,Data!landaar,0),28)","v":815},{"$f":"INDEX(Data_land,MATCH(Skyggetabeller!P340,Data!landaar,0),28)","v":765},{"$f":"INDEX(Data_land,MATCH(Skyggetabeller!Q340,Data!landaar,0),28)","v":732},{"$f":"INDEX(Data_land,MATCH(Skyggetabeller!R340,Data!landaar,0),28)","v":770}]
[null,"Antal tidligere modtagere",null,{"$f":"INDEX(Data_land,MATCH(Skyggetabeller!D340,Data!landaar,0),29)","v":23290},{"$f":"INDEX(Data_land,MATCH(Skyggetabeller!E340,Data!landaar,0),29)","v":23270},{"$f":"INDEX(Data_land,MATCH(Skyggetabeller!F340,Data!landaar,0),29)","v":22963},{"$f":"INDEX(Data_land,MATCH(Skyggetabeller!G340,Data!landaar,0),29)","v":23020},{"$f":"INDEX(Data_land,MATCH(Skyggetabeller!H340,Data!landaar,0),29)","v":22953},{"$f":"INDEX(Data_land,MATCH(Skyggetabeller!I340,Data!landaar,0),29)","v":23714},{"$f":"INDEX(Data_land,MATCH(Skyggetabeller!J340,Data!landaar,0),29)","v":23560},{"$f":"INDEX(Data_land,MATCH(Skyggetabeller!K340,Data!landaar,0),29)","v":24341},{"$f":"INDEX(Data_land,MATCH(Skyggetabeller!L340,Data!landaar,0),29)","v":24410},{"$f":"INDEX(Data_land,MATCH(Skyggetabeller!M340,Data!landaar,0),29)","v":24895},{"$f":"INDEX(Data_land,MATCH(Skyggetabeller!N340,Data!landaar,0),29)","v":25844},{"$f":"INDEX(Data_land,MATCH(Skyggetabeller!O340,Data!landaar,0),29)","v":26206},{"$f":"INDEX(Data_land,MATCH(Skyggetabeller!P340,Data!landaar,0),29)","v":26526},{"$f":"INDEX(Data_land,MATCH(Skyggetabeller!Q340,Data!landaar,0),29)","v":27075},{"$f":"INDEX(Data_land,MATCH(Skyggetabeller!R340,Data!landaar,0),29)","v":27273}]
[null,"Andel",null,{"$f":"IFERROR(IF(D350=\"*\",\"*\",IF(D351=0,\"#I/T\",(D350/D351))),\"Data ikke tilføjet\")","v":3.5036496350364967E-2},{"$f":"IFERROR(IF(E350=\"*\",\"*\",IF(E351=0,\"#I/T\",(E350/E351))),\"Data ikke tilføjet\")","v":3.4593897722389341E-2},{"$f":"IFERROR(IF(F350=\"*\",\"*\",IF(F351=0,\"#I/T\",(F350/F351))),\"Data ikke tilføjet\")","v":3.3053172494883071E-2},{"$f":"IFERROR(IF(G350=\"*\",\"*\",IF(G351=0,\"#I/T\",(G350/G351))),\"Data ikke tilføjet\")","v":3.3145091225021718E-2},{"$f":"IFERROR(IF(H350=\"*\",\"*\",IF(H351=0,\"#I/T\",(H350/H351))),\"Data ikke tilføjet\")","v":3.1150612120419988E-2},{"$f":"IFERROR(IF(I350=\"*\",\"*\",IF(I351=0,\"#I/T\",(I350/I351))),\"Data ikke tilføjet\")","v":2.8590705912119423E-2},{"$f":"IFERROR(IF(J350=\"*\",\"*\",IF(J351=0,\"#I/T\",(J350/J351))),\"Data ikke tilføjet\")","v":3.1196943972835314E-2},{"$f":"IFERROR(IF(K350=\"*\",\"*\",IF(K351=0,\"#I/T\",(K350/K351))),\"Data ikke tilføjet\")","v":3.1017624584035168E-2},{"$f":"IFERROR(IF(L350=\"*\",\"*\",IF(L351=0,\"#I/T\",(L350/L351))),\"Data ikke tilføjet\")","v":3.0766079475624743E-2},{"$f":"IFERROR(IF(M350=\"*\",\"*\",IF(M351=0,\"#I/T\",(M350/M351))),\"Data ikke tilføjet\")","v":3.1492267523599113E-2},{"$f":"IFERROR(IF(N350=\"*\",\"*\",IF(N351=0,\"#I/T\",(N350/N351))),\"Data ikke tilføjet\")","v":2.8555951091162358E-2},{"$f":"IFERROR(IF(O350=\"*\",\"*\",IF(O351=0,\"#I/T\",(O350/O351))),\"Data ikke tilføjet\")","v":3.1099748149278791E-2},{"$f":"IFERROR(IF(P350=\"*\",\"*\",IF(P351=0,\"#I/T\",(P350/P351))),\"Data ikke tilføjet\")","v":2.8839629043202895E-2},{"$f":"IFERROR(IF(Q350=\"*\",\"*\",IF(Q351=0,\"#I/T\",(Q350/Q351))),\"Data ikke tilføjet\")","v":2.703601108033241E-2},{"$f":"IFERROR(IF(R350=\"*\",\"*\",IF(R351=0,\"#I/T\",(R350/R351))),\"Data ikke tilføjet\")","v":2.8233051002823306E-2}]
[]
[]
[null,"Nøgletal 9: Fra hjemmebaseret foranstaltning og ned ad trappen"]
[]
[null,"Tabel 9: Fra hjemmebaseret foranstaltning og ned ad trappen"]
[null,"Nøgletal 9: Tidligere modtagere af hjemmebaserede foranstaltninger, som nu er rykket ned ad trappen",null,"2017-01-01","2017-07-01","2018-01-01","2018-07-01","2019-01-01","2019-07-01","2020-01-01","2020-07-01","2021-01-01","2021-07-01","2022-01-01","2022-07-01","2023-01-01","2023-07-01","2024-01-01"]
[null,{"$f":"IF(Kommune=\"\",\"Kommune\",Kommune)","v":"København"}]
[null,"Antal, der har bevæget sig",null,{"$f":"IFERROR(IF(INDEX(Data_kom2,MATCH(1,(komnavn2=Kommune)*(komaar2=D358),0),30)=\"*\",\"*\",INDEX(Data_kom2,MATCH(1,(komnavn2=Kommune)*(komaar2=D358),0),30)),\"Data ikke tilføjet\")","v":572},{"$f":"IFERROR(IF(INDEX(Data_kom2,MATCH(1,(komnavn2=Kommune)*(komaar2=E358),0),30)=\"*\",\"*\",INDEX(Data_kom2,MATCH(1,(komnavn2=Kommune)*(komaar2=E358),0),30)),\"Data ikke tilføjet\")","v":520},{"$f":"IFERROR(IF(INDEX(Data_kom2,MATCH(1,(komnavn2=Kommune)*(komaar2=F358),0),30)=\"*\",\"*\",INDEX(Data_kom2,MATCH(1,(komnavn2=Kommune)*(komaar2=F358),0),30)),\"Data ikke tilføjet\")","v":412},{"$f":"IFERROR(IF(INDEX(Data_kom2,MATCH(1,(komnavn2=Kommune)*(komaar2=G358),0),30)=\"*\",\"*\",INDEX(Data_kom2,MATCH(1,(komnavn2=Kommune)*(komaar2=G358),0),30)),\"Data ikke tilføjet\")","v":247},{"$f":"IFERROR(IF(INDEX(Data_kom2,MATCH(1,(komnavn2=Kommune)*(komaar2=H358),0),30)=\"*\",\"*\",INDEX(Data_kom2,MATCH(1,(komnavn2=Kommune)*(komaar2=H358),0),30)),\"Data ikke tilføjet\")","v":451},{"$f":"IFERROR(IF(INDEX(Data_kom2,MATCH(1,(komnavn2=Kommune)*(komaar2=I358),0),30)=\"*\",\"*\",INDEX(Data_kom2,MATCH(1,(komnavn2=Kommune)*(komaar2=I358),0),30)),\"Data ikke tilføjet\")","v":550},{"$f":"IFERROR(IF(INDEX(Data_kom2,MATCH(1,(komnavn2=Kommune)*(komaar2=J358),0),30)=\"*\",\"*\",INDEX(Data_kom2,MATCH(1,(komnavn2=Kommune)*(komaar2=J358),0),30)),\"Data ikke tilføjet\")","v":584},{"$f":"IFERROR(IF(INDEX(Data_kom2,MATCH(1,(komnavn2=Kommune)*(komaar2=K358),0),30)=\"*\",\"*\",INDEX(Data_kom2,MATCH(1,(komnavn2=Kommune)*(komaar2=K358),0),30)),\"Data ikke tilføjet\")","v":449},{"$f":"IFERROR(IF(INDEX(Data_kom2,MATCH(1,(komnavn2=Kommune)*(komaar2=L358),0),30)=\"*\",\"*\",INDEX(Data_kom2,MATCH(1,(komnavn2=Kommune)*(komaar2=L358),0),30)),\"Data ikke tilføjet\")","v":558},{"$f":"IFERROR(IF(INDEX(Data_kom2,MATCH(1,(komnavn2=Kommune)*(komaar2=M358),0),30)=\"*\",\"*\",INDEX(Data_kom2,MATCH(1,(komnavn2=Kommune)*(komaar2=M358),0),30)),\"Data ikke tilføjet\")","v":406},{"$f":"IFERROR(IF(INDEX(Data_kom2,MATCH(1,(komnavn2=Kommune)*(komaar2=N358),0),30)=\"*\",\"*\",INDEX(Data_kom2,MATCH(1,(komnavn2=Kommune)*(komaar2=N358),0),30)),\"Data ikke tilføjet\")","v":586},{"$f":"IFERROR(IF(INDEX(Data_kom2,MATCH(1,(komnavn2=Kommune)*(komaar2=O358),0),30)=\"*\",\"*\",INDEX(Data_kom2,MATCH(1,(komnavn2=Kommune)*(komaar2=O358),0),30)),\"Data ikke tilføjet\")","v":565},{"$f":"IFERROR(IF(INDEX(Data_kom2,MATCH(1,(komnavn2=Kommune)*(komaar2=P358),0),30)=\"*\",\"*\",INDEX(Data_kom2,MATCH(1,(komnavn2=Kommune)*(komaar2=P358),0),30)),\"Data ikke tilføjet\")","v":611},{"$f":"IFERROR(IF(INDEX(Data_kom2,MATCH(1,(komnavn2=Kommune)*(komaar2=Q358),0),30)=\"*\",\"*\",INDEX(Data_kom2,MATCH(1,(komnavn2=Kommune)*(komaar2=Q358),0),30)),\"Data ikke tilføjet\")","v":678},{"$f":"IFERROR(IF(INDEX(Data_kom2,MATCH(1,(komnavn2=Kommune)*(komaar2=R358),0),30)=\"*\",\"*\",INDEX(Data_kom2,MATCH(1,(komnavn2=Kommune)*(komaar2=R358),0),30)),\"Data ikke tilføjet\")","v":661}]
[null,"Antal tidligere modtagere",null,{"$f":"IFERROR(IF(INDEX(Data_kom2,MATCH(1,(komnavn2=Kommune)*(komaar2=D358),0),31)=\"*\",\"*\",INDEX(Data_kom2,MATCH(1,(komnavn2=Kommune)*(komaar2=D358),0),31)),\"Data ikke tilføjet\")","v":1987},{"$f":"IFERROR(IF(INDEX(Data_kom2,MATCH(1,(komnavn2=Kommune)*(komaar2=E358),0),31)=\"*\",\"*\",INDEX(Data_kom2,MATCH(1,(komnavn2=Kommune)*(komaar2=E358),0),31)),\"Data ikke tilføjet\")","v":1925},{"$f":"IFERROR(IF(INDEX(Data_kom2,MATCH(1,(komnavn2=Kommune)*(komaar2=F358),0),31)=\"*\",\"*\",INDEX(Data_kom2,MATCH(1,(komnavn2=Kommune)*(komaar2=F358),0),31)),\"Data ikke tilføjet\")","v":1657},{"$f":"IFERROR(IF(INDEX(Data_kom2,MATCH(1,(komnavn2=Kommune)*(komaar2=G358),0),31)=\"*\",\"*\",INDEX(Data_kom2,MATCH(1,(komnavn2=Kommune)*(komaar2=G358),0),31)),\"Data ikke tilføjet\")","v":1461},{"$f":"IFERROR(IF(INDEX(Data_kom2,MATCH(1,(komnavn2=Kommune)*(komaar2=H358),0),31)=\"*\",\"*\",INDEX(Data_kom2,MATCH(1,(komnavn2=Kommune)*(komaar2=H358),0),31)),\"Data ikke tilføjet\")","v":1940},{"$f":"IFERROR(IF(INDEX(Data_kom2,MATCH(1,(komnavn2=Kommune)*(komaar2=I358),0),31)=\"*\",\"*\",INDEX(Data_kom2,MATCH(1,(komnavn2=Kommune)*(komaar2=I358),0),31)),\"Data ikke tilføjet\")","v":2166},{"$f":"IFERROR(IF(INDEX(Data_kom2,MATCH(1,(komnavn2=Kommune)*(komaar2=J358),0),31)=\"*\",\"*\",INDEX(Data_kom2,MATCH(1,(komnavn2=Kommune)*(komaar2=J358),0),31)),\"Data ikke tilføjet\")","v":2143},{"$f":"IFERROR(IF(INDEX(Data_kom2,MATCH(1,(komnavn2=Kommune)*(komaar2=K358),0),31)=\"*\",\"*\",INDEX(Data_kom2,MATCH(1,(komnavn2=Kommune)*(komaar2=K358),0),31)),\"Data ikke tilføjet\")","v":2113},{"$f":"IFERROR(IF(INDEX(Data_kom2,MATCH(1,(komnavn2=Kommune)*(komaar2=L358),0),31)=\"*\",\"*\",INDEX(Data_kom2,MATCH(1,(komnavn2=Kommune)*(komaar2=L358),0),31)),\"Data ikke tilføjet\")","v":2108},{"$f":"IFERROR(IF(INDEX(Data_kom2,MATCH(1,(komnavn2=Kommune)*(komaar2=M358),0),31)=\"*\",\"*\",INDEX(Data_kom2,MATCH(1,(komnavn2=Kommune)*(komaar2=M358),0),31)),\"Data ikke tilføjet\")","v":2035},{"$f":"IFERROR(IF(INDEX(Data_kom2,MATCH(1,(komnavn2=Kommune)*(komaar2=N358),0),31)=\"*\",\"*\",INDEX(Data_kom2,MATCH(1,(komnavn2=Kommune)*(komaar2=N358),0),31)),\"Data ikke tilføjet\")","v":2297},{"$f":"IFERROR(IF(INDEX(Data_kom2,MATCH(1,(komnavn2=Kommune)*(komaar2=O358),0),31)=\"*\",\"*\",INDEX(Data_kom2,MATCH(1,(komnavn2=Kommune)*(komaar2=O358),0),31)),\"Data ikke tilføjet\")","v":2306},{"$f":"IFERROR(IF(INDEX(Data_kom2,MATCH(1,(komnavn2=Kommune)*(komaar2=P358),0),31)=\"*\",\"*\",INDEX(Data_kom2,MATCH(1,(komnavn2=Kommune)*(komaar2=P358),0),31)),\"Data ikke tilføjet\")","v":2428},{"$f":"IFERROR(IF(INDEX(Data_kom2,MATCH(1,(komnavn2=Kommune)*(komaar2=Q358),0),31)=\"*\",\"*\",INDEX(Data_kom2,MATCH(1,(komnavn2=Kommune)*(komaar2=Q358),0),31)),\"Data ikke tilføjet\")","v":2458},{"$f":"IFERROR(IF(INDEX(Data_kom2,MATCH(1,(komnavn2=Kommune)*(komaar2=R358),0),31)=\"*\",\"*\",INDEX(Data_kom2,MATCH(1,(komnavn2=Kommune)*(komaar2=R358),0),31)),\"Data ikke tilføjet\")","v":2428}]
[null,"Andel",null,{"$f":"IFERROR(IF(D360=\"*\",\"*\",IF(D361=0,\"#I/T\",(D360/D361))),\"Data ikke tilføjet\")","v":0.28787116255661804},0.27012987012987011,0.24864212432106217,0.16906228610540724,0.23247422680412372,0.25392428439519854,0.27251516565562295,0.21249408424041646,0.26470588235294118,{"$f":"IFERROR(IF(M360=\"*\",\"*\",IF(M361=0,\"#I/T\",(M360/M361))),\"Data ikke tilføjet\")","v":0.1995085995085995},0.25511536787113626,0.24501300954032956,0.25164744645799014,0.27583401139137509,0.27224052718286657]
[null,"Sammenligningsgruppe, gns."]
[null,"Antal, der har bevæget sig",null,{"$f":"IF('Dine valg'!$G$24=\"\",\"-\",SUMIF(Hjælpefane!$D$7:$D$111,\"=\"&D$9,Hjælpefane!$AE$7:$AE$111))","v":314},{"$f":"IF('Dine valg'!$G$24=\"\",\"-\",SUMIF(Hjælpefane!$D$7:$D$111,\"=\"&E$9,Hjælpefane!$AE$7:$AE$111))","v":296},{"$f":"IF('Dine valg'!$G$24=\"\",\"-\",SUMIF(Hjælpefane!$D$7:$D$111,\"=\"&F$9,Hjælpefane!$AE$7:$AE$111))","v":272},{"$f":"IF('Dine valg'!$G$24=\"\",\"-\",SUMIF(Hjælpefane!$D$7:$D$111,\"=\"&G$9,Hjælpefane!$AE$7:$AE$111))","v":300},{"$f":"IF('Dine valg'!$G$24=\"\",\"-\",SUMIF(Hjælpefane!$D$7:$D$111,\"=\"&H$9,Hjælpefane!$AE$7:$AE$111))","v":308},{"$f":"IF('Dine valg'!$G$24=\"\",\"-\",SUMIF(Hjælpefane!$D$7:$D$111,\"=\"&I$9,Hjælpefane!$AE$7:$AE$111))","v":377},{"$f":"IF('Dine valg'!$G$24=\"\",\"-\",SUMIF(Hjælpefane!$D$7:$D$111,\"=\"&J$9,Hjælpefane!$AE$7:$AE$111))","v":376},{"$f":"IF('Dine valg'!$G$24=\"\",\"-\",SUMIF(Hjælpefane!$D$7:$D$111,\"=\"&K$9,Hjælpefane!$AE$7:$AE$111))","v":316},{"$f":"IF('Dine valg'!$G$24=\"\",\"-\",SUMIF(Hjælpefane!$D$7:$D$111,\"=\"&L$9,Hjælpefane!$AE$7:$AE$111))","v":353},{"$f":"IF('Dine valg'!$G$24=\"\",\"-\",SUMIF(Hjælpefane!$D$7:$D$111,\"=\"&M$9,Hjælpefane!$AE$7:$AE$111))","v":331},{"$f":"IF('Dine valg'!$G$24=\"\",\"-\",SUMIF(Hjælpefane!$D$7:$D$111,\"=\"&N$9,Hjælpefane!$AE$7:$AE$111))","v":362},{"$f":"IF('Dine valg'!$G$24=\"\",\"-\",SUMIF(Hjælpefane!$D$7:$D$111,\"=\"&O$9,Hjælpefane!$AE$7:$AE$111))","v":329},{"$f":"IF('Dine valg'!$G$24=\"\",\"-\",SUMIF(Hjælpefane!$D$7:$D$111,\"=\"&P$9,Hjælpefane!$AE$7:$AE$111))","v":321},{"$f":"IF('Dine valg'!$G$24=\"\",\"-\",SUMIF(Hjælpefane!$D$7:$D$111,\"=\"&Q$9,Hjælpefane!$AE$7:$AE$111))","v":323},{"$f":"IF('Dine valg'!$G$24=\"\",\"-\",SUMIF(Hjælpefane!$D$7:$D$111,\"=\"&R$9,Hjælpefane!$AE$7:$AE$111))","v":314}]
[null,"Antal tidligere modtagere",null,{"$f":"IF('Dine valg'!$G$24=\"\",\"-\",SUMIF(Hjælpefane!$D$7:$D$111,\"=\"&D$9,Hjælpefane!$AF$7:$AF$111))","v":1135},{"$f":"IF('Dine valg'!$G$24=\"\",\"-\",SUMIF(Hjælpefane!$D$7:$D$111,\"=\"&E$9,Hjælpefane!$AF$7:$AF$111))","v":1124},{"$f":"IF('Dine valg'!$G$24=\"\",\"-\",SUMIF(Hjælpefane!$D$7:$D$111,\"=\"&F$9,Hjælpefane!$AF$7:$AF$111))","v":1070},{"$f":"IF('Dine valg'!$G$24=\"\",\"-\",SUMIF(Hjælpefane!$D$7:$D$111,\"=\"&G$9,Hjælpefane!$AF$7:$AF$111))","v":1155},{"$f":"IF('Dine valg'!$G$24=\"\",\"-\",SUMIF(Hjælpefane!$D$7:$D$111,\"=\"&H$9,Hjælpefane!$AF$7:$AF$111))","v":1193},{"$f":"IF('Dine valg'!$G$24=\"\",\"-\",SUMIF(Hjælpefane!$D$7:$D$111,\"=\"&I$9,Hjælpefane!$AF$7:$AF$111))","v":1295},{"$f":"IF('Dine valg'!$G$24=\"\",\"-\",SUMIF(Hjælpefane!$D$7:$D$111,\"=\"&J$9,Hjælpefane!$AF$7:$AF$111))","v":1286},{"$f":"IF('Dine valg'!$G$24=\"\",\"-\",SUMIF(Hjælpefane!$D$7:$D$111,\"=\"&K$9,Hjælpefane!$AF$7:$AF$111))","v":1289},{"$f":"IF('Dine valg'!$G$24=\"\",\"-\",SUMIF(Hjælpefane!$D$7:$D$111,\"=\"&L$9,Hjælpefane!$AF$7:$AF$111))","v":1262},{"$f":"IF('Dine valg'!$G$24=\"\",\"-\",SUMIF(Hjælpefane!$D$7:$D$111,\"=\"&M$9,Hjælpefane!$AF$7:$AF$111))","v":1246},{"$f":"IF('Dine valg'!$G$24=\"\",\"-\",SUMIF(Hjælpefane!$D$7:$D$111,\"=\"&N$9,Hjælpefane!$AF$7:$AF$111))","v":1220},{"$f":"IF('Dine valg'!$G$24=\"\",\"-\",SUMIF(Hjælpefane!$D$7:$D$111,\"=\"&O$9,Hjælpefane!$AF$7:$AF$111))","v":1147},{"$f":"IF('Dine valg'!$G$24=\"\",\"-\",SUMIF(Hjælpefane!$D$7:$D$111,\"=\"&P$9,Hjælpefane!$AF$7:$AF$111))","v":1115},{"$f":"IF('Dine valg'!$G$24=\"\",\"-\",SUMIF(Hjælpefane!$D$7:$D$111,\"=\"&Q$9,Hjælpefane!$AF$7:$AF$111))","v":1094},{"$f":"IF('Dine valg'!$G$24=\"\",\"-\",SUMIF(Hjælpefane!$D$7:$D$111,\"=\"&R$9,Hjælpefane!$AF$7:$AF$111))","v":1062}]
[null,"Andel",null,{"$f":"IFERROR(IF(D364=\"*\",\"*\",IF(D365=\"\",\"Indtast data\",(D364/D365))),\"-\")","v":0.27665198237885463},{"$f":"IFERROR(IF(E364=\"*\",\"*\",IF(E365=\"\",\"Indtast data\",(E364/E365))),\"-\")","v":0.26334519572953735},{"$f":"IFERROR(IF(F364=\"*\",\"*\",IF(F365=\"\",\"Indtast data\",(F364/F365))),\"-\")","v":0.25420560747663551},{"$f":"IFERROR(IF(G364=\"*\",\"*\",IF(G365=\"\",\"Indtast data\",(G364/G365))),\"-\")","v":0.25974025974025972},{"$f":"IFERROR(IF(H364=\"*\",\"*\",IF(H365=\"\",\"Indtast data\",(H364/H365))),\"-\")","v":0.25817267393126569},{"$f":"IFERROR(IF(I364=\"*\",\"*\",IF(I365=\"\",\"Indtast data\",(I364/I365))),\"-\")","v":0.2911196911196911},{"$f":"IFERROR(IF(J364=\"*\",\"*\",IF(J365=\"\",\"Indtast data\",(J364/J365))),\"-\")","v":0.29237947122861585},{"$f":"IFERROR(IF(K364=\"*\",\"*\",IF(K365=\"\",\"Indtast data\",(K364/K365))),\"-\")","v":0.2451512800620636},{"$f":"IFERROR(IF(L364=\"*\",\"*\",IF(L365=\"\",\"Indtast data\",(L364/L365))),\"-\")","v":0.2797147385103011},0.26565008025682185,0.29672131147540981,0.28683522231909331,0.28789237668161433,0.29524680073126142,0.29566854990583802]
[null,"Hele landet"]
[null,"Antal, der har bevæget sig",null,{"$f":"INDEX(Data_land,MATCH(Skyggetabeller!D358,Data!landaar,0),30)","v":5448},{"$f":"INDEX(Data_land,MATCH(Skyggetabeller!E358,Data!landaar,0),30)","v":5909},{"$f":"INDEX(Data_land,MATCH(Skyggetabeller!F358,Data!landaar,0),30)","v":5475},{"$f":"INDEX(Data_land,MATCH(Skyggetabeller!G358,Data!landaar,0),30)","v":6193},{"$f":"INDEX(Data_land,MATCH(Skyggetabeller!H358,Data!landaar,0),30)","v":5586},{"$f":"INDEX(Data_land,MATCH(Skyggetabeller!I358,Data!landaar,0),30)","v":6824},{"$f":"INDEX(Data_land,MATCH(Skyggetabeller!J358,Data!landaar,0),30)","v":6014},{"$f":"INDEX(Data_land,MATCH(Skyggetabeller!K358,Data!landaar,0),30)","v":5807},{"$f":"INDEX(Data_land,MATCH(Skyggetabeller!L358,Data!landaar,0),30)","v":6149},{"$f":"INDEX(Data_land,MATCH(Skyggetabeller!M358,Data!landaar,0),30)","v":5832},{"$f":"INDEX(Data_land,MATCH(Skyggetabeller!N358,Data!landaar,0),30)","v":6592},{"$f":"INDEX(Data_land,MATCH(Skyggetabeller!O358,Data!landaar,0),30)","v":6566},{"$f":"INDEX(Data_land,MATCH(Skyggetabeller!P358,Data!landaar,0),30)","v":6891},{"$f":"INDEX(Data_land,MATCH(Skyggetabeller!Q358,Data!landaar,0),30)","v":7084},{"$f":"INDEX(Data_land,MATCH(Skyggetabeller!R358,Data!landaar,0),30)","v":7593}]
[null,"Antal tidligere modtagere",null,{"$f":"INDEX(Data_land,MATCH(Skyggetabeller!D358,Data!landaar,0),31)","v":23717},{"$f":"INDEX(Data_land,MATCH(Skyggetabeller!E358,Data!landaar,0),31)","v":23714},{"$f":"INDEX(Data_land,MATCH(Skyggetabeller!F358,Data!landaar,0),31)","v":23377},{"$f":"INDEX(Data_land,MATCH(Skyggetabeller!G358,Data!landaar,0),31)","v":23399},{"$f":"INDEX(Data_land,MATCH(Skyggetabeller!H358,Data!landaar,0),31)","v":23289},{"$f":"INDEX(Data_land,MATCH(Skyggetabeller!I358,Data!landaar,0),31)","v":24047},{"$f":"INDEX(Data_land,MATCH(Skyggetabeller!J358,Data!landaar,0),31)","v":23855},{"$f":"INDEX(Data_land,MATCH(Skyggetabeller!K358,Data!landaar,0),31)","v":24683},{"$f":"INDEX(Data_land,MATCH(Skyggetabeller!L358,Data!landaar,0),31)","v":24731},{"$f":"INDEX(Data_land,MATCH(Skyggetabeller!M358,Data!landaar,0),31)","v":25218},{"$f":"INDEX(Data_land,MATCH(Skyggetabeller!N358,Data!landaar,0),31)","v":26148},{"$f":"INDEX(Data_land,MATCH(Skyggetabeller!O358,Data!landaar,0),31)","v":26528},{"$f":"INDEX(Data_land,MATCH(Skyggetabeller!P358,Data!landaar,0),31)","v":26834},{"$f":"INDEX(Data_land,MATCH(Skyggetabeller!Q358,Data!landaar,0),31)","v":27394},{"$f":"INDEX(Data_land,MATCH(Skyggetabeller!R358,Data!landaar,0),31)","v":27599}]
[null,"Andel",null,{"$f":"IFERROR(IF(D368=\"*\",\"*\",IF(D369=0,\"#I/T\",(D368/D369))),\"Data ikke tilføjet\")","v":0.22970864780537167},{"$f":"IFERROR(IF(E368=\"*\",\"*\",IF(E369=0,\"#I/T\",(E368/E369))),\"Data ikke tilføjet\")","v":0.24917770093615585},{"$f":"IFERROR(IF(F368=\"*\",\"*\",IF(F369=0,\"#I/T\",(F368/F369))),\"Data ikke tilføjet\")","v":0.23420456003764384},{"$f":"IFERROR(IF(G368=\"*\",\"*\",IF(G369=0,\"#I/T\",(G368/G369))),\"Data ikke tilføjet\")","v":0.26466943031753493},{"$f":"IFERROR(IF(H368=\"*\",\"*\",IF(H369=0,\"#I/T\",(H368/H369))),\"Data ikke tilføjet\")","v":0.23985572587917042},{"$f":"IFERROR(IF(I368=\"*\",\"*\",IF(I369=0,\"#I/T\",(I368/I369))),\"Data ikke tilføjet\")","v":0.28377760219570008},{"$f":"IFERROR(IF(J368=\"*\",\"*\",IF(J369=0,\"#I/T\",(J368/J369))),\"Data ikke tilføjet\")","v":0.25210647662963737},{"$f":"IFERROR(IF(K368=\"*\",\"*\",IF(K369=0,\"#I/T\",(K368/K369))),\"Data ikke tilføjet\")","v":0.23526313657172954},{"$f":"IFERROR(IF(L368=\"*\",\"*\",IF(L369=0,\"#I/T\",(L368/L369))),\"Data ikke tilføjet\")","v":0.24863531600016173},{"$f":"IFERROR(IF(M368=\"*\",\"*\",IF(M369=0,\"#I/T\",(M368/M369))),\"Data ikke tilføjet\")","v":0.23126338329764454},{"$f":"IFERROR(IF(N368=\"*\",\"*\",IF(N369=0,\"#I/T\",(N368/N369))),\"Data ikke tilføjet\")","v":0.25210341135077252},{"$f":"IFERROR(IF(O368=\"*\",\"*\",IF(O369=0,\"#I/T\",(O368/O369))),\"Data ikke tilføjet\")","v":0.24751206272617612},{"$f":"IFERROR(IF(P368=\"*\",\"*\",IF(P369=0,\"#I/T\",(P368/P369))),\"Data ikke tilføjet\")","v":0.25680107326526047},{"$f":"IFERROR(IF(Q368=\"*\",\"*\",IF(Q369=0,\"#I/T\",(Q368/Q369))),\"Data ikke tilføjet\")","v":0.25859677301598888},{"$f":"IFERROR(IF(R368=\"*\",\"*\",IF(R369=0,\"#I/T\",(R368/R369))),\"Data ikke tilføjet\")","v":0.27511866371970001}]
[]
[]
[null,"Nøgletal 10: Fra forebyggende indsatser og op ad trappen"]
[]
[null,{"$f":"\"Tabel 10: Fra forebyggende indsatser og op ad trappen for \"&Kommune&\"\"","v":"Tabel 10: Fra forebyggende indsatser og op ad trappen for København"}]
[null,"Nøgletal 10: Tidligere modtagere af forebyggende indsatser, som nu er rykket ned ad trappen",null,"2017-01-01","2017-07-01","2018-01-01","2018-07-01","2019-01-01","2019-07-01","2020-01-01","2020-07-01","2021-01-01","2021-07-01","2022-01-01","2022-07-01","2023-01-01","2023-07-01","2024-01-01"]
[null,"Antal, der har bevæget sig",null,{"$f":"Indtastningsark!D44","v":0},{"$f":"Indtastningsark!E44","v":0},{"$f":"Indtastningsark!F44","v":0},{"$f":"Indtastningsark!G44","v":0},{"$f":"Indtastningsark!H44","v":0},{"$f":"Indtastningsark!I44","v":0},{"$f":"Indtastningsark!J44","v":0},{"$f":"Indtastningsark!K44","v":0},{"$f":"Indtastningsark!L44","v":0},{"$f":"Indtastningsark!M44","v":0},{"$f":"Indtastningsark!N44","v":0},{"$f":"Indtastningsark!O44","v":0},{"$f":"Indtastningsark!P44","v":0},{"$f":"Indtastningsark!Q44","v":0},{"$f":"Indtastningsark!R44","v":0}]
[null,"Antal tidligere modtagere",null,{"$f":"Indtastningsark!D45","v":0},{"$f":"Indtastningsark!E45","v":0},{"$f":"Indtastningsark!F45","v":0},{"$f":"Indtastningsark!G45","v":0},{"$f":"Indtastningsark!H45","v":0},{"$f":"Indtastningsark!I45","v":0},{"$f":"Indtastningsark!J45","v":0},{"$f":"Indtastningsark!K45","v":0},{"$f":"Indtastningsark!L45","v":0},{"$f":"Indtastningsark!M45","v":0},{"$f":"Indtastningsark!N45","v":0},{"$f":"Indtastningsark!O45","v":0},{"$f":"Indtastningsark!P45","v":0},{"$f":"Indtastningsark!Q45","v":0},{"$f":"Indtastningsark!R45","v":0}]
[null,"Andel",null,{"$f":"IFERROR(IF(D377=\"*\",\"*\",IF(D378=\"\",\"Indtast data\",(D377/D378))),\"-\")","v":"-"},{"$f":"IFERROR(IF(E377=\"*\",\"*\",IF(E378=\"\",\"Indtast data\",(E377/E378))),\"-\")","v":"-"},"-","-","-","-","-","-","-",{"$f":"IFERROR(IF(M377=\"*\",\"*\",IF(M378=\"\",\"Indtast data\",(M377/M378))),\"-\")","v":"-"},"-","-","-","-","-"]
[]
[null,"Tabel 10.1: Fra myndighedsbevilget § 11, stk. 3-indsats og op ad trappen"]
[]
[null,"Nøgletal 10.1: Tidligere modtagere af myndighedsbevilget § 11, stk. 3-indsats, som nu er rykket ned ad trappen",null,"2017-01-01","2017-07-01","2018-01-01","2018-07-01","2019-01-01","2019-07-01","2020-01-01","2020-07-01","2021-01-01","2021-07-01","2022-01-01","2022-07-01","2023-01-01","2023-07-01","2024-01-01"]
[null,"Antal, der har bevæget sig",null,{"$f":"Indtastningsark!D49","v":0},{"$f":"Indtastningsark!E49","v":0},{"$f":"Indtastningsark!F49","v":0},{"$f":"Indtastningsark!G49","v":0},{"$f":"Indtastningsark!H49","v":0},{"$f":"Indtastningsark!I49","v":0},{"$f":"Indtastningsark!J49","v":0},{"$f":"Indtastningsark!K49","v":0},{"$f":"Indtastningsark!L49","v":0},{"$f":"Indtastningsark!M49","v":0},{"$f":"Indtastningsark!N49","v":0},{"$f":"Indtastningsark!O49","v":0},{"$f":"Indtastningsark!P49","v":0},{"$f":"Indtastningsark!Q49","v":0},{"$f":"Indtastningsark!R49","v":0}]
[null,"Antal tidligere modtagere",null,{"$f":"Indtastningsark!D50","v":0},{"$f":"Indtastningsark!E50","v":0},{"$f":"Indtastningsark!F50","v":0},{"$f":"Indtastningsark!G50","v":0},{"$f":"Indtastningsark!H50","v":0},{"$f":"Indtastningsark!I50","v":0},{"$f":"Indtastningsark!J50","v":0},{"$f":"Indtastningsark!K50","v":0},{"$f":"Indtastningsark!L50","v":0},{"$f":"Indtastningsark!M50","v":0},{"$f":"Indtastningsark!N50","v":0},{"$f":"Indtastningsark!O50","v":0},{"$f":"Indtastningsark!P50","v":0},{"$f":"Indtastningsark!Q50","v":0},{"$f":"Indtastningsark!R50","v":0}]
[null,"Andel",null,{"$f":"IFERROR(IF(D384=\"*\",\"*\",IF(D385=\"\",\"Indtast data\",(D384/D385))),\"-\")","v":"-"},{"$f":"IFERROR(IF(E384=\"*\",\"*\",IF(E385=\"\",\"Indtast data\",(E384/E385))),\"-\")","v":"-"},{"$f":"IFERROR(IF(F384=\"*\",\"*\",IF(F385=\"\",\"Indtast data\",(F384/F385))),\"-\")","v":"-"},{"$f":"IFERROR(IF(G384=\"*\",\"*\",IF(G385=\"\",\"Indtast data\",(G384/G385))),\"-\")","v":"-"},{"$f":"IFERROR(IF(H384=\"*\",\"*\",IF(H385=\"\",\"Indtast data\",(H384/H385))),\"-\")","v":"-"},{"$f":"IFERROR(IF(I384=\"*\",\"*\",IF(I385=\"\",\"Indtast data\",(I384/I385))),\"-\")","v":"-"},{"$f":"IFERROR(IF(J384=\"*\",\"*\",IF(J385=\"\",\"Indtast data\",(J384/J385))),\"-\")","v":"-"},{"$f":"IFERROR(IF(K384=\"*\",\"*\",IF(K385=\"\",\"Indtast data\",(K384/K385))),\"-\")","v":"-"},{"$f":"IFERROR(IF(L384=\"*\",\"*\",IF(L385=\"\",\"Indtast data\",(L384/L385))),\"-\")","v":"-"},"-","-","-","-","-","-"]
[]
[null,"Tabel 10.2: Fra ikke-myndighedsbevilget § 11, stk. 3-indsats og op ad trappen"]
[]
[null,"Nøgletal 10.2: Tidligere modtagere af ikke-myndighedsbevilget § 11, stk. 3-indsats, som nu er rykket ned ad trappen",null,"2017-01-01","2017-07-01","2018-01-01","2018-07-01","2019-01-01","2019-07-01","2020-01-01","2020-07-01","2021-01-01","2021-07-01","2022-01-01","2022-07-01","2023-01-01","2023-07-01","2024-01-01"]
[null,"Antal, der har bevæget sig",null,{"$f":"Indtastningsark!D54","v":0},{"$f":"Indtastningsark!E54","v":0},{"$f":"Indtastningsark!F54","v":0},{"$f":"Indtastningsark!G54","v":0},{"$f":"Indtastningsark!H54","v":0},{"$f":"Indtastningsark!I54","v":0},{"$f":"Indtastningsark!J54","v":0},{"$f":"Indtastningsark!K54","v":0},{"$f":"Indtastningsark!L54","v":0},{"$f":"Indtastningsark!M54","v":0},{"$f":"Indtastningsark!N54","v":0},{"$f":"Indtastningsark!O54","v":0},{"$f":"Indtastningsark!P54","v":0},{"$f":"Indtastningsark!Q54","v":0},{"$f":"Indtastningsark!R54","v":0}]
[null,"Antal tidligere modtagere",null,{"$f":"Indtastningsark!D55","v":0},{"$f":"Indtastningsark!E55","v":0},{"$f":"Indtastningsark!F55","v":0},{"$f":"Indtastningsark!G55","v":0},{"$f":"Indtastningsark!H55","v":0},{"$f":"Indtastningsark!I55","v":0},{"$f":"Indtastningsark!J55","v":0},{"$f":"Indtastningsark!K55","v":0},{"$f":"Indtastningsark!L55","v":0},{"$f":"Indtastningsark!M55","v":0},{"$f":"Indtastningsark!N55","v":0},{"$f":"Indtastningsark!O55","v":0},{"$f":"Indtastningsark!P55","v":0},{"$f":"Indtastningsark!Q55","v":0},{"$f":"Indtastningsark!R55","v":0}]
[null,"Andel",null,{"$f":"IFERROR(IF(D391=\"*\",\"*\",IF(D392=\"\",\"Indtast data\",(D391/D392))),\"-\")","v":"-"},{"$f":"IFERROR(IF(E391=\"*\",\"*\",IF(E392=\"\",\"Indtast data\",(E391/E392))),\"-\")","v":"-"},{"$f":"IFERROR(IF(F391=\"*\",\"*\",IF(F392=\"\",\"Indtast data\",(F391/F392))),\"-\")","v":"-"},{"$f":"IFERROR(IF(G391=\"*\",\"*\",IF(G392=\"\",\"Indtast data\",(G391/G392))),\"-\")","v":"-"},{"$f":"IFERROR(IF(H391=\"*\",\"*\",IF(H392=\"\",\"Indtast data\",(H391/H392))),\"-\")","v":"-"},{"$f":"IFERROR(IF(I391=\"*\",\"*\",IF(I392=\"\",\"Indtast data\",(I391/I392))),\"-\")","v":"-"},{"$f":"IFERROR(IF(J391=\"*\",\"*\",IF(J392=\"\",\"Indtast data\",(J391/J392))),\"-\")","v":"-"},{"$f":"IFERROR(IF(K391=\"*\",\"*\",IF(K392=\"\",\"Indtast data\",(K391/K392))),\"-\")","v":"-"},{"$f":"IFERROR(IF(L391=\"*\",\"*\",IF(L392=\"\",\"Indtast data\",(L391/L392))),\"-\")","v":"-"},"-","-","-","-","-","-"]
[]
[]
[null,"Nøgletal 11: Frekvens af opfølgninger"]
[]
[null,{"$f":"\"Tabel 11: Frekvens af opfølgninger for \"&Kommune&\"\"","v":"Tabel 11: Frekvens af opfølgninger for København"}]
[null,"Nøgletal 11.1: \nFrekvens i opfølgninger for institutionsanbringelser",null,"2017-01-01","2017-07-01","2018-01-01","2018-07-01","2019-01-01","2019-07-01","2020-01-01","2020-07-01","2021-01-01","2021-07-01","2022-01-01","2022-07-01","2023-01-01","2023-07-01","2024-01-01"]
[null,"Antal dage",null,{"$f":"Indtastningsark!D61","v":0},{"$f":"Indtastningsark!E61","v":0},{"$f":"Indtastningsark!F61","v":0},{"$f":"Indtastningsark!G61","v":0},{"$f":"Indtastningsark!H61","v":0},{"$f":"Indtastningsark!I61","v":0},{"$f":"Indtastningsark!J61","v":0},{"$f":"Indtastningsark!K61","v":0},{"$f":"Indtastningsark!L61","v":0},{"$f":"Indtastningsark!M61","v":0},{"$f":"Indtastningsark!N61","v":0},{"$f":"Indtastningsark!O61","v":0},{"$f":"Indtastningsark!P61","v":0},{"$f":"Indtastningsark!Q61","v":0},{"$f":"Indtastningsark!R61","v":0}]
[null,"Antal opfølgninger",null,{"$f":"Indtastningsark!D62","v":0},{"$f":"Indtastningsark!E62","v":0},{"$f":"Indtastningsark!F62","v":0},{"$f":"Indtastningsark!G62","v":0},{"$f":"Indtastningsark!H62","v":0},{"$f":"Indtastningsark!I62","v":0},{"$f":"Indtastningsark!J62","v":0},{"$f":"Indtastningsark!K62","v":0},{"$f":"Indtastningsark!L62","v":0},{"$f":"Indtastningsark!M62","v":0},{"$f":"Indtastningsark!N62","v":0},{"$f":"Indtastningsark!O62","v":0},{"$f":"Indtastningsark!P62","v":0},{"$f":"Indtastningsark!Q62","v":0},{"$f":"Indtastningsark!R62","v":0}]
[null,"Varighed",null,{"$f":"IFERROR(IF(D400=\"*\",\"*\",IF(D401=\"\",\"Indtast data\",(D400/D401))),\"-\")","v":"-"},{"$f":"IFERROR(IF(E400=\"*\",\"*\",IF(E401=\"\",\"Indtast data\",(E400/E401))),\"-\")","v":"-"},{"$f":"IFERROR(IF(F400=\"*\",\"*\",IF(F401=\"\",\"Indtast data\",(F400/F401))),\"-\")","v":"-"},{"$f":"IFERROR(IF(G400=\"*\",\"*\",IF(G401=\"\",\"Indtast data\",(G400/G401))),\"-\")","v":"-"},{"$f":"IFERROR(IF(H400=\"*\",\"*\",IF(H401=\"\",\"Indtast data\",(H400/H401))),\"-\")","v":"-"},{"$f":"IFERROR(IF(I400=\"*\",\"*\",IF(I401=\"\",\"Indtast data\",(I400/I401))),\"-\")","v":"-"},{"$f":"IFERROR(IF(J400=\"*\",\"*\",IF(J401=\"\",\"Indtast data\",(J400/J401))),\"-\")","v":"-"},{"$f":"IFERROR(IF(K400=\"*\",\"*\",IF(K401=\"\",\"Indtast data\",(K400/K401))),\"-\")","v":"-"},{"$f":"IFERROR(IF(L400=\"*\",\"*\",IF(L401=\"\",\"Indtast data\",(L400/L401))),\"-\")","v":"-"},"-","-","-","-","-","-"]
[]
[null,"Nøgletal 11.2: \nFrekvens i opfølgninger for plejefamilier",null,"2017-01-01","2017-07-01","2018-01-01","2018-07-01","2019-01-01","2019-07-01","2020-01-01","2020-07-01","2021-01-01","2021-07-01","2022-01-01","2022-07-01","2023-01-01","2023-07-01","2024-01-01"]
[null,"Antal dage",null,{"$f":"Indtastningsark!D66","v":0},{"$f":"Indtastningsark!E66","v":0},{"$f":"Indtastningsark!F66","v":0},{"$f":"Indtastningsark!G66","v":0},{"$f":"Indtastningsark!H66","v":0},{"$f":"Indtastningsark!I66","v":0},{"$f":"Indtastningsark!J66","v":0},{"$f":"Indtastningsark!K66","v":0},{"$f":"Indtastningsark!L66","v":0},{"$f":"Indtastningsark!M66","v":0},{"$f":"Indtastningsark!N66","v":0},{"$f":"Indtastningsark!O66","v":0},{"$f":"Indtastningsark!P66","v":0},{"$f":"Indtastningsark!Q66","v":0},{"$f":"Indtastningsark!R66","v":0}]
[null,"Antal opfølgninger",null,{"$f":"Indtastningsark!D67","v":0},{"$f":"Indtastningsark!E67","v":0},{"$f":"Indtastningsark!F67","v":0},{"$f":"Indtastningsark!G67","v":0},{"$f":"Indtastningsark!H67","v":0},{"$f":"Indtastningsark!I67","v":0},{"$f":"Indtastningsark!J67","v":0},{"$f":"Indtastningsark!K67","v":0},{"$f":"Indtastningsark!L67","v":0},{"$f":"Indtastningsark!M67","v":0},{"$f":"Indtastningsark!N67","v":0},{"$f":"Indtastningsark!O67","v":0},{"$f":"Indtastningsark!P67","v":0},{"$f":"Indtastningsark!Q67","v":0},{"$f":"Indtastningsark!R67","v":0}]
[null,"Varighed",null,{"$f":"IFERROR(IF(D405=\"*\",\"*\",IF(D406=\"\",\"Indtast data\",(D405/D406))),\"-\")","v":"-"},{"$f":"IFERROR(IF(E405=\"*\",\"*\",IF(E406=\"\",\"Indtast data\",(E405/E406))),\"-\")","v":"-"},{"$f":"IFERROR(IF(F405=\"*\",\"*\",IF(F406=\"\",\"Indtast data\",(F405/F406))),\"-\")","v":"-"},{"$f":"IFERROR(IF(G405=\"*\",\"*\",IF(G406=\"\",\"Indtast data\",(G405/G406))),\"-\")","v":"-"},{"$f":"IFERROR(IF(H405=\"*\",\"*\",IF(H406=\"\",\"Indtast data\",(H405/H406))),\"-\")","v":"-"},{"$f":"IFERROR(IF(I405=\"*\",\"*\",IF(I406=\"\",\"Indtast data\",(I405/I406))),\"-\")","v":"-"},{"$f":"IFERROR(IF(J405=\"*\",\"*\",IF(J406=\"\",\"Indtast data\",(J405/J406))),\"-\")","v":"-"},{"$f":"IFERROR(IF(K405=\"*\",\"*\",IF(K406=\"\",\"Indtast data\",(K405/K406))),\"-\")","v":"-"},{"$f":"IFERROR(IF(L405=\"*\",\"*\",IF(L406=\"\",\"Indtast data\",(L405/L406))),\"-\")","v":"-"},"-","-","-","-","-","-"]
[]
[null,"Nøgletal 11.3: \nFrekvens i opfølgninger for hjemmebaserede foranstaltninger",null,"2017-01-01","2017-07-01","2018-01-01","2018-07-01","2019-01-01","2019-07-01","2020-01-01","2020-07-01","2021-01-01","2021-07-01","2022-01-01","2022-07-01","2023-01-01","2023-07-01","2024-01-01"]
[null,"Antal dage",null,{"$f":"Indtastningsark!D71","v":0},{"$f":"Indtastningsark!E71","v":0},{"$f":"Indtastningsark!F71","v":0},{"$f":"Indtastningsark!G71","v":0},{"$f":"Indtastningsark!H71","v":0},{"$f":"Indtastningsark!I71","v":0},{"$f":"Indtastningsark!J71","v":0},{"$f":"Indtastningsark!K71","v":0},{"$f":"Indtastningsark!L71","v":0},{"$f":"Indtastningsark!M71","v":0},{"$f":"Indtastningsark!N71","v":0},{"$f":"Indtastningsark!O71","v":0},{"$f":"Indtastningsark!P71","v":0},{"$f":"Indtastningsark!Q71","v":0},{"$f":"Indtastningsark!R71","v":0}]
[null,"Antal opfølgninger",null,{"$f":"Indtastningsark!D72","v":0},{"$f":"Indtastningsark!E72","v":0},{"$f":"Indtastningsark!F72","v":0},{"$f":"Indtastningsark!G72","v":0},{"$f":"Indtastningsark!H72","v":0},{"$f":"Indtastningsark!I72","v":0},{"$f":"Indtastningsark!J72","v":0},{"$f":"Indtastningsark!K72","v":0},{"$f":"Indtastningsark!L72","v":0},{"$f":"Indtastningsark!M72","v":0},{"$f":"Indtastningsark!N72","v":0},{"$f":"Indtastningsark!O72","v":0},{"$f":"Indtastningsark!P72","v":0},{"$f":"Indtastningsark!Q72","v":0},{"$f":"Indtastningsark!R72","v":0}]
[null,"Varighed",null,{"$f":"IFERROR(IF(D410=\"*\",\"*\",IF(D411=\"\",\"Indtast data\",(D410/D411))),\"-\")","v":"-"},{"$f":"IFERROR(IF(E410=\"*\",\"*\",IF(E411=\"\",\"Indtast data\",(E410/E411))),\"-\")","v":"-"},{"$f":"IFERROR(IF(F410=\"*\",\"*\",IF(F411=\"\",\"Indtast data\",(F410/F411))),\"-\")","v":"-"},{"$f":"IFERROR(IF(G410=\"*\",\"*\",IF(G411=\"\",\"Indtast data\",(G410/G411))),\"-\")","v":"-"},{"$f":"IFERROR(IF(H410=\"*\",\"*\",IF(H411=\"\",\"Indtast data\",(H410/H411))),\"-\")","v":"-"},{"$f":"IFERROR(IF(I410=\"*\",\"*\",IF(I411=\"\",\"Indtast data\",(I410/I411))),\"-\")","v":"-"},{"$f":"IFERROR(IF(J410=\"*\",\"*\",IF(J411=\"\",\"Indtast data\",(J410/J411))),\"-\")","v":"-"},{"$f":"IFERROR(IF(K410=\"*\",\"*\",IF(K411=\"\",\"Indtast data\",(K410/K411))),\"-\")","v":"-"},{"$f":"IFERROR(IF(L410=\"*\",\"*\",IF(L411=\"\",\"Indtast data\",(L410/L411))),\"-\")","v":"-"},"-","-","-","-","-","-"]

{"sheet":"Hjælpefane","index":6,"n_rows":1605,"n_cols":39,"rows_kept":1605,"cut":false,"hidden":false,"merged":[]}
[]
[]
[null,"Hjælpefane: Sammenligningskommuner"]
[null,1,2,3,4,5,6,7,8,9,10,11,12,13,14,15,16,17,18,19,20,21,22,23,24,25,26,27,28,29,30,31,32,33,34,35,36,37,38]
[null,"Nøgletal",null,null,1,"1.1","1.2","1.3",2,"2.1","2.2","2.3",3,4,5,"5.1","5.2","5.3","5.4",6,"6.1","6.2",7,7,"7.1","7.1","7.2","7.2",8,8,9,9,10,null,"10.1",null,"10.2"]
[null,"Kommune","Antal indbyggere","Dato","Antal institutionsanbragte ","Antal anbragte på døgninstitution","Antal anbragte på sikret døgninstitution","Antal anbragte på socialpædagogiske opholdssteder","Varighed igangværende institutionsanbringelser","Varighed igangværende anbringelser på døgninstitution","Varighed igangværende anbringelser på sikret døgninstitution","Varighed igangværende anbringelser på socialpædagogisk opholdssted","Antal anbragte i plejefamilier","Antal anbragte i netværksplejefamilier","Antal modtagere af hjemmebaserede foranstaltninger","Antal modtagere af døgnophold","Antal modtagere af hjemmebaserede anbringelser","Antal modtagere af forebyggende foranstaltninger","Antal modtagere af forældrerettede indsatser","Forebyggende indsatser (§ 11, stk. 3-tilbud)","Myndighedsbevilgede § 11, stk. 3-tilbud (pr. 1.000 0-17-årige)","Øvrige § 11, stk. 3-tilbud (pr. 1.000 0-17-årige)","Antal institutionsanbragte 0-17 årige, og som nu ikke er anbragt på denne form","Antal institutionsanbragte 0-17 årige pr. forrige opgørelse","0-17 årige, der ved sidste opgørelse var institutionsanbragt, men nu er anbragt i anden form","Antal 0-17-årige institutionsanbragte forrige opgørelse","0-17 årige, der ved sidste opgørelse var institutionsanbragt, men nu ikke er anbragt","Antal 0-17-årige institutionsanbragte forrige opgørelse","0-17-årige, der ved sidste opgørelse modtog en hjemmebaseret foranstaltning, som nu er anbragt","Antal 0-17-årige, der modtog hjemmebaseret foranstaltning, og ikke var anbragt pr. forrige opgørelse","0-17-årige, der ved sidste opgørelse modtog hjemmebaseret foranstaltning, men som nu hverken modtager hjemmebaseret foranstaltning eller er anbragt","Antal 0-17-årige som ved forrige opgørelse modtog hjemmebaseret foranstaltning","Andel børn og unge, der har modtaget en § 11, stk. 3-indsats inden for de første 6 måneder af året, hvor der efterfølgende træffes en afgørelse om en § 50 undersøgelse i alt","Antal 0-17-årige der inden for de første 6 måneder har påbegyndt en § 11, stk. 3-indsats","Børn der har modtaget en myndighedsbevilget § 11, stk. 3-indsats inden for de første 6 måneder af året, hvor der efterfølgende træffes en afgørelse om en § 50 undersøgelse","Antal 0-17-årige der inden for de første 6 måneder har påbegyndt en myndighedsbevilget § 11, stk. 3-indsats","Børn der har modtaget en ikke-myndighedsbevilget § 11, stk. 3-indsats inden for de første 6 måneder af året, hvor der efterfølgende træffes en afgørelse om en § 50 undersøgelse","Antal 0-17-årige der inden for de første 6 måneder har påbegyndt en ikke-myndighedsbevilget § 11, stk. 3-indsats","Region"]
[1,{"$f":"'Dine valg'!$G$24","v":"Aarhus"},{"$f":"IF(B7=\"\",\"\",INDEX(Data_kom2,MATCH(1,(komnavn2=B7)*(komaar2=D7),0),2))","v":64665},"2024-01-01",{"$f":"IF(B7=\"\",\"\",INDEX(Data_kom2,MATCH(1,(komnavn2=B7)*(komaar2=D7),0),4))","v":152},{"$f":"IF(B7=\"\",\"\",INDEX(Data_kom2,MATCH(1,(komnavn2=B7)*(komaar2=D7),0),5))","v":101},{"$f":"IF(B7=\"\",\"\",INDEX(Data_kom2,MATCH(1,(komnavn2=B7)*(komaar2=D7),0),6))","v":8},{"$f":"IF(B7=\"\",\"\",INDEX(Data_kom2,MATCH(1,(komnavn2=B7)*(komaar2=D7),0),7))","v":43},{"$f":"IF(B7=\"\",\"\",INDEX(Data_kom2,MATCH(1,(komnavn2=B7)*(komaar2=D7),0),8))","v":131601},{"$f":"IF(B7=\"\",\"\",INDEX(Data_kom2,MATCH(1,(komnavn2=B7)*(komaar2=D7),0),9))","v":109315},{"$f":"IF(B7=\"\",\"\",INDEX(Data_kom2,MATCH(1,(komnavn2=B7)*(komaar2=D7),0),10))","v":2065},{"$f":"IF(B7=\"\",\"\",INDEX(Data_kom2,MATCH(1,(komnavn2=B7)*(komaar2=D7),0),11))","v":20221},{"$f":"IF(B7=\"\",\"\",INDEX(Data_kom2,MATCH(1,(komnavn2=B7)*(komaar2=D7),0),12))","v":221},{"$f":"IF(B7=\"\",\"\",INDEX(Data_kom2,MATCH(1,(komnavn2=B7)*(komaar2=D7),0),13))","v":27},{"$f":"IF(B7=\"\",\"\",INDEX(Data_kom2,MATCH(1,(komnavn2=B7)*(komaar2=D7),0),14))","v":1012},{"$f":"IF(B7=\"\",\"\",INDEX(Data_kom2,MATCH(1,(komnavn2=B7)*(komaar2=D7),0),15))","v":"*"},{"$f":"IF(B7=\"\",\"\",INDEX(Data_kom2,MATCH(1,(komnavn2=B7)*(komaar2=D7),0),16))","v":"*"},{"$f":"IF(B7=\"\",\"\",INDEX(Data_kom2,MATCH(1,(komnavn2=B7)*(komaar2=D7),0),17))","v":993},{"$f":"IF(B7=\"\",\"\",INDEX(Data_kom2,MATCH(1,(komnavn2=B7)*(komaar2=D7),0),18))","v":14},{"$f":"IF(B7=\"\",\"\",INDEX(Data_kom2,MATCH(1,(komnavn2=B7)*(komaar2=D7),0),19))","v":0},{"$f":"IF(B7=\"\",\"\",INDEX(Data_kom2,MATCH(1,(komnavn2=B7)*(komaar2=D7),0),20))","v":0},{"$f":"IF(B7=\"\",\"\",INDEX(Data_kom2,MATCH(1,(komnavn2=B7)*(komaar2=D7),0),21))","v":0},{"$f":"IF(B7=\"\",\"\",INDEX(Data_kom2,MATCH(1,(komnavn2=B7)*(komaar2=D7),0),22))","v":34},{"$f":"IF(B7=\"\",\"\",INDEX(Data_kom2,MATCH(1,(komnavn2=B7)*(komaar2=D7),0),23))","v":161},{"$f":"IF(B7=\"\",\"\",INDEX(Data_kom2,MATCH(1,(komnavn2=B7)*(komaar2=D7),0),24))","v":"*"},{"$f":"IF(B7=\"\",\"\",INDEX(Data_kom2,MATCH(1,(komnavn2=B7)*(komaar2=D7),0),25))","v":161},{"$f":"IF(B7=\"\",\"\",INDEX(Data_kom2,MATCH(1,(komnavn2=B7)*(komaar2=D7),0),26))","v":"*"},{"$f":"IF(B7=\"\",\"\",INDEX(Data_kom2,MATCH(1,(komnavn2=B7)*(komaar2=D7),0),27))","v":161},{"$f":"IF(B7=\"\",\"\",INDEX(Data_kom2,MATCH(1,(komnavn2=B7)*(komaar2=D7),0),28))","v":23},{"$f":"IF(B7=\"\",\"\",INDEX(Data_kom2,MATCH(1,(komnavn2=B7)*(komaar2=D7),0),29))","v":1057},{"$f":"IF(B7=\"\",\"\",INDEX(Data_kom2,MATCH(1,(komnavn2=B7)*(komaar2=D7),0),30))","v":314},{"$f":"IF(B7=\"\",\"\",INDEX(Data_kom2,MATCH(1,(komnavn2=B7)*(komaar2=D7),0),31))","v":1062},{"$f":"IF(B7=\"\",\"\",INDEX(Data_kom2,MATCH(1,(komnavn2=B7)*(komaar2=D7),0),32))","v":0},{"$f":"IF(B7=\"\",\"\",INDEX(Data_kom2,MATCH(1,(komnavn2=B7)*(komaar2=D7),0),33))","v":0},{"$f":"IF(B7=\"\",\"\",INDEX(Data_kom2,MATCH(1,(komnavn2=B7)*(komaar2=D7),0),34))","v":0},{"$f":"IF(B7=\"\",\"\",INDEX(Data_kom2,MATCH(1,(komnavn2=B7)*(komaar2=D7),0),35))","v":0},{"$f":"IF(B7=\"\",\"\",INDEX(Data_kom2,MATCH(1,(komnavn2=B7)*(komaar2=D7),0),36))","v":0},{"$f":"IF(B7=\"\",\"\",INDEX(Data_kom2,MATCH(1,(komnavn2=B7)*(komaar2=D7),0),37))","v":0},{"$f":"IF(B7=\"\",\"\",INDEX(Data_kom2,MATCH(1,(komnavn2=B7)*(komaar2=D7),0),38))","v":"Region Midtjylland"}]
[2,{"$f":"'Dine valg'!$G$25","v":""},{"$f":"IF(B8=\"\",\"\",INDEX(Data_kom2,MATCH(1,(komnavn2=B8)*(komaar2=D8),0),2))","v":""},"2024-01-01",{"$f":"IF(B8=\"\",\"\",INDEX(Data_kom2,MATCH(1,(komnavn2=B8)*(komaar2=D8),0),4))","v":""},{"$f":"IF(B8=\"\",\"\",INDEX(Data_kom2,MATCH(1,(komnavn2=B8)*(komaar2=D8),0),5))","v":""},{"$f":"IF(B8=\"\",\"\",INDEX(Data_kom2,MATCH(1,(komnavn2=B8)*(komaar2=D8),0),6))","v":""},{"$f":"IF(B8=\"\",\"\",INDEX(Data_kom2,MATCH(1,(komnavn2=B8)*(komaar2=D8),0),7))","v":""},{"$f":"IF(B8=\"\",\"\",INDEX(Data_kom2,MATCH(1,(komnavn2=B8)*(komaar2=D8),0),8))","v":""},{"$f":"IF(B8=\"\",\"\",INDEX(Data_kom2,MATCH(1,(komnavn2=B8)*(komaar2=D8),0),9))","v":""},{"$f":"IF(B8=\"\",\"\",INDEX(Data_kom2,MATCH(1,(komnavn2=B8)*(komaar2=D8),0),10))","v":""},{"$f":"IF(B8=\"\",\"\",INDEX(Data_kom2,MATCH(1,(komnavn2=B8)*(komaar2=D8),0),11))","v":""},{"$f":"IF(B8=\"\",\"\",INDEX(Data_kom2,MATCH(1,(komnavn2=B8)*(komaar2=D8),0),12))","v":""},{"$f":"IF(B8=\"\",\"\",INDEX(Data_kom2,MATCH(1,(komnavn2=B8)*(komaar2=D8),0),13))","v":""},{"$f":"IF(B8=\"\",\"\",INDEX(Data_kom2,MATCH(1,(komnavn2=B8)*(komaar2=D8),0),14))","v":""},{"$f":"IF(B8=\"\",\"\",INDEX(Data_kom2,MATCH(1,(komnavn2=B8)*(komaar2=D8),0),15))","v":""},{"$f":"IF(B8=\"\",\"\",INDEX(Data_kom2,MATCH(1,(komnavn2=B8)*(komaar2=D8),0),16))","v":""},{"$f":"IF(B8=\"\",\"\",INDEX(Data_kom2,MATCH(1,(komnavn2=B8)*(komaar2=D8),0),17))","v":""},{"$f":"IF(B8=\"\",\"\",INDEX(Data_kom2,MATCH(1,(komnavn2=B8)*(komaar2=D8),0),18))","v":""},{"$f":"IF(B8=\"\",\"\",INDEX(Data_kom2,MATCH(1,(komnavn2=B8)*(komaar2=D8),0),19))","v":""},{"$f":"IF(B8=\"\",\"\",INDEX(Data_kom2,MATCH(1,(komnavn2=B8)*(komaar2=D8),0),20))","v":""},{"$f":"IF(B8=\"\",\"\",INDEX(Data_kom2,MATCH(1,(komnavn2=B8)*(komaar2=D8),0),21))","v":""},{"$f":"IF(B8=\"\",\"\",INDEX(Data_kom2,MATCH(1,(komnavn2=B8)*(komaar2=D8),0),22))","v":""},{"$f":"IF(B8=\"\",\"\",INDEX(Data_kom2,MATCH(1,(komnavn2=B8)*(komaar2=D8),0),23))","v":""},{"$f":"IF(B8=\"\",\"\",INDEX(Data_kom2,MATCH(1,(komnavn2=B8)*(komaar2=D8),0),24))","v":""},{"$f":"IF(B8=\"\",\"\",INDEX(Data_kom2,MATCH(1,(komnavn2=B8)*(komaar2=D8),0),25))","v":""},{"$f":"IF(B8=\"\",\"\",INDEX(Data_kom2,MATCH(1,(komnavn2=B8)*(komaar2=D8),0),26))","v":""},{"$f":"IF(B8=\"\",\"\",INDEX(Data_kom2,MATCH(1,(komnavn2=B8)*(komaar2=D8),0),27))","v":""},{"$f":"IF(B8=\"\",\"\",INDEX(Data_kom2,MATCH(1,(komnavn2=B8)*(komaar2=D8),0),28))","v":""},{"$f":"IF(B8=\"\",\"\",INDEX(Data_kom2,MATCH(1,(komnavn2=B8)*(komaar2=D8),0),29))","v":""},{"$f":"IF(B8=\"\",\"\",INDEX(Data_kom2,MATCH(1,(komnavn2=B8)*(komaar2=D8),0),30))","v":""},{"$f":"IF(B8=\"\",\"\",INDEX(Data_kom2,MATCH(1,(komnavn2=B8)*(komaar2=D8),0),31))","v":""},{"$f":"IF(B8=\"\",\"\",INDEX(Data_kom2,MATCH(1,(komnavn2=B8)*(komaar2=D8),0),32))","v":""},{"$f":"IF(B8=\"\",\"\",INDEX(Data_kom2,MATCH(1,(komnavn2=B8)*(komaar2=D8),0),33))","v":""},{"$f":"IF(B8=\"\",\"\",INDEX(Data_kom2,MATCH(1,(komnavn2=B8)*(komaar2=D8),0),34))","v":""},{"$f":"IF(B8=\"\",\"\",INDEX(Data_kom2,MATCH(1,(komnavn2=B8)*(komaar2=D8),0),35))","v":""},{"$f":"IF(B8=\"\",\"\",INDEX(Data_kom2,MATCH(1,(komnavn2=B8)*(komaar2=D8),0),36))","v":""},{"$f":"IF(B8=\"\",\"\",INDEX(Data_kom2,MATCH(1,(komnavn2=B8)*(komaar2=D8),0),37))","v":""},{"$f":"IF(B8=\"\",\"\",INDEX(Data_kom2,MATCH(1,(komnavn2=B8)*(komaar2=D8),0),38))","v":""}]
[3,{"$f":"'Dine valg'!$G$26","v":""},{"$f":"IF(B9=\"\",\"\",INDEX(Data_kom2,MATCH(1,(komnavn2=B9)*(komaar2=D9),0),2))","v":""},"2024-01-01",{"$f":"IF(B9=\"\",\"\",INDEX(Data_kom2,MATCH(1,(komnavn2=B9)*(komaar2=D9),0),4))","v":""},{"$f":"IF(B9=\"\",\"\",INDEX(Data_kom2,MATCH(1,(komnavn2=B9)*(komaar2=D9),0),5))","v":""},{"$f":"IF(B9=\"\",\"\",INDEX(Data_kom2,MATCH(1,(komnavn2=B9)*(komaar2=D9),0),6))","v":""},{"$f":"IF(B9=\"\",\"\",INDEX(Data_kom2,MATCH(1,(komnavn2=B9)*(komaar2=D9),0),7))","v":""},{"$f":"IF(B9=\"\",\"\",INDEX(Data_kom2,MATCH(1,(komnavn2=B9)*(komaar2=D9),0),8))","v":""},{"$f":"IF(B9=\"\",\"\",INDEX(Data_kom2,MATCH(1,(komnavn2=B9)*(komaar2=D9),0),9))","v":""},{"$f":"IF(B9=\"\",\"\",INDEX(Data_kom2,MATCH(1,(komnavn2=B9)*(komaar2=D9),0),10))","v":""},{"$f":"IF(B9=\"\",\"\",INDEX(Data_kom2,MATCH(1,(komnavn2=B9)*(komaar2=D9),0),11))","v":""},{"$f":"IF(B9=\"\",\"\",INDEX(Data_kom2,MATCH(1,(komnavn2=B9)*(komaar2=D9),0),12))","v":""},{"$f":"IF(B9=\"\",\"\",INDEX(Data_kom2,MATCH(1,(komnavn2=B9)*(komaar2=D9),0),13))","v":""},{"$f":"IF(B9=\"\",\"\",INDEX(Data_kom2,MATCH(1,(komnavn2=B9)*(komaar2=D9),0),14))","v":""},{"$f":"IF(B9=\"\",\"\",INDEX(Data_kom2,MATCH(1,(komnavn2=B9)*(komaar2=D9),0),15))","v":""},{"$f":"IF(B9=\"\",\"\",INDEX(Data_kom2,MATCH(1,(komnavn2=B9)*(komaar2=D9),0),16))","v":""},{"$f":"IF(B9=\"\",\"\",INDEX(Data_kom2,MATCH(1,(komnavn2=B9)*(komaar2=D9),0),17))","v":""},{"$f":"IF(B9=\"\",\"\",INDEX(Data_kom2,MATCH(1,(komnavn2=B9)*(komaar2=D9),0),18))","v":""},{"$f":"IF(B9=\"\",\"\",INDEX(Data_kom2,MATCH(1,(komnavn2=B9)*(komaar2=D9),0),19))","v":""},{"$f":"IF(B9=\"\",\"\",INDEX(Data_kom2,MATCH(1,(komnavn2=B9)*(komaar2=D9),0),20))","v":""},{"$f":"IF(B9=\"\",\"\",INDEX(Data_kom2,MATCH(1,(komnavn2=B9)*(komaar2=D9),0),21))","v":""},{"$f":"IF(B9=\"\",\"\",INDEX(Data_kom2,MATCH(1,(komnavn2=B9)*(komaar2=D9),0),22))","v":""},{"$f":"IF(B9=\"\",\"\",INDEX(Data_kom2,MATCH(1,(komnavn2=B9)*(komaar2=D9),0),23))","v":""},{"$f":"IF(B9=\"\",\"\",INDEX(Data_kom2,MATCH(1,(komnavn2=B9)*(komaar2=D9),0),24))","v":""},{"$f":"IF(B9=\"\",\"\",INDEX(Data_kom2,MATCH(1,(komnavn2=B9)*(komaar2=D9),0),25))","v":""},{"$f":"IF(B9=\"\",\"\",INDEX(Data_kom2,MATCH(1,(komnavn2=B9)*(komaar2=D9),0),26))","v":""},{"$f":"IF(B9=\"\",\"\",INDEX(Data_kom2,MATCH(1,(komnavn2=B9)*(komaar2=D9),0),27))","v":""},{"$f":"IF(B9=\"\",\"\",INDEX(Data_kom2,MATCH(1,(komnavn2=B9)*(komaar2=D9),0),28))","v":""},{"$f":"IF(B9=\"\",\"\",INDEX(Data_kom2,MATCH(1,(komnavn2=B9)*(komaar2=D9),0),29))","v":""},{"$f":"IF(B9=\"\",\"\",INDEX(Data_kom2,MATCH(1,(komnavn2=B9)*(komaar2=D9),0),30))","v":""},{"$f":"IF(B9=\"\",\"\",INDEX(Data_kom2,MATCH(1,(komnavn2=B9)*(komaar2=D9),0),31))","v":""},{"$f":"IF(B9=\"\",\"\",INDEX(Data_kom2,MATCH(1,(komnavn2=B9)*(komaar2=D9),0),32))","v":""},{"$f":"IF(B9=\"\",\"\",INDEX(Data_kom2,MATCH(1,(komnavn2=B9)*(komaar2=D9),0),33))","v":""},{"$f":"IF(B9=\"\",\"\",INDEX(Data_kom2,MATCH(1,(komnavn2=B9)*(komaar2=D9),0),34))","v":""},{"$f":"IF(B9=\"\",\"\",INDEX(Data_kom2,MATCH(1,(komnavn2=B9)*(komaar2=D9),0),35))","v":""},{"$f":"IF(B9=\"\",\"\",INDEX(Data_kom2,MATCH(1,(komnavn2=B9)*(komaar2=D9),0),36))","v":""},{"$f":"IF(B9=\"\",\"\",INDEX(Data_kom2,MATCH(1,(komnavn2=B9)*(komaar2=D9),0),37))","v":""},{"$f":"IF(B9=\"\",\"\",INDEX(Data_kom2,MATCH(1,(komnavn2=B9)*(komaar2=D9),0),38))","v":""}]
[4,{"$f":"'Dine valg'!$G$27","v":""},{"$f":"IF(B10=\"\",\"\",INDEX(Data_kom2,MATCH(1,(komnavn2=B10)*(komaar2=D10),0),2))","v":""},"2024-01-01",{"$f":"IF(B10=\"\",\"\",INDEX(Data_kom2,MATCH(1,(komnavn2=B10)*(komaar2=D10),0),4))","v":""},{"$f":"IF(B10=\"\",\"\",INDEX(Data_kom2,MATCH(1,(komnavn2=B10)*(komaar2=D10),0),5))","v":""},{"$f":"IF(B10=\"\",\"\",INDEX(Data_kom2,MATCH(1,(komnavn2=B10)*(komaar2=D10),0),6))","v":""},{"$f":"IF(B10=\"\",\"\",INDEX(Data_kom2,MATCH(1,(komnavn2=B10)*(komaar2=D10),0),7))","v":""},{"$f":"IF(B10=\"\",\"\",INDEX(Data_kom2,MATCH(1,(komnavn2=B10)*(komaar2=D10),0),8))","v":""},{"$f":"IF(B10=\"\",\"\",INDEX(Data_kom2,MATCH(1,(komnavn2=B10)*(komaar2=D10),0),9))","v":""},{"$f":"IF(B10=\"\",\"\",INDEX(Data_kom2,MATCH(1,(komnavn2=B10)*(komaar2=D10),0),10))","v":""},{"$f":"IF(B10=\"\",\"\",INDEX(Data_kom2,MATCH(1,(komnavn2=B10)*(komaar2=D10),0),11))","v":""},{"$f":"IF(B10=\"\",\"\",INDEX(Data_kom2,MATCH(1,(komnavn2=B10)*(komaar2=D10),0),12))","v":""},{"$f":"IF(B10=\"\",\"\",INDEX(Data_kom2,MATCH(1,(komnavn2=B10)*(komaar2=D10),0),13))","v":""},{"$f":"IF(B10=\"\",\"\",INDEX(Data_kom2,MATCH(1,(komnavn2=B10)*(komaar2=D10),0),14))","v":""},{"$f":"IF(B10=\"\",\"\",INDEX(Data_kom2,MATCH(1,(komnavn2=B10)*(komaar2=D10),0),15))","v":""},{"$f":"IF(B10=\"\",\"\",INDEX(Data_kom2,MATCH(1,(komnavn2=B10)*(komaar2=D10),0),16))","v":""},{"$f":"IF(B10=\"\",\"\",INDEX(Data_kom2,MATCH(1,(komnavn2=B10)*(komaar2=D10),0),17))","v":""},{"$f":"IF(B10=\"\",\"\",INDEX(Data_kom2,MATCH(1,(komnavn2=B10)*(komaar2=D10),0),18))","v":""},{"$f":"IF(B10=\"\",\"\",INDEX(Data_kom2,MATCH(1,(komnavn2=B10)*(komaar2=D10),0),19))","v":""},{"$f":"IF(B10=\"\",\"\",INDEX(Data_kom2,MATCH(1,(komnavn2=B10)*(komaar2=D10),0),20))","v":""},{"$f":"IF(B10=\"\",\"\",INDEX(Data_kom2,MATCH(1,(komnavn2=B10)*(komaar2=D10),0),21))","v":""},{"$f":"IF(B10=\"\",\"\",INDEX(Data_kom2,MATCH(1,(komnavn2=B10)*(komaar2=D10),0),22))","v":""},{"$f":"IF(B10=\"\",\"\",INDEX(Data_kom2,MATCH(1,(komnavn2=B10)*(komaar2=D10),0),23))","v":""},{"$f":"IF(B10=\"\",\"\",INDEX(Data_kom2,MATCH(1,(komnavn2=B10)*(komaar2=D10),0),24))","v":""},{"$f":"IF(B10=\"\",\"\",INDEX(Data_kom2,MATCH(1,(komnavn2=B10)*(komaar2=D10),0),25))","v":""},{"$f":"IF(B10=\"\",\"\",INDEX(Data_kom2,MATCH(1,(komnavn2=B10)*(komaar2=D10),0),26))","v":""},{"$f":"IF(B10=\"\",\"\",INDEX(Data_kom2,MATCH(1,(komnavn2=B10)*(komaar2=D10),0),27))","v":""},{"$f":"IF(B10=\"\",\"\",INDEX(Data_kom2,MATCH(1,(komnavn2=B10)*(komaar2=D10),0),28))","v":""},{"$f":"IF(B10=\"\",\"\",INDEX(Data_kom2,MATCH(1,(komnavn2=B10)*(komaar2=D10),0),29))","v":""},{"$f":"IF(B10=\"\",\"\",INDEX(Data_kom2,MATCH(1,(komnavn2=B10)*(komaar2=D10),0),30))","v":""},{"$f":"IF(B10=\"\",\"\",INDEX(Data_kom2,MATCH(1,(komnavn2=B10)*(komaar2=D10),0),31))","v":""},{"$f":"IF(B10=\"\",\"\",INDEX(Data_kom2,MATCH(1,(komnavn2=B10)*(komaar2=D10),0),32))","v":""},{"$f":"IF(B10=\"\",\"\",INDEX(Data_kom2,MATCH(1,(komnavn2=B10)*(komaar2=D10),0),33))","v":""},{"$f":"IF(B10=\"\",\"\",INDEX(Data_kom2,MATCH(1,(komnavn2=B10)*(komaar2=D10),0),34))","v":""},{"$f":"IF(B10=\"\",\"\",INDEX(Data_kom2,MATCH(1,(komnavn2=B10)*(komaar2=D10),0),35))","v":""},{"$f":"IF(B10=\"\",\"\",INDEX(Data_kom2,MATCH(1,(komnavn2=B10)*(komaar2=D10),0),36))","v":""},{"$f":"IF(B10=\"\",\"\",INDEX(Data_kom2,MATCH(1,(komnavn2=B10)*(komaar2=D10),0),37))","v":""},{"$f":"IF(B10=\"\",\"\",INDEX(Data_kom2,MATCH(1,(komnavn2=B10)*(komaar2=D10),0),38))","v":""}]
[5,{"$f":"'Dine valg'!$G$28","v":""},{"$f":"IF(B11=\"\",\"\",INDEX(Data_kom2,MATCH(1,(komnavn2=B11)*(komaar2=D11),0),2))","v":""},"2024-01-01",{"$f":"IF(B11=\"\",\"\",INDEX(Data_kom2,MATCH(1,(komnavn2=B11)*(komaar2=D11),0),4))","v":""},{"$f":"IF(B11=\"\",\"\",INDEX(Data_kom2,MATCH(1,(komnavn2=B11)*(komaar2=D11),0),5))","v":""},{"$f":"IF(B11=\"\",\"\",INDEX(Data_kom2,MATCH(1,(komnavn2=B11)*(komaar2=D11),0),6))","v":""},{"$f":"IF(B11=\"\",\"\",INDEX(Data_kom2,MATCH(1,(komnavn2=B11)*(komaar2=D11),0),7))","v":""},{"$f":"IF(B11=\"\",\"\",INDEX(Data_kom2,MATCH(1,(komnavn2=B11)*(komaar2=D11),0),8))","v":""},{"$f":"IF(B11=\"\",\"\",INDEX(Data_kom2,MATCH(1,(komnavn2=B11)*(komaar2=D11),0),9))","v":""},{"$f":"IF(B11=\"\",\"\",INDEX(Data_kom2,MATCH(1,(komnavn2=B11)*(komaar2=D11),0),10))","v":""},{"$f":"IF(B11=\"\",\"\",INDEX(Data_kom2,MATCH(1,(komnavn2=B11)*(komaar2=D11),0),11))","v":""},{"$f":"IF(B11=\"\",\"\",INDEX(Data_kom2,MATCH(1,(komnavn2=B11)*(komaar2=D11),0),12))","v":""},{"$f":"IF(B11=\"\",\"\",INDEX(Data_kom2,MATCH(1,(komnavn2=B11)*(komaar2=D11),0),13))","v":""},{"$f":"IF(B11=\"\",\"\",INDEX(Data_kom2,MATCH(1,(komnavn2=B11)*(komaar2=D11),0),14))","v":""},{"$f":"IF(B11=\"\",\"\",INDEX(Data_kom2,MATCH(1,(komnavn2=B11)*(komaar2=D11),0),15))","v":""},{"$f":"IF(B11=\"\",\"\",INDEX(Data_kom2,MATCH(1,(komnavn2=B11)*(komaar2=D11),0),16))","v":""},{"$f":"IF(B11=\"\",\"\",INDEX(Data_kom2,MATCH(1,(komnavn2=B11)*(komaar2=D11),0),17))","v":""},{"$f":"IF(B11=\"\",\"\",INDEX(Data_kom2,MATCH(1,(komnavn2=B11)*(komaar2=D11),0),18))","v":""},{"$f":"IF(B11=\"\",\"\",INDEX(Data_kom2,MATCH(1,(komnavn2=B11)*(komaar2=D11),0),19))","v":""},{"$f":"IF(B11=\"\",\"\",INDEX(Data_kom2,MATCH(1,(komnavn2=B11)*(komaar2=D11),0),20))","v":""},{"$f":"IF(B11=\"\",\"\",INDEX(Data_kom2,MATCH(1,(komnavn2=B11)*(komaar2=D11),0),21))","v":""},{"$f":"IF(B11=\"\",\"\",INDEX(Data_kom2,MATCH(1,(komnavn2=B11)*(komaar2=D11),0),22))","v":""},{"$f":"IF(B11=\"\",\"\",INDEX(Data_kom2,MATCH(1,(komnavn2=B11)*(komaar2=D11),0),23))","v":""},{"$f":"IF(B11=\"\",\"\",INDEX(Data_kom2,MATCH(1,(komnavn2=B11)*(komaar2=D11),0),24))","v":""},{"$f":"IF(B11=\"\",\"\",INDEX(Data_kom2,MATCH(1,(komnavn2=B11)*(komaar2=D11),0),25))","v":""},{"$f":"IF(B11=\"\",\"\",INDEX(Data_kom2,MATCH(1,(komnavn2=B11)*(komaar2=D11),0),26))","v":""},{"$f":"IF(B11=\"\",\"\",INDEX(Data_kom2,MATCH(1,(komnavn2=B11)*(komaar2=D11),0),27))","v":""},{"$f":"IF(B11=\"\",\"\",INDEX(Data_kom2,MATCH(1,(komnavn2=B11)*(komaar2=D11),0),28))","v":""},{"$f":"IF(B11=\"\",\"\",INDEX(Data_kom2,MATCH(1,(komnavn2=B11)*(komaar2=D11),0),29))","v":""},{"$f":"IF(B11=\"\",\"\",INDEX(Data_kom2,MATCH(1,(komnavn2=B11)*(komaar2=D11),0),30))","v":""},{"$f":"IF(B11=\"\",\"\",INDEX(Data_kom2,MATCH(1,(komnavn2=B11)*(komaar2=D11),0),31))","v":""},{"$f":"IF(B11=\"\",\"\",INDEX(Data_kom2,MATCH(1,(komnavn2=B11)*(komaar2=D11),0),32))","v":""},{"$f":"IF(B11=\"\",\"\",INDEX(Data_kom2,MATCH(1,(komnavn2=B11)*(komaar2=D11),0),33))","v":""},{"$f":"IF(B11=\"\",\"\",INDEX(Data_kom2,MATCH(1,(komnavn2=B11)*(komaar2=D11),0),34))","v":""},{"$f":"IF(B11=\"\",\"\",INDEX(Data_kom2,MATCH(1,(komnavn2=B11)*(komaar2=D11),0),35))","v":""},{"$f":"IF(B11=\"\",\"\",INDEX(Data_kom2,MATCH(1,(komnavn2=B11)*(komaar2=D11),0),36))","v":""},{"$f":"IF(B11=\"\",\"\",INDEX(Data_kom2,MATCH(1,(komnavn2=B11)*(komaar2=D11),0),37))","v":""},{"$f":"IF(B11=\"\",\"\",INDEX(Data_kom2,MATCH(1,(komnavn2=B11)*(komaar2=D11),0),38))","v":""}]
[6,{"$f":"'Dine valg'!$G$29","v":""},{"$f":"IF(B12=\"\",\"\",INDEX(Data_kom2,MATCH(1,(komnavn2=B12)*(komaar2=D12),0),2))","v":""},"2024-01-01",{"$f":"IF(B12=\"\",\"\",INDEX(Data_kom2,MATCH(1,(komnavn2=B12)*(komaar2=D12),0),4))","v":""},{"$f":"IF(B12=\"\",\"\",INDEX(Data_kom2,MATCH(1,(komnavn2=B12)*(komaar2=D12),0),5))","v":""},{"$f":"IF(B12=\"\",\"\",INDEX(Data_kom2,MATCH(1,(komnavn2=B12)*(komaar2=D12),0),6))","v":""},{"$f":"IF(B12=\"\",\"\",INDEX(Data_kom2,MATCH(1,(komnavn2=B12)*(komaar2=D12),0),7))","v":""},{"$f":"IF(B12=\"\",\"\",INDEX(Data_kom2,MATCH(1,(komnavn2=B12)*(komaar2=D12),0),8))","v":""},{"$f":"IF(B12=\"\",\"\",INDEX(Data_kom2,MATCH(1,(komnavn2=B12)*(komaar2=D12),0),9))","v":""},{"$f":"IF(B12=\"\",\"\",INDEX(Data_kom2,MATCH(1,(komnavn2=B12)*(komaar2=D12),0),10))","v":""},{"$f":"IF(B12=\"\",\"\",INDEX(Data_kom2,MATCH(1,(komnavn2=B12)*(komaar2=D12),0),11))","v":""},{"$f":"IF(B12=\"\",\"\",INDEX(Data_kom2,MATCH(1,(komnavn2=B12)*(komaar2=D12),0),12))","v":""},{"$f":"IF(B12=\"\",\"\",INDEX(Data_kom2,MATCH(1,(komnavn2=B12)*(komaar2=D12),0),13))","v":""},{"$f":"IF(B12=\"\",\"\",INDEX(Data_kom2,MATCH(1,(komnavn2=B12)*(komaar2=D12),0),14))","v":""},{"$f":"IF(B12=\"\",\"\",INDEX(Data_kom2,MATCH(1,(komnavn2=B12)*(komaar2=D12),0),15))","v":""},{"$f":"IF(B12=\"\",\"\",INDEX(Data_kom2,MATCH(1,(komnavn2=B12)*(komaar2=D12),0),16))","v":""},{"$f":"IF(B12=\"\",\"\",INDEX(Data_kom2,MATCH(1,(komnavn2=B12)*(komaar2=D12),0),17))","v":""},{"$f":"IF(B12=\"\",\"\",INDEX(Data_kom2,MATCH(1,(komnavn2=B12)*(komaar2=D12),0),18))","v":""},{"$f":"IF(B12=\"\",\"\",INDEX(Data_kom2,MATCH(1,(komnavn2=B12)*(komaar2=D12),0),19))","v":""},{"$f":"IF(B12=\"\",\"\",INDEX(Data_kom2,MATCH(1,(komnavn2=B12)*(komaar2=D12),0),20))","v":""},{"$f":"IF(B12=\"\",\"\",INDEX(Data_kom2,MATCH(1,(komnavn2=B12)*(komaar2=D12),0),21))","v":""},{"$f":"IF(B12=\"\",\"\",INDEX(Data_kom2,MATCH(1,(komnavn2=B12)*(komaar2=D12),0),22))","v":""},{"$f":"IF(B12=\"\",\"\",INDEX(Data_kom2,MATCH(1,(komnavn2=B12)*(komaar2=D12),0),23))","v":""},{"$f":"IF(B12=\"\",\"\",INDEX(Data_kom2,MATCH(1,(komnavn2=B12)*(komaar2=D12),0),24))","v":""},{"$f":"IF(B12=\"\",\"\",INDEX(Data_kom2,MATCH(1,(komnavn2=B12)*(komaar2=D12),0),25))","v":""},{"$f":"IF(B12=\"\",\"\",INDEX(Data_kom2,MATCH(1,(komnavn2=B12)*(komaar2=D12),0),26))","v":""},{"$f":"IF(B12=\"\",\"\",INDEX(Data_kom2,MATCH(1,(komnavn2=B12)*(komaar2=D12),0),27))","v":""},{"$f":"IF(B12=\"\",\"\",INDEX(Data_kom2,MATCH(1,(komnavn2=B12)*(komaar2=D12),0),28))","v":""},{"$f":"IF(B12=\"\",\"\",INDEX(Data_kom2,MATCH(1,(komnavn2=B12)*(komaar2=D12),0),29))","v":""},{"$f":"IF(B12=\"\",\"\",INDEX(Data_kom2,MATCH(1,(komnavn2=B12)*(komaar2=D12),0),30))","v":""},{"$f":"IF(B12=\"\",\"\",INDEX(Data_kom2,MATCH(1,(komnavn2=B12)*(komaar2=D12),0),31))","v":""},{"$f":"IF(B12=\"\",\"\",INDEX(Data_kom2,MATCH(1,(komnavn2=B12)*(komaar2=D12),0),32))","v":""},{"$f":"IF(B12=\"\",\"\",INDEX(Data_kom2,MATCH(1,(komnavn2=B12)*(komaar2=D12),0),33))","v":""},{"$f":"IF(B12=\"\",\"\",INDEX(Data_kom2,MATCH(1,(komnavn2=B12)*(komaar2=D12),0),34))","v":""},{"$f":"IF(B12=\"\",\"\",INDEX(Data_kom2,MATCH(1,(komnavn2=B12)*(komaar2=D12),0),35))","v":""},{"$f":"IF(B12=\"\",\"\",INDEX(Data_kom2,MATCH(1,(komnavn2=B12)*(komaar2=D12),0),36))","v":""},{"$f":"IF(B12=\"\",\"\",INDEX(Data_kom2,MATCH(1,(komnavn2=B12)*(komaar2=D12),0),37))","v":""},{"$f":"IF(B12=\"\",\"\",INDEX(Data_kom2,MATCH(1,(komnavn2=B12)*(komaar2=D12),0),38))","v":""}]
[7,{"$f":"'Dine valg'!$G$30","v":""},{"$f":"IF(B13=\"\",\"\",INDEX(Data_kom2,MATCH(1,(komnavn2=B13)*(komaar2=D13),0),2))","v":""},"2024-01-01",{"$f":"IF(B13=\"\",\"\",INDEX(Data_kom2,MATCH(1,(komnavn2=B13)*(komaar2=D13),0),4))","v":""},{"$f":"IF(B13=\"\",\"\",INDEX(Data_kom2,MATCH(1,(komnavn2=B13)*(komaar2=D13),0),5))","v":""},{"$f":"IF(B13=\"\",\"\",INDEX(Data_kom2,MATCH(1,(komnavn2=B13)*(komaar2=D13),0),6))","v":""},{"$f":"IF(B13=\"\",\"\",INDEX(Data_kom2,MATCH(1,(komnavn2=B13)*(komaar2=D13),0),7))","v":""},{"$f":"IF(B13=\"\",\"\",INDEX(Data_kom2,MATCH(1,(komnavn2=B13)*(komaar2=D13),0),8))","v":""},{"$f":"IF(B13=\"\",\"\",INDEX(Data_kom2,MATCH(1,(komnavn2=B13)*(komaar2=D13),0),9))","v":""},{"$f":"IF(B13=\"\",\"\",INDEX(Data_kom2,MATCH(1,(komnavn2=B13)*(komaar2=D13),0),10))","v":""},{"$f":"IF(B13=\"\",\"\",INDEX(Data_kom2,MATCH(1,(komnavn2=B13)*(komaar2=D13),0),11))","v":""},{"$f":"IF(B13=\"\",\"\",INDEX(Data_kom2,MATCH(1,(komnavn2=B13)*(komaar2=D13),0),12))","v":""},{"$f":"IF(B13=\"\",\"\",INDEX(Data_kom2,MATCH(1,(komnavn2=B13)*(komaar2=D13),0),13))","v":""},{"$f":"IF(B13=\"\",\"\",INDEX(Data_kom2,MATCH(1,(komnavn2=B13)*(komaar2=D13),0),14))","v":""},{"$f":"IF(B13=\"\",\"\",INDEX(Data_kom2,MATCH(1,(komnavn2=B13)*(komaar2=D13),0),15))","v":""},{"$f":"IF(B13=\"\",\"\",INDEX(Data_kom2,MATCH(1,(komnavn2=B13)*(komaar2=D13),0),16))","v":""},{"$f":"IF(B13=\"\",\"\",INDEX(Data_kom2,MATCH(1,(komnavn2=B13)*(komaar2=D13),0),17))","v":""},{"$f":"IF(B13=\"\",\"\",INDEX(Data_kom2,MATCH(1,(komnavn2=B13)*(komaar2=D13),0),18))","v":""},{"$f":"IF(B13=\"\",\"\",INDEX(Data_kom2,MATCH(1,(komnavn2=B13)*(komaar2=D13),0),19))","v":""},{"$f":"IF(B13=\"\",\"\",INDEX(Data_kom2,MATCH(1,(komnavn2=B13)*(komaar2=D13),0),20))","v":""},{"$f":"IF(B13=\"\",\"\",INDEX(Data_kom2,MATCH(1,(komnavn2=B13)*(komaar2=D13),0),21))","v":""},{"$f":"IF(B13=\"\",\"\",INDEX(Data_kom2,MATCH(1,(komnavn2=B13)*(komaar2=D13),0),22))","v":""},{"$f":"IF(B13=\"\",\"\",INDEX(Data_kom2,MATCH(1,(komnavn2=B13)*(komaar2=D13),0),23))","v":""},{"$f":"IF(B13=\"\",\"\",INDEX(Data_kom2,MATCH(1,(komnavn2=B13)*(komaar2=D13),0),24))","v":""},{"$f":"IF(B13=\"\",\"\",INDEX(Data_kom2,MATCH(1,(komnavn2=B13)*(komaar2=D13),0),25))","v":""},{"$f":"IF(B13=\"\",\"\",INDEX(Data_kom2,MATCH(1,(komnavn2=B13)*(komaar2=D13),0),26))","v":""},{"$f":"IF(B13=\"\",\"\",INDEX(Data_kom2,MATCH(1,(komnavn2=B13)*(komaar2=D13),0),27))","v":""},{"$f":"IF(B13=\"\",\"\",INDEX(Data_kom2,MATCH(1,(komnavn2=B13)*(komaar2=D13),0),28))","v":""},{"$f":"IF(B13=\"\",\"\",INDEX(Data_kom2,MATCH(1,(komnavn2=B13)*(komaar2=D13),0),29))","v":""},{"$f":"IF(B13=\"\",\"\",INDEX(Data_kom2,MATCH(1,(komnavn2=B13)*(komaar2=D13),0),30))","v":""},{"$f":"IF(B13=\"\",\"\",INDEX(Data_kom2,MATCH(1,(komnavn2=B13)*(komaar2=D13),0),31))","v":""},{"$f":"IF(B13=\"\",\"\",INDEX(Data_kom2,MATCH(1,(komnavn2=B13)*(komaar2=D13),0),32))","v":""},{"$f":"IF(B13=\"\",\"\",INDEX(Data_kom2,MATCH(1,(komnavn2=B13)*(komaar2=D13),0),33))","v":""},{"$f":"IF(B13=\"\",\"\",INDEX(Data_kom2,MATCH(1,(komnavn2=B13)*(komaar2=D13),0),34))","v":""},{"$f":"IF(B13=\"\",\"\",INDEX(Data_kom2,MATCH(1,(komnavn2=B13)*(komaar2=D13),0),35))","v":""},{"$f":"IF(B13=\"\",\"\",INDEX(Data_kom2,MATCH(1,(komnavn2=B13)*(komaar2=D13),0),36))","v":""},{"$f":"IF(B13=\"\",\"\",INDEX(Data_kom2,MATCH(1,(komnavn2=B13)*(komaar2=D13),0),37))","v":""},{"$f":"IF(B13=\"\",\"\",INDEX(Data_kom2,MATCH(1,(komnavn2=B13)*(komaar2=D13),0),38))","v":""}]
[null,{"$f":"'Dine valg'!$G$24","v":"Aarhus"},{"$f":"IF(B14=\"\",\"\",INDEX(Data_kom2,MATCH(1,(komnavn2=B14)*(komaar2=D14),0),2))","v":64601},"2023-07-01",{"$f":"IF(B14=\"\",\"\",INDEX(Data_kom2,MATCH(1,(komnavn2=B14)*(komaar2=D14),0),4))","v":161},{"$f":"IF(B14=\"\",\"\",INDEX(Data_kom2,MATCH(1,(komnavn2=B14)*(komaar2=D14),0),5))","v":110},{"$f":"IF(B14=\"\",\"\",INDEX(Data_kom2,MATCH(1,(komnavn2=B14)*(komaar2=D14),0),6))","v":13},{"$f":"IF(B14=\"\",\"\",INDEX(Data_kom2,MATCH(1,(komnavn2=B14)*(komaar2=D14),0),7))","v":38},{"$f":"IF(B14=\"\",\"\",INDEX(Data_kom2,MATCH(1,(komnavn2=B14)*(komaar2=D14),0),8))","v":134907},{"$f":"IF(B14=\"\",\"\",INDEX(Data_kom2,MATCH(1,(komnavn2=B14)*(komaar2=D14),0),9))","v":111343},{"$f":"IF(B14=\"\",\"\",INDEX(Data_kom2,MATCH(1,(komnavn2=B14)*(komaar2=D14),0),10))","v":2546},{"$f":"IF(B14=\"\",\"\",INDEX(Data_kom2,MATCH(1,(komnavn2=B14)*(komaar2=D14),0),11))","v":21018},{"$f":"IF(B14=\"\",\"\",INDEX(Data_kom2,MATCH(1,(komnavn2=B14)*(komaar2=D14),0),12))","v":225},{"$f":"IF(B14=\"\",\"\",INDEX(Data_kom2,MATCH(1,(komnavn2=B14)*(komaar2=D14),0),13))","v":26},{"$f":"IF(B14=\"\",\"\",INDEX(Data_kom2,MATCH(1,(komnavn2=B14)*(komaar2=D14),0),14))","v":1062},{"$f":"IF(B14=\"\",\"\",INDEX(Data_kom2,MATCH(1,(komnavn2=B14)*(komaar2=D14),0),15))","v":"*"},{"$f":"IF(B14=\"\",\"\",INDEX(Data_kom2,MATCH(1,(komnavn2=B14)*(komaar2=D14),0),16))","v":"*"},{"$f":"IF(B14=\"\",\"\",INDEX(Data_kom2,MATCH(1,(komnavn2=B14)*(komaar2=D14),0),17))","v":1047},{"$f":"IF(B14=\"\",\"\",INDEX(Data_kom2,MATCH(1,(komnavn2=B14)*(komaar2=D14),0),18))","v":10},{"$f":"IF(B14=\"\",\"\",INDEX(Data_kom2,MATCH(1,(komnavn2=B14)*(komaar2=D14),0),19))","v":0},{"$f":"IF(B14=\"\",\"\",INDEX(Data_kom2,MATCH(1,(komnavn2=B14)*(komaar2=D14),0),20))","v":0},{"$f":"IF(B14=\"\",\"\",INDEX(Data_kom2,MATCH(1,(komnavn2=B14)*(komaar2=D14),0),21))","v":0},{"$f":"IF(B14=\"\",\"\",INDEX(Data_kom2,MATCH(1,(komnavn2=B14)*(komaar2=D14),0),22))","v":30},{"$f":"IF(B14=\"\",\"\",INDEX(Data_kom2,MATCH(1,(komnavn2=B14)*(komaar2=D14),0),23))","v":162},{"$f":"IF(B14=\"\",\"\",INDEX(Data_kom2,MATCH(1,(komnavn2=B14)*(komaar2=D14),0),24))","v":"*"},{"$f":"IF(B14=\"\",\"\",INDEX(Data_kom2,MATCH(1,(komnavn2=B14)*(komaar2=D14),0),25))","v":162},{"$f":"IF(B14=\"\",\"\",INDEX(Data_kom2,MATCH(1,(komnavn2=B14)*(komaar2=D14),0),26))","v":"*"},{"$f":"IF(B14=\"\",\"\",INDEX(Data_kom2,MATCH(1,(komnavn2=B14)*(komaar2=D14),0),27))","v":162},{"$f":"IF(B14=\"\",\"\",INDEX(Data_kom2,MATCH(1,(komnavn2=B14)*(komaar2=D14),0),28))","v":24},{"$f":"IF(B14=\"\",\"\",INDEX(Data_kom2,MATCH(1,(komnavn2=B14)*(komaar2=D14),0),29))","v":1094},{"$f":"IF(B14=\"\",\"\",INDEX(Data_kom2,MATCH(1,(komnavn2=B14)*(komaar2=D14),0),30))","v":323},{"$f":"IF(B14=\"\",\"\",INDEX(Data_kom2,MATCH(1,(komnavn2=B14)*(komaar2=D14),0),31))","v":1094},{"$f":"IF(B14=\"\",\"\",INDEX(Data_kom2,MATCH(1,(komnavn2=B14)*(komaar2=D14),0),32))","v":0},{"$f":"IF(B14=\"\",\"\",INDEX(Data_kom2,MATCH(1,(komnavn2=B14)*(komaar2=D14),0),33))","v":0},{"$f":"IF(B14=\"\",\"\",INDEX(Data_kom2,MATCH(1,(komnavn2=B14)*(komaar2=D14),0),34))","v":0},{"$f":"IF(B14=\"\",\"\",INDEX(Data_kom2,MATCH(1,(komnavn2=B14)*(komaar2=D14),0),35))","v":0},{"$f":"IF(B14=\"\",\"\",INDEX(Data_kom2,MATCH(1,(komnavn2=B14)*(komaar2=D14),0),36))","v":0},{"$f":"IF(B14=\"\",\"\",INDEX(Data_kom2,MATCH(1,(komnavn2=B14)*(komaar2=D14),0),37))","v":0},{"$f":"IF(B14=\"\",\"\",INDEX(Data_kom2,MATCH(1,(komnavn2=B14)*(komaar2=D14),0),38))","v":"Region Midtjylland"}]
[null,{"$f":"'Dine valg'!$G$25","v":""},{"$f":"IF(B15=\"\",\"\",INDEX(Data_kom2,MATCH(1,(komnavn2=B15)*(komaar2=D15),0),2))","v":""},"2023-07-01",{"$f":"IF(B15=\"\",\"\",INDEX(Data_kom2,MATCH(1,(komnavn2=B15)*(komaar2=D15),0),4))","v":""},{"$f":"IF(B15=\"\",\"\",INDEX(Data_kom2,MATCH(1,(komnavn2=B15)*(komaar2=D15),0),5))","v":""},{"$f":"IF(B15=\"\",\"\",INDEX(Data_kom2,MATCH(1,(komnavn2=B15)*(komaar2=D15),0),6))","v":""},{"$f":"IF(B15=\"\",\"\",INDEX(Data_kom2,MATCH(1,(komnavn2=B15)*(komaar2=D15),0),7))","v":""},{"$f":"IF(B15=\"\",\"\",INDEX(Data_kom2,MATCH(1,(komnavn2=B15)*(komaar2=D15),0),8))","v":""},{"$f":"IF(B15=\"\",\"\",INDEX(Data_kom2,MATCH(1,(komnavn2=B15)*(komaar2=D15),0),9))","v":""},{"$f":"IF(B15=\"\",\"\",INDEX(Data_kom2,MATCH(1,(komnavn2=B15)*(komaar2=D15),0),10))","v":""},{"$f":"IF(B15=\"\",\"\",INDEX(Data_kom2,MATCH(1,(komnavn2=B15)*(komaar2=D15),0),11))","v":""},{"$f":"IF(B15=\"\",\"\",INDEX(Data_kom2,MATCH(1,(komnavn2=B15)*(komaar2=D15),0),12))","v":""},{"$f":"IF(B15=\"\",\"\",INDEX(Data_kom2,MATCH(1,(komnavn2=B15)*(komaar2=D15),0),13))","v":""},{"$f":"IF(B15=\"\",\"\",INDEX(Data_kom2,MATCH(1,(komnavn2=B15)*(komaar2=D15),0),14))","v":""},{"$f":"IF(B15=\"\",\"\",INDEX(Data_kom2,MATCH(1,(komnavn2=B15)*(komaar2=D15),0),15))","v":""},{"$f":"IF(B15=\"\",\"\",INDEX(Data_kom2,MATCH(1,(komnavn2=B15)*(komaar2=D15),0),16))","v":""},{"$f":"IF(B15=\"\",\"\",INDEX(Data_kom2,MATCH(1,(komnavn2=B15)*(komaar2=D15),0),17))","v":""},{"$f":"IF(B15=\"\",\"\",INDEX(Data_kom2,MATCH(1,(komnavn2=B15)*(komaar2=D15),0),18))","v":""},{"$f":"IF(B15=\"\",\"\",INDEX(Data_kom2,MATCH(1,(komnavn2=B15)*(komaar2=D15),0),19))","v":""},{"$f":"IF(B15=\"\",\"\",INDEX(Data_kom2,MATCH(1,(komnavn2=B15)*(komaar2=D15),0),20))","v":""},{"$f":"IF(B15=\"\",\"\",INDEX(Data_kom2,MATCH(1,(komnavn2=B15)*(komaar2=D15),0),21))","v":""},{"$f":"IF(B15=\"\",\"\",INDEX(Data_kom2,MATCH(1,(komnavn2=B15)*(komaar2=D15),0),22))","v":""},{"$f":"IF(B15=\"\",\"\",INDEX(Data_kom2,MATCH(1,(komnavn2=B15)*(komaar2=D15),0),23))","v":""},{"$f":"IF(B15=\"\",\"\",INDEX(Data_kom2,MATCH(1,(komnavn2=B15)*(komaar2=D15),0),24))","v":""},{"$f":"IF(B15=\"\",\"\",INDEX(Data_kom2,MATCH(1,(komnavn2=B15)*(komaar2=D15),0),25))","v":""},{"$f":"IF(B15=\"\",\"\",INDEX(Data_kom2,MATCH(1,(komnavn2=B15)*(komaar2=D15),0),26))","v":""},{"$f":"IF(B15=\"\",\"\",INDEX(Data_kom2,MATCH(1,(komnavn2=B15)*(komaar2=D15),0),27))","v":""},{"$f":"IF(B15=\"\",\"\",INDEX(Data_kom2,MATCH(1,(komnavn2=B15)*(komaar2=D15),0),28))","v":""},{"$f":"IF(B15=\"\",\"\",INDEX(Data_kom2,MATCH(1,(komnavn2=B15)*(komaar2=D15),0),29))","v":""},{"$f":"IF(B15=\"\",\"\",INDEX(Data_kom2,MATCH(1,(komnavn2=B15)*(komaar2=D15),0),30))","v":""},{"$f":"IF(B15=\"\",\"\",INDEX(Data_kom2,MATCH(1,(komnavn2=B15)*(komaar2=D15),0),31))","v":""},{"$f":"IF(B15=\"\",\"\",INDEX(Data_kom2,MATCH(1,(komnavn2=B15)*(komaar2=D15),0),32))","v":""},{"$f":"IF(B15=\"\",\"\",INDEX(Data_kom2,MATCH(1,(komnavn2=B15)*(komaar2=D15),0),33))","v":""},{"$f":"IF(B15=\"\",\"\",INDEX(Data_kom2,MATCH(1,(komnavn2=B15)*(komaar2=D15),0),34))","v":""},{"$f":"IF(B15=\"\",\"\",INDEX(Data_kom2,MATCH(1,(komnavn2=B15)*(komaar2=D15),0),35))","v":""},{"$f":"IF(B15=\"\",\"\",INDEX(Data_kom2,MATCH(1,(komnavn2=B15)*(komaar2=D15),0),36))","v":""},{"$f":"IF(B15=\"\",\"\",INDEX(Data_kom2,MATCH(1,(komnavn2=B15)*(komaar2=D15),0),37))","v":""},{"$f":"IF(B15=\"\",\"\",INDEX(Data_kom2,MATCH(1,(komnavn2=B15)*(komaar2=D15),0),38))","v":""}]
[null,{"$f":"'Dine valg'!$G$26","v":""},{"$f":"IF(B16=\"\",\"\",INDEX(Data_kom2,MATCH(1,(komnavn2=B16)*(komaar2=D16),0),2))","v":""},"2023-07-01",{"$f":"IF(B16=\"\",\"\",INDEX(Data_kom2,MATCH(1,(komnavn2=B16)*(komaar2=D16),0),4))","v":""},{"$f":"IF(B16=\"\",\"\",INDEX(Data_kom2,MATCH(1,(komnavn2=B16)*(komaar2=D16),0),5))","v":""},{"$f":"IF(B16=\"\",\"\",INDEX(Data_kom2,MATCH(1,(komnavn2=B16)*(komaar2=D16),0),6))","v":""},{"$f":"IF(B16=\"\",\"\",INDEX(Data_kom2,MATCH(1,(komnavn2=B16)*(komaar2=D16),0),7))","v":""},{"$f":"IF(B16=\"\",\"\",INDEX(Data_kom2,MATCH(1,(komnavn2=B16)*(komaar2=D16),0),8))","v":""},{"$f":"IF(B16=\"\",\"\",INDEX(Data_kom2,MATCH(1,(komnavn2=B16)*(komaar2=D16),0),9))","v":""},{"$f":"IF(B16=\"\",\"\",INDEX(Data_kom2,MATCH(1,(komnavn2=B16)*(komaar2=D16),0),10))","v":""},{"$f":"IF(B16=\"\",\"\",INDEX(Data_kom2,MATCH(1,(komnavn2=B16)*(komaar2=D16),0),11))","v":""},{"$f":"IF(B16=\"\",\"\",INDEX(Data_kom2,MATCH(1,(komnavn2=B16)*(komaar2=D16),0),12))","v":""},{"$f":"IF(B16=\"\",\"\",INDEX(Data_kom2,MATCH(1,(komnavn2=B16)*(komaar2=D16),0),13))","v":""},{"$f":"IF(B16=\"\",\"\",INDEX(Data_kom2,MATCH(1,(komnavn2=B16)*(komaar2=D16),0),14))","v":""},{"$f":"IF(B16=\"\",\"\",INDEX(Data_kom2,MATCH(1,(komnavn2=B16)*(komaar2=D16),0),15))","v":""},{"$f":"IF(B16=\"\",\"\",INDEX(Data_kom2,MATCH(1,(komnavn2=B16)*(komaar2=D16),0),16))","v":""},{"$f":"IF(B16=\"\",\"\",INDEX(Data_kom2,MATCH(1,(komnavn2=B16)*(komaar2=D16),0),17))","v":""},{"$f":"IF(B16=\"\",\"\",INDEX(Data_kom2,MATCH(1,(komnavn2=B16)*(komaar2=D16),0),18))","v":""},{"$f":"IF(B16=\"\",\"\",INDEX(Data_kom2,MATCH(1,(komnavn2=B16)*(komaar2=D16),0),19))","v":""},{"$f":"IF(B16=\"\",\"\",INDEX(Data_kom2,MATCH(1,(komnavn2=B16)*(komaar2=D16),0),20))","v":""},{"$f":"IF(B16=\"\",\"\",INDEX(Data_kom2,MATCH(1,(komnavn2=B16)*(komaar2=D16),0),21))","v":""},{"$f":"IF(B16=\"\",\"\",INDEX(Data_kom2,MATCH(1,(komnavn2=B16)*(komaar2=D16),0),22))","v":""},{"$f":"IF(B16=\"\",\"\",INDEX(Data_kom2,MATCH(1,(komnavn2=B16)*(komaar2=D16),0),23))","v":""},{"$f":"IF(B16=\"\",\"\",INDEX(Data_kom2,MATCH(1,(komnavn2=B16)*(komaar2=D16),0),24))","v":""},{"$f":"IF(B16=\"\",\"\",INDEX(Data_kom2,MATCH(1,(komnavn2=B16)*(komaar2=D16),0),25))","v":""},{"$f":"IF(B16=\"\",\"\",INDEX(Data_kom2,MATCH(1,(komnavn2=B16)*(komaar2=D16),0),26))","v":""},{"$f":"IF(B16=\"\",\"\",INDEX(Data_kom2,MATCH(1,(komnavn2=B16)*(komaar2=D16),0),27))","v":""},{"$f":"IF(B16=\"\",\"\",INDEX(Data_kom2,MATCH(1,(komnavn2=B16)*(komaar2=D16),0),28))","v":""},{"$f":"IF(B16=\"\",\"\",INDEX(Data_kom2,MATCH(1,(komnavn2=B16)*(komaar2=D16),0),29))","v":""},{"$f":"IF(B16=\"\",\"\",INDEX(Data_kom2,MATCH(1,(komnavn2=B16)*(komaar2=D16),0),30))","v":""},{"$f":"IF(B16=\"\",\"\",INDEX(Data_kom2,MATCH(1,(komnavn2=B16)*(komaar2=D16),0),31))","v":""},{"$f":"IF(B16=\"\",\"\",INDEX(Data_kom2,MATCH(1,(komnavn2=B16)*(komaar2=D16),0),32))","v":""},{"$f":"IF(B16=\"\",\"\",INDEX(Data_kom2,MATCH(1,(komnavn2=B16)*(komaar2=D16),0),33))","v":""},{"$f":"IF(B16=\"\",\"\",INDEX(Data_kom2,MATCH(1,(komnavn2=B16)*(komaar2=D16),0),34))","v":""},{"$f":"IF(B16=\"\",\"\",INDEX(Data_kom2,MATCH(1,(komnavn2=B16)*(komaar2=D16),0),35))","v":""},{"$f":"IF(B16=\"\",\"\",INDEX(Data_kom2,MATCH(1,(komnavn2=B16)*(komaar2=D16),0),36))","v":""},{"$f":"IF(B16=\"\",\"\",INDEX(Data_kom2,MATCH(1,(komnavn2=B16)*(komaar2=D16),0),37))","v":""},{"$f":"IF(B16=\"\",\"\",INDEX(Data_kom2,MATCH(1,(komnavn2=B16)*(komaar2=D16),0),38))","v":""}]
[null,{"$f":"'Dine valg'!$G$27","v":""},{"$f":"IF(B17=\"\",\"\",INDEX(Data_kom2,MATCH(1,(komnavn2=B17)*(komaar2=D17),0),2))","v":""},"2023-07-01",{"$f":"IF(B17=\"\",\"\",INDEX(Data_kom2,MATCH(1,(komnavn2=B17)*(komaar2=D17),0),4))","v":""},{"$f":"IF(B17=\"\",\"\",INDEX(Data_kom2,MATCH(1,(komnavn2=B17)*(komaar2=D17),0),5))","v":""},{"$f":"IF(B17=\"\",\"\",INDEX(Data_kom2,MATCH(1,(komnavn2=B17)*(komaar2=D17),0),6))","v":""},{"$f":"IF(B17=\"\",\"\",INDEX(Data_kom2,MATCH(1,(komnavn2=B17)*(komaar2=D17),0),7))","v":""},{"$f":"IF(B17=\"\",\"\",INDEX(Data_kom2,MATCH(1,(komnavn2=B17)*(komaar2=D17),0),8))","v":""},{"$f":"IF(B17=\"\",\"\",INDEX(Data_kom2,MATCH(1,(komnavn2=B17)*(komaar2=D17),0),9))","v":""},{"$f":"IF(B17=\"\",\"\",INDEX(Data_kom2,MATCH(1,(komnavn2=B17)*(komaar2=D17),0),10))","v":""},{"$f":"IF(B17=\"\",\"\",INDEX(Data_kom2,MATCH(1,(komnavn2=B17)*(komaar2=D17),0),11))","v":""},{"$f":"IF(B17=\"\",\"\",INDEX(Data_kom2,MATCH(1,(komnavn2=B17)*(komaar2=D17),0),12))","v":""},{"$f":"IF(B17=\"\",\"\",INDEX(Data_kom2,MATCH(1,(komnavn2=B17)*(komaar2=D17),0),13))","v":""},{"$f":"IF(B17=\"\",\"\",INDEX(Data_kom2,MATCH(1,(komnavn2=B17)*(komaar2=D17),0),14))","v":""},{"$f":"IF(B17=\"\",\"\",INDEX(Data_kom2,MATCH(1,(komnavn2=B17)*(komaar2=D17),0),15))","v":""},{"$f":"IF(B17=\"\",\"\",INDEX(Data_kom2,MATCH(1,(komnavn2=B17)*(komaar2=D17),0),16))","v":""},{"$f":"IF(B17=\"\",\"\",INDEX(Data_kom2,MATCH(1,(komnavn2=B17)*(komaar2=D17),0),17))","v":""},{"$f":"IF(B17=\"\",\"\",INDEX(Data_kom2,MATCH(1,(komnavn2=B17)*(komaar2=D17),0),18))","v":""},{"$f":"IF(B17=\"\",\"\",INDEX(Data_kom2,MATCH(1,(komnavn2=B17)*(komaar2=D17),0),19))","v":""},{"$f":"IF(B17=\"\",\"\",INDEX(Data_kom2,MATCH(1,(komnavn2=B17)*(komaar2=D17),0),20))","v":""},{"$f":"IF(B17=\"\",\"\",INDEX(Data_kom2,MATCH(1,(komnavn2=B17)*(komaar2=D17),0),21))","v":""},{"$f":"IF(B17=\"\",\"\",INDEX(Data_kom2,MATCH(1,(komnavn2=B17)*(komaar2=D17),0),22))","v":""},{"$f":"IF(B17=\"\",\"\",INDEX(Data_kom2,MATCH(1,(komnavn2=B17)*(komaar2=D17),0),23))","v":""},{"$f":"IF(B17=\"\",\"\",INDEX(Data_kom2,MATCH(1,(komnavn2=B17)*(komaar2=D17),0),24))","v":""},{"$f":"IF(B17=\"\",\"\",INDEX(Data_kom2,MATCH(1,(komnavn2=B17)*(komaar2=D17),0),25))","v":""},{"$f":"IF(B17=\"\",\"\",INDEX(Data_kom2,MATCH(1,(komnavn2=B17)*(komaar2=D17),0),26))","v":""},{"$f":"IF(B17=\"\",\"\",INDEX(Data_kom2,MATCH(1,(komnavn2=B17)*(komaar2=D17),0),27))","v":""},{"$f":"IF(B17=\"\",\"\",INDEX(Data_kom2,MATCH(1,(komnavn2=B17)*(komaar2=D17),0),28))","v":""},{"$f":"IF(B17=\"\",\"\",INDEX(Data_kom2,MATCH(1,(komnavn2=B17)*(komaar2=D17),0),29))","v":""},{"$f":"IF(B17=\"\",\"\",INDEX(Data_kom2,MATCH(1,(komnavn2=B17)*(komaar2=D17),0),30))","v":""},{"$f":"IF(B17=\"\",\"\",INDEX(Data_kom2,MATCH(1,(komnavn2=B17)*(komaar2=D17),0),31))","v":""},{"$f":"IF(B17=\"\",\"\",INDEX(Data_kom2,MATCH(1,(komnavn2=B17)*(komaar2=D17),0),32))","v":""},{"$f":"IF(B17=\"\",\"\",INDEX(Data_kom2,MATCH(1,(komnavn2=B17)*(komaar2=D17),0),33))","v":""},{"$f":"IF(B17=\"\",\"\",INDEX(Data_kom2,MATCH(1,(komnavn2=B17)*(komaar2=D17),0),34))","v":""},{"$f":"IF(B17=\"\",\"\",INDEX(Data_kom2,MATCH(1,(komnavn2=B17)*(komaar2=D17),0),35))","v":""},{"$f":"IF(B17=\"\",\"\",INDEX(Data_kom2,MATCH(1,(komnavn2=B17)*(komaar2=D17),0),36))","v":""},{"$f":"IF(B17=\"\",\"\",INDEX(Data_kom2,MATCH(1,(komnavn2=B17)*(komaar2=D17),0),37))","v":""},{"$f":"IF(B17=\"\",\"\",INDEX(Data_kom2,MATCH(1,(komnavn2=B17)*(komaar2=D17),0),38))","v":""}]
[null,{"$f":"'Dine valg'!$G$28","v":""},{"$f":"IF(B18=\"\",\"\",INDEX(Data_kom2,MATCH(1,(komnavn2=B18)*(komaar2=D18),0),2))","v":""},"2023-07-01",{"$f":"IF(B18=\"\",\"\",INDEX(Data_kom2,MATCH(1,(komnavn2=B18)*(komaar2=D18),0),4))","v":""},{"$f":"IF(B18=\"\",\"\",INDEX(Data_kom2,MATCH(1,(komnavn2=B18)*(komaar2=D18),0),5))","v":""},{"$f":"IF(B18=\"\",\"\",INDEX(Data_kom2,MATCH(1,(komnavn2=B18)*(komaar2=D18),0),6))","v":""},{"$f":"IF(B18=\"\",\"\",INDEX(Data_kom2,MATCH(1,(komnavn2=B18)*(komaar2=D18),0),7))","v":""},{"$f":"IF(B18=\"\",\"\",INDEX(Data_kom2,MATCH(1,(komnavn2=B18)*(komaar2=D18),0),8))","v":""},{"$f":"IF(B18=\"\",\"\",INDEX(Data_kom2,MATCH(1,(komnavn2=B18)*(komaar2=D18),0),9))","v":""},{"$f":"IF(B18=\"\",\"\",INDEX(Data_kom2,MATCH(1,(komnavn2=B18)*(komaar2=D18),0),10))","v":""},{"$f":"IF(B18=\"\",\"\",INDEX(Data_kom2,MATCH(1,(komnavn2=B18)*(komaar2=D18),0),11))","v":""},{"$f":"IF(B18=\"\",\"\",INDEX(Data_kom2,MATCH(1,(komnavn2=B18)*(komaar2=D18),0),12))","v":""},{"$f":"IF(B18=\"\",\"\",INDEX(Data_kom2,MATCH(1,(komnavn2=B18)*(komaar2=D18),0),13))","v":""},{"$f":"IF(B18=\"\",\"\",INDEX(Data_kom2,MATCH(1,(komnavn2=B18)*(komaar2=D18),0),14))","v":""},{"$f":"IF(B18=\"\",\"\",INDEX(Data_kom2,MATCH(1,(komnavn2=B18)*(komaar2=D18),0),15))","v":""},{"$f":"IF(B18=\"\",\"\",INDEX(Data_kom2,MATCH(1,(komnavn2=B18)*(komaar2=D18),0),16))","v":""},{"$f":"IF(B18=\"\",\"\",INDEX(Data_kom2,MATCH(1,(komnavn2=B18)*(komaar2=D18),0),17))","v":""},{"$f":"IF(B18=\"\",\"\",INDEX(Data_kom2,MATCH(1,(komnavn2=B18)*(komaar2=D18),0),18))","v":""},{"$f":"IF(B18=\"\",\"\",INDEX(Data_kom2,MATCH(1,(komnavn2=B18)*(komaar2=D18),0),19))","v":""},{"$f":"IF(B18=\"\",\"\",INDEX(Data_kom2,MATCH(1,(komnavn2=B18)*(komaar2=D18),0),20))","v":""},{"$f":"IF(B18=\"\",\"\",INDEX(Data_kom2,MATCH(1,(komnavn2=B18)*(komaar2=D18),0),21))","v":""},{"$f":"IF(B18=\"\",\"\",INDEX(Data_kom2,MATCH(1,(komnavn2=B18)*(komaar2=D18),0),22))","v":""},{"$f":"IF(B18=\"\",\"\",INDEX(Data_kom2,MATCH(1,(komnavn2=B18)*(komaar2=D18),0),23))","v":""},{"$f":"IF(B18=\"\",\"\",INDEX(Data_kom2,MATCH(1,(komnavn2=B18)*(komaar2=D18),0),24))","v":""},{"$f":"IF(B18=\"\",\"\",INDEX(Data_kom2,MATCH(1,(komnavn2=B18)*(komaar2=D18),0),25))","v":""},{"$f":"IF(B18=\"\",\"\",INDEX(Data_kom2,MATCH(1,(komnavn2=B18)*(komaar2=D18),0),26))","v":""},{"$f":"IF(B18=\"\",\"\",INDEX(Data_kom2,MATCH(1,(komnavn2=B18)*(komaar2=D18),0),27))","v":""},{"$f":"IF(B18=\"\",\"\",INDEX(Data_kom2,MATCH(1,(komnavn2=B18)*(komaar2=D18),0),28))","v":""},{"$f":"IF(B18=\"\",\"\",INDEX(Data_kom2,MATCH(1,(komnavn2=B18)*(komaar2=D18),0),29))","v":""},{"$f":"IF(B18=\"\",\"\",INDEX(Data_kom2,MATCH(1,(komnavn2=B18)*(komaar2=D18),0),30))","v":""},{"$f":"IF(B18=\"\",\"\",INDEX(Data_kom2,MATCH(1,(komnavn2=B18)*(komaar2=D18),0),31))","v":""},{"$f":"IF(B18=\"\",\"\",INDEX(Data_kom2,MATCH(1,(komnavn2=B18)*(komaar2=D18),0),32))","v":""},{"$f":"IF(B18=\"\",\"\",INDEX(Data_kom2,MATCH(1,(komnavn2=B18)*(komaar2=D18),0),33))","v":""},{"$f":"IF(B18=\"\",\"\",INDEX(Data_kom2,MATCH(1,(komnavn2=B18)*(komaar2=D18),0),34))","v":""},{"$f":"IF(B18=\"\",\"\",INDEX(Data_kom2,MATCH(1,(komnavn2=B18)*(komaar2=D18),0),35))","v":""},{"$f":"IF(B18=\"\",\"\",INDEX(Data_kom2,MATCH(1,(komnavn2=B18)*(komaar2=D18),0),36))","v":""},{"$f":"IF(B18=\"\",\"\",INDEX(Data_kom2,MATCH(1,(komnavn2=B18)*(komaar2=D18),0),37))","v":""},{"$f":"IF(B18=\"\",\"\",INDEX(Data_kom2,MATCH(1,(komnavn2=B18)*(komaar2=D18),0),38))","v":""}]
[null,{"$f":"'Dine valg'!$G$29","v":""},{"$f":"IF(B19=\"\",\"\",INDEX(Data_kom2,MATCH(1,(komnavn2=B19)*(komaar2=D19),0),2))","v":""},"2023-07-01",{"$f":"IF(B19=\"\",\"\",INDEX(Data_kom2,MATCH(1,(komnavn2=B19)*(komaar2=D19),0),4))","v":""},{"$f":"IF(B19=\"\",\"\",INDEX(Data_kom2,MATCH(1,(komnavn2=B19)*(komaar2=D19),0),5))","v":""},{"$f":"IF(B19=\"\",\"\",INDEX(Data_kom2,MATCH(1,(komnavn2=B19)*(komaar2=D19),0),6))","v":""},{"$f":"IF(B19=\"\",\"\",INDEX(Data_kom2,MATCH(1,(komnavn2=B19)*(komaar2=D19),0),7))","v":""},{"$f":"IF(B19=\"\",\"\",INDEX(Data_kom2,MATCH(1,(komnavn2=B19)*(komaar2=D19),0),8))","v":""},{"$f":"IF(B19=\"\",\"\",INDEX(Data_kom2,MATCH(1,(komnavn2=B19)*(komaar2=D19),0),9))","v":""},{"$f":"IF(B19=\"\",\"\",INDEX(Data_kom2,MATCH(1,(komnavn2=B19)*(komaar2=D19),0),10))","v":""},{"$f":"IF(B19=\"\",\"\",INDEX(Data_kom2,MATCH(1,(komnavn2=B19)*(komaar2=D19),0),11))","v":""},{"$f":"IF(B19=\"\",\"\",INDEX(Data_kom2,MATCH(1,(komnavn2=B19)*(komaar2=D19),0),12))","v":""},{"$f":"IF(B19=\"\",\"\",INDEX(Data_kom2,MATCH(1,(komnavn2=B19)*(komaar2=D19),0),13))","v":""},{"$f":"IF(B19=\"\",\"\",INDEX(Data_kom2,MATCH(1,(komnavn2=B19)*(komaar2=D19),0),14))","v":""},{"$f":"IF(B19=\"\",\"\",INDEX(Data_kom2,MATCH(1,(komnavn2=B19)*(komaar2=D19),0),15))","v":""},{"$f":"IF(B19=\"\",\"\",INDEX(Data_kom2,MATCH(1,(komnavn2=B19)*(komaar2=D19),0),16))","v":""},{"$f":"IF(B19=\"\",\"\",INDEX(Data_kom2,MATCH(1,(komnavn2=B19)*(komaar2=D19),0),17))","v":""},{"$f":"IF(B19=\"\",\"\",INDEX(Data_kom2,MATCH(1,(komnavn2=B19)*(komaar2=D19),0),18))","v":""},{"$f":"IF(B19=\"\",\"\",INDEX(Data_kom2,MATCH(1,(komnavn2=B19)*(komaar2=D19),0),19))","v":""},{"$f":"IF(B19=\"\",\"\",INDEX(Data_kom2,MATCH(1,(komnavn2=B19)*(komaar2=D19),0),20))","v":""},{"$f":"IF(B19=\"\",\"\",INDEX(Data_kom2,MATCH(1,(komnavn2=B19)*(komaar2=D19),0),21))","v":""},{"$f":"IF(B19=\"\",\"\",INDEX(Data_kom2,MATCH(1,(komnavn2=B19)*(komaar2=D19),0),22))","v":""},{"$f":"IF(B19=\"\",\"\",INDEX(Data_kom2,MATCH(1,(komnavn2=B19)*(komaar2=D19),0),23))","v":""},{"$f":"IF(B19=\"\",\"\",INDEX(Data_kom2,MATCH(1,(komnavn2=B19)*(komaar2=D19),0),24))","v":""},{"$f":"IF(B19=\"\",\"\",INDEX(Data_kom2,MATCH(1,(komnavn2=B19)*(komaar2=D19),0),25))","v":""},{"$f":"IF(B19=\"\",\"\",INDEX(Data_kom2,MATCH(1,(komnavn2=B19)*(komaar2=D19),0),26))","v":""},{"$f":"IF(B19=\"\",\"\",INDEX(Data_kom2,MATCH(1,(komnavn2=B19)*(komaar2=D19),0),27))","v":""},{"$f":"IF(B19=\"\",\"\",INDEX(Data_kom2,MATCH(1,(komnavn2=B19)*(komaar2=D19),0),28))","v":""},{"$f":"IF(B19=\"\",\"\",INDEX(Data_kom2,MATCH(1,(komnavn2=B19)*(komaar2=D19),0),29))","v":""},{"$f":"IF(B19=\"\",\"\",INDEX(Data_kom2,MATCH(1,(komnavn2=B19)*(komaar2=D19),0),30))","v":""},{"$f":"IF(B19=\"\",\"\",INDEX(Data_kom2,MATCH(1,(komnavn2=B19)*(komaar2=D19),0),31))","v":""},{"$f":"IF(B19=\"\",\"\",INDEX(Data_kom2,MATCH(1,(komnavn2=B19)*(komaar2=D19),0),32))","v":""},{"$f":"IF(B19=\"\",\"\",INDEX(Data_kom2,MATCH(1,(komnavn2=B19)*(komaar2=D19),0),33))","v":""},{"$f":"IF(B19=\"\",\"\",INDEX(Data_kom2,MATCH(1,(komnavn2=B19)*(komaar2=D19),0),34))","v":""},{"$f":"IF(B19=\"\",\"\",INDEX(Data_kom2,MATCH(1,(komnavn2=B19)*(komaar2=D19),0),35))","v":""},{"$f":"IF(B19=\"\",\"\",INDEX(Data_kom2,MATCH(1,(komnavn2=B19)*(komaar2=D19),0),36))","v":""},{"$f":"IF(B19=\"\",\"\",INDEX(Data_kom2,MATCH(1,(komnavn2=B19)*(komaar2=D19),0),37))","v":""},{"$f":"IF(B19=\"\",\"\",INDEX(Data_kom2,MATCH(1,(komnavn2=B19)*(komaar2=D19),0),38))","v":""}]
[null,{"$f":"'Dine valg'!$G$30","v":""},{"$f":"IF(B20=\"\",\"\",INDEX(Data_kom2,MATCH(1,(komnavn2=B20)*(komaar2=D20),0),2))","v":""},"2023-07-01",{"$f":"IF(B20=\"\",\"\",INDEX(Data_kom2,MATCH(1,(komnavn2=B20)*(komaar2=D20),0),4))","v":""},{"$f":"IF(B20=\"\",\"\",INDEX(Data_kom2,MATCH(1,(komnavn2=B20)*(komaar2=D20),0),5))","v":""},{"$f":"IF(B20=\"\",\"\",INDEX(Data_kom2,MATCH(1,(komnavn2=B20)*(komaar2=D20),0),6))","v":""},{"$f":"IF(B20=\"\",\"\",INDEX(Data_kom2,MATCH(1,(komnavn2=B20)*(komaar2=D20),0),7))","v":""},{"$f":"IF(B20=\"\",\"\",INDEX(Data_kom2,MATCH(1,(komnavn2=B20)*(komaar2=D20),0),8))","v":""},{"$f":"IF(B20=\"\",\"\",INDEX(Data_kom2,MATCH(1,(komnavn2=B20)*(komaar2=D20),0),9))","v":""},{"$f":"IF(B20=\"\",\"\",INDEX(Data_kom2,MATCH(1,(komnavn2=B20)*(komaar2=D20),0),10))","v":""},{"$f":"IF(B20=\"\",\"\",INDEX(Data_kom2,MATCH(1,(komnavn2=B20)*(komaar2=D20),0),11))","v":""},{"$f":"IF(B20=\"\",\"\",INDEX(Data_kom2,MATCH(1,(komnavn2=B20)*(komaar2=D20),0),12))","v":""},{"$f":"IF(B20=\"\",\"\",INDEX(Data_kom2,MATCH(1,(komnavn2=B20)*(komaar2=D20),0),13))","v":""},{"$f":"IF(B20=\"\",\"\",INDEX(Data_kom2,MATCH(1,(komnavn2=B20)*(komaar2=D20),0),14))","v":""},{"$f":"IF(B20=\"\",\"\",INDEX(Data_kom2,MATCH(1,(komnavn2=B20)*(komaar2=D20),0),15))","v":""},{"$f":"IF(B20=\"\",\"\",INDEX(Data_kom2,MATCH(1,(komnavn2=B20)*(komaar2=D20),0),16))","v":""},{"$f":"IF(B20=\"\",\"\",INDEX(Data_kom2,MATCH(1,(komnavn2=B20)*(komaar2=D20),0),17))","v":""},{"$f":"IF(B20=\"\",\"\",INDEX(Data_kom2,MATCH(1,(komnavn2=B20)*(komaar2=D20),0),18))","v":""},{"$f":"IF(B20=\"\",\"\",INDEX(Data_kom2,MATCH(1,(komnavn2=B20)*(komaar2=D20),0),19))","v":""},{"$f":"IF(B20=\"\",\"\",INDEX(Data_kom2,MATCH(1,(komnavn2=B20)*(komaar2=D20),0),20))","v":""},{"$f":"IF(B20=\"\",\"\",INDEX(Data_kom2,MATCH(1,(komnavn2=B20)*(komaar2=D20),0),21))","v":""},{"$f":"IF(B20=\"\",\"\",INDEX(Data_kom2,MATCH(1,(komnavn2=B20)*(komaar2=D20),0),22))","v":""},{"$f":"IF(B20=\"\",\"\",INDEX(Data_kom2,MATCH(1,(komnavn2=B20)*(komaar2=D20),0),23))","v":""},{"$f":"IF(B20=\"\",\"\",INDEX(Data_kom2,MATCH(1,(komnavn2=B20)*(komaar2=D20),0),24))","v":""},{"$f":"IF(B20=\"\",\"\",INDEX(Data_kom2,MATCH(1,(komnavn2=B20)*(komaar2=D20),0),25))","v":""},{"$f":"IF(B20=\"\",\"\",INDEX(Data_kom2,MATCH(1,(komnavn2=B20)*(komaar2=D20),0),26))","v":""},{"$f":"IF(B20=\"\",\"\",INDEX(Data_kom2,MATCH(1,(komnavn2=B20)*(komaar2=D20),0),27))","v":""},{"$f":"IF(B20=\"\",\"\",INDEX(Data_kom2,MATCH(1,(komnavn2=B20)*(komaar2=D20),0),28))","v":""},{"$f":"IF(B20=\"\",\"\",INDEX(Data_kom2,MATCH(1,(komnavn2=B20)*(komaar2=D20),0),29))","v":""},{"$f":"IF(B20=\"\",\"\",INDEX(Data_kom2,MATCH(1,(komnavn2=B20)*(komaar2=D20),0),30))","v":""},{"$f":"IF(B20=\"\",\"\",INDEX(Data_kom2,MATCH(1,(komnavn2=B20)*(komaar2=D20),0),31))","v":""},{"$f":"IF(B20=\"\",\"\",INDEX(Data_kom2,MATCH(1,(komnavn2=B20)*(komaar2=D20),0),32))","v":""},{"$f":"IF(B20=\"\",\"\",INDEX(Data_kom2,MATCH(1,(komnavn2=B20)*(komaar2=D20),0),33))","v":""},{"$f":"IF(B20=\"\",\"\",INDEX(Data_kom2,MATCH(1,(komnavn2=B20)*(komaar2=D20),0),34))","v":""},{"$f":"IF(B20=\"\",\"\",INDEX(Data_kom2,MATCH(1,(komnavn2=B20)*(komaar2=D20),0),35))","v":""},{"$f":"IF(B20=\"\",\"\",INDEX(Data_kom2,MATCH(1,(komnavn2=B20)*(komaar2=D20),0),36))","v":""},{"$f":"IF(B20=\"\",\"\",INDEX(Data_kom2,MATCH(1,(komnavn2=B20)*(komaar2=D20),0),37))","v":""},{"$f":"IF(B20=\"\",\"\",INDEX(Data_kom2,MATCH(1,(komnavn2=B20)*(komaar2=D20),0),38))","v":""}]
[null,{"$f":"'Dine valg'!$G$24","v":"Aarhus"},{"$f":"IF(B21=\"\",\"\",INDEX(Data_kom2,MATCH(1,(komnavn2=B21)*(komaar2=D21),0),2))","v":64420},"2023-01-01",{"$f":"IF(B21=\"\",\"\",INDEX(Data_kom2,MATCH(1,(komnavn2=B21)*(komaar2=D21),0),4))","v":162},{"$f":"IF(B21=\"\",\"\",INDEX(Data_kom2,MATCH(1,(komnavn2=B21)*(komaar2=D21),0),5))","v":103},{"$f":"IF(B21=\"\",\"\",INDEX(Data_kom2,MATCH(1,(komnavn2=B21)*(komaar2=D21),0),6))","v":10},{"$f":"IF(B21=\"\",\"\",INDEX(Data_kom2,MATCH(1,(komnavn2=B21)*(komaar2=D21),0),7))","v":49},{"$f":"IF(B21=\"\",\"\",INDEX(Data_kom2,MATCH(1,(komnavn2=B21)*(komaar2=D21),0),8))","v":140834},{"$f":"IF(B21=\"\",\"\",INDEX(Data_kom2,MATCH(1,(komnavn2=B21)*(komaar2=D21),0),9))","v":114322},{"$f":"IF(B21=\"\",\"\",INDEX(Data_kom2,MATCH(1,(komnavn2=B21)*(komaar2=D21),0),10))","v":3109},{"$f":"IF(B21=\"\",\"\",INDEX(Data_kom2,MATCH(1,(komnavn2=B21)*(komaar2=D21),0),11))","v":23403},{"$f":"IF(B21=\"\",\"\",INDEX(Data_kom2,MATCH(1,(komnavn2=B21)*(komaar2=D21),0),12))","v":221},{"$f":"IF(B21=\"\",\"\",INDEX(Data_kom2,MATCH(1,(komnavn2=B21)*(komaar2=D21),0),13))","v":25},{"$f":"IF(B21=\"\",\"\",INDEX(Data_kom2,MATCH(1,(komnavn2=B21)*(komaar2=D21),0),14))","v":1094},{"$f":"IF(B21=\"\",\"\",INDEX(Data_kom2,MATCH(1,(komnavn2=B21)*(komaar2=D21),0),15))","v":0},{"$f":"IF(B21=\"\",\"\",INDEX(Data_kom2,MATCH(1,(komnavn2=B21)*(komaar2=D21),0),16))","v":0},{"$f":"IF(B21=\"\",\"\",INDEX(Data_kom2,MATCH(1,(komnavn2=B21)*(komaar2=D21),0),17))","v":1081},{"$f":"IF(B21=\"\",\"\",INDEX(Data_kom2,MATCH(1,(komnavn2=B21)*(komaar2=D21),0),18))","v":13},{"$f":"IF(B21=\"\",\"\",INDEX(Data_kom2,MATCH(1,(komnavn2=B21)*(komaar2=D21),0),19))","v":0},{"$f":"IF(B21=\"\",\"\",INDEX(Data_kom2,MATCH(1,(komnavn2=B21)*(komaar2=D21),0),20))","v":0},{"$f":"IF(B21=\"\",\"\",INDEX(Data_kom2,MATCH(1,(komnavn2=B21)*(komaar2=D21),0),21))","v":0},{"$f":"IF(B21=\"\",\"\",INDEX(Data_kom2,MATCH(1,(komnavn2=B21)*(komaar2=D21),0),22))","v":33},{"$f":"IF(B21=\"\",\"\",INDEX(Data_kom2,MATCH(1,(komnavn2=B21)*(komaar2=D21),0),23))","v":168},{"$f":"IF(B21=\"\",\"\",INDEX(Data_kom2,MATCH(1,(komnavn2=B21)*(komaar2=D21),0),24))","v":0},{"$f":"IF(B21=\"\",\"\",INDEX(Data_kom2,MATCH(1,(komnavn2=B21)*(komaar2=D21),0),25))","v":168},{"$f":"IF(B21=\"\",\"\",INDEX(Data_kom2,MATCH(1,(komnavn2=B21)*(komaar2=D21),0),26))","v":33},{"$f":"IF(B21=\"\",\"\",INDEX(Data_kom2,MATCH(1,(komnavn2=B21)*(komaar2=D21),0),27))","v":168},{"$f":"IF(B21=\"\",\"\",INDEX(Data_kom2,MATCH(1,(komnavn2=B21)*(komaar2=D21),0),28))","v":26},{"$f":"IF(B21=\"\",\"\",INDEX(Data_kom2,MATCH(1,(komnavn2=B21)*(komaar2=D21),0),29))","v":1111},{"$f":"IF(B21=\"\",\"\",INDEX(Data_kom2,MATCH(1,(komnavn2=B21)*(komaar2=D21),0),30))","v":321},{"$f":"IF(B21=\"\",\"\",INDEX(Data_kom2,MATCH(1,(komnavn2=B21)*(komaar2=D21),0),31))","v":1115},{"$f":"IF(B21=\"\",\"\",INDEX(Data_kom2,MATCH(1,(komnavn2=B21)*(komaar2=D21),0),32))","v":0},{"$f":"IF(B21=\"\",\"\",INDEX(Data_kom2,MATCH(1,(komnavn2=B21)*(komaar2=D21),0),33))","v":0},{"$f":"IF(B21=\"\",\"\",INDEX(Data_kom2,MATCH(1,(komnavn2=B21)*(komaar2=D21),0),34))","v":0},{"$f":"IF(B21=\"\",\"\",INDEX(Data_kom2,MATCH(1,(komnavn2=B21)*(komaar2=D21),0),35))","v":0},{"$f":"IF(B21=\"\",\"\",INDEX(Data_kom2,MATCH(1,(komnavn2=B21)*(komaar2=D21),0),36))","v":0},{"$f":"IF(B21=\"\",\"\",INDEX(Data_kom2,MATCH(1,(komnavn2=B21)*(komaar2=D21),0),37))","v":0},{"$f":"IF(B21=\"\",\"\",INDEX(Data_kom2,MATCH(1,(komnavn2=B21)*(komaar2=D21),0),38))","v":"Region Midtjylland"}]
[null,{"$f":"'Dine valg'!$G$25","v":""},{"$f":"IF(B22=\"\",\"\",INDEX(Data_kom2,MATCH(1,(komnavn2=B22)*(komaar2=D22),0),2))","v":""},"2023-01-01",{"$f":"IF(B22=\"\",\"\",INDEX(Data_kom2,MATCH(1,(komnavn2=B22)*(komaar2=D22),0),4))","v":""},{"$f":"IF(B22=\"\",\"\",INDEX(Data_kom2,MATCH(1,(komnavn2=B22)*(komaar2=D22),0),5))","v":""},{"$f":"IF(B22=\"\",\"\",INDEX(Data_kom2,MATCH(1,(komnavn2=B22)*(komaar2=D22),0),6))","v":""},{"$f":"IF(B22=\"\",\"\",INDEX(Data_kom2,MATCH(1,(komnavn2=B22)*(komaar2=D22),0),7))","v":""},{"$f":"IF(B22=\"\",\"\",INDEX(Data_kom2,MATCH(1,(komnavn2=B22)*(komaar2=D22),0),8))","v":""},{"$f":"IF(B22=\"\",\"\",INDEX(Data_kom2,MATCH(1,(komnavn2=B22)*(komaar2=D22),0),9))","v":""},{"$f":"IF(B22=\"\",\"\",INDEX(Data_kom2,MATCH(1,(komnavn2=B22)*(komaar2=D22),0),10))","v":""},{"$f":"IF(B22=\"\",\"\",INDEX(Data_kom2,MATCH(1,(komnavn2=B22)*(komaar2=D22),0),11))","v":""},{"$f":"IF(B22=\"\",\"\",INDEX(Data_kom2,MATCH(1,(komnavn2=B22)*(komaar2=D22),0),12))","v":""},{"$f":"IF(B22=\"\",\"\",INDEX(Data_kom2,MATCH(1,(komnavn2=B22)*(komaar2=D22),0),13))","v":""},{"$f":"IF(B22=\"\",\"\",INDEX(Data_kom2,MATCH(1,(komnavn2=B22)*(komaar2=D22),0),14))","v":""},{"$f":"IF(B22=\"\",\"\",INDEX(Data_kom2,MATCH(1,(komnavn2=B22)*(komaar2=D22),0),15))","v":""},{"$f":"IF(B22=\"\",\"\",INDEX(Data_kom2,MATCH(1,(komnavn2=B22)*(komaar2=D22),0),16))","v":""},{"$f":"IF(B22=\"\",\"\",INDEX(Data_kom2,MATCH(1,(komnavn2=B22)*(komaar2=D22),0),17))","v":""},{"$f":"IF(B22=\"\",\"\",INDEX(Data_kom2,MATCH(1,(komnavn2=B22)*(komaar2=D22),0),18))","v":""},{"$f":"IF(B22=\"\",\"\",INDEX(Data_kom2,MATCH(1,(komnavn2=B22)*(komaar2=D22),0),19))","v":""},{"$f":"IF(B22=\"\",\"\",INDEX(Data_kom2,MATCH(1,(komnavn2=B22)*(komaar2=D22),0),20))","v":""},{"$f":"IF(B22=\"\",\"\",INDEX(Data_kom2,MATCH(1,(komnavn2=B22)*(komaar2=D22),0),21))","v":""},{"$f":"IF(B22=\"\",\"\",INDEX(Data_kom2,MATCH(1,(komnavn2=B22)*(komaar2=D22),0),22))","v":""},{"$f":"IF(B22=\"\",\"\",INDEX(Data_kom2,MATCH(1,(komnavn2=B22)*(komaar2=D22),0),23))","v":""},{"$f":"IF(B22=\"\",\"\",INDEX(Data_kom2,MATCH(1,(komnavn2=B22)*(komaar2=D22),0),24))","v":""},{"$f":"IF(B22=\"\",\"\",INDEX(Data_kom2,MATCH(1,(komnavn2=B22)*(komaar2=D22),0),25))","v":""},{"$f":"IF(B22=\"\",\"\",INDEX(Data_kom2,MATCH(1,(komnavn2=B22)*(komaar2=D22),0),26))","v":""},{"$f":"IF(B22=\"\",\"\",INDEX(Data_kom2,MATCH(1,(komnavn2=B22)*(komaar2=D22),0),27))","v":""},{"$f":"IF(B22=\"\",\"\",INDEX(Data_kom2,MATCH(1,(komnavn2=B22)*(komaar2=D22),0),28))","v":""},{"$f":"IF(B22=\"\",\"\",INDEX(Data_kom2,MATCH(1,(komnavn2=B22)*(komaar2=D22),0),29))","v":""},{"$f":"IF(B22=\"\",\"\",INDEX(Data_kom2,MATCH(1,(komnavn2=B22)*(komaar2=D22),0),30))","v":""},{"$f":"IF(B22=\"\",\"\",INDEX(Data_kom2,MATCH(1,(komnavn2=B22)*(komaar2=D22),0),31))","v":""},{"$f":"IF(B22=\"\",\"\",INDEX(Data_kom2,MATCH(1,(komnavn2=B22)*(komaar2=D22),0),32))","v":""},{"$f":"IF(B22=\"\",\"\",INDEX(Data_kom2,MATCH(1,(komnavn2=B22)*(komaar2=D22),0),33))","v":""},{"$f":"IF(B22=\"\",\"\",INDEX(Data_kom2,MATCH(1,(komnavn2=B22)*(komaar2=D22),0),34))","v":""},{"$f":"IF(B22=\"\",\"\",INDEX(Data_kom2,MATCH(1,(komnavn2=B22)*(komaar2=D22),0),35))","v":""},{"$f":"IF(B22=\"\",\"\",INDEX(Data_kom2,MATCH(1,(komnavn2=B22)*(komaar2=D22),0),36))","v":""},{"$f":"IF(B22=\"\",\"\",INDEX(Data_kom2,MATCH(1,(komnavn2=B22)*(komaar2=D22),0),37))","v":""},{"$f":"IF(B22=\"\",\"\",INDEX(Data_kom2,MATCH(1,(komnavn2=B22)*(komaar2=D22),0),38))","v":""}]
[null,{"$f":"'Dine valg'!$G$26","v":""},{"$f":"IF(B23=\"\",\"\",INDEX(Data_kom2,MATCH(1,(komnavn2=B23)*(komaar2=D23),0),2))","v":""},"2023-01-01",{"$f":"IF(B23=\"\",\"\",INDEX(Data_kom2,MATCH(1,(komnavn2=B23)*(komaar2=D23),0),4))","v":""},{"$f":"IF(B23=\"\",\"\",INDEX(Data_kom2,MATCH(1,(komnavn2=B23)*(komaar2=D23),0),5))","v":""},{"$f":"IF(B23=\"\",\"\",INDEX(Data_kom2,MATCH(1,(komnavn2=B23)*(komaar2=D23),0),6))","v":""},{"$f":"IF(B23=\"\",\"\",INDEX(Data_kom2,MATCH(1,(komnavn2=B23)*(komaar2=D23),0),7))","v":""},{"$f":"IF(B23=\"\",\"\",INDEX(Data_kom2,MATCH(1,(komnavn2=B23)*(komaar2=D23),0),8))","v":""},{"$f":"IF(B23=\"\",\"\",INDEX(Data_kom2,MATCH(1,(komnavn2=B23)*(komaar2=D23),0),9))","v":""},{"$f":"IF(B23=\"\",\"\",INDEX(Data_kom2,MATCH(1,(komnavn2=B23)*(komaar2=D23),0),10))","v":""},{"$f":"IF(B23=\"\",\"\",INDEX(Data_kom2,MATCH(1,(komnavn2=B23)*(komaar2=D23),0),11))","v":""},{"$f":"IF(B23=\"\",\"\",INDEX(Data_kom2,MATCH(1,(komnavn2=B23)*(komaar2=D23),0),12))","v":""},{"$f":"IF(B23=\"\",\"\",INDEX(Data_kom2,MATCH(1,(komnavn2=B23)*(komaar2=D23),0),13))","v":""},{"$f":"IF(B23=\"\",\"\",INDEX(Data_kom2,MATCH(1,(komnavn2=B23)*(komaar2=D23),0),14))","v":""},{"$f":"IF(B23=\"\",\"\",INDEX(Data_kom2,MATCH(1,(komnavn2=B23)*(komaar2=D23),0),15))","v":""},{"$f":"IF(B23=\"\",\"\",INDEX(Data_kom2,MATCH(1,(komnavn2=B23)*(komaar2=D23),0),16))","v":""},{"$f":"IF(B23=\"\",\"\",INDEX(Data_kom2,MATCH(1,(komnavn2=B23)*(komaar2=D23),0),17))","v":""},{"$f":"IF(B23=\"\",\"\",INDEX(Data_kom2,MATCH(1,(komnavn2=B23)*(komaar2=D23),0),18))","v":""},{"$f":"IF(B23=\"\",\"\",INDEX(Data_kom2,MATCH(1,(komnavn2=B23)*(komaar2=D23),0),19))","v":""},{"$f":"IF(B23=\"\",\"\",INDEX(Data_kom2,MATCH(1,(komnavn2=B23)*(komaar2=D23),0),20))","v":""},{"$f":"IF(B23=\"\",\"\",INDEX(Data_kom2,MATCH(1,(komnavn2=B23)*(komaar2=D23),0),21))","v":""},{"$f":"IF(B23=\"\",\"\",INDEX(Data_kom2,MATCH(1,(komnavn2=B23)*(komaar2=D23),0),22))","v":""},{"$f":"IF(B23=\"\",\"\",INDEX(Data_kom2,MATCH(1,(komnavn2=B23)*(komaar2=D23),0),23))","v":""},{"$f":"IF(B23=\"\",\"\",INDEX(Data_kom2,MATCH(1,(komnavn2=B23)*(komaar2=D23),0),24))","v":""},{"$f":"IF(B23=\"\",\"\",INDEX(Data_kom2,MATCH(1,(komnavn2=B23)*(komaar2=D23),0),25))","v":""},{"$f":"IF(B23=\"\",\"\",INDEX(Data_kom2,MATCH(1,(komnavn2=B23)*(komaar2=D23),0),26))","v":""},{"$f":"IF(B23=\"\",\"\",INDEX(Data_kom2,MATCH(1,(komnavn2=B23)*(komaar2=D23),0),27))","v":""},{"$f":"IF(B23=\"\",\"\",INDEX(Data_kom2,MATCH(1,(komnavn2=B23)*(komaar2=D23),0),28))","v":""},{"$f":"IF(B23=\"\",\"\",INDEX(Data_kom2,MATCH(1,(komnavn2=B23)*(komaar2=D23),0),29))","v":""},{"$f":"IF(B23=\"\",\"\",INDEX(Data_kom2,MATCH(1,(komnavn2=B23)*(komaar2=D23),0),30))","v":""},{"$f":"IF(B23=\"\",\"\",INDEX(Data_kom2,MATCH(1,(komnavn2=B23)*(komaar2=D23),0),31))","v":""},{"$f":"IF(B23=\"\",\"\",INDEX(Data_kom2,MATCH(1,(komnavn2=B23)*(komaar2=D23),0),32))","v":""},{"$f":"IF(B23=\"\",\"\",INDEX(Data_kom2,MATCH(1,(komnavn2=B23)*(komaar2=D23),0),33))","v":""},{"$f":"IF(B23=\"\",\"\",INDEX(Data_kom2,MATCH(1,(komnavn2=B23)*(komaar2=D23),0),34))","v":""},{"$f":"IF(B23=\"\",\"\",INDEX(Data_kom2,MATCH(1,(komnavn2=B23)*(komaar2=D23),0),35))","v":""},{"$f":"IF(B23=\"\",\"\",INDEX(Data_kom2,MATCH(1,(komnavn2=B23)*(komaar2=D23),0),36))","v":""},{"$f":"IF(B23=\"\",\"\",INDEX(Data_kom2,MATCH(1,(komnavn2=B23)*(komaar2=D23),0),37))","v":""},{"$f":"IF(B23=\"\",\"\",INDEX(Data_kom2,MATCH(1,(komnavn2=B23)*(komaar2=D23),0),38))","v":""}]
[null,{"$f":"'Dine valg'!$G$27","v":""},{"$f":"IF(B24=\"\",\"\",INDEX(Data_kom2,MATCH(1,(komnavn2=B24)*(komaar2=D24),0),2))","v":""},"2023-01-01",{"$f":"IF(B24=\"\",\"\",INDEX(Data_kom2,MATCH(1,(komnavn2=B24)*(komaar2=D24),0),4))","v":""},{"$f":"IF(B24=\"\",\"\",INDEX(Data_kom2,MATCH(1,(komnavn2=B24)*(komaar2=D24),0),5))","v":""},{"$f":"IF(B24=\"\",\"\",INDEX(Data_kom2,MATCH(1,(komnavn2=B24)*(komaar2=D24),0),6))","v":""},{"$f":"IF(B24=\"\",\"\",INDEX(Data_kom2,MATCH(1,(komnavn2=B24)*(komaar2=D24),0),7))","v":""},{"$f":"IF(B24=\"\",\"\",INDEX(Data_kom2,MATCH(1,(komnavn2=B24)*(komaar2=D24),0),8))","v":""},{"$f":"IF(B24=\"\",\"\",INDEX(Data_kom2,MATCH(1,(komnavn2=B24)*(komaar2=D24),0),9))","v":""},{"$f":"IF(B24=\"\",\"\",INDEX(Data_kom2,MATCH(1,(komnavn2=B24)*(komaar2=D24),0),10))","v":""},{"$f":"IF(B24=\"\",\"\",INDEX(Data_kom2,MATCH(1,(komnavn2=B24)*(komaar2=D24),0),11))","v":""},{"$f":"IF(B24=\"\",\"\",INDEX(Data_kom2,MATCH(1,(komnavn2=B24)*(komaar2=D24),0),12))","v":""},{"$f":"IF(B24=\"\",\"\",INDEX(Data_kom2,MATCH(1,(komnavn2=B24)*(komaar2=D24),0),13))","v":""},{"$f":"IF(B24=\"\",\"\",INDEX(Data_kom2,MATCH(1,(komnavn2=B24)*(komaar2=D24),0),14))","v":""},{"$f":"IF(B24=\"\",\"\",INDEX(Data_kom2,MATCH(1,(komnavn2=B24)*(komaar2=D24),0),15))","v":""},{"$f":"IF(B24=\"\",\"\",INDEX(Data_kom2,MATCH(1,(komnavn2=B24)*(komaar2=D24),0),16))","v":""},{"$f":"IF(B24=\"\",\"\",INDEX(Data_kom2,MATCH(1,(komnavn2=B24)*(komaar2=D24),0),17))","v":""},{"$f":"IF(B24=\"\",\"\",INDEX(Data_kom2,MATCH(1,(komnavn2=B24)*(komaar2=D24),0),18))","v":""},{"$f":"IF(B24=\"\",\"\",INDEX(Data_kom2,MATCH(1,(komnavn2=B24)*(komaar2=D24),0),19))","v":""},{"$f":"IF(B24=\"\",\"\",INDEX(Data_kom2,MATCH(1,(komnavn2=B24)*(komaar2=D24),0),20))","v":""},{"$f":"IF(B24=\"\",\"\",INDEX(Data_kom2,MATCH(1,(komnavn2=B24)*(komaar2=D24),0),21))","v":""},{"$f":"IF(B24=\"\",\"\",INDEX(Data_kom2,MATCH(1,(komnavn2=B24)*(komaar2=D24),0),22))","v":""},{"$f":"IF(B24=\"\",\"\",INDEX(Data_kom2,MATCH(1,(komnavn2=B24)*(komaar2=D24),0),23))","v":""},{"$f":"IF(B24=\"\",\"\",INDEX(Data_kom2,MATCH(1,(komnavn2=B24)*(komaar2=D24),0),24))","v":""},{"$f":"IF(B24=\"\",\"\",INDEX(Data_kom2,MATCH(1,(komnavn2=B24)*(komaar2=D24),0),25))","v":""},{"$f":"IF(B24=\"\",\"\",INDEX(Data_kom2,MATCH(1,(komnavn2=B24)*(komaar2=D24),0),26))","v":""},{"$f":"IF(B24=\"\",\"\",INDEX(Data_kom2,MATCH(1,(komnavn2=B24)*(komaar2=D24),0),27))","v":""},{"$f":"IF(B24=\"\",\"\",INDEX(Data_kom2,MATCH(1,(komnavn2=B24)*(komaar2=D24),0),28))","v":""},{"$f":"IF(B24=\"\",\"\",INDEX(Data_kom2,MATCH(1,(komnavn2=B24)*(komaar2=D24),0),29))","v":""},{"$f":"IF(B24=\"\",\"\",INDEX(Data_kom2,MATCH(1,(komnavn2=B24)*(komaar2=D24),0),30))","v":""},{"$f":"IF(B24=\"\",\"\",INDEX(Data_kom2,MATCH(1,(komnavn2=B24)*(komaar2=D24),0),31))","v":""},{"$f":"IF(B24=\"\",\"\",INDEX(Data_kom2,MATCH(1,(komnavn2=B24)*(komaar2=D24),0),32))","v":""},{"$f":"IF(B24=\"\",\"\",INDEX(Data_kom2,MATCH(1,(komnavn2=B24)*(komaar2=D24),0),33))","v":""},{"$f":"IF(B24=\"\",\"\",INDEX(Data_kom2,MATCH(1,(komnavn2=B24)*(komaar2=D24),0),34))","v":""},{"$f":"IF(B24=\"\",\"\",INDEX(Data_kom2,MATCH(1,(komnavn2=B24)*(komaar2=D24),0),35))","v":""},{"$f":"IF(B24=\"\",\"\",INDEX(Data_kom2,MATCH(1,(komnavn2=B24)*(komaar2=D24),0),36))","v":""},{"$f":"IF(B24=\"\",\"\",INDEX(Data_kom2,MATCH(1,(komnavn2=B24)*(komaar2=D24),0),37))","v":""},{"$f":"IF(B24=\"\",\"\",INDEX(Data_kom2,MATCH(1,(komnavn2=B24)*(komaar2=D24),0),38))","v":""}]
[null,{"$f":"'Dine valg'!$G$28","v":""},{"$f":"IF(B25=\"\",\"\",INDEX(Data_kom2,MATCH(1,(komnavn2=B25)*(komaar2=D25),0),2))","v":""},"2023-01-01",{"$f":"IF(B25=\"\",\"\",INDEX(Data_kom2,MATCH(1,(komnavn2=B25)*(komaar2=D25),0),4))","v":""},{"$f":"IF(B25=\"\",\"\",INDEX(Data_kom2,MATCH(1,(komnavn2=B25)*(komaar2=D25),0),5))","v":""},{"$f":"IF(B25=\"\",\"\",INDEX(Data_kom2,MATCH(1,(komnavn2=B25)*(komaar2=D25),0),6))","v":""},{"$f":"IF(B25=\"\",\"\",INDEX(Data_kom2,MATCH(1,(komnavn2=B25)*(komaar2=D25),0),7))","v":""},{"$f":"IF(B25=\"\",\"\",INDEX(Data_kom2,MATCH(1,(komnavn2=B25)*(komaar2=D25),0),8))","v":""},{"$f":"IF(B25=\"\",\"\",INDEX(Data_kom2,MATCH(1,(komnavn2=B25)*(komaar2=D25),0),9))","v":""},{"$f":"IF(B25=\"\",\"\",INDEX(Data_kom2,MATCH(1,(komnavn2=B25)*(komaar2=D25),0),10))","v":""},{"$f":"IF(B25=\"\",\"\",INDEX(Data_kom2,MATCH(1,(komnavn2=B25)*(komaar2=D25),0),11))","v":""},{"$f":"IF(B25=\"\",\"\",INDEX(Data_kom2,MATCH(1,(komnavn2=B25)*(komaar2=D25),0),12))","v":""},{"$f":"IF(B25=\"\",\"\",INDEX(Data_kom2,MATCH(1,(komnavn2=B25)*(komaar2=D25),0),13))","v":""},{"$f":"IF(B25=\"\",\"\",INDEX(Data_kom2,MATCH(1,(komnavn2=B25)*(komaar2=D25),0),14))","v":""},{"$f":"IF(B25=\"\",\"\",INDEX(Data_kom2,MATCH(1,(komnavn2=B25)*(komaar2=D25),0),15))","v":""},{"$f":"IF(B25=\"\",\"\",INDEX(Data_kom2,MATCH(1,(komnavn2=B25)*(komaar2=D25),0),16))","v":""},{"$f":"IF(B25=\"\",\"\",INDEX(Data_kom2,MATCH(1,(komnavn2=B25)*(komaar2=D25),0),17))","v":""},{"$f":"IF(B25=\"\",\"\",INDEX(Data_kom2,MATCH(1,(komnavn2=B25)*(komaar2=D25),0),18))","v":""},{"$f":"IF(B25=\"\",\"\",INDEX(Data_kom2,MATCH(1,(komnavn2=B25)*(komaar2=D25),0),19))","v":""},{"$f":"IF(B25=\"\",\"\",INDEX(Data_kom2,MATCH(1,(komnavn2=B25)*(komaar2=D25),0),20))","v":""},{"$f":"IF(B25=\"\",\"\",INDEX(Data_kom2,MATCH(1,(komnavn2=B25)*(komaar2=D25),0),21))","v":""},{"$f":"IF(B25=\"\",\"\",INDEX(Data_kom2,MATCH(1,(komnavn2=B25)*(komaar2=D25),0),22))","v":""},{"$f":"IF(B25=\"\",\"\",INDEX(Data_kom2,MATCH(1,(komnavn2=B25)*(komaar2=D25),0),23))","v":""},{"$f":"IF(B25=\"\",\"\",INDEX(Data_kom2,MATCH(1,(komnavn2=B25)*(komaar2=D25),0),24))","v":""},{"$f":"IF(B25=\"\",\"\",INDEX(Data_kom2,MATCH(1,(komnavn2=B25)*(komaar2=D25),0),25))","v":""},{"$f":"IF(B25=\"\",\"\",INDEX(Data_kom2,MATCH(1,(komnavn2=B25)*(komaar2=D25),0),26))","v":""},{"$f":"IF(B25=\"\",\"\",INDEX(Data_kom2,MATCH(1,(komnavn2=B25)*(komaar2=D25),0),27))","v":""},{"$f":"IF(B25=\"\",\"\",INDEX(Data_kom2,MATCH(1,(komnavn2=B25)*(komaar2=D25),0),28))","v":""},{"$f":"IF(B25=\"\",\"\",INDEX(Data_kom2,MATCH(1,(komnavn2=B25)*(komaar2=D25),0),29))","v":""},{"$f":"IF(B25=\"\",\"\",INDEX(Data_kom2,MATCH(1,(komnavn2=B25)*(komaar2=D25),0),30))","v":""},{"$f":"IF(B25=\"\",\"\",INDEX(Data_kom2,MATCH(1,(komnavn2=B25)*(komaar2=D25),0),31))","v":""},{"$f":"IF(B25=\"\",\"\",INDEX(Data_kom2,MATCH(1,(komnavn2=B25)*(komaar2=D25),0),32))","v":""},{"$f":"IF(B25=\"\",\"\",INDEX(Data_kom2,MATCH(1,(komnavn2=B25)*(komaar2=D25),0),33))","v":""},{"$f":"IF(B25=\"\",\"\",INDEX(Data_kom2,MATCH(1,(komnavn2=B25)*(komaar2=D25),0),34))","v":""},{"$f":"IF(B25=\"\",\"\",INDEX(Data_kom2,MATCH(1,(komnavn2=B25)*(komaar2=D25),0),35))","v":""},{"$f":"IF(B25=\"\",\"\",INDEX(Data_kom2,MATCH(1,(komnavn2=B25)*(komaar2=D25),0),36))","v":""},{"$f":"IF(B25=\"\",\"\",INDEX(Data_kom2,MATCH(1,(komnavn2=B25)*(komaar2=D25),0),37))","v":""},{"$f":"IF(B25=\"\",\"\",INDEX(Data_kom2,MATCH(1,(komnavn2=B25)*(komaar2=D25),0),38))","v":""}]
[null,{"$f":"'Dine valg'!$G$29","v":""},{"$f":"IF(B26=\"\",\"\",INDEX(Data_kom2,MATCH(1,(komnavn2=B26)*(komaar2=D26),0),2))","v":""},"2023-01-01",{"$f":"IF(B26=\"\",\"\",INDEX(Data_kom2,MATCH(1,(komnavn2=B26)*(komaar2=D26),0),4))","v":""},{"$f":"IF(B26=\"\",\"\",INDEX(Data_kom2,MATCH(1,(komnavn2=B26)*(komaar2=D26),0),5))","v":""},{"$f":"IF(B26=\"\",\"\",INDEX(Data_kom2,MATCH(1,(komnavn2=B26)*(komaar2=D26),0),6))","v":""},{"$f":"IF(B26=\"\",\"\",INDEX(Data_kom2,MATCH(1,(komnavn2=B26)*(komaar2=D26),0),7))","v":""},{"$f":"IF(B26=\"\",\"\",INDEX(Data_kom2,MATCH(1,(komnavn2=B26)*(komaar2=D26),0),8))","v":""},{"$f":"IF(B26=\"\",\"\",INDEX(Data_kom2,MATCH(1,(komnavn2=B26)*(komaar2=D26),0),9))","v":""},{"$f":"IF(B26=\"\",\"\",INDEX(Data_kom2,MATCH(1,(komnavn2=B26)*(komaar2=D26),0),10))","v":""},{"$f":"IF(B26=\"\",\"\",INDEX(Data_kom2,MATCH(1,(komnavn2=B26)*(komaar2=D26),0),11))","v":""},{"$f":"IF(B26=\"\",\"\",INDEX(Data_kom2,MATCH(1,(komnavn2=B26)*(komaar2=D26),0),12))","v":""},{"$f":"IF(B26=\"\",\"\",INDEX(Data_kom2,MATCH(1,(komnavn2=B26)*(komaar2=D26),0),13))","v":""},{"$f":"IF(B26=\"\",\"\",INDEX(Data_kom2,MATCH(1,(komnavn2=B26)*(komaar2=D26),0),14))","v":""},{"$f":"IF(B26=\"\",\"\",INDEX(Data_kom2,MATCH(1,(komnavn2=B26)*(komaar2=D26),0),15))","v":""},{"$f":"IF(B26=\"\",\"\",INDEX(Data_kom2,MATCH(1,(komnavn2=B26)*(komaar2=D26),0),16))","v":""},{"$f":"IF(B26=\"\",\"\",INDEX(Data_kom2,MATCH(1,(komnavn2=B26)*(komaar2=D26),0),17))","v":""},{"$f":"IF(B26=\"\",\"\",INDEX(Data_kom2,MATCH(1,(komnavn2=B26)*(komaar2=D26),0),18))","v":""},{"$f":"IF(B26=\"\",\"\",INDEX(Data_kom2,MATCH(1,(komnavn2=B26)*(komaar2=D26),0),19))","v":""},{"$f":"IF(B26=\"\",\"\",INDEX(Data_kom2,MATCH(1,(komnavn2=B26)*(komaar2=D26),0),20))","v":""},{"$f":"IF(B26=\"\",\"\",INDEX(Data_kom2,MATCH(1,(komnavn2=B26)*(komaar2=D26),0),21))","v":""},{"$f":"IF(B26=\"\",\"\",INDEX(Data_kom2,MATCH(1,(komnavn2=B26)*(komaar2=D26),0),22))","v":""},{"$f":"IF(B26=\"\",\"\",INDEX(Data_kom2,MATCH(1,(komnavn2=B26)*(komaar2=D26),0),23))","v":""},{"$f":"IF(B26=\"\",\"\",INDEX(Data_kom2,MATCH(1,(komnavn2=B26)*(komaar2=D26),0),24))","v":""},{"$f":"IF(B26=\"\",\"\",INDEX(Data_kom2,MATCH(1,(komnavn2=B26)*(komaar2=D26),0),25))","v":""},{"$f":"IF(B26=\"\",\"\",INDEX(Data_kom2,MATCH(1,(komnavn2=B26)*(komaar2=D26),0),26))","v":""},{"$f":"IF(B26=\"\",\"\",INDEX(Data_kom2,MATCH(1,(komnavn2=B26)*(komaar2=D26),0),27))","v":""},{"$f":"IF(B26=\"\",\"\",INDEX(Data_kom2,MATCH(1,(komnavn2=B26)*(komaar2=D26),0),28))","v":""},{"$f":"IF(B26=\"\",\"\",INDEX(Data_kom2,MATCH(1,(komnavn2=B26)*(komaar2=D26),0),29))","v":""},{"$f":"IF(B26=\"\",\"\",INDEX(Data_kom2,MATCH(1,(komnavn2=B26)*(komaar2=D26),0),30))","v":""},{"$f":"IF(B26=\"\",\"\",INDEX(Data_kom2,MATCH(1,(komnavn2=B26)*(komaar2=D26),0),31))","v":""},{"$f":"IF(B26=\"\",\"\",INDEX(Data_kom2,MATCH(1,(komnavn2=B26)*(komaar2=D26),0),32))","v":""},{"$f":"IF(B26=\"\",\"\",INDEX(Data_kom2,MATCH(1,(komnavn2=B26)*(komaar2=D26),0),33))","v":""},{"$f":"IF(B26=\"\",\"\",INDEX(Data_kom2,MATCH(1,(komnavn2=B26)*(komaar2=D26),0),34))","v":""},{"$f":"IF(B26=\"\",\"\",INDEX(Data_kom2,MATCH(1,(komnavn2=B26)*(komaar2=D26),0),35))","v":""},{"$f":"IF(B26=\"\",\"\",INDEX(Data_kom2,MATCH(1,(komnavn2=B26)*(komaar2=D26),0),36))","v":""},{"$f":"IF(B26=\"\",\"\",INDEX(Data_kom2,MATCH(1,(komnavn2=B26)*(komaar2=D26),0),37))","v":""},{"$f":"IF(B26=\"\",\"\",INDEX(Data_kom2,MATCH(1,(komnavn2=B26)*(komaar2=D26),0),38))","v":""}]
[null,{"$f":"'Dine valg'!$G$30","v":""},{"$f":"IF(B27=\"\",\"\",INDEX(Data_kom2,MATCH(1,(komnavn2=B27)*(komaar2=D27),0),2))","v":""},"2023-01-01",{"$f":"IF(B27=\"\",\"\",INDEX(Data_kom2,MATCH(1,(komnavn2=B27)*(komaar2=D27),0),4))","v":""},{"$f":"IF(B27=\"\",\"\",INDEX(Data_kom2,MATCH(1,(komnavn2=B27)*(komaar2=D27),0),5))","v":""},{"$f":"IF(B27=\"\",\"\",INDEX(Data_kom2,MATCH(1,(komnavn2=B27)*(komaar2=D27),0),6))","v":""},{"$f":"IF(B27=\"\",\"\",INDEX(Data_kom2,MATCH(1,(komnavn2=B27)*(komaar2=D27),0),7))","v":""},{"$f":"IF(B27=\"\",\"\",INDEX(Data_kom2,MATCH(1,(komnavn2=B27)*(komaar2=D27),0),8))","v":""},{"$f":"IF(B27=\"\",\"\",INDEX(Data_kom2,MATCH(1,(komnavn2=B27)*(komaar2=D27),0),9))","v":""},{"$f":"IF(B27=\"\",\"\",INDEX(Data_kom2,MATCH(1,(komnavn2=B27)*(komaar2=D27),0),10))","v":""},{"$f":"IF(B27=\"\",\"\",INDEX(Data_kom2,MATCH(1,(komnavn2=B27)*(komaar2=D27),0),11))","v":""},{"$f":"IF(B27=\"\",\"\",INDEX(Data_kom2,MATCH(1,(komnavn2=B27)*(komaar2=D27),0),12))","v":""},{"$f":"IF(B27=\"\",\"\",INDEX(Data_kom2,MATCH(1,(komnavn2=B27)*(komaar2=D27),0),13))","v":""},{"$f":"IF(B27=\"\",\"\",INDEX(Data_kom2,MATCH(1,(komnavn2=B27)*(komaar2=D27),0),14))","v":""},{"$f":"IF(B27=\"\",\"\",INDEX(Data_kom2,MATCH(1,(komnavn2=B27)*(komaar2=D27),0),15))","v":""},{"$f":"IF(B27=\"\",\"\",INDEX(Data_kom2,MATCH(1,(komnavn2=B27)*(komaar2=D27),0),16))","v":""},{"$f":"IF(B27=\"\",\"\",INDEX(Data_kom2,MATCH(1,(komnavn2=B27)*(komaar2=D27),0),17))","v":""},{"$f":"IF(B27=\"\",\"\",INDEX(Data_kom2,MATCH(1,(komnavn2=B27)*(komaar2=D27),0),18))","v":""},{"$f":"IF(B27=\"\",\"\",INDEX(Data_kom2,MATCH(1,(komnavn2=B27)*(komaar2=D27),0),19))","v":""},{"$f":"IF(B27=\"\",\"\",INDEX(Data_kom2,MATCH(1,(komnavn2=B27)*(komaar2=D27),0),20))","v":""},{"$f":"IF(B27=\"\",\"\",INDEX(Data_kom2,MATCH(1,(komnavn2=B27)*(komaar2=D27),0),21))","v":""},{"$f":"IF(B27=\"\",\"\",INDEX(Data_kom2,MATCH(1,(komnavn2=B27)*(komaar2=D27),0),22))","v":""},{"$f":"IF(B27=\"\",\"\",INDEX(Data_kom2,MATCH(1,(komnavn2=B27)*(komaar2=D27),0),23))","v":""},{"$f":"IF(B27=\"\",\"\",INDEX(Data_kom2,MATCH(1,(komnavn2=B27)*(komaar2=D27),0),24))","v":""},{"$f":"IF(B27=\"\",\"\",INDEX(Data_kom2,MATCH(1,(komnavn2=B27)*(komaar2=D27),0),25))","v":""},{"$f":"IF(B27=\"\",\"\",INDEX(Data_kom2,MATCH(1,(komnavn2=B27)*(komaar2=D27),0),26))","v":""},{"$f":"IF(B27=\"\",\"\",INDEX(Data_kom2,MATCH(1,(komnavn2=B27)*(komaar2=D27),0),27))","v":""},{"$f":"IF(B27=\"\",\"\",INDEX(Data_kom2,MATCH(1,(komnavn2=B27)*(komaar2=D27),0),28))","v":""},{"$f":"IF(B27=\"\",\"\",INDEX(Data_kom2,MATCH(1,(komnavn2=B27)*(komaar2=D27),0),29))","v":""},{"$f":"IF(B27=\"\",\"\",INDEX(Data_kom2,MATCH(1,(komnavn2=B27)*(komaar2=D27),0),30))","v":""},{"$f":"IF(B27=\"\",\"\",INDEX(Data_kom2,MATCH(1,(komnavn2=B27)*(komaar2=D27),0),31))","v":""},{"$f":"IF(B27=\"\",\"\",INDEX(Data_kom2,MATCH(1,(komnavn2=B27)*(komaar2=D27),0),32))","v":""},{"$f":"IF(B27=\"\",\"\",INDEX(Data_kom2,MATCH(1,(komnavn2=B27)*(komaar2=D27),0),33))","v":""},{"$f":"IF(B27=\"\",\"\",INDEX(Data_kom2,MATCH(1,(komnavn2=B27)*(komaar2=D27),0),34))","v":""},{"$f":"IF(B27=\"\",\"\",INDEX(Data_kom2,MATCH(1,(komnavn2=B27)*(komaar2=D27),0),35))","v":""},{"$f":"IF(B27=\"\",\"\",INDEX(Data_kom2,MATCH(1,(komnavn2=B27)*(komaar2=D27),0),36))","v":""},{"$f":"IF(B27=\"\",\"\",INDEX(Data_kom2,MATCH(1,(komnavn2=B27)*(komaar2=D27),0),37))","v":""},{"$f":"IF(B27=\"\",\"\",INDEX(Data_kom2,MATCH(1,(komnavn2=B27)*(komaar2=D27),0),38))","v":""}]
[null,{"$f":"'Dine valg'!$G$24","v":"Aarhus"},{"$f":"IF(B28=\"\",\"\",INDEX(Data_kom2,MATCH(1,(komnavn2=B28)*(komaar2=D28),0),2))","v":64356},"2022-07-01",{"$f":"IF(B28=\"\",\"\",INDEX(Data_kom2,MATCH(1,(komnavn2=B28)*(komaar2=D28),0),4))","v":168},{"$f":"IF(B28=\"\",\"\",INDEX(Data_kom2,MATCH(1,(komnavn2=B28)*(komaar2=D28),0),5))","v":105},{"$f":"IF(B28=\"\",\"\",INDEX(Data_kom2,MATCH(1,(komnavn2=B28)*(komaar2=D28),0),6))","v":14},{"$f":"IF(B28=\"\",\"\",INDEX(Data_kom2,MATCH(1,(komnavn2=B28)*(komaar2=D28),0),7))","v":49},{"$f":"IF(B28=\"\",\"\",INDEX(Data_kom2,MATCH(1,(komnavn2=B28)*(komaar2=D28),0),8))","v":150498},{"$f":"IF(B28=\"\",\"\",INDEX(Data_kom2,MATCH(1,(komnavn2=B28)*(komaar2=D28),0),9))","v":121875},{"$f":"IF(B28=\"\",\"\",INDEX(Data_kom2,MATCH(1,(komnavn2=B28)*(komaar2=D28),0),10))","v":3638},{"$f":"IF(B28=\"\",\"\",INDEX(Data_kom2,MATCH(1,(komnavn2=B28)*(komaar2=D28),0),11))","v":24985},{"$f":"IF(B28=\"\",\"\",INDEX(Data_kom2,MATCH(1,(komnavn2=B28)*(komaar2=D28),0),12))","v":230},{"$f":"IF(B28=\"\",\"\",INDEX(Data_kom2,MATCH(1,(komnavn2=B28)*(komaar2=D28),0),13))","v":22},{"$f":"IF(B28=\"\",\"\",INDEX(Data_kom2,MATCH(1,(komnavn2=B28)*(komaar2=D28),0),14))","v":1115},{"$f":"IF(B28=\"\",\"\",INDEX(Data_kom2,MATCH(1,(komnavn2=B28)*(komaar2=D28),0),15))","v":"*"},{"$f":"IF(B28=\"\",\"\",INDEX(Data_kom2,MATCH(1,(komnavn2=B28)*(komaar2=D28),0),16))","v":"*"},{"$f":"IF(B28=\"\",\"\",INDEX(Data_kom2,MATCH(1,(komnavn2=B28)*(komaar2=D28),0),17))","v":1101},{"$f":"IF(B28=\"\",\"\",INDEX(Data_kom2,MATCH(1,(komnavn2=B28)*(komaar2=D28),0),18))","v":10},{"$f":"IF(B28=\"\",\"\",INDEX(Data_kom2,MATCH(1,(komnavn2=B28)*(komaar2=D28),0),19))","v":0},{"$f":"IF(B28=\"\",\"\",INDEX(Data_kom2,MATCH(1,(komnavn2=B28)*(komaar2=D28),0),20))","v":0},{"$f":"IF(B28=\"\",\"\",INDEX(Data_kom2,MATCH(1,(komnavn2=B28)*(komaar2=D28),0),21))","v":0},{"$f":"IF(B28=\"\",\"\",INDEX(Data_kom2,MATCH(1,(komnavn2=B28)*(komaar2=D28),0),22))","v":20},{"$f":"IF(B28=\"\",\"\",INDEX(Data_kom2,MATCH(1,(komnavn2=B28)*(komaar2=D28),0),23))","v":154},{"$f":"IF(B28=\"\",\"\",INDEX(Data_kom2,MATCH(1,(komnavn2=B28)*(komaar2=D28),0),24))","v":"*"},{"$f":"IF(B28=\"\",\"\",INDEX(Data_kom2,MATCH(1,(komnavn2=B28)*(komaar2=D28),0),25))","v":154},{"$f":"IF(B28=\"\",\"\",INDEX(Data_kom2,MATCH(1,(komnavn2=B28)*(komaar2=D28),0),26))","v":"*"},{"$f":"IF(B28=\"\",\"\",INDEX(Data_kom2,MATCH(1,(komnavn2=B28)*(komaar2=D28),0),27))","v":154},{"$f":"IF(B28=\"\",\"\",INDEX(Data_kom2,MATCH(1,(komnavn2=B28)*(komaar2=D28),0),28))","v":34},{"$f":"IF(B28=\"\",\"\",INDEX(Data_kom2,MATCH(1,(komnavn2=B28)*(komaar2=D28),0),29))","v":1144},{"$f":"IF(B28=\"\",\"\",INDEX(Data_kom2,MATCH(1,(komnavn2=B28)*(komaar2=D28),0),30))","v":329},{"$f":"IF(B28=\"\",\"\",INDEX(Data_kom2,MATCH(1,(komnavn2=B28)*(komaar2=D28),0),31))","v":1147},{"$f":"IF(B28=\"\",\"\",INDEX(Data_kom2,MATCH(1,(komnavn2=B28)*(komaar2=D28),0),32))","v":0},{"$f":"IF(B28=\"\",\"\",INDEX(Data_kom2,MATCH(1,(komnavn2=B28)*(komaar2=D28),0),33))","v":0},{"$f":"IF(B28=\"\",\"\",INDEX(Data_kom2,MATCH(1,(komnavn2=B28)*(komaar2=D28),0),34))","v":0},{"$f":"IF(B28=\"\",\"\",INDEX(Data_kom2,MATCH(1,(komnavn2=B28)*(komaar2=D28),0),35))","v":0},{"$f":"IF(B28=\"\",\"\",INDEX(Data_kom2,MATCH(1,(komnavn2=B28)*(komaar2=D28),0),36))","v":0},{"$f":"IF(B28=\"\",\"\",INDEX(Data_kom2,MATCH(1,(komnavn2=B28)*(komaar2=D28),0),37))","v":0},{"$f":"IF(B28=\"\",\"\",INDEX(Data_kom2,MATCH(1,(komnavn2=B28)*(komaar2=D28),0),38))","v":"Region Midtjylland"}]
[null,{"$f":"'Dine valg'!$G$25","v":""},{"$f":"IF(B29=\"\",\"\",INDEX(Data_kom2,MATCH(1,(komnavn2=B29)*(komaar2=D29),0),2))","v":""},"2022-07-01",{"$f":"IF(B29=\"\",\"\",INDEX(Data_kom2,MATCH(1,(komnavn2=B29)*(komaar2=D29),0),4))","v":""},{"$f":"IF(B29=\"\",\"\",INDEX(Data_kom2,MATCH(1,(komnavn2=B29)*(komaar2=D29),0),5))","v":""},{"$f":"IF(B29=\"\",\"\",INDEX(Data_kom2,MATCH(1,(komnavn2=B29)*(komaar2=D29),0),6))","v":""},{"$f":"IF(B29=\"\",\"\",INDEX(Data_kom2,MATCH(1,(komnavn2=B29)*(komaar2=D29),0),7))","v":""},{"$f":"IF(B29=\"\",\"\",INDEX(Data_kom2,MATCH(1,(komnavn2=B29)*(komaar2=D29),0),8))","v":""},{"$f":"IF(B29=\"\",\"\",INDEX(Data_kom2,MATCH(1,(komnavn2=B29)*(komaar2=D29),0),9))","v":""},{"$f":"IF(B29=\"\",\"\",INDEX(Data_kom2,MATCH(1,(komnavn2=B29)*(komaar2=D29),0),10))","v":""},{"$f":"IF(B29=\"\",\"\",INDEX(Data_kom2,MATCH(1,(komnavn2=B29)*(komaar2=D29),0),11))","v":""},{"$f":"IF(B29=\"\",\"\",INDEX(Data_kom2,MATCH(1,(komnavn2=B29)*(komaar2=D29),0),12))","v":""},{"$f":"IF(B29=\"\",\"\",INDEX(Data_kom2,MATCH(1,(komnavn2=B29)*(komaar2=D29),0),13))","v":""},{"$f":"IF(B29=\"\",\"\",INDEX(Data_kom2,MATCH(1,(komnavn2=B29)*(komaar2=D29),0),14))","v":""},{"$f":"IF(B29=\"\",\"\",INDEX(Data_kom2,MATCH(1,(komnavn2=B29)*(komaar2=D29),0),15))","v":""},{"$f":"IF(B29=\"\",\"\",INDEX(Data_kom2,MATCH(1,(komnavn2=B29)*(komaar2=D29),0),16))","v":""},{"$f":"IF(B29=\"\",\"\",INDEX(Data_kom2,MATCH(1,(komnavn2=B29)*(komaar2=D29),0),17))","v":""},{"$f":"IF(B29=\"\",\"\",INDEX(Data_kom2,MATCH(1,(komnavn2=B29)*(komaar2=D29),0),18))","v":""},{"$f":"IF(B29=\"\",\"\",INDEX(Data_kom2,MATCH(1,(komnavn2=B29)*(komaar2=D29),0),19))","v":""},{"$f":"IF(B29=\"\",\"\",INDEX(Data_kom2,MATCH(1,(komnavn2=B29)*(komaar2=D29),0),20))","v":""},{"$f":"IF(B29=\"\",\"\",INDEX(Data_kom2,MATCH(1,(komnavn2=B29)*(komaar2=D29),0),21))","v":""},{"$f":"IF(B29=\"\",\"\",INDEX(Data_kom2,MATCH(1,(komnavn2=B29)*(komaar2=D29),0),22))","v":""},{"$f":"IF(B29=\"\",\"\",INDEX(Data_kom2,MATCH(1,(komnavn2=B29)*(komaar2=D29),0),23))","v":""},{"$f":"IF(B29=\"\",\"\",INDEX(Data_kom2,MATCH(1,(komnavn2=B29)*(komaar2=D29),0),24))","v":""},{"$f":"IF(B29=\"\",\"\",INDEX(Data_kom2,MATCH(1,(komnavn2=B29)*(komaar2=D29),0),25))","v":""},{"$f":"IF(B29=\"\",\"\",INDEX(Data_kom2,MATCH(1,(komnavn2=B29)*(komaar2=D29),0),26))","v":""},{"$f":"IF(B29=\"\",\"\",INDEX(Data_kom2,MATCH(1,(komnavn2=B29)*(komaar2=D29),0),27))","v":""},{"$f":"IF(B29=\"\",\"\",INDEX(Data_kom2,MATCH(1,(komnavn2=B29)*(komaar2=D29),0),28))","v":""},{"$f":"IF(B29=\"\",\"\",INDEX(Data_kom2,MATCH(1,(komnavn2=B29)*(komaar2=D29),0),29))","v":""},{"$f":"IF(B29=\"\",\"\",INDEX(Data_kom2,MATCH(1,(komnavn2=B29)*(komaar2=D29),0),30))","v":""},{"$f":"IF(B29=\"\",\"\",INDEX(Data_kom2,MATCH(1,(komnavn2=B29)*(komaar2=D29),0),31))","v":""},{"$f":"IF(B29=\"\",\"\",INDEX(Data_kom2,MATCH(1,(komnavn2=B29)*(komaar2=D29),0),32))","v":""},{"$f":"IF(B29=\"\",\"\",INDEX(Data_kom2,MATCH(1,(komnavn2=B29)*(komaar2=D29),0),33))","v":""},{"$f":"IF(B29=\"\",\"\",INDEX(Data_kom2,MATCH(1,(komnavn2=B29)*(komaar2=D29),0),34))","v":""},{"$f":"IF(B29=\"\",\"\",INDEX(Data_kom2,MATCH(1,(komnavn2=B29)*(komaar2=D29),0),35))","v":""},{"$f":"IF(B29=\"\",\"\",INDEX(Data_kom2,MATCH(1,(komnavn2=B29)*(komaar2=D29),0),36))","v":""},{"$f":"IF(B29=\"\",\"\",INDEX(Data_kom2,MATCH(1,(komnavn2=B29)*(komaar2=D29),0),37))","v":""},{"$f":"IF(B29=\"\",\"\",INDEX(Data_kom2,MATCH(1,(komnavn2=B29)*(komaar2=D29),0),38))","v":""}]
[null,{"$f":"'Dine valg'!$G$26","v":""},{"$f":"IF(B30=\"\",\"\",INDEX(Data_kom2,MATCH(1,(komnavn2=B30)*(komaar2=D30),0),2))","v":""},"2022-07-01",{"$f":"IF(B30=\"\",\"\",INDEX(Data_kom2,MATCH(1,(komnavn2=B30)*(komaar2=D30),0),4))","v":""},{"$f":"IF(B30=\"\",\"\",INDEX(Data_kom2,MATCH(1,(komnavn2=B30)*(komaar2=D30),0),5))","v":""},{"$f":"IF(B30=\"\",\"\",INDEX(Data_kom2,MATCH(1,(komnavn2=B30)*(komaar2=D30),0),6))","v":""},{"$f":"IF(B30=\"\",\"\",INDEX(Data_kom2,MATCH(1,(komnavn2=B30)*(komaar2=D30),0),7))","v":""},{"$f":"IF(B30=\"\",\"\",INDEX(Data_kom2,MATCH(1,(komnavn2=B30)*(komaar2=D30),0),8))","v":""},{"$f":"IF(B30=\"\",\"\",INDEX(Data_kom2,MATCH(1,(komnavn2=B30)*(komaar2=D30),0),9))","v":""},{"$f":"IF(B30=\"\",\"\",INDEX(Data_kom2,MATCH(1,(komnavn2=B30)*(komaar2=D30),0),10))","v":""},{"$f":"IF(B30=\"\",\"\",INDEX(Data_kom2,MATCH(1,(komnavn2=B30)*(komaar2=D30),0),11))","v":""},{"$f":"IF(B30=\"\",\"\",INDEX(Data_kom2,MATCH(1,(komnavn2=B30)*(komaar2=D30),0),12))","v":""},{"$f":"IF(B30=\"\",\"\",INDEX(Data_kom2,MATCH(1,(komnavn2=B30)*(komaar2=D30),0),13))","v":""},{"$f":"IF(B30=\"\",\"\",INDEX(Data_kom2,MATCH(1,(komnavn2=B30)*(komaar2=D30),0),14))","v":""},{"$f":"IF(B30=\"\",\"\",INDEX(Data_kom2,MATCH(1,(komnavn2=B30)*(komaar2=D30),0),15))","v":""},{"$f":"IF(B30=\"\",\"\",INDEX(Data_kom2,MATCH(1,(komnavn2=B30)*(komaar2=D30),0),16))","v":""},{"$f":"IF(B30=\"\",\"\",INDEX(Data_kom2,MATCH(1,(komnavn2=B30)*(komaar2=D30),0),17))","v":""},{"$f":"IF(B30=\"\",\"\",INDEX(Data_kom2,MATCH(1,(komnavn2=B30)*(komaar2=D30),0),18))","v":""},{"$f":"IF(B30=\"\",\"\",INDEX(Data_kom2,MATCH(1,(komnavn2=B30)*(komaar2=D30),0),19))","v":""},{"$f":"IF(B30=\"\",\"\",INDEX(Data_kom2,MATCH(1,(komnavn2=B30)*(komaar2=D30),0),20))","v":""},{"$f":"IF(B30=\"\",\"\",INDEX(Data_kom2,MATCH(1,(komnavn2=B30)*(komaar2=D30),0),21))","v":""},{"$f":"IF(B30=\"\",\"\",INDEX(Data_kom2,MATCH(1,(komnavn2=B30)*(komaar2=D30),0),22))","v":""},{"$f":"IF(B30=\"\",\"\",INDEX(Data_kom2,MATCH(1,(komnavn2=B30)*(komaar2=D30),0),23))","v":""},{"$f":"IF(B30=\"\",\"\",INDEX(Data_kom2,MATCH(1,(komnavn2=B30)*(komaar2=D30),0),24))","v":""},{"$f":"IF(B30=\"\",\"\",INDEX(Data_kom2,MATCH(1,(komnavn2=B30)*(komaar2=D30),0),25))","v":""},{"$f":"IF(B30=\"\",\"\",INDEX(Data_kom2,MATCH(1,(komnavn2=B30)*(komaar2=D30),0),26))","v":""},{"$f":"IF(B30=\"\",\"\",INDEX(Data_kom2,MATCH(1,(komnavn2=B30)*(komaar2=D30),0),27))","v":""},{"$f":"IF(B30=\"\",\"\",INDEX(Data_kom2,MATCH(1,(komnavn2=B30)*(komaar2=D30),0),28))","v":""},{"$f":"IF(B30=\"\",\"\",INDEX(Data_kom2,MATCH(1,(komnavn2=B30)*(komaar2=D30),0),29))","v":""},{"$f":"IF(B30=\"\",\"\",INDEX(Data_kom2,MATCH(1,(komnavn2=B30)*(komaar2=D30),0),30))","v":""},{"$f":"IF(B30=\"\",\"\",INDEX(Data_kom2,MATCH(1,(komnavn2=B30)*(komaar2=D30),0),31))","v":""},{"$f":"IF(B30=\"\",\"\",INDEX(Data_kom2,MATCH(1,(komnavn2=B30)*(komaar2=D30),0),32))","v":""},{"$f":"IF(B30=\"\",\"\",INDEX(Data_kom2,MATCH(1,(komnavn2=B30)*(komaar2=D30),0),33))","v":""},{"$f":"IF(B30=\"\",\"\",INDEX(Data_kom2,MATCH(1,(komnavn2=B30)*(komaar2=D30),0),34))","v":""},{"$f":"IF(B30=\"\",\"\",INDEX(Data_kom2,MATCH(1,(komnavn2=B30)*(komaar2=D30),0),35))","v":""},{"$f":"IF(B30=\"\",\"\",INDEX(Data_kom2,MATCH(1,(komnavn2=B30)*(komaar2=D30),0),36))","v":""},{"$f":"IF(B30=\"\",\"\",INDEX(Data_kom2,MATCH(1,(komnavn2=B30)*(komaar2=D30),0),37))","v":""},{"$f":"IF(B30=\"\",\"\",INDEX(Data_kom2,MATCH(1,(komnavn2=B30)*(komaar2=D30),0),38))","v":""}]
[null,{"$f":"'Dine valg'!$G$27","v":""},{"$f":"IF(B31=\"\",\"\",INDEX(Data_kom2,MATCH(1,(komnavn2=B31)*(komaar2=D31),0),2))","v":""},"2022-07-01",{"$f":"IF(B31=\"\",\"\",INDEX(Data_kom2,MATCH(1,(komnavn2=B31)*(komaar2=D31),0),4))","v":""},{"$f":"IF(B31=\"\",\"\",INDEX(Data_kom2,MATCH(1,(komnavn2=B31)*(komaar2=D31),0),5))","v":""},{"$f":"IF(B31=\"\",\"\",INDEX(Data_kom2,MATCH(1,(komnavn2=B31)*(komaar2=D31),0),6))","v":""},{"$f":"IF(B31=\"\",\"\",INDEX(Data_kom2,MATCH(1,(komnavn2=B31)*(komaar2=D31),0),7))","v":""},{"$f":"IF(B31=\"\",\"\",INDEX(Data_kom2,MATCH(1,(komnavn2=B31)*(komaar2=D31),0),8))","v":""},{"$f":"IF(B31=\"\",\"\",INDEX(Data_kom2,MATCH(1,(komnavn2=B31)*(komaar2=D31),0),9))","v":""},{"$f":"IF(B31=\"\",\"\",INDEX(Data_kom2,MATCH(1,(komnavn2=B31)*(komaar2=D31),0),10))","v":""},{"$f":"IF(B31=\"\",\"\",INDEX(Data_kom2,MATCH(1,(komnavn2=B31)*(komaar2=D31),0),11))","v":""},{"$f":"IF(B31=\"\",\"\",INDEX(Data_kom2,MATCH(1,(komnavn2=B31)*(komaar2=D31),0),12))","v":""},{"$f":"IF(B31=\"\",\"\",INDEX(Data_kom2,MATCH(1,(komnavn2=B31)*(komaar2=D31),0),13))","v":""},{"$f":"IF(B31=\"\",\"\",INDEX(Data_kom2,MATCH(1,(komnavn2=B31)*(komaar2=D31),0),14))","v":""},{"$f":"IF(B31=\"\",\"\",INDEX(Data_kom2,MATCH(1,(komnavn2=B31)*(komaar2=D31),0),15))","v":""},{"$f":"IF(B31=\"\",\"\",INDEX(Data_kom2,MATCH(1,(komnavn2=B31)*(komaar2=D31),0),16))","v":""},{"$f":"IF(B31=\"\",\"\",INDEX(Data_kom2,MATCH(1,(komnavn2=B31)*(komaar2=D31),0),17))","v":""},{"$f":"IF(B31=\"\",\"\",INDEX(Data_kom2,MATCH(1,(komnavn2=B31)*(komaar2=D31),0),18))","v":""},{"$f":"IF(B31=\"\",\"\",INDEX(Data_kom2,MATCH(1,(komnavn2=B31)*(komaar2=D31),0),19))","v":""},{"$f":"IF(B31=\"\",\"\",INDEX(Data_kom2,MATCH(1,(komnavn2=B31)*(komaar2=D31),0),20))","v":""},{"$f":"IF(B31=\"\",\"\",INDEX(Data_kom2,MATCH(1,(komnavn2=B31)*(komaar2=D31),0),21))","v":""},{"$f":"IF(B31=\"\",\"\",INDEX(Data_kom2,MATCH(1,(komnavn2=B31)*(komaar2=D31),0),22))","v":""},{"$f":"IF(B31=\"\",\"\",INDEX(Data_kom2,MATCH(1,(komnavn2=B31)*(komaar2=D31),0),23))","v":""},{"$f":"IF(B31=\"\",\"\",INDEX(Data_kom2,MATCH(1,(komnavn2=B31)*(komaar2=D31),0),24))","v":""},{"$f":"IF(B31=\"\",\"\",INDEX(Data_kom2,MATCH(1,(komnavn2=B31)*(komaar2=D31),0),25))","v":""},{"$f":"IF(B31=\"\",\"\",INDEX(Data_kom2,MATCH(1,(komnavn2=B31)*(komaar2=D31),0),26))","v":""},{"$f":"IF(B31=\"\",\"\",INDEX(Data_kom2,MATCH(1,(komnavn2=B31)*(komaar2=D31),0),27))","v":""},{"$f":"IF(B31=\"\",\"\",INDEX(Data_kom2,MATCH(1,(komnavn2=B31)*(komaar2=D31),0),28))","v":""},{"$f":"IF(B31=\"\",\"\",INDEX(Data_kom2,MATCH(1,(komnavn2=B31)*(komaar2=D31),0),29))","v":""},{"$f":"IF(B31=\"\",\"\",INDEX(Data_kom2,MATCH(1,(komnavn2=B31)*(komaar2=D31),0),30))","v":""},{"$f":"IF(B31=\"\",\"\",INDEX(Data_kom2,MATCH(1,(komnavn2=B31)*(komaar2=D31),0),31))","v":""},{"$f":"IF(B31=\"\",\"\",INDEX(Data_kom2,MATCH(1,(komnavn2=B31)*(komaar2=D31),0),32))","v":""},{"$f":"IF(B31=\"\",\"\",INDEX(Data_kom2,MATCH(1,(komnavn2=B31)*(komaar2=D31),0),33))","v":""},{"$f":"IF(B31=\"\",\"\",INDEX(Data_kom2,MATCH(1,(komnavn2=B31)*(komaar2=D31),0),34))","v":""},{"$f":"IF(B31=\"\",\"\",INDEX(Data_kom2,MATCH(1,(komnavn2=B31)*(komaar2=D31),0),35))","v":""},{"$f":"IF(B31=\"\",\"\",INDEX(Data_kom2,MATCH(1,(komnavn2=B31)*(komaar2=D31),0),36))","v":""},{"$f":"IF(B31=\"\",\"\",INDEX(Data_kom2,MATCH(1,(komnavn2=B31)*(komaar2=D31),0),37))","v":""},{"$f":"IF(B31=\"\",\"\",INDEX(Data_kom2,MATCH(1,(komnavn2=B31)*(komaar2=D31),0),38))","v":""}]
[null,{"$f":"'Dine valg'!$G$28","v":""},{"$f":"IF(B32=\"\",\"\",INDEX(Data_kom2,MATCH(1,(komnavn2=B32)*(komaar2=D32),0),2))","v":""},"2022-07-01",{"$f":"IF(B32=\"\",\"\",INDEX(Data_kom2,MATCH(1,(komnavn2=B32)*(komaar2=D32),0),4))","v":""},{"$f":"IF(B32=\"\",\"\",INDEX(Data_kom2,MATCH(1,(komnavn2=B32)*(komaar2=D32),0),5))","v":""},{"$f":"IF(B32=\"\",\"\",INDEX(Data_kom2,MATCH(1,(komnavn2=B32)*(komaar2=D32),0),6))","v":""},{"$f":"IF(B32=\"\",\"\",INDEX(Data_kom2,MATCH(1,(komnavn2=B32)*(komaar2=D32),0),7))","v":""},{"$f":"IF(B32=\"\",\"\",INDEX(Data_kom2,MATCH(1,(komnavn2=B32)*(komaar2=D32),0),8))","v":""},{"$f":"IF(B32=\"\",\"\",INDEX(Data_kom2,MATCH(1,(komnavn2=B32)*(komaar2=D32),0),9))","v":""},{"$f":"IF(B32=\"\",\"\",INDEX(Data_kom2,MATCH(1,(komnavn2=B32)*(komaar2=D32),0),10))","v":""},{"$f":"IF(B32=\"\",\"\",INDEX(Data_kom2,MATCH(1,(komnavn2=B32)*(komaar2=D32),0),11))","v":""},{"$f":"IF(B32=\"\",\"\",INDEX(Data_kom2,MATCH(1,(komnavn2=B32)*(komaar2=D32),0),12))","v":""},{"$f":"IF(B32=\"\",\"\",INDEX(Data_kom2,MATCH(1,(komnavn2=B32)*(komaar2=D32),0),13))","v":""},{"$f":"IF(B32=\"\",\"\",INDEX(Data_kom2,MATCH(1,(komnavn2=B32)*(komaar2=D32),0),14))","v":""},{"$f":"IF(B32=\"\",\"\",INDEX(Data_kom2,MATCH(1,(komnavn2=B32)*(komaar2=D32),0),15))","v":""},{"$f":"IF(B32=\"\",\"\",INDEX(Data_kom2,MATCH(1,(komnavn2=B32)*(komaar2=D32),0),16))","v":""},{"$f":"IF(B32=\"\",\"\",INDEX(Data_kom2,MATCH(1,(komnavn2=B32)*(komaar2=D32),0),17))","v":""},{"$f":"IF(B32=\"\",\"\",INDEX(Data_kom2,MATCH(1,(komnavn2=B32)*(komaar2=D32),0),18))","v":""},{"$f":"IF(B32=\"\",\"\",INDEX(Data_kom2,MATCH(1,(komnavn2=B32)*(komaar2=D32),0),19))","v":""},{"$f":"IF(B32=\"\",\"\",INDEX(Data_kom2,MATCH(1,(komnavn2=B32)*(komaar2=D32),0),20))","v":""},{"$f":"IF(B32=\"\",\"\",INDEX(Data_kom2,MATCH(1,(komnavn2=B32)*(komaar2=D32),0),21))","v":""},{"$f":"IF(B32=\"\",\"\",INDEX(Data_kom2,MATCH(1,(komnavn2=B32)*(komaar2=D32),0),22))","v":""},{"$f":"IF(B32=\"\",\"\",INDEX(Data_kom2,MATCH(1,(komnavn2=B32)*(komaar2=D32),0),23))","v":""},{"$f":"IF(B32=\"\",\"\",INDEX(Data_kom2,MATCH(1,(komnavn2=B32)*(komaar2=D32),0),24))","v":""},{"$f":"IF(B32=\"\",\"\",INDEX(Data_kom2,MATCH(1,(komnavn2=B32)*(komaar2=D32),0),25))","v":""},{"$f":"IF(B32=\"\",\"\",INDEX(Data_kom2,MATCH(1,(komnavn2=B32)*(komaar2=D32),0),26))","v":""},{"$f":"IF(B32=\"\",\"\",INDEX(Data_kom2,MATCH(1,(komnavn2=B32)*(komaar2=D32),0),27))","v":""},{"$f":"IF(B32=\"\",\"\",INDEX(Data_kom2,MATCH(1,(komnavn2=B32)*(komaar2=D32),0),28))","v":""},{"$f":"IF(B32=\"\",\"\",INDEX(Data_kom2,MATCH(1,(komnavn2=B32)*(komaar2=D32),0),29))","v":""},{"$f":"IF(B32=\"\",\"\",INDEX(Data_kom2,MATCH(1,(komnavn2=B32)*(komaar2=D32),0),30))","v":""},{"$f":"IF(B32=\"\",\"\",INDEX(Data_kom2,MATCH(1,(komnavn2=B32)*(komaar2=D32),0),31))","v":""},{"$f":"IF(B32=\"\",\"\",INDEX(Data_kom2,MATCH(1,(komnavn2=B32)*(komaar2=D32),0),32))","v":""},{"$f":"IF(B32=\"\",\"\",INDEX(Data_kom2,MATCH(1,(komnavn2=B32)*(komaar2=D32),0),33))","v":""},{"$f":"IF(B32=\"\",\"\",INDEX(Data_kom2,MATCH(1,(komnavn2=B32)*(komaar2=D32),0),34))","v":""},{"$f":"IF(B32=\"\",\"\",INDEX(Data_kom2,MATCH(1,(komnavn2=B32)*(komaar2=D32),0),35))","v":""},{"$f":"IF(B32=\"\",\"\",INDEX(Data_kom2,MATCH(1,(komnavn2=B32)*(komaar2=D32),0),36))","v":""},{"$f":"IF(B32=\"\",\"\",INDEX(Data_kom2,MATCH(1,(komnavn2=B32)*(komaar2=D32),0),37))","v":""},{"$f":"IF(B32=\"\",\"\",INDEX(Data_kom2,MATCH(1,(komnavn2=B32)*(komaar2=D32),0),38))","v":""}]
[null,{"$f":"'Dine valg'!$G$29","v":""},{"$f":"IF(B33=\"\",\"\",INDEX(Data_kom2,MATCH(1,(komnavn2=B33)*(komaar2=D33),0),2))","v":""},"2022-07-01",{"$f":"IF(B33=\"\",\"\",INDEX(Data_kom2,MATCH(1,(komnavn2=B33)*(komaar2=D33),0),4))","v":""},{"$f":"IF(B33=\"\",\"\",INDEX(Data_kom2,MATCH(1,(komnavn2=B33)*(komaar2=D33),0),5))","v":""},{"$f":"IF(B33=\"\",\"\",INDEX(Data_kom2,MATCH(1,(komnavn2=B33)*(komaar2=D33),0),6))","v":""},{"$f":"IF(B33=\"\",\"\",INDEX(Data_kom2,MATCH(1,(komnavn2=B33)*(komaar2=D33),0),7))","v":""},{"$f":"IF(B33=\"\",\"\",INDEX(Data_kom2,MATCH(1,(komnavn2=B33)*(komaar2=D33),0),8))","v":""},{"$f":"IF(B33=\"\",\"\",INDEX(Data_kom2,MATCH(1,(komnavn2=B33)*(komaar2=D33),0),9))","v":""},{"$f":"IF(B33=\"\",\"\",INDEX(Data_kom2,MATCH(1,(komnavn2=B33)*(komaar2=D33),0),10))","v":""},{"$f":"IF(B33=\"\",\"\",INDEX(Data_kom2,MATCH(1,(komnavn2=B33)*(komaar2=D33),0),11))","v":""},{"$f":"IF(B33=\"\",\"\",INDEX(Data_kom2,MATCH(1,(komnavn2=B33)*(komaar2=D33),0),12))","v":""},{"$f":"IF(B33=\"\",\"\",INDEX(Data_kom2,MATCH(1,(komnavn2=B33)*(komaar2=D33),0),13))","v":""},{"$f":"IF(B33=\"\",\"\",INDEX(Data_kom2,MATCH(1,(komnavn2=B33)*(komaar2=D33),0),14))","v":""},{"$f":"IF(B33=\"\",\"\",INDEX(Data_kom2,MATCH(1,(komnavn2=B33)*(komaar2=D33),0),15))","v":""},{"$f":"IF(B33=\"\",\"\",INDEX(Data_kom2,MATCH(1,(komnavn2=B33)*(komaar2=D33),0),16))","v":""},{"$f":"IF(B33=\"\",\"\",INDEX(Data_kom2,MATCH(1,(komnavn2=B33)*(komaar2=D33),0),17))","v":""},{"$f":"IF(B33=\"\",\"\",INDEX(Data_kom2,MATCH(1,(komnavn2=B33)*(komaar2=D33),0),18))","v":""},{"$f":"IF(B33=\"\",\"\",INDEX(Data_kom2,MATCH(1,(komnavn2=B33)*(komaar2=D33),0),19))","v":""},{"$f":"IF(B33=\"\",\"\",INDEX(Data_kom2,MATCH(1,(komnavn2=B33)*(komaar2=D33),0),20))","v":""},{"$f":"IF(B33=\"\",\"\",INDEX(Data_kom2,MATCH(1,(komnavn2=B33)*(komaar2=D33),0),21))","v":""},{"$f":"IF(B33=\"\",\"\",INDEX(Data_kom2,MATCH(1,(komnavn2=B33)*(komaar2=D33),0),22))","v":""},{"$f":"IF(B33=\"\",\"\",INDEX(Data_kom2,MATCH(1,(komnavn2=B33)*(komaar2=D33),0),23))","v":""},{"$f":"IF(B33=\"\",\"\",INDEX(Data_kom2,MATCH(1,(komnavn2=B33)*(komaar2=D33),0),24))","v":""},{"$f":"IF(B33=\"\",\"\",INDEX(Data_kom2,MATCH(1,(komnavn2=B33)*(komaar2=D33),0),25))","v":""},{"$f":"IF(B33=\"\",\"\",INDEX(Data_kom2,MATCH(1,(komnavn2=B33)*(komaar2=D33),0),26))","v":""},{"$f":"IF(B33=\"\",\"\",INDEX(Data_kom2,MATCH(1,(komnavn2=B33)*(komaar2=D33),0),27))","v":""},{"$f":"IF(B33=\"\",\"\",INDEX(Data_kom2,MATCH(1,(komnavn2=B33)*(komaar2=D33),0),28))","v":""},{"$f":"IF(B33=\"\",\"\",INDEX(Data_kom2,MATCH(1,(komnavn2=B33)*(komaar2=D33),0),29))","v":""},{"$f":"IF(B33=\"\",\"\",INDEX(Data_kom2,MATCH(1,(komnavn2=B33)*(komaar2=D33),0),30))","v":""},{"$f":"IF(B33=\"\",\"\",INDEX(Data_kom2,MATCH(1,(komnavn2=B33)*(komaar2=D33),0),31))","v":""},{"$f":"IF(B33=\"\",\"\",INDEX(Data_kom2,MATCH(1,(komnavn2=B33)*(komaar2=D33),0),32))","v":""},{"$f":"IF(B33=\"\",\"\",INDEX(Data_kom2,MATCH(1,(komnavn2=B33)*(komaar2=D33),0),33))","v":""},{"$f":"IF(B33=\"\",\"\",INDEX(Data_kom2,MATCH(1,(komnavn2=B33)*(komaar2=D33),0),34))","v":""},{"$f":"IF(B33=\"\",\"\",INDEX(Data_kom2,MATCH(1,(komnavn2=B33)*(komaar2=D33),0),35))","v":""},{"$f":"IF(B33=\"\",\"\",INDEX(Data_kom2,MATCH(1,(komnavn2=B33)*(komaar2=D33),0),36))","v":""},{"$f":"IF(B33=\"\",\"\",INDEX(Data_kom2,MATCH(1,(komnavn2=B33)*(komaar2=D33),0),37))","v":""},{"$f":"IF(B33=\"\",\"\",INDEX(Data_kom2,MATCH(1,(komnavn2=B33)*(komaar2=D33),0),38))","v":""}]
[null,{"$f":"'Dine valg'!$G$30","v":""},{"$f":"IF(B34=\"\",\"\",INDEX(Data_kom2,MATCH(1,(komnavn2=B34)*(komaar2=D34),0),2))","v":""},"2022-07-01",{"$f":"IF(B34=\"\",\"\",INDEX(Data_kom2,MATCH(1,(komnavn2=B34)*(komaar2=D34),0),4))","v":""},{"$f":"IF(B34=\"\",\"\",INDEX(Data_kom2,MATCH(1,(komnavn2=B34)*(komaar2=D34),0),5))","v":""},{"$f":"IF(B34=\"\",\"\",INDEX(Data_kom2,MATCH(1,(komnavn2=B34)*(komaar2=D34),0),6))","v":""},{"$f":"IF(B34=\"\",\"\",INDEX(Data_kom2,MATCH(1,(komnavn2=B34)*(komaar2=D34),0),7))","v":""},{"$f":"IF(B34=\"\",\"\",INDEX(Data_kom2,MATCH(1,(komnavn2=B34)*(komaar2=D34),0),8))","v":""},{"$f":"IF(B34=\"\",\"\",INDEX(Data_kom2,MATCH(1,(komnavn2=B34)*(komaar2=D34),0),9))","v":""},{"$f":"IF(B34=\"\",\"\",INDEX(Data_kom2,MATCH(1,(komnavn2=B34)*(komaar2=D34),0),10))","v":""},{"$f":"IF(B34=\"\",\"\",INDEX(Data_kom2,MATCH(1,(komnavn2=B34)*(komaar2=D34),0),11))","v":""},{"$f":"IF(B34=\"\",\"\",INDEX(Data_kom2,MATCH(1,(komnavn2=B34)*(komaar2=D34),0),12))","v":""},{"$f":"IF(B34=\"\",\"\",INDEX(Data_kom2,MATCH(1,(komnavn2=B34)*(komaar2=D34),0),13))","v":""},{"$f":"IF(B34=\"\",\"\",INDEX(Data_kom2,MATCH(1,(komnavn2=B34)*(komaar2=D34),0),14))","v":""},{"$f":"IF(B34=\"\",\"\",INDEX(Data_kom2,MATCH(1,(komnavn2=B34)*(komaar2=D34),0),15))","v":""},{"$f":"IF(B34=\"\",\"\",INDEX(Data_kom2,MATCH(1,(komnavn2=B34)*(komaar2=D34),0),16))","v":""},{"$f":"IF(B34=\"\",\"\",INDEX(Data_kom2,MATCH(1,(komnavn2=B34)*(komaar2=D34),0),17))","v":""},{"$f":"IF(B34=\"\",\"\",INDEX(Data_kom2,MATCH(1,(komnavn2=B34)*(komaar2=D34),0),18))","v":""},{"$f":"IF(B34=\"\",\"\",INDEX(Data_kom2,MATCH(1,(komnavn2=B34)*(komaar2=D34),0),19))","v":""},{"$f":"IF(B34=\"\",\"\",INDEX(Data_kom2,MATCH(1,(komnavn2=B34)*(komaar2=D34),0),20))","v":""},{"$f":"IF(B34=\"\",\"\",INDEX(Data_kom2,MATCH(1,(komnavn2=B34)*(komaar2=D34),0),21))","v":""},{"$f":"IF(B34=\"\",\"\",INDEX(Data_kom2,MATCH(1,(komnavn2=B34)*(komaar2=D34),0),22))","v":""},{"$f":"IF(B34=\"\",\"\",INDEX(Data_kom2,MATCH(1,(komnavn2=B34)*(komaar2=D34),0),23))","v":""},{"$f":"IF(B34=\"\",\"\",INDEX(Data_kom2,MATCH(1,(komnavn2=B34)*(komaar2=D34),0),24))","v":""},{"$f":"IF(B34=\"\",\"\",INDEX(Data_kom2,MATCH(1,(komnavn2=B34)*(komaar2=D34),0),25))","v":""},{"$f":"IF(B34=\"\",\"\",INDEX(Data_kom2,MATCH(1,(komnavn2=B34)*(komaar2=D34),0),26))","v":""},{"$f":"IF(B34=\"\",\"\",INDEX(Data_kom2,MATCH(1,(komnavn2=B34)*(komaar2=D34),0),27))","v":""},{"$f":"IF(B34=\"\",\"\",INDEX(Data_kom2,MATCH(1,(komnavn2=B34)*(komaar2=D34),0),28))","v":""},{"$f":"IF(B34=\"\",\"\",INDEX(Data_kom2,MATCH(1,(komnavn2=B34)*(komaar2=D34),0),29))","v":""},{"$f":"IF(B34=\"\",\"\",INDEX(Data_kom2,MATCH(1,(komnavn2=B34)*(komaar2=D34),0),30))","v":""},{"$f":"IF(B34=\"\",\"\",INDEX(Data_kom2,MATCH(1,(komnavn2=B34)*(komaar2=D34),0),31))","v":""},{"$f":"IF(B34=\"\",\"\",INDEX(Data_kom2,MATCH(1,(komnavn2=B34)*(komaar2=D34),0),32))","v":""},{"$f":"IF(B34=\"\",\"\",INDEX(Data_kom2,MATCH(1,(komnavn2=B34)*(komaar2=D34),0),33))","v":""},{"$f":"IF(B34=\"\",\"\",INDEX(Data_kom2,MATCH(1,(komnavn2=B34)*(komaar2=D34),0),34))","v":""},{"$f":"IF(B34=\"\",\"\",INDEX(Data_kom2,MATCH(1,(komnavn2=B34)*(komaar2=D34),0),35))","v":""},{"$f":"IF(B34=\"\",\"\",INDEX(Data_kom2,MATCH(1,(komnavn2=B34)*(komaar2=D34),0),36))","v":""},{"$f":"IF(B34=\"\",\"\",INDEX(Data_kom2,MATCH(1,(komnavn2=B34)*(komaar2=D34),0),37))","v":""},{"$f":"IF(B34=\"\",\"\",INDEX(Data_kom2,MATCH(1,(komnavn2=B34)*(komaar2=D34),0),38))","v":""}]
[null,{"$f":"'Dine valg'!$G$24","v":"Aarhus"},{"$f":"IF(B35=\"\",\"\",INDEX(Data_kom2,MATCH(1,(komnavn2=B35)*(komaar2=D35),0),2))","v":64049},"2022-01-01",{"$f":"IF(B35=\"\",\"\",INDEX(Data_kom2,MATCH(1,(komnavn2=B35)*(komaar2=D35),0),4))","v":154},{"$f":"IF(B35=\"\",\"\",INDEX(Data_kom2,MATCH(1,(komnavn2=B35)*(komaar2=D35),0),5))","v":102},{"$f":"IF(B35=\"\",\"\",INDEX(Data_kom2,MATCH(1,(komnavn2=B35)*(komaar2=D35),0),6))","v":11},{"$f":"IF(B35=\"\",\"\",INDEX(Data_kom2,MATCH(1,(komnavn2=B35)*(komaar2=D35),0),7))","v":41},{"$f":"IF(B35=\"\",\"\",INDEX(Data_kom2,MATCH(1,(komnavn2=B35)*(komaar2=D35),0),8))","v":145303},{"$f":"IF(B35=\"\",\"\",INDEX(Data_kom2,MATCH(1,(komnavn2=B35)*(komaar2=D35),0),9))","v":122621},{"$f":"IF(B35=\"\",\"\",INDEX(Data_kom2,MATCH(1,(komnavn2=B35)*(komaar2=D35),0),10))","v":2424},{"$f":"IF(B35=\"\",\"\",INDEX(Data_kom2,MATCH(1,(komnavn2=B35)*(komaar2=D35),0),11))","v":20258},{"$f":"IF(B35=\"\",\"\",INDEX(Data_kom2,MATCH(1,(komnavn2=B35)*(komaar2=D35),0),12))","v":231},{"$f":"IF(B35=\"\",\"\",INDEX(Data_kom2,MATCH(1,(komnavn2=B35)*(komaar2=D35),0),13))","v":22},{"$f":"IF(B35=\"\",\"\",INDEX(Data_kom2,MATCH(1,(komnavn2=B35)*(komaar2=D35),0),14))","v":1147},{"$f":"IF(B35=\"\",\"\",INDEX(Data_kom2,MATCH(1,(komnavn2=B35)*(komaar2=D35),0),15))","v":"*"},{"$f":"IF(B35=\"\",\"\",INDEX(Data_kom2,MATCH(1,(komnavn2=B35)*(komaar2=D35),0),16))","v":"*"},{"$f":"IF(B35=\"\",\"\",INDEX(Data_kom2,MATCH(1,(komnavn2=B35)*(komaar2=D35),0),17))","v":1130},{"$f":"IF(B35=\"\",\"\",INDEX(Data_kom2,MATCH(1,(komnavn2=B35)*(komaar2=D35),0),18))","v":14},{"$f":"IF(B35=\"\",\"\",INDEX(Data_kom2,MATCH(1,(komnavn2=B35)*(komaar2=D35),0),19))","v":0},{"$f":"IF(B35=\"\",\"\",INDEX(Data_kom2,MATCH(1,(komnavn2=B35)*(komaar2=D35),0),20))","v":0},{"$f":"IF(B35=\"\",\"\",INDEX(Data_kom2,MATCH(1,(komnavn2=B35)*(komaar2=D35),0),21))","v":0},{"$f":"IF(B35=\"\",\"\",INDEX(Data_kom2,MATCH(1,(komnavn2=B35)*(komaar2=D35),0),22))","v":40},{"$f":"IF(B35=\"\",\"\",INDEX(Data_kom2,MATCH(1,(komnavn2=B35)*(komaar2=D35),0),23))","v":168},{"$f":"IF(B35=\"\",\"\",INDEX(Data_kom2,MATCH(1,(komnavn2=B35)*(komaar2=D35),0),24))","v":3},{"$f":"IF(B35=\"\",\"\",INDEX(Data_kom2,MATCH(1,(komnavn2=B35)*(komaar2=D35),0),25))","v":168},{"$f":"IF(B35=\"\",\"\",INDEX(Data_kom2,MATCH(1,(komnavn2=B35)*(komaar2=D35),0),26))","v":37},{"$f":"IF(B35=\"\",\"\",INDEX(Data_kom2,MATCH(1,(komnavn2=B35)*(komaar2=D35),0),27))","v":168},{"$f":"IF(B35=\"\",\"\",INDEX(Data_kom2,MATCH(1,(komnavn2=B35)*(komaar2=D35),0),28))","v":19},{"$f":"IF(B35=\"\",\"\",INDEX(Data_kom2,MATCH(1,(komnavn2=B35)*(komaar2=D35),0),29))","v":1217},{"$f":"IF(B35=\"\",\"\",INDEX(Data_kom2,MATCH(1,(komnavn2=B35)*(komaar2=D35),0),30))","v":362},{"$f":"IF(B35=\"\",\"\",INDEX(Data_kom2,MATCH(1,(komnavn2=B35)*(komaar2=D35),0),31))","v":1220},{"$f":"IF(B35=\"\",\"\",INDEX(Data_kom2,MATCH(1,(komnavn2=B35)*(komaar2=D35),0),32))","v":0},{"$f":"IF(B35=\"\",\"\",INDEX(Data_kom2,MATCH(1,(komnavn2=B35)*(komaar2=D35),0),33))","v":0},{"$f":"IF(B35=\"\",\"\",INDEX(Data_kom2,MATCH(1,(komnavn2=B35)*(komaar2=D35),0),34))","v":0},{"$f":"IF(B35=\"\",\"\",INDEX(Data_kom2,MATCH(1,(komnavn2=B35)*(komaar2=D35),0),35))","v":0},{"$f":"IF(B35=\"\",\"\",INDEX(Data_kom2,MATCH(1,(komnavn2=B35)*(komaar2=D35),0),36))","v":0},{"$f":"IF(B35=\"\",\"\",INDEX(Data_kom2,MATCH(1,(komnavn2=B35)*(komaar2=D35),0),37))","v":0},{"$f":"IF(B35=\"\",\"\",INDEX(Data_kom2,MATCH(1,(komnavn2=B35)*(komaar2=D35),0),38))","v":"Region Midtjylland"}]
[null,{"$f":"'Dine valg'!$G$25","v":""},{"$f":"IF(B36=\"\",\"\",INDEX(Data_kom2,MATCH(1,(komnavn2=B36)*(komaar2=D36),0),2))","v":""},"2022-01-01",{"$f":"IF(B36=\"\",\"\",INDEX(Data_kom2,MATCH(1,(komnavn2=B36)*(komaar2=D36),0),4))","v":""},{"$f":"IF(B36=\"\",\"\",INDEX(Data_kom2,MATCH(1,(komnavn2=B36)*(komaar2=D36),0),5))","v":""},{"$f":"IF(B36=\"\",\"\",INDEX(Data_kom2,MATCH(1,(komnavn2=B36)*(komaar2=D36),0),6))","v":""},{"$f":"IF(B36=\"\",\"\",INDEX(Data_kom2,MATCH(1,(komnavn2=B36)*(komaar2=D36),0),7))","v":""},{"$f":"IF(B36=\"\",\"\",INDEX(Data_kom2,MATCH(1,(komnavn2=B36)*(komaar2=D36),0),8))","v":""},{"$f":"IF(B36=\"\",\"\",INDEX(Data_kom2,MATCH(1,(komnavn2=B36)*(komaar2=D36),0),9))","v":""},{"$f":"IF(B36=\"\",\"\",INDEX(Data_kom2,MATCH(1,(komnavn2=B36)*(komaar2=D36),0),10))","v":""},{"$f":"IF(B36=\"\",\"\",INDEX(Data_kom2,MATCH(1,(komnavn2=B36)*(komaar2=D36),0),11))","v":""},{"$f":"IF(B36=\"\",\"\",INDEX(Data_kom2,MATCH(1,(komnavn2=B36)*(komaar2=D36),0),12))","v":""},{"$f":"IF(B36=\"\",\"\",INDEX(Data_kom2,MATCH(1,(komnavn2=B36)*(komaar2=D36),0),13))","v":""},{"$f":"IF(B36=\"\",\"\",INDEX(Data_kom2,MATCH(1,(komnavn2=B36)*(komaar2=D36),0),14))","v":""},{"$f":"IF(B36=\"\",\"\",INDEX(Data_kom2,MATCH(1,(komnavn2=B36)*(komaar2=D36),0),15))","v":""},{"$f":"IF(B36=\"\",\"\",INDEX(Data_kom2,MATCH(1,(komnavn2=B36)*(komaar2=D36),0),16))","v":""},{"$f":"IF(B36=\"\",\"\",INDEX(Data_kom2,MATCH(1,(komnavn2=B36)*(komaar2=D36),0),17))","v":""},{"$f":"IF(B36=\"\",\"\",INDEX(Data_kom2,MATCH(1,(komnavn2=B36)*(komaar2=D36),0),18))","v":""},{"$f":"IF(B36=\"\",\"\",INDEX(Data_kom2,MATCH(1,(komnavn2=B36)*(komaar2=D36),0),19))","v":""},{"$f":"IF(B36=\"\",\"\",INDEX(Data_kom2,MATCH(1,(komnavn2=B36)*(komaar2=D36),0),20))","v":""},{"$f":"IF(B36=\"\",\"\",INDEX(Data_kom2,MATCH(1,(komnavn2=B36)*(komaar2=D36),0),21))","v":""},{"$f":"IF(B36=\"\",\"\",INDEX(Data_kom2,MATCH(1,(komnavn2=B36)*(komaar2=D36),0),22))","v":""},{"$f":"IF(B36=\"\",\"\",INDEX(Data_kom2,MATCH(1,(komnavn2=B36)*(komaar2=D36),0),23))","v":""},{"$f":"IF(B36=\"\",\"\",INDEX(Data_kom2,MATCH(1,(komnavn2=B36)*(komaar2=D36),0),24))","v":""},{"$f":"IF(B36=\"\",\"\",INDEX(Data_kom2,MATCH(1,(komnavn2=B36)*(komaar2=D36),0),25))","v":""},{"$f":"IF(B36=\"\",\"\",INDEX(Data_kom2,MATCH(1,(komnavn2=B36)*(komaar2=D36),0),26))","v":""},{"$f":"IF(B36=\"\",\"\",INDEX(Data_kom2,MATCH(1,(komnavn2=B36)*(komaar2=D36),0),27))","v":""},{"$f":"IF(B36=\"\",\"\",INDEX(Data_kom2,MATCH(1,(komnavn2=B36)*(komaar2=D36),0),28))","v":""},{"$f":"IF(B36=\"\",\"\",INDEX(Data_kom2,MATCH(1,(komnavn2=B36)*(komaar2=D36),0),29))","v":""},{"$f":"IF(B36=\"\",\"\",INDEX(Data_kom2,MATCH(1,(komnavn2=B36)*(komaar2=D36),0),30))","v":""},{"$f":"IF(B36=\"\",\"\",INDEX(Data_kom2,MATCH(1,(komnavn2=B36)*(komaar2=D36),0),31))","v":""},{"$f":"IF(B36=\"\",\"\",INDEX(Data_kom2,MATCH(1,(komnavn2=B36)*(komaar2=D36),0),32))","v":""},{"$f":"IF(B36=\"\",\"\",INDEX(Data_kom2,MATCH(1,(komnavn2=B36)*(komaar2=D36),0),33))","v":""},{"$f":"IF(B36=\"\",\"\",INDEX(Data_kom2,MATCH(1,(komnavn2=B36)*(komaar2=D36),0),34))","v":""},{"$f":"IF(B36=\"\",\"\",INDEX(Data_kom2,MATCH(1,(komnavn2=B36)*(komaar2=D36),0),35))","v":""},{"$f":"IF(B36=\"\",\"\",INDEX(Data_kom2,MATCH(1,(komnavn2=B36)*(komaar2=D36),0),36))","v":""},{"$f":"IF(B36=\"\",\"\",INDEX(Data_kom2,MATCH(1,(komnavn2=B36)*(komaar2=D36),0),37))","v":""},{"$f":"IF(B36=\"\",\"\",INDEX(Data_kom2,MATCH(1,(komnavn2=B36)*(komaar2=D36),0),38))","v":""}]
[null,{"$f":"'Dine valg'!$G$26","v":""},{"$f":"IF(B37=\"\",\"\",INDEX(Data_kom2,MATCH(1,(komnavn2=B37)*(komaar2=D37),0),2))","v":""},"2022-01-01",{"$f":"IF(B37=\"\",\"\",INDEX(Data_kom2,MATCH(1,(komnavn2=B37)*(komaar2=D37),0),4))","v":""},{"$f":"IF(B37=\"\",\"\",INDEX(Data_kom2,MATCH(1,(komnavn2=B37)*(komaar2=D37),0),5))","v":""},{"$f":"IF(B37=\"\",\"\",INDEX(Data_kom2,MATCH(1,(komnavn2=B37)*(komaar2=D37),0),6))","v":""},{"$f":"IF(B37=\"\",\"\",INDEX(Data_kom2,MATCH(1,(komnavn2=B37)*(komaar2=D37),0),7))","v":""},{"$f":"IF(B37=\"\",\"\",INDEX(Data_kom2,MATCH(1,(komnavn2=B37)*(komaar2=D37),0),8))","v":""},{"$f":"IF(B37=\"\",\"\",INDEX(Data_kom2,MATCH(1,(komnavn2=B37)*(komaar2=D37),0),9))","v":""},{"$f":"IF(B37=\"\",\"\",INDEX(Data_kom2,MATCH(1,(komnavn2=B37)*(komaar2=D37),0),10))","v":""},{"$f":"IF(B37=\"\",\"\",INDEX(Data_kom2,MATCH(1,(komnavn2=B37)*(komaar2=D37),0),11))","v":""},{"$f":"IF(B37=\"\",\"\",INDEX(Data_kom2,MATCH(1,(komnavn2=B37)*(komaar2=D37),0),12))","v":""},{"$f":"IF(B37=\"\",\"\",INDEX(Data_kom2,MATCH(1,(komnavn2=B37)*(komaar2=D37),0),13))","v":""},{"$f":"IF(B37=\"\",\"\",INDEX(Data_kom2,MATCH(1,(komnavn2=B37)*(komaar2=D37),0),14))","v":""},{"$f":"IF(B37=\"\",\"\",INDEX(Data_kom2,MATCH(1,(komnavn2=B37)*(komaar2=D37),0),15))","v":""},{"$f":"IF(B37=\"\",\"\",INDEX(Data_kom2,MATCH(1,(komnavn2=B37)*(komaar2=D37),0),16))","v":""},{"$f":"IF(B37=\"\",\"\",INDEX(Data_kom2,MATCH(1,(komnavn2=B37)*(komaar2=D37),0),17))","v":""},{"$f":"IF(B37=\"\",\"\",INDEX(Data_kom2,MATCH(1,(komnavn2=B37)*(komaar2=D37),0),18))","v":""},{"$f":"IF(B37=\"\",\"\",INDEX(Data_kom2,MATCH(1,(komnavn2=B37)*(komaar2=D37),0),19))","v":""},{"$f":"IF(B37=\"\",\"\",INDEX(Data_kom2,MATCH(1,(komnavn2=B37)*(komaar2=D37),0),20))","v":""},{"$f":"IF(B37=\"\",\"\",INDEX(Data_kom2,MATCH(1,(komnavn2=B37)*(komaar2=D37),0),21))","v":""},{"$f":"IF(B37=\"\",\"\",INDEX(Data_kom2,MATCH(1,(komnavn2=B37)*(komaar2=D37),0),22))","v":""},{"$f":"IF(B37=\"\",\"\",INDEX(Data_kom2,MATCH(1,(komnavn2=B37)*(komaar2=D37),0),23))","v":""},{"$f":"IF(B37=\"\",\"\",INDEX(Data_kom2,MATCH(1,(komnavn2=B37)*(komaar2=D37),0),24))","v":""},{"$f":"IF(B37=\"\",\"\",INDEX(Data_kom2,MATCH(1,(komnavn2=B37)*(komaar2=D37),0),25))","v":""},{"$f":"IF(B37=\"\",\"\",INDEX(Data_kom2,MATCH(1,(komnavn2=B37)*(komaar2=D37),0),26))","v":""},{"$f":"IF(B37=\"\",\"\",INDEX(Data_kom2,MATCH(1,(komnavn2=B37)*(komaar2=D37),0),27))","v":""},{"$f":"IF(B37=\"\",\"\",INDEX(Data_kom2,MATCH(1,(komnavn2=B37)*(komaar2=D37),0),28))","v":""},{"$f":"IF(B37=\"\",\"\",INDEX(Data_kom2,MATCH(1,(komnavn2=B37)*(komaar2=D37),0),29))","v":""},{"$f":"IF(B37=\"\",\"\",INDEX(Data_kom2,MATCH(1,(komnavn2=B37)*(komaar2=D37),0),30))","v":""},{"$f":"IF(B37=\"\",\"\",INDEX(Data_kom2,MATCH(1,(komnavn2=B37)*(komaar2=D37),0),31))","v":""},{"$f":"IF(B37=\"\",\"\",INDEX(Data_kom2,MATCH(1,(komnavn2=B37)*(komaar2=D37),0),32))","v":""},{"$f":"IF(B37=\"\",\"\",INDEX(Data_kom2,MATCH(1,(komnavn2=B37)*(komaar2=D37),0),33))","v":""},{"$f":"IF(B37=\"\",\"\",INDEX(Data_kom2,MATCH(1,(komnavn2=B37)*(komaar2=D37),0),34))","v":""},{"$f":"IF(B37=\"\",\"\",INDEX(Data_kom2,MATCH(1,(komnavn2=B37)*(komaar2=D37),0),35))","v":""},{"$f":"IF(B37=\"\",\"\",INDEX(Data_kom2,MATCH(1,(komnavn2=B37)*(komaar2=D37),0),36))","v":""},{"$f":"IF(B37=\"\",\"\",INDEX(Data_kom2,MATCH(1,(komnavn2=B37)*(komaar2=D37),0),37))","v":""},{"$f":"IF(B37=\"\",\"\",INDEX(Data_kom2,MATCH(1,(komnavn2=B37)*(komaar2=D37),0),38))","v":""}]
[null,{"$f":"'Dine valg'!$G$27","v":""},{"$f":"IF(B38=\"\",\"\",INDEX(Data_kom2,MATCH(1,(komnavn2=B38)*(komaar2=D38),0),2))","v":""},"2022-01-01",{"$f":"IF(B38=\"\",\"\",INDEX(Data_kom2,MATCH(1,(komnavn2=B38)*(komaar2=D38),0),4))","v":""},{"$f":"IF(B38=\"\",\"\",INDEX(Data_kom2,MATCH(1,(komnavn2=B38)*(komaar2=D38),0),5))","v":""},{"$f":"IF(B38=\"\",\"\",INDEX(Data_kom2,MATCH(1,(komnavn2=B38)*(komaar2=D38),0),6))","v":""},{"$f":"IF(B38=\"\",\"\",INDEX(Data_kom2,MATCH(1,(komnavn2=B38)*(komaar2=D38),0),7))","v":""},{"$f":"IF(B38=\"\",\"\",INDEX(Data_kom2,MATCH(1,(komnavn2=B38)*(komaar2=D38),0),8))","v":""},{"$f":"IF(B38=\"\",\"\",INDEX(Data_kom2,MATCH(1,(komnavn2=B38)*(komaar2=D38),0),9))","v":""},{"$f":"IF(B38=\"\",\"\",INDEX(Data_kom2,MATCH(1,(komnavn2=B38)*(komaar2=D38),0),10))","v":""},{"$f":"IF(B38=\"\",\"\",INDEX(Data_kom2,MATCH(1,(komnavn2=B38)*(komaar2=D38),0),11))","v":""},{"$f":"IF(B38=\"\",\"\",INDEX(Data_kom2,MATCH(1,(komnavn2=B38)*(komaar2=D38),0),12))","v":""},{"$f":"IF(B38=\"\",\"\",INDEX(Data_kom2,MATCH(1,(komnavn2=B38)*(komaar2=D38),0),13))","v":""},{"$f":"IF(B38=\"\",\"\",INDEX(Data_kom2,MATCH(1,(komnavn2=B38)*(komaar2=D38),0),14))","v":""},{"$f":"IF(B38=\"\",\"\",INDEX(Data_kom2,MATCH(1,(komnavn2=B38)*(komaar2=D38),0),15))","v":""},{"$f":"IF(B38=\"\",\"\",INDEX(Data_kom2,MATCH(1,(komnavn2=B38)*(komaar2=D38),0),16))","v":""},{"$f":"IF(B38=\"\",\"\",INDEX(Data_kom2,MATCH(1,(komnavn2=B38)*(komaar2=D38),0),17))","v":""},{"$f":"IF(B38=\"\",\"\",INDEX(Data_kom2,MATCH(1,(komnavn2=B38)*(komaar2=D38),0),18))","v":""},{"$f":"IF(B38=\"\",\"\",INDEX(Data_kom2,MATCH(1,(komnavn2=B38)*(komaar2=D38),0),19))","v":""},{"$f":"IF(B38=\"\",\"\",INDEX(Data_kom2,MATCH(1,(komnavn2=B38)*(komaar2=D38),0),20))","v":""},{"$f":"IF(B38=\"\",\"\",INDEX(Data_kom2,MATCH(1,(komnavn2=B38)*(komaar2=D38),0),21))","v":""},{"$f":"IF(B38=\"\",\"\",INDEX(Data_kom2,MATCH(1,(komnavn2=B38)*(komaar2=D38),0),22))","v":""},{"$f":"IF(B38=\"\",\"\",INDEX(Data_kom2,MATCH(1,(komnavn2=B38)*(komaar2=D38),0),23))","v":""},{"$f":"IF(B38=\"\",\"\",INDEX(Data_kom2,MATCH(1,(komnavn2=B38)*(komaar2=D38),0),24))","v":""},{"$f":"IF(B38=\"\",\"\",INDEX(Data_kom2,MATCH(1,(komnavn2=B38)*(komaar2=D38),0),25))","v":""},{"$f":"IF(B38=\"\",\"\",INDEX(Data_kom2,MATCH(1,(komnavn2=B38)*(komaar2=D38),0),26))","v":""},{"$f":"IF(B38=\"\",\"\",INDEX(Data_kom2,MATCH(1,(komnavn2=B38)*(komaar2=D38),0),27))","v":""},{"$f":"IF(B38=\"\",\"\",INDEX(Data_kom2,MATCH(1,(komnavn2=B38)*(komaar2=D38),0),28))","v":""},{"$f":"IF(B38=\"\",\"\",INDEX(Data_kom2,MATCH(1,(komnavn2=B38)*(komaar2=D38),0),29))","v":""},{"$f":"IF(B38=\"\",\"\",INDEX(Data_kom2,MATCH(1,(komnavn2=B38)*(komaar2=D38),0),30))","v":""},{"$f":"IF(B38=\"\",\"\",INDEX(Data_kom2,MATCH(1,(komnavn2=B38)*(komaar2=D38),0),31))","v":""},{"$f":"IF(B38=\"\",\"\",INDEX(Data_kom2,MATCH(1,(komnavn2=B38)*(komaar2=D38),0),32))","v":""},{"$f":"IF(B38=\"\",\"\",INDEX(Data_kom2,MATCH(1,(komnavn2=B38)*(komaar2=D38),0),33))","v":""},{"$f":"IF(B38=\"\",\"\",INDEX(Data_kom2,MATCH(1,(komnavn2=B38)*(komaar2=D38),0),34))","v":""},{"$f":"IF(B38=\"\",\"\",INDEX(Data_kom2,MATCH(1,(komnavn2=B38)*(komaar2=D38),0),35))","v":""},{"$f":"IF(B38=\"\",\"\",INDEX(Data_kom2,MATCH(1,(komnavn2=B38)*(komaar2=D38),0),36))","v":""},{"$f":"IF(B38=\"\",\"\",INDEX(Data_kom2,MATCH(1,(komnavn2=B38)*(komaar2=D38),0),37))","v":""},{"$f":"IF(B38=\"\",\"\",INDEX(Data_kom2,MATCH(1,(komnavn2=B38)*(komaar2=D38),0),38))","v":""}]
[null,{"$f":"'Dine valg'!$G$28","v":""},{"$f":"IF(B39=\"\",\"\",INDEX(Data_kom2,MATCH(1,(komnavn2=B39)*(komaar2=D39),0),2))","v":""},"2022-01-01",{"$f":"IF(B39=\"\",\"\",INDEX(Data_kom2,MATCH(1,(komnavn2=B39)*(komaar2=D39),0),4))","v":""},{"$f":"IF(B39=\"\",\"\",INDEX(Data_kom2,MATCH(1,(komnavn2=B39)*(komaar2=D39),0),5))","v":""},{"$f":"IF(B39=\"\",\"\",INDEX(Data_kom2,MATCH(1,(komnavn2=B39)*(komaar2=D39),0),6))","v":""},{"$f":"IF(B39=\"\",\"\",INDEX(Data_kom2,MATCH(1,(komnavn2=B39)*(komaar2=D39),0),7))","v":""},{"$f":"IF(B39=\"\",\"\",INDEX(Data_kom2,MATCH(1,(komnavn2=B39)*(komaar2=D39),0),8))","v":""},{"$f":"IF(B39=\"\",\"\",INDEX(Data_kom2,MATCH(1,(komnavn2=B39)*(komaar2=D39),0),9))","v":""},{"$f":"IF(B39=\"\",\"\",INDEX(Data_kom2,MATCH(1,(komnavn2=B39)*(komaar2=D39),0),10))","v":""},{"$f":"IF(B39=\"\",\"\",INDEX(Data_kom2,MATCH(1,(komnavn2=B39)*(komaar2=D39),0),11))","v":""},{"$f":"IF(B39=\"\",\"\",INDEX(Data_kom2,MATCH(1,(komnavn2=B39)*(komaar2=D39),0),12))","v":""},{"$f":"IF(B39=\"\",\"\",INDEX(Data_kom2,MATCH(1,(komnavn2=B39)*(komaar2=D39),0),13))","v":""},{"$f":"IF(B39=\"\",\"\",INDEX(Data_kom2,MATCH(1,(komnavn2=B39)*(komaar2=D39),0),14))","v":""},{"$f":"IF(B39=\"\",\"\",INDEX(Data_kom2,MATCH(1,(komnavn2=B39)*(komaar2=D39),0),15))","v":""},{"$f":"IF(B39=\"\",\"\",INDEX(Data_kom2,MATCH(1,(komnavn2=B39)*(komaar2=D39),0),16))","v":""},{"$f":"IF(B39=\"\",\"\",INDEX(Data_kom2,MATCH(1,(komnavn2=B39)*(komaar2=D39),0),17))","v":""},{"$f":"IF(B39=\"\",\"\",INDEX(Data_kom2,MATCH(1,(komnavn2=B39)*(komaar2=D39),0),18))","v":""},{"$f":"IF(B39=\"\",\"\",INDEX(Data_kom2,MATCH(1,(komnavn2=B39)*(komaar2=D39),0),19))","v":""},{"$f":"IF(B39=\"\",\"\",INDEX(Data_kom2,MATCH(1,(komnavn2=B39)*(komaar2=D39),0),20))","v":""},{"$f":"IF(B39=\"\",\"\",INDEX(Data_kom2,MATCH(1,(komnavn2=B39)*(komaar2=D39),0),21))","v":""},{"$f":"IF(B39=\"\",\"\",INDEX(Data_kom2,MATCH(1,(komnavn2=B39)*(komaar2=D39),0),22))","v":""},{"$f":"IF(B39=\"\",\"\",INDEX(Data_kom2,MATCH(1,(komnavn2=B39)*(komaar2=D39),0),23))","v":""},{"$f":"IF(B39=\"\",\"\",INDEX(Data_kom2,MATCH(1,(komnavn2=B39)*(komaar2=D39),0),24))","v":""},{"$f":"IF(B39=\"\",\"\",INDEX(Data_kom2,MATCH(1,(komnavn2=B39)*(komaar2=D39),0),25))","v":""},{"$f":"IF(B39=\"\",\"\",INDEX(Data_kom2,MATCH(1,(komnavn2=B39)*(komaar2=D39),0),26))","v":""},{"$f":"IF(B39=\"\",\"\",INDEX(Data_kom2,MATCH(1,(komnavn2=B39)*(komaar2=D39),0),27))","v":""},{"$f":"IF(B39=\"\",\"\",INDEX(Data_kom2,MATCH(1,(komnavn2=B39)*(komaar2=D39),0),28))","v":""},{"$f":"IF(B39=\"\",\"\",INDEX(Data_kom2,MATCH(1,(komnavn2=B39)*(komaar2=D39),0),29))","v":""},{"$f":"IF(B39=\"\",\"\",INDEX(Data_kom2,MATCH(1,(komnavn2=B39)*(komaar2=D39),0),30))","v":""},{"$f":"IF(B39=\"\",\"\",INDEX(Data_kom2,MATCH(1,(komnavn2=B39)*(komaar2=D39),0),31))","v":""},{"$f":"IF(B39=\"\",\"\",INDEX(Data_kom2,MATCH(1,(komnavn2=B39)*(komaar2=D39),0),32))","v":""},{"$f":"IF(B39=\"\",\"\",INDEX(Data_kom2,MATCH(1,(komnavn2=B39)*(komaar2=D39),0),33))","v":""},{"$f":"IF(B39=\"\",\"\",INDEX(Data_kom2,MATCH(1,(komnavn2=B39)*(komaar2=D39),0),34))","v":""},{"$f":"IF(B39=\"\",\"\",INDEX(Data_kom2,MATCH(1,(komnavn2=B39)*(komaar2=D39),0),35))","v":""},{"$f":"IF(B39=\"\",\"\",INDEX(Data_kom2,MATCH(1,(komnavn2=B39)*(komaar2=D39),0),36))","v":""},{"$f":"IF(B39=\"\",\"\",INDEX(Data_kom2,MATCH(1,(komnavn2=B39)*(komaar2=D39),0),37))","v":""},{"$f":"IF(B39=\"\",\"\",INDEX(Data_kom2,MATCH(1,(komnavn2=B39)*(komaar2=D39),0),38))","v":""}]
[null,{"$f":"'Dine valg'!$G$29","v":""},{"$f":"IF(B40=\"\",\"\",INDEX(Data_kom2,MATCH(1,(komnavn2=B40)*(komaar2=D40),0),2))","v":""},"2022-01-01",{"$f":"IF(B40=\"\",\"\",INDEX(Data_kom2,MATCH(1,(komnavn2=B40)*(komaar2=D40),0),4))","v":""},{"$f":"IF(B40=\"\",\"\",INDEX(Data_kom2,MATCH(1,(komnavn2=B40)*(komaar2=D40),0),5))","v":""},{"$f":"IF(B40=\"\",\"\",INDEX(Data_kom2,MATCH(1,(komnavn2=B40)*(komaar2=D40),0),6))","v":""},{"$f":"IF(B40=\"\",\"\",INDEX(Data_kom2,MATCH(1,(komnavn2=B40)*(komaar2=D40),0),7))","v":""},{"$f":"IF(B40=\"\",\"\",INDEX(Data_kom2,MATCH(1,(komnavn2=B40)*(komaar2=D40),0),8))","v":""},{"$f":"IF(B40=\"\",\"\",INDEX(Data_kom2,MATCH(1,(komnavn2=B40)*(komaar2=D40),0),9))","v":""},{"$f":"IF(B40=\"\",\"\",INDEX(Data_kom2,MATCH(1,(komnavn2=B40)*(komaar2=D40),0),10))","v":""},{"$f":"IF(B40=\"\",\"\",INDEX(Data_kom2,MATCH(1,(komnavn2=B40)*(komaar2=D40),0),11))","v":""},{"$f":"IF(B40=\"\",\"\",INDEX(Data_kom2,MATCH(1,(komnavn2=B40)*(komaar2=D40),0),12))","v":""},{"$f":"IF(B40=\"\",\"\",INDEX(Data_kom2,MATCH(1,(komnavn2=B40)*(komaar2=D40),0),13))","v":""},{"$f":"IF(B40=\"\",\"\",INDEX(Data_kom2,MATCH(1,(komnavn2=B40)*(komaar2=D40),0),14))","v":""},{"$f":"IF(B40=\"\",\"\",INDEX(Data_kom2,MATCH(1,(komnavn2=B40)*(komaar2=D40),0),15))","v":""},{"$f":"IF(B40=\"\",\"\",INDEX(Data_kom2,MATCH(1,(komnavn2=B40)*(komaar2=D40),0),16))","v":""},{"$f":"IF(B40=\"\",\"\",INDEX(Data_kom2,MATCH(1,(komnavn2=B40)*(komaar2=D40),0),17))","v":""},{"$f":"IF(B40=\"\",\"\",INDEX(Data_kom2,MATCH(1,(komnavn2=B40)*(komaar2=D40),0),18))","v":""},{"$f":"IF(B40=\"\",\"\",INDEX(Data_kom2,MATCH(1,(komnavn2=B40)*(komaar2=D40),0),19))","v":""},{"$f":"IF(B40=\"\",\"\",INDEX(Data_kom2,MATCH(1,(komnavn2=B40)*(komaar2=D40),0),20))","v":""},{"$f":"IF(B40=\"\",\"\",INDEX(Data_kom2,MATCH(1,(komnavn2=B40)*(komaar2=D40),0),21))","v":""},{"$f":"IF(B40=\"\",\"\",INDEX(Data_kom2,MATCH(1,(komnavn2=B40)*(komaar2=D40),0),22))","v":""},{"$f":"IF(B40=\"\",\"\",INDEX(Data_kom2,MATCH(1,(komnavn2=B40)*(komaar2=D40),0),23))","v":""},{"$f":"IF(B40=\"\",\"\",INDEX(Data_kom2,MATCH(1,(komnavn2=B40)*(komaar2=D40),0),24))","v":""},{"$f":"IF(B40=\"\",\"\",INDEX(Data_kom2,MATCH(1,(komnavn2=B40)*(komaar2=D40),0),25))","v":""},{"$f":"IF(B40=\"\",\"\",INDEX(Data_kom2,MATCH(1,(komnavn2=B40)*(komaar2=D40),0),26))","v":""},{"$f":"IF(B40=\"\",\"\",INDEX(Data_kom2,MATCH(1,(komnavn2=B40)*(komaar2=D40),0),27))","v":""},{"$f":"IF(B40=\"\",\"\",INDEX(Data_kom2,MATCH(1,(komnavn2=B40)*(komaar2=D40),0),28))","v":""},{"$f":"IF(B40=\"\",\"\",INDEX(Data_kom2,MATCH(1,(komnavn2=B40)*(komaar2=D40),0),29))","v":""},{"$f":"IF(B40=\"\",\"\",INDEX(Data_kom2,MATCH(1,(komnavn2=B40)*(komaar2=D40),0),30))","v":""},{"$f":"IF(B40=\"\",\"\",INDEX(Data_kom2,MATCH(1,(komnavn2=B40)*(komaar2=D40),0),31))","v":""},{"$f":"IF(B40=\"\",\"\",INDEX(Data_kom2,MATCH(1,(komnavn2=B40)*(komaar2=D40),0),32))","v":""},{"$f":"IF(B40=\"\",\"\",INDEX(Data_kom2,MATCH(1,(komnavn2=B40)*(komaar2=D40),0),33))","v":""},{"$f":"IF(B40=\"\",\"\",INDEX(Data_kom2,MATCH(1,(komnavn2=B40)*(komaar2=D40),0),34))","v":""},{"$f":"IF(B40=\"\",\"\",INDEX(Data_kom2,MATCH(1,(komnavn2=B40)*(komaar2=D40),0),35))","v":""},{"$f":"IF(B40=\"\",\"\",INDEX(Data_kom2,MATCH(1,(komnavn2=B40)*(komaar2=D40),0),36))","v":""},{"$f":"IF(B40=\"\",\"\",INDEX(Data_kom2,MATCH(1,(komnavn2=B40)*(komaar2=D40),0),37))","v":""},{"$f":"IF(B40=\"\",\"\",INDEX(Data_kom2,MATCH(1,(komnavn2=B40)*(komaar2=D40),0),38))","v":""}]
[null,{"$f":"'Dine valg'!$G$30","v":""},{"$f":"IF(B41=\"\",\"\",INDEX(Data_kom2,MATCH(1,(komnavn2=B41)*(komaar2=D41),0),2))","v":""},"2022-01-01",{"$f":"IF(B41=\"\",\"\",INDEX(Data_kom2,MATCH(1,(komnavn2=B41)*(komaar2=D41),0),4))","v":""},{"$f":"IF(B41=\"\",\"\",INDEX(Data_kom2,MATCH(1,(komnavn2=B41)*(komaar2=D41),0),5))","v":""},{"$f":"IF(B41=\"\",\"\",INDEX(Data_kom2,MATCH(1,(komnavn2=B41)*(komaar2=D41),0),6))","v":""},{"$f":"IF(B41=\"\",\"\",INDEX(Data_kom2,MATCH(1,(komnavn2=B41)*(komaar2=D41),0),7))","v":""},{"$f":"IF(B41=\"\",\"\",INDEX(Data_kom2,MATCH(1,(komnavn2=B41)*(komaar2=D41),0),8))","v":""},{"$f":"IF(B41=\"\",\"\",INDEX(Data_kom2,MATCH(1,(komnavn2=B41)*(komaar2=D41),0),9))","v":""},{"$f":"IF(B41=\"\",\"\",INDEX(Data_kom2,MATCH(1,(komnavn2=B41)*(komaar2=D41),0),10))","v":""},{"$f":"IF(B41=\"\",\"\",INDEX(Data_kom2,MATCH(1,(komnavn2=B41)*(komaar2=D41),0),11))","v":""},{"$f":"IF(B41=\"\",\"\",INDEX(Data_kom2,MATCH(1,(komnavn2=B41)*(komaar2=D41),0),12))","v":""},{"$f":"IF(B41=\"\",\"\",INDEX(Data_kom2,MATCH(1,(komnavn2=B41)*(komaar2=D41),0),13))","v":""},{"$f":"IF(B41=\"\",\"\",INDEX(Data_kom2,MATCH(1,(komnavn2=B41)*(komaar2=D41),0),14))","v":""},{"$f":"IF(B41=\"\",\"\",INDEX(Data_kom2,MATCH(1,(komnavn2=B41)*(komaar2=D41),0),15))","v":""},{"$f":"IF(B41=\"\",\"\",INDEX(Data_kom2,MATCH(1,(komnavn2=B41)*(komaar2=D41),0),16))","v":""},{"$f":"IF(B41=\"\",\"\",INDEX(Data_kom2,MATCH(1,(komnavn2=B41)*(komaar2=D41),0),17))","v":""},{"$f":"IF(B41=\"\",\"\",INDEX(Data_kom2,MATCH(1,(komnavn2=B41)*(komaar2=D41),0),18))","v":""},{"$f":"IF(B41=\"\",\"\",INDEX(Data_kom2,MATCH(1,(komnavn2=B41)*(komaar2=D41),0),19))","v":""},{"$f":"IF(B41=\"\",\"\",INDEX(Data_kom2,MATCH(1,(komnavn2=B41)*(komaar2=D41),0),20))","v":""},{"$f":"IF(B41=\"\",\"\",INDEX(Data_kom2,MATCH(1,(komnavn2=B41)*(komaar2=D41),0),21))","v":""},{"$f":"IF(B41=\"\",\"\",INDEX(Data_kom2,MATCH(1,(komnavn2=B41)*(komaar2=D41),0),22))","v":""},{"$f":"IF(B41=\"\",\"\",INDEX(Data_kom2,MATCH(1,(komnavn2=B41)*(komaar2=D41),0),23))","v":""},{"$f":"IF(B41=\"\",\"\",INDEX(Data_kom2,MATCH(1,(komnavn2=B41)*(komaar2=D41),0),24))","v":""},{"$f":"IF(B41=\"\",\"\",INDEX(Data_kom2,MATCH(1,(komnavn2=B41)*(komaar2=D41),0),25))","v":""},{"$f":"IF(B41=\"\",\"\",INDEX(Data_kom2,MATCH(1,(komnavn2=B41)*(komaar2=D41),0),26))","v":""},{"$f":"IF(B41=\"\",\"\",INDEX(Data_kom2,MATCH(1,(komnavn2=B41)*(komaar2=D41),0),27))","v":""},{"$f":"IF(B41=\"\",\"\",INDEX(Data_kom2,MATCH(1,(komnavn2=B41)*(komaar2=D41),0),28))","v":""},{"$f":"IF(B41=\"\",\"\",INDEX(Data_kom2,MATCH(1,(komnavn2=B41)*(komaar2=D41),0),29))","v":""},{"$f":"IF(B41=\"\",\"\",INDEX(Data_kom2,MATCH(1,(komnavn2=B41)*(komaar2=D41),0),30))","v":""},{"$f":"IF(B41=\"\",\"\",INDEX(Data_kom2,MATCH(1,(komnavn2=B41)*(komaar2=D41),0),31))","v":""},{"$f":"IF(B41=\"\",\"\",INDEX(Data_kom2,MATCH(1,(komnavn2=B41)*(komaar2=D41),0),32))","v":""},{"$f":"IF(B41=\"\",\"\",INDEX(Data_kom2,MATCH(1,(komnavn2=B41)*(komaar2=D41),0),33))","v":""},{"$f":"IF(B41=\"\",\"\",INDEX(Data_kom2,MATCH(1,(komnavn2=B41)*(komaar2=D41),0),34))","v":""},{"$f":"IF(B41=\"\",\"\",INDEX(Data_kom2,MATCH(1,(komnavn2=B41)*(komaar2=D41),0),35))","v":""},{"$f":"IF(B41=\"\",\"\",INDEX(Data_kom2,MATCH(1,(komnavn2=B41)*(komaar2=D41),0),36))","v":""},{"$f":"IF(B41=\"\",\"\",INDEX(Data_kom2,MATCH(1,(komnavn2=B41)*(komaar2=D41),0),37))","v":""},{"$f":"IF(B41=\"\",\"\",INDEX(Data_kom2,MATCH(1,(komnavn2=B41)*(komaar2=D41),0),38))","v":""}]
[null,{"$f":"'Dine valg'!$G$24","v":"Aarhus"},{"$f":"IF(B42=\"\",\"\",INDEX(Data_kom2,MATCH(1,(komnavn2=B42)*(komaar2=D42),0),2))","v":64307},"2021-07-01",{"$f":"IF(B42=\"\",\"\",INDEX(Data_kom2,MATCH(1,(komnavn2=B42)*(komaar2=D42),0),4))","v":168},{"$f":"IF(B42=\"\",\"\",INDEX(Data_kom2,MATCH(1,(komnavn2=B42)*(komaar2=D42),0),5))","v":112},{"$f":"IF(B42=\"\",\"\",INDEX(Data_kom2,MATCH(1,(komnavn2=B42)*(komaar2=D42),0),6))","v":11},{"$f":"IF(B42=\"\",\"\",INDEX(Data_kom2,MATCH(1,(komnavn2=B42)*(komaar2=D42),0),7))","v":45},{"$f":"IF(B42=\"\",\"\",INDEX(Data_kom2,MATCH(1,(komnavn2=B42)*(komaar2=D42),0),8))","v":149129},{"$f":"IF(B42=\"\",\"\",INDEX(Data_kom2,MATCH(1,(komnavn2=B42)*(komaar2=D42),0),9))","v":125178},{"$f":"IF(B42=\"\",\"\",INDEX(Data_kom2,MATCH(1,(komnavn2=B42)*(komaar2=D42),0),10))","v":2319},{"$f":"IF(B42=\"\",\"\",INDEX(Data_kom2,MATCH(1,(komnavn2=B42)*(komaar2=D42),0),11))","v":21632},{"$f":"IF(B42=\"\",\"\",INDEX(Data_kom2,MATCH(1,(komnavn2=B42)*(komaar2=D42),0),12))","v":232},{"$f":"IF(B42=\"\",\"\",INDEX(Data_kom2,MATCH(1,(komnavn2=B42)*(komaar2=D42),0),13))","v":25},{"$f":"IF(B42=\"\",\"\",INDEX(Data_kom2,MATCH(1,(komnavn2=B42)*(komaar2=D42),0),14))","v":1220},{"$f":"IF(B42=\"\",\"\",INDEX(Data_kom2,MATCH(1,(komnavn2=B42)*(komaar2=D42),0),15))","v":"*"},{"$f":"IF(B42=\"\",\"\",INDEX(Data_kom2,MATCH(1,(komnavn2=B42)*(komaar2=D42),0),16))","v":"*"},{"$f":"IF(B42=\"\",\"\",INDEX(Data_kom2,MATCH(1,(komnavn2=B42)*(komaar2=D42),0),17))","v":1207},{"$f":"IF(B42=\"\",\"\",INDEX(Data_kom2,MATCH(1,(komnavn2=B42)*(komaar2=D42),0),18))","v":10},{"$f":"IF(B42=\"\",\"\",INDEX(Data_kom2,MATCH(1,(komnavn2=B42)*(komaar2=D42),0),19))","v":0},{"$f":"IF(B42=\"\",\"\",INDEX(Data_kom2,MATCH(1,(komnavn2=B42)*(komaar2=D42),0),20))","v":0},{"$f":"IF(B42=\"\",\"\",INDEX(Data_kom2,MATCH(1,(komnavn2=B42)*(komaar2=D42),0),21))","v":0},{"$f":"IF(B42=\"\",\"\",INDEX(Data_kom2,MATCH(1,(komnavn2=B42)*(komaar2=D42),0),22))","v":31},{"$f":"IF(B42=\"\",\"\",INDEX(Data_kom2,MATCH(1,(komnavn2=B42)*(komaar2=D42),0),23))","v":169},{"$f":"IF(B42=\"\",\"\",INDEX(Data_kom2,MATCH(1,(komnavn2=B42)*(komaar2=D42),0),24))","v":3},{"$f":"IF(B42=\"\",\"\",INDEX(Data_kom2,MATCH(1,(komnavn2=B42)*(komaar2=D42),0),25))","v":169},{"$f":"IF(B42=\"\",\"\",INDEX(Data_kom2,MATCH(1,(komnavn2=B42)*(komaar2=D42),0),26))","v":28},{"$f":"IF(B42=\"\",\"\",INDEX(Data_kom2,MATCH(1,(komnavn2=B42)*(komaar2=D42),0),27))","v":169},{"$f":"IF(B42=\"\",\"\",INDEX(Data_kom2,MATCH(1,(komnavn2=B42)*(komaar2=D42),0),28))","v":24},{"$f":"IF(B42=\"\",\"\",INDEX(Data_kom2,MATCH(1,(komnavn2=B42)*(komaar2=D42),0),29))","v":1242},{"$f":"IF(B42=\"\",\"\",INDEX(Data_kom2,MATCH(1,(komnavn2=B42)*(komaar2=D42),0),30))","v":331},{"$f":"IF(B42=\"\",\"\",INDEX(Data_kom2,MATCH(1,(komnavn2=B42)*(komaar2=D42),0),31))","v":1246},{"$f":"IF(B42=\"\",\"\",INDEX(Data_kom2,MATCH(1,(komnavn2=B42)*(komaar2=D42),0),32))","v":0},{"$f":"IF(B42=\"\",\"\",INDEX(Data_kom2,MATCH(1,(komnavn2=B42)*(komaar2=D42),0),33))","v":0},{"$f":"IF(B42=\"\",\"\",INDEX(Data_kom2,MATCH(1,(komnavn2=B42)*(komaar2=D42),0),34))","v":0},{"$f":"IF(B42=\"\",\"\",INDEX(Data_kom2,MATCH(1,(komnavn2=B42)*(komaar2=D42),0),35))","v":0},{"$f":"IF(B42=\"\",\"\",INDEX(Data_kom2,MATCH(1,(komnavn2=B42)*(komaar2=D42),0),36))","v":0},{"$f":"IF(B42=\"\",\"\",INDEX(Data_kom2,MATCH(1,(komnavn2=B42)*(komaar2=D42),0),37))","v":0},{"$f":"IF(B42=\"\",\"\",INDEX(Data_kom2,MATCH(1,(komnavn2=B42)*(komaar2=D42),0),38))","v":"Region Midtjylland"}]
[null,{"$f":"'Dine valg'!$G$25","v":""},{"$f":"IF(B43=\"\",\"\",INDEX(Data_kom2,MATCH(1,(komnavn2=B43)*(komaar2=D43),0),2))","v":""},"2021-07-01",{"$f":"IF(B43=\"\",\"\",INDEX(Data_kom2,MATCH(1,(komnavn2=B43)*(komaar2=D43),0),4))","v":""},{"$f":"IF(B43=\"\",\"\",INDEX(Data_kom2,MATCH(1,(komnavn2=B43)*(komaar2=D43),0),5))","v":""},{"$f":"IF(B43=\"\",\"\",INDEX(Data_kom2,MATCH(1,(komnavn2=B43)*(komaar2=D43),0),6))","v":""},{"$f":"IF(B43=\"\",\"\",INDEX(Data_kom2,MATCH(1,(komnavn2=B43)*(komaar2=D43),0),7))","v":""},{"$f":"IF(B43=\"\",\"\",INDEX(Data_kom2,MATCH(1,(komnavn2=B43)*(komaar2=D43),0),8))","v":""},{"$f":"IF(B43=\"\",\"\",INDEX(Data_kom2,MATCH(1,(komnavn2=B43)*(komaar2=D43),0),9))","v":""},{"$f":"IF(B43=\"\",\"\",INDEX(Data_kom2,MATCH(1,(komnavn2=B43)*(komaar2=D43),0),10))","v":""},{"$f":"IF(B43=\"\",\"\",INDEX(Data_kom2,MATCH(1,(komnavn2=B43)*(komaar2=D43),0),11))","v":""},{"$f":"IF(B43=\"\",\"\",INDEX(Data_kom2,MATCH(1,(komnavn2=B43)*(komaar2=D43),0),12))","v":""},{"$f":"IF(B43=\"\",\"\",INDEX(Data_kom2,MATCH(1,(komnavn2=B43)*(komaar2=D43),0),13))","v":""},{"$f":"IF(B43=\"\",\"\",INDEX(Data_kom2,MATCH(1,(komnavn2=B43)*(komaar2=D43),0),14))","v":""},{"$f":"IF(B43=\"\",\"\",INDEX(Data_kom2,MATCH(1,(komnavn2=B43)*(komaar2=D43),0),15))","v":""},{"$f":"IF(B43=\"\",\"\",INDEX(Data_kom2,MATCH(1,(komnavn2=B43)*(komaar2=D43),0),16))","v":""},{"$f":"IF(B43=\"\",\"\",INDEX(Data_kom2,MATCH(1,(komnavn2=B43)*(komaar2=D43),0),17))","v":""},{"$f":"IF(B43=\"\",\"\",INDEX(Data_kom2,MATCH(1,(komnavn2=B43)*(komaar2=D43),0),18))","v":""},{"$f":"IF(B43=\"\",\"\",INDEX(Data_kom2,MATCH(1,(komnavn2=B43)*(komaar2=D43),0),19))","v":""},{"$f":"IF(B43=\"\",\"\",INDEX(Data_kom2,MATCH(1,(komnavn2=B43)*(komaar2=D43),0),20))","v":""},{"$f":"IF(B43=\"\",\"\",INDEX(Data_kom2,MATCH(1,(komnavn2=B43)*(komaar2=D43),0),21))","v":""},{"$f":"IF(B43=\"\",\"\",INDEX(Data_kom2,MATCH(1,(komnavn2=B43)*(komaar2=D43),0),22))","v":""},{"$f":"IF(B43=\"\",\"\",INDEX(Data_kom2,MATCH(1,(komnavn2=B43)*(komaar2=D43),0),23))","v":""},{"$f":"IF(B43=\"\",\"\",INDEX(Data_kom2,MATCH(1,(komnavn2=B43)*(komaar2=D43),0),24))","v":""},{"$f":"IF(B43=\"\",\"\",INDEX(Data_kom2,MATCH(1,(komnavn2=B43)*(komaar2=D43),0),25))","v":""},{"$f":"IF(B43=\"\",\"\",INDEX(Data_kom2,MATCH(1,(komnavn2=B43)*(komaar2=D43),0),26))","v":""},{"$f":"IF(B43=\"\",\"\",INDEX(Data_kom2,MATCH(1,(komnavn2=B43)*(komaar2=D43),0),27))","v":""},{"$f":"IF(B43=\"\",\"\",INDEX(Data_kom2,MATCH(1,(komnavn2=B43)*(komaar2=D43),0),28))","v":""},{"$f":"IF(B43=\"\",\"\",INDEX(Data_kom2,MATCH(1,(komnavn2=B43)*(komaar2=D43),0),29))","v":""},{"$f":"IF(B43=\"\",\"\",INDEX(Data_kom2,MATCH(1,(komnavn2=B43)*(komaar2=D43),0),30))","v":""},{"$f":"IF(B43=\"\",\"\",INDEX(Data_kom2,MATCH(1,(komnavn2=B43)*(komaar2=D43),0),31))","v":""},{"$f":"IF(B43=\"\",\"\",INDEX(Data_kom2,MATCH(1,(komnavn2=B43)*(komaar2=D43),0),32))","v":""},{"$f":"IF(B43=\"\",\"\",INDEX(Data_kom2,MATCH(1,(komnavn2=B43)*(komaar2=D43),0),33))","v":""},{"$f":"IF(B43=\"\",\"\",INDEX(Data_kom2,MATCH(1,(komnavn2=B43)*(komaar2=D43),0),34))","v":""},{"$f":"IF(B43=\"\",\"\",INDEX(Data_kom2,MATCH(1,(komnavn2=B43)*(komaar2=D43),0),35))","v":""},{"$f":"IF(B43=\"\",\"\",INDEX(Data_kom2,MATCH(1,(komnavn2=B43)*(komaar2=D43),0),36))","v":""},{"$f":"IF(B43=\"\",\"\",INDEX(Data_kom2,MATCH(1,(komnavn2=B43)*(komaar2=D43),0),37))","v":""},{"$f":"IF(B43=\"\",\"\",INDEX(Data_kom2,MATCH(1,(komnavn2=B43)*(komaar2=D43),0),38))","v":""}]
[null,{"$f":"'Dine valg'!$G$26","v":""},{"$f":"IF(B44=\"\",\"\",INDEX(Data_kom2,MATCH(1,(komnavn2=B44)*(komaar2=D44),0),2))","v":""},"2021-07-01",{"$f":"IF(B44=\"\",\"\",INDEX(Data_kom2,MATCH(1,(komnavn2=B44)*(komaar2=D44),0),4))","v":""},{"$f":"IF(B44=\"\",\"\",INDEX(Data_kom2,MATCH(1,(komnavn2=B44)*(komaar2=D44),0),5))","v":""},{"$f":"IF(B44=\"\",\"\",INDEX(Data_kom2,MATCH(1,(komnavn2=B44)*(komaar2=D44),0),6))","v":""},{"$f":"IF(B44=\"\",\"\",INDEX(Data_kom2,MATCH(1,(komnavn2=B44)*(komaar2=D44),0),7))","v":""},{"$f":"IF(B44=\"\",\"\",INDEX(Data_kom2,MATCH(1,(komnavn2=B44)*(komaar2=D44),0),8))","v":""},{"$f":"IF(B44=\"\",\"\",INDEX(Data_kom2,MATCH(1,(komnavn2=B44)*(komaar2=D44),0),9))","v":""},{"$f":"IF(B44=\"\",\"\",INDEX(Data_kom2,MATCH(1,(komnavn2=B44)*(komaar2=D44),0),10))","v":""},{"$f":"IF(B44=\"\",\"\",INDEX(Data_kom2,MATCH(1,(komnavn2=B44)*(komaar2=D44),0),11))","v":""},{"$f":"IF(B44=\"\",\"\",INDEX(Data_kom2,MATCH(1,(komnavn2=B44)*(komaar2=D44),0),12))","v":""},{"$f":"IF(B44=\"\",\"\",INDEX(Data_kom2,MATCH(1,(komnavn2=B44)*(komaar2=D44),0),13))","v":""},{"$f":"IF(B44=\"\",\"\",INDEX(Data_kom2,MATCH(1,(komnavn2=B44)*(komaar2=D44),0),14))","v":""},{"$f":"IF(B44=\"\",\"\",INDEX(Data_kom2,MATCH(1,(komnavn2=B44)*(komaar2=D44),0),15))","v":""},{"$f":"IF(B44=\"\",\"\",INDEX(Data_kom2,MATCH(1,(komnavn2=B44)*(komaar2=D44),0),16))","v":""},{"$f":"IF(B44=\"\",\"\",INDEX(Data_kom2,MATCH(1,(komnavn2=B44)*(komaar2=D44),0),17))","v":""},{"$f":"IF(B44=\"\",\"\",INDEX(Data_kom2,MATCH(1,(komnavn2=B44)*(komaar2=D44),0),18))","v":""},{"$f":"IF(B44=\"\",\"\",INDEX(Data_kom2,MATCH(1,(komnavn2=B44)*(komaar2=D44),0),19))","v":""},{"$f":"IF(B44=\"\",\"\",INDEX(Data_kom2,MATCH(1,(komnavn2=B44)*(komaar2=D44),0),20))","v":""},{"$f":"IF(B44=\"\",\"\",INDEX(Data_kom2,MATCH(1,(komnavn2=B44)*(komaar2=D44),0),21))","v":""},{"$f":"IF(B44=\"\",\"\",INDEX(Data_kom2,MATCH(1,(komnavn2=B44)*(komaar2=D44),0),22))","v":""},{"$f":"IF(B44=\"\",\"\",INDEX(Data_kom2,MATCH(1,(komnavn2=B44)*(komaar2=D44),0),23))","v":""},{"$f":"IF(B44=\"\",\"\",INDEX(Data_kom2,MATCH(1,(komnavn2=B44)*(komaar2=D44),0),24))","v":""},{"$f":"IF(B44=\"\",\"\",INDEX(Data_kom2,MATCH(1,(komnavn2=B44)*(komaar2=D44),0),25))","v":""},{"$f":"IF(B44=\"\",\"\",INDEX(Data_kom2,MATCH(1,(komnavn2=B44)*(komaar2=D44),0),26))","v":""},{"$f":"IF(B44=\"\",\"\",INDEX(Data_kom2,MATCH(1,(komnavn2=B44)*(komaar2=D44),0),27))","v":""},{"$f":"IF(B44=\"\",\"\",INDEX(Data_kom2,MATCH(1,(komnavn2=B44)*(komaar2=D44),0),28))","v":""},{"$f":"IF(B44=\"\",\"\",INDEX(Data_kom2,MATCH(1,(komnavn2=B44)*(komaar2=D44),0),29))","v":""},{"$f":"IF(B44=\"\",\"\",INDEX(Data_kom2,MATCH(1,(komnavn2=B44)*(komaar2=D44),0),30))","v":""},{"$f":"IF(B44=\"\",\"\",INDEX(Data_kom2,MATCH(1,(komnavn2=B44)*(komaar2=D44),0),31))","v":""},{"$f":"IF(B44=\"\",\"\",INDEX(Data_kom2,MATCH(1,(komnavn2=B44)*(komaar2=D44),0),32))","v":""},{"$f":"IF(B44=\"\",\"\",INDEX(Data_kom2,MATCH(1,(komnavn2=B44)*(komaar2=D44),0),33))","v":""},{"$f":"IF(B44=\"\",\"\",INDEX(Data_kom2,MATCH(1,(komnavn2=B44)*(komaar2=D44),0),34))","v":""},{"$f":"IF(B44=\"\",\"\",INDEX(Data_kom2,MATCH(1,(komnavn2=B44)*(komaar2=D44),0),35))","v":""},{"$f":"IF(B44=\"\",\"\",INDEX(Data_kom2,MATCH(1,(komnavn2=B44)*(komaar2=D44),0),36))","v":""},{"$f":"IF(B44=\"\",\"\",INDEX(Data_kom2,MATCH(1,(komnavn2=B44)*(komaar2=D44),0),37))","v":""},{"$f":"IF(B44=\"\",\"\",INDEX(Data_kom2,MATCH(1,(komnavn2=B44)*(komaar2=D44),0),38))","v":""}]
[null,{"$f":"'Dine valg'!$G$27","v":""},{"$f":"IF(B45=\"\",\"\",INDEX(Data_kom2,MATCH(1,(komnavn2=B45)*(komaar2=D45),0),2))","v":""},"2021-07-01",{"$f":"IF(B45=\"\",\"\",INDEX(Data_kom2,MATCH(1,(komnavn2=B45)*(komaar2=D45),0),4))","v":""},{"$f":"IF(B45=\"\",\"\",INDEX(Data_kom2,MATCH(1,(komnavn2=B45)*(komaar2=D45),0),5))","v":""},{"$f":"IF(B45=\"\",\"\",INDEX(Data_kom2,MATCH(1,(komnavn2=B45)*(komaar2=D45),0),6))","v":""},{"$f":"IF(B45=\"\",\"\",INDEX(Data_kom2,MATCH(1,(komnavn2=B45)*(komaar2=D45),0),7))","v":""},{"$f":"IF(B45=\"\",\"\",INDEX(Data_kom2,MATCH(1,(komnavn2=B45)*(komaar2=D45),0),8))","v":""},{"$f":"IF(B45=\"\",\"\",INDEX(Data_kom2,MATCH(1,(komnavn2=B45)*(komaar2=D45),0),9))","v":""},{"$f":"IF(B45=\"\",\"\",INDEX(Data_kom2,MATCH(1,(komnavn2=B45)*(komaar2=D45),0),10))","v":""},{"$f":"IF(B45=\"\",\"\",INDEX(Data_kom2,MATCH(1,(komnavn2=B45)*(komaar2=D45),0),11))","v":""},{"$f":"IF(B45=\"\",\"\",INDEX(Data_kom2,MATCH(1,(komnavn2=B45)*(komaar2=D45),0),12))","v":""},{"$f":"IF(B45=\"\",\"\",INDEX(Data_kom2,MATCH(1,(komnavn2=B45)*(komaar2=D45),0),13))","v":""},{"$f":"IF(B45=\"\",\"\",INDEX(Data_kom2,MATCH(1,(komnavn2=B45)*(komaar2=D45),0),14))","v":""},{"$f":"IF(B45=\"\",\"\",INDEX(Data_kom2,MATCH(1,(komnavn2=B45)*(komaar2=D45),0),15))","v":""},{"$f":"IF(B45=\"\",\"\",INDEX(Data_kom2,MATCH(1,(komnavn2=B45)*(komaar2=D45),0),16))","v":""},{"$f":"IF(B45=\"\",\"\",INDEX(Data_kom2,MATCH(1,(komnavn2=B45)*(komaar2=D45),0),17))","v":""},{"$f":"IF(B45=\"\",\"\",INDEX(Data_kom2,MATCH(1,(komnavn2=B45)*(komaar2=D45),0),18))","v":""},{"$f":"IF(B45=\"\",\"\",INDEX(Data_kom2,MATCH(1,(komnavn2=B45)*(komaar2=D45),0),19))","v":""},{"$f":"IF(B45=\"\",\"\",INDEX(Data_kom2,MATCH(1,(komnavn2=B45)*(komaar2=D45),0),20))","v":""},{"$f":"IF(B45=\"\",\"\",INDEX(Data_kom2,MATCH(1,(komnavn2=B45)*(komaar2=D45),0),21))","v":""},{"$f":"IF(B45=\"\",\"\",INDEX(Data_kom2,MATCH(1,(komnavn2=B45)*(komaar2=D45),0),22))","v":""},{"$f":"IF(B45=\"\",\"\",INDEX(Data_kom2,MATCH(1,(komnavn2=B45)*(komaar2=D45),0),23))","v":""},{"$f":"IF(B45=\"\",\"\",INDEX(Data_kom2,MATCH(1,(komnavn2=B45)*(komaar2=D45),0),24))","v":""},{"$f":"IF(B45=\"\",\"\",INDEX(Data_kom2,MATCH(1,(komnavn2=B45)*(komaar2=D45),0),25))","v":""},{"$f":"IF(B45=\"\",\"\",INDEX(Data_kom2,MATCH(1,(komnavn2=B45)*(komaar2=D45),0),26))","v":""},{"$f":"IF(B45=\"\",\"\",INDEX(Data_kom2,MATCH(1,(komnavn2=B45)*(komaar2=D45),0),27))","v":""},{"$f":"IF(B45=\"\",\"\",INDEX(Data_kom2,MATCH(1,(komnavn2=B45)*(komaar2=D45),0),28))","v":""},{"$f":"IF(B45=\"\",\"\",INDEX(Data_kom2,MATCH(1,(komnavn2=B45)*(komaar2=D45),0),29))","v":""},{"$f":"IF(B45=\"\",\"\",INDEX(Data_kom2,MATCH(1,(komnavn2=B45)*(komaar2=D45),0),30))","v":""},{"$f":"IF(B45=\"\",\"\",INDEX(Data_kom2,MATCH(1,(komnavn2=B45)*(komaar2=D45),0),31))","v":""},{"$f":"IF(B45=\"\",\"\",INDEX(Data_kom2,MATCH(1,(komnavn2=B45)*(komaar2=D45),0),32))","v":""},{"$f":"IF(B45=\"\",\"\",INDEX(Data_kom2,MATCH(1,(komnavn2=B45)*(komaar2=D45),0),33))","v":""},{"$f":"IF(B45=\"\",\"\",INDEX(Data_kom2,MATCH(1,(komnavn2=B45)*(komaar2=D45),0),34))","v":""},{"$f":"IF(B45=\"\",\"\",INDEX(Data_kom2,MATCH(1,(komnavn2=B45)*(komaar2=D45),0),35))","v":""},{"$f":"IF(B45=\"\",\"\",INDEX(Data_kom2,MATCH(1,(komnavn2=B45)*(komaar2=D45),0),36))","v":""},{"$f":"IF(B45=\"\",\"\",INDEX(Data_kom2,MATCH(1,(komnavn2=B45)*(komaar2=D45),0),37))","v":""},{"$f":"IF(B45=\"\",\"\",INDEX(Data_kom2,MATCH(1,(komnavn2=B45)*(komaar2=D45),0),38))","v":""}]
[null,{"$f":"'Dine valg'!$G$28","v":""},{"$f":"IF(B46=\"\",\"\",INDEX(Data_kom2,MATCH(1,(komnavn2=B46)*(komaar2=D46),0),2))","v":""},"2021-07-01",{"$f":"IF(B46=\"\",\"\",INDEX(Data_kom2,MATCH(1,(komnavn2=B46)*(komaar2=D46),0),4))","v":""},{"$f":"IF(B46=\"\",\"\",INDEX(Data_kom2,MATCH(1,(komnavn2=B46)*(komaar2=D46),0),5))","v":""},{"$f":"IF(B46=\"\",\"\",INDEX(Data_kom2,MATCH(1,(komnavn2=B46)*(komaar2=D46),0),6))","v":""},{"$f":"IF(B46=\"\",\"\",INDEX(Data_kom2,MATCH(1,(komnavn2=B46)*(komaar2=D46),0),7))","v":""},{"$f":"IF(B46=\"\",\"\",INDEX(Data_kom2,MATCH(1,(komnavn2=B46)*(komaar2=D46),0),8))","v":""},{"$f":"IF(B46=\"\",\"\",INDEX(Data_kom2,MATCH(1,(komnavn2=B46)*(komaar2=D46),0),9))","v":""},{"$f":"IF(B46=\"\",\"\",INDEX(Data_kom2,MATCH(1,(komnavn2=B46)*(komaar2=D46),0),10))","v":""},{"$f":"IF(B46=\"\",\"\",INDEX(Data_kom2,MATCH(1,(komnavn2=B46)*(komaar2=D46),0),11))","v":""},{"$f":"IF(B46=\"\",\"\",INDEX(Data_kom2,MATCH(1,(komnavn2=B46)*(komaar2=D46),0),12))","v":""},{"$f":"IF(B46=\"\",\"\",INDEX(Data_kom2,MATCH(1,(komnavn2=B46)*(komaar2=D46),0),13))","v":""},{"$f":"IF(B46=\"\",\"\",INDEX(Data_kom2,MATCH(1,(komnavn2=B46)*(komaar2=D46),0),14))","v":""},{"$f":"IF(B46=\"\",\"\",INDEX(Data_kom2,MATCH(1,(komnavn2=B46)*(komaar2=D46),0),15))","v":""},{"$f":"IF(B46=\"\",\"\",INDEX(Data_kom2,MATCH(1,(komnavn2=B46)*(komaar2=D46),0),16))","v":""},{"$f":"IF(B46=\"\",\"\",INDEX(Data_kom2,MATCH(1,(komnavn2=B46)*(komaar2=D46),0),17))","v":""},{"$f":"IF(B46=\"\",\"\",INDEX(Data_kom2,MATCH(1,(komnavn2=B46)*(komaar2=D46),0),18))","v":""},{"$f":"IF(B46=\"\",\"\",INDEX(Data_kom2,MATCH(1,(komnavn2=B46)*(komaar2=D46),0),19))","v":""},{"$f":"IF(B46=\"\",\"\",INDEX(Data_kom2,MATCH(1,(komnavn2=B46)*(komaar2=D46),0),20))","v":""},{"$f":"IF(B46=\"\",\"\",INDEX(Data_kom2,MATCH(1,(komnavn2=B46)*(komaar2=D46),0),21))","v":""},{"$f":"IF(B46=\"\",\"\",INDEX(Data_kom2,MATCH(1,(komnavn2=B46)*(komaar2=D46),0),22))","v":""},{"$f":"IF(B46=\"\",\"\",INDEX(Data_kom2,MATCH(1,(komnavn2=B46)*(komaar2=D46),0),23))","v":""},{"$f":"IF(B46=\"\",\"\",INDEX(Data_kom2,MATCH(1,(komnavn2=B46)*(komaar2=D46),0),24))","v":""},{"$f":"IF(B46=\"\",\"\",INDEX(Data_kom2,MATCH(1,(komnavn2=B46)*(komaar2=D46),0),25))","v":""},{"$f":"IF(B46=\"\",\"\",INDEX(Data_kom2,MATCH(1,(komnavn2=B46)*(komaar2=D46),0),26))","v":""},{"$f":"IF(B46=\"\",\"\",INDEX(Data_kom2,MATCH(1,(komnavn2=B46)*(komaar2=D46),0),27))","v":""},{"$f":"IF(B46=\"\",\"\",INDEX(Data_kom2,MATCH(1,(komnavn2=B46)*(komaar2=D46),0),28))","v":""},{"$f":"IF(B46=\"\",\"\",INDEX(Data_kom2,MATCH(1,(komnavn2=B46)*(komaar2=D46),0),29))","v":""},{"$f":"IF(B46=\"\",\"\",INDEX(Data_kom2,MATCH(1,(komnavn2=B46)*(komaar2=D46),0),30))","v":""},{"$f":"IF(B46=\"\",\"\",INDEX(Data_kom2,MATCH(1,(komnavn2=B46)*(komaar2=D46),0),31))","v":""},{"$f":"IF(B46=\"\",\"\",INDEX(Data_kom2,MATCH(1,(komnavn2=B46)*(komaar2=D46),0),32))","v":""},{"$f":"IF(B46=\"\",\"\",INDEX(Data_kom2,MATCH(1,(komnavn2=B46)*(komaar2=D46),0),33))","v":""},{"$f":"IF(B46=\"\",\"\",INDEX(Data_kom2,MATCH(1,(komnavn2=B46)*(komaar2=D46),0),34))","v":""},{"$f":"IF(B46=\"\",\"\",INDEX(Data_kom2,MATCH(1,(komnavn2=B46)*(komaar2=D46),0),35))","v":""},{"$f":"IF(B46=\"\",\"\",INDEX(Data_kom2,MATCH(1,(komnavn2=B46)*(komaar2=D46),0),36))","v":""},{"$f":"IF(B46=\"\",\"\",INDEX(Data_kom2,MATCH(1,(komnavn2=B46)*(komaar2=D46),0),37))","v":""},{"$f":"IF(B46=\"\",\"\",INDEX(Data_kom2,MATCH(1,(komnavn2=B46)*(komaar2=D46),0),38))","v":""}]
[null,{"$f":"'Dine valg'!$G$29","v":""},{"$f":"IF(B47=\"\",\"\",INDEX(Data_kom2,MATCH(1,(komnavn2=B47)*(komaar2=D47),0),2))","v":""},"2021-07-01",{"$f":"IF(B47=\"\",\"\",INDEX(Data_kom2,MATCH(1,(komnavn2=B47)*(komaar2=D47),0),4))","v":""},{"$f":"IF(B47=\"\",\"\",INDEX(Data_kom2,MATCH(1,(komnavn2=B47)*(komaar2=D47),0),5))","v":""},{"$f":"IF(B47=\"\",\"\",INDEX(Data_kom2,MATCH(1,(komnavn2=B47)*(komaar2=D47),0),6))","v":""},{"$f":"IF(B47=\"\",\"\",INDEX(Data_kom2,MATCH(1,(komnavn2=B47)*(komaar2=D47),0),7))","v":""},{"$f":"IF(B47=\"\",\"\",INDEX(Data_kom2,MATCH(1,(komnavn2=B47)*(komaar2=D47),0),8))","v":""},{"$f":"IF(B47=\"\",\"\",INDEX(Data_kom2,MATCH(1,(komnavn2=B47)*(komaar2=D47),0),9))","v":""},{"$f":"IF(B47=\"\",\"\",INDEX(Data_kom2,MATCH(1,(komnavn2=B47)*(komaar2=D47),0),10))","v":""},{"$f":"IF(B47=\"\",\"\",INDEX(Data_kom2,MATCH(1,(komnavn2=B47)*(komaar2=D47),0),11))","v":""},{"$f":"IF(B47=\"\",\"\",INDEX(Data_kom2,MATCH(1,(komnavn2=B47)*(komaar2=D47),0),12))","v":""},{"$f":"IF(B47=\"\",\"\",INDEX(Data_kom2,MATCH(1,(komnavn2=B47)*(komaar2=D47),0),13))","v":""},{"$f":"IF(B47=\"\",\"\",INDEX(Data_kom2,MATCH(1,(komnavn2=B47)*(komaar2=D47),0),14))","v":""},{"$f":"IF(B47=\"\",\"\",INDEX(Data_kom2,MATCH(1,(komnavn2=B47)*(komaar2=D47),0),15))","v":""},{"$f":"IF(B47=\"\",\"\",INDEX(Data_kom2,MATCH(1,(komnavn2=B47)*(komaar2=D47),0),16))","v":""},{"$f":"IF(B47=\"\",\"\",INDEX(Data_kom2,MATCH(1,(komnavn2=B47)*(komaar2=D47),0),17))","v":""},{"$f":"IF(B47=\"\",\"\",INDEX(Data_kom2,MATCH(1,(komnavn2=B47)*(komaar2=D47),0),18))","v":""},{"$f":"IF(B47=\"\",\"\",INDEX(Data_kom2,MATCH(1,(komnavn2=B47)*(komaar2=D47),0),19))","v":""},{"$f":"IF(B47=\"\",\"\",INDEX(Data_kom2,MATCH(1,(komnavn2=B47)*(komaar2=D47),0),20))","v":""},{"$f":"IF(B47=\"\",\"\",INDEX(Data_kom2,MATCH(1,(komnavn2=B47)*(komaar2=D47),0),21))","v":""},{"$f":"IF(B47=\"\",\"\",INDEX(Data_kom2,MATCH(1,(komnavn2=B47)*(komaar2=D47),0),22))","v":""},{"$f":"IF(B47=\"\",\"\",INDEX(Data_kom2,MATCH(1,(komnavn2=B47)*(komaar2=D47),0),23))","v":""},{"$f":"IF(B47=\"\",\"\",INDEX(Data_kom2,MATCH(1,(komnavn2=B47)*(komaar2=D47),0),24))","v":""},{"$f":"IF(B47=\"\",\"\",INDEX(Data_kom2,MATCH(1,(komnavn2=B47)*(komaar2=D47),0),25))","v":""},{"$f":"IF(B47=\"\",\"\",INDEX(Data_kom2,MATCH(1,(komnavn2=B47)*(komaar2=D47),0),26))","v":""},{"$f":"IF(B47=\"\",\"\",INDEX(Data_kom2,MATCH(1,(komnavn2=B47)*(komaar2=D47),0),27))","v":""},{"$f":"IF(B47=\"\",\"\",INDEX(Data_kom2,MATCH(1,(komnavn2=B47)*(komaar2=D47),0),28))","v":""},{"$f":"IF(B47=\"\",\"\",INDEX(Data_kom2,MATCH(1,(komnavn2=B47)*(komaar2=D47),0),29))","v":""},{"$f":"IF(B47=\"\",\"\",INDEX(Data_kom2,MATCH(1,(komnavn2=B47)*(komaar2=D47),0),30))","v":""},{"$f":"IF(B47=\"\",\"\",INDEX(Data_kom2,MATCH(1,(komnavn2=B47)*(komaar2=D47),0),31))","v":""},{"$f":"IF(B47=\"\",\"\",INDEX(Data_kom2,MATCH(1,(komnavn2=B47)*(komaar2=D47),0),32))","v":""},{"$f":"IF(B47=\"\",\"\",INDEX(Data_kom2,MATCH(1,(komnavn2=B47)*(komaar2=D47),0),33))","v":""},{"$f":"IF(B47=\"\",\"\",INDEX(Data_kom2,MATCH(1,(komnavn2=B47)*(komaar2=D47),0),34))","v":""},{"$f":"IF(B47=\"\",\"\",INDEX(Data_kom2,MATCH(1,(komnavn2=B47)*(komaar2=D47),0),35))","v":""},{"$f":"IF(B47=\"\",\"\",INDEX(Data_kom2,MATCH(1,(komnavn2=B47)*(komaar2=D47),0),36))","v":""},{"$f":"IF(B47=\"\",\"\",INDEX(Data_kom2,MATCH(1,(komnavn2=B47)*(komaar2=D47),0),37))","v":""},{"$f":"IF(B47=\"\",\"\",INDEX(Data_kom2,MATCH(1,(komnavn2=B47)*(komaar2=D47),0),38))","v":""}]
[null,{"$f":"'Dine valg'!$G$30","v":""},{"$f":"IF(B48=\"\",\"\",INDEX(Data_kom2,MATCH(1,(komnavn2=B48)*(komaar2=D48),0),2))","v":""},"2021-07-01",{"$f":"IF(B48=\"\",\"\",INDEX(Data_kom2,MATCH(1,(komnavn2=B48)*(komaar2=D48),0),4))","v":""},{"$f":"IF(B48=\"\",\"\",INDEX(Data_kom2,MATCH(1,(komnavn2=B48)*(komaar2=D48),0),5))","v":""},{"$f":"IF(B48=\"\",\"\",INDEX(Data_kom2,MATCH(1,(komnavn2=B48)*(komaar2=D48),0),6))","v":""},{"$f":"IF(B48=\"\",\"\",INDEX(Data_kom2,MATCH(1,(komnavn2=B48)*(komaar2=D48),0),7))","v":""},{"$f":"IF(B48=\"\",\"\",INDEX(Data_kom2,MATCH(1,(komnavn2=B48)*(komaar2=D48),0),8))","v":""},{"$f":"IF(B48=\"\",\"\",INDEX(Data_kom2,MATCH(1,(komnavn2=B48)*(komaar2=D48),0),9))","v":""},{"$f":"IF(B48=\"\",\"\",INDEX(Data_kom2,MATCH(1,(komnavn2=B48)*(komaar2=D48),0),10))","v":""},{"$f":"IF(B48=\"\",\"\",INDEX(Data_kom2,MATCH(1,(komnavn2=B48)*(komaar2=D48),0),11))","v":""},{"$f":"IF(B48=\"\",\"\",INDEX(Data_kom2,MATCH(1,(komnavn2=B48)*(komaar2=D48),0),12))","v":""},{"$f":"IF(B48=\"\",\"\",INDEX(Data_kom2,MATCH(1,(komnavn2=B48)*(komaar2=D48),0),13))","v":""},{"$f":"IF(B48=\"\",\"\",INDEX(Data_kom2,MATCH(1,(komnavn2=B48)*(komaar2=D48),0),14))","v":""},{"$f":"IF(B48=\"\",\"\",INDEX(Data_kom2,MATCH(1,(komnavn2=B48)*(komaar2=D48),0),15))","v":""},{"$f":"IF(B48=\"\",\"\",INDEX(Data_kom2,MATCH(1,(komnavn2=B48)*(komaar2=D48),0),16))","v":""},{"$f":"IF(B48=\"\",\"\",INDEX(Data_kom2,MATCH(1,(komnavn2=B48)*(komaar2=D48),0),17))","v":""},{"$f":"IF(B48=\"\",\"\",INDEX(Data_kom2,MATCH(1,(komnavn2=B48)*(komaar2=D48),0),18))","v":""},{"$f":"IF(B48=\"\",\"\",INDEX(Data_kom2,MATCH(1,(komnavn2=B48)*(komaar2=D48),0),19))","v":""},{"$f":"IF(B48=\"\",\"\",INDEX(Data_kom2,MATCH(1,(komnavn2=B48)*(komaar2=D48),0),20))","v":""},{"$f":"IF(B48=\"\",\"\",INDEX(Data_kom2,MATCH(1,(komnavn2=B48)*(komaar2=D48),0),21))","v":""},{"$f":"IF(B48=\"\",\"\",INDEX(Data_kom2,MATCH(1,(komnavn2=B48)*(komaar2=D48),0),22))","v":""},{"$f":"IF(B48=\"\",\"\",INDEX(Data_kom2,MATCH(1,(komnavn2=B48)*(komaar2=D48),0),23))","v":""},{"$f":"IF(B48=\"\",\"\",INDEX(Data_kom2,MATCH(1,(komnavn2=B48)*(komaar2=D48),0),24))","v":""},{"$f":"IF(B48=\"\",\"\",INDEX(Data_kom2,MATCH(1,(komnavn2=B48)*(komaar2=D48),0),25))","v":""},{"$f":"IF(B48=\"\",\"\",INDEX(Data_kom2,MATCH(1,(komnavn2=B48)*(komaar2=D48),0),26))","v":""},{"$f":"IF(B48=\"\",\"\",INDEX(Data_kom2,MATCH(1,(komnavn2=B48)*(komaar2=D48),0),27))","v":""},{"$f":"IF(B48=\"\",\"\",INDEX(Data_kom2,MATCH(1,(komnavn2=B48)*(komaar2=D48),0),28))","v":""},{"$f":"IF(B48=\"\",\"\",INDEX(Data_kom2,MATCH(1,(komnavn2=B48)*(komaar2=D48),0),29))","v":""},{"$f":"IF(B48=\"\",\"\",INDEX(Data_kom2,MATCH(1,(komnavn2=B48)*(komaar2=D48),0),30))","v":""},{"$f":"IF(B48=\"\",\"\",INDEX(Data_kom2,MATCH(1,(komnavn2=B48)*(komaar2=D48),0),31))","v":""},{"$f":"IF(B48=\"\",\"\",INDEX(Data_kom2,MATCH(1,(komnavn2=B48)*(komaar2=D48),0),32))","v":""},{"$f":"IF(B48=\"\",\"\",INDEX(Data_kom2,MATCH(1,(komnavn2=B48)*(komaar2=D48),0),33))","v":""},{"$f":"IF(B48=\"\",\"\",INDEX(Data_kom2,MATCH(1,(komnavn2=B48)*(komaar2=D48),0),34))","v":""},{"$f":"IF(B48=\"\",\"\",INDEX(Data_kom2,MATCH(1,(komnavn2=B48)*(komaar2=D48),0),35))","v":""},{"$f":"IF(B48=\"\",\"\",INDEX(Data_kom2,MATCH(1,(komnavn2=B48)*(komaar2=D48),0),36))","v":""},{"$f":"IF(B48=\"\",\"\",INDEX(Data_kom2,MATCH(1,(komnavn2=B48)*(komaar2=D48),0),37))","v":""},{"$f":"IF(B48=\"\",\"\",INDEX(Data_kom2,MATCH(1,(komnavn2=B48)*(komaar2=D48),0),38))","v":""}]
[1,{"$f":"'Dine valg'!$G$24","v":"Aarhus"},{"$f":"IF(B49=\"\",\"\",INDEX(Data_kom2,MATCH(1,(komnavn2=B49)*(komaar2=D49),0),2))","v":64334},"2021-01-01",{"$f":"IF(B49=\"\",\"\",INDEX(Data_kom2,MATCH(1,(komnavn2=B49)*(komaar2=D49),0),4))","v":169},{"$f":"IF(B49=\"\",\"\",INDEX(Data_kom2,MATCH(1,(komnavn2=B49)*(komaar2=D49),0),5))","v":115},{"$f":"IF(B49=\"\",\"\",INDEX(Data_kom2,MATCH(1,(komnavn2=B49)*(komaar2=D49),0),6))","v":14},{"$f":"IF(B49=\"\",\"\",INDEX(Data_kom2,MATCH(1,(komnavn2=B49)*(komaar2=D49),0),7))","v":40},{"$f":"IF(B49=\"\",\"\",INDEX(Data_kom2,MATCH(1,(komnavn2=B49)*(komaar2=D49),0),8))","v":147293},{"$f":"IF(B49=\"\",\"\",INDEX(Data_kom2,MATCH(1,(komnavn2=B49)*(komaar2=D49),0),9))","v":119524},{"$f":"IF(B49=\"\",\"\",INDEX(Data_kom2,MATCH(1,(komnavn2=B49)*(komaar2=D49),0),10))","v":1624},{"$f":"IF(B49=\"\",\"\",INDEX(Data_kom2,MATCH(1,(komnavn2=B49)*(komaar2=D49),0),11))","v":26145},{"$f":"IF(B49=\"\",\"\",INDEX(Data_kom2,MATCH(1,(komnavn2=B49)*(komaar2=D49),0),12))","v":242},{"$f":"IF(B49=\"\",\"\",INDEX(Data_kom2,MATCH(1,(komnavn2=B49)*(komaar2=D49),0),13))","v":26},{"$f":"IF(B49=\"\",\"\",INDEX(Data_kom2,MATCH(1,(komnavn2=B49)*(komaar2=D49),0),14))","v":1246},{"$f":"IF(B49=\"\",\"\",INDEX(Data_kom2,MATCH(1,(komnavn2=B49)*(komaar2=D49),0),15))","v":"*"},{"$f":"IF(B49=\"\",\"\",INDEX(Data_kom2,MATCH(1,(komnavn2=B49)*(komaar2=D49),0),16))","v":"*"},{"$f":"IF(B49=\"\",\"\",INDEX(Data_kom2,MATCH(1,(komnavn2=B49)*(komaar2=D49),0),17))","v":1231},{"$f":"IF(B49=\"\",\"\",INDEX(Data_kom2,MATCH(1,(komnavn2=B49)*(komaar2=D49),0),18))","v":11},{"$f":"IF(B49=\"\",\"\",INDEX(Data_kom2,MATCH(1,(komnavn2=B49)*(komaar2=D49),0),19))","v":0},{"$f":"IF(B49=\"\",\"\",INDEX(Data_kom2,MATCH(1,(komnavn2=B49)*(komaar2=D49),0),20))","v":0},{"$f":"IF(B49=\"\",\"\",INDEX(Data_kom2,MATCH(1,(komnavn2=B49)*(komaar2=D49),0),21))","v":0},{"$f":"IF(B49=\"\",\"\",INDEX(Data_kom2,MATCH(1,(komnavn2=B49)*(komaar2=D49),0),22))","v":28},{"$f":"IF(B49=\"\",\"\",INDEX(Data_kom2,MATCH(1,(komnavn2=B49)*(komaar2=D49),0),23))","v":168},{"$f":"IF(B49=\"\",\"\",INDEX(Data_kom2,MATCH(1,(komnavn2=B49)*(komaar2=D49),0),24))","v":0},{"$f":"IF(B49=\"\",\"\",INDEX(Data_kom2,MATCH(1,(komnavn2=B49)*(komaar2=D49),0),25))","v":168},{"$f":"IF(B49=\"\",\"\",INDEX(Data_kom2,MATCH(1,(komnavn2=B49)*(komaar2=D49),0),26))","v":28},{"$f":"IF(B49=\"\",\"\",INDEX(Data_kom2,MATCH(1,(komnavn2=B49)*(komaar2=D49),0),27))","v":168},{"$f":"IF(B49=\"\",\"\",INDEX(Data_kom2,MATCH(1,(komnavn2=B49)*(komaar2=D49),0),28))","v":22},{"$f":"IF(B49=\"\",\"\",INDEX(Data_kom2,MATCH(1,(komnavn2=B49)*(komaar2=D49),0),29))","v":1258},{"$f":"IF(B49=\"\",\"\",INDEX(Data_kom2,MATCH(1,(komnavn2=B49)*(komaar2=D49),0),30))","v":353},{"$f":"IF(B49=\"\",\"\",INDEX(Data_kom2,MATCH(1,(komnavn2=B49)*(komaar2=D49),0),31))","v":1262},{"$f":"IF(B49=\"\",\"\",INDEX(Data_kom2,MATCH(1,(komnavn2=B49)*(komaar2=D49),0),32))","v":0},{"$f":"IF(B49=\"\",\"\",INDEX(Data_kom2,MATCH(1,(komnavn2=B49)*(komaar2=D49),0),33))","v":0},{"$f":"IF(B49=\"\",\"\",INDEX(Data_kom2,MATCH(1,(komnavn2=B49)*(komaar2=D49),0),34))","v":0},{"$f":"IF(B49=\"\",\"\",INDEX(Data_kom2,MATCH(1,(komnavn2=B49)*(komaar2=D49),0),35))","v":0},{"$f":"IF(B49=\"\",\"\",INDEX(Data_kom2,MATCH(1,(komnavn2=B49)*(komaar2=D49),0),36))","v":0},{"$f":"IF(B49=\"\",\"\",INDEX(Data_kom2,MATCH(1,(komnavn2=B49)*(komaar2=D49),0),37))","v":0},{"$f":"IF(B49=\"\",\"\",INDEX(Data_kom2,MATCH(1,(komnavn2=B49)*(komaar2=D49),0),38))","v":"Region Midtjylland"}]
[2,{"$f":"'Dine valg'!$G$25","v":""},{"$f":"IF(B50=\"\",\"\",INDEX(Data_kom2,MATCH(1,(komnavn2=B50)*(komaar2=D50),0),2))","v":""},"2021-01-01",{"$f":"IF(B50=\"\",\"\",INDEX(Data_kom2,MATCH(1,(komnavn2=B50)*(komaar2=D50),0),4))","v":""},{"$f":"IF(B50=\"\",\"\",INDEX(Data_kom2,MATCH(1,(komnavn2=B50)*(komaar2=D50),0),5))","v":""},{"$f":"IF(B50=\"\",\"\",INDEX(Data_kom2,MATCH(1,(komnavn2=B50)*(komaar2=D50),0),6))","v":""},{"$f":"IF(B50=\"\",\"\",INDEX(Data_kom2,MATCH(1,(komnavn2=B50)*(komaar2=D50),0),7))","v":""},{"$f":"IF(B50=\"\",\"\",INDEX(Data_kom2,MATCH(1,(komnavn2=B50)*(komaar2=D50),0),8))","v":""},{"$f":"IF(B50=\"\",\"\",INDEX(Data_kom2,MATCH(1,(komnavn2=B50)*(komaar2=D50),0),9))","v":""},{"$f":"IF(B50=\"\",\"\",INDEX(Data_kom2,MATCH(1,(komnavn2=B50)*(komaar2=D50),0),10))","v":""},{"$f":"IF(B50=\"\",\"\",INDEX(Data_kom2,MATCH(1,(komnavn2=B50)*(komaar2=D50),0),11))","v":""},{"$f":"IF(B50=\"\",\"\",INDEX(Data_kom2,MATCH(1,(komnavn2=B50)*(komaar2=D50),0),12))","v":""},{"$f":"IF(B50=\"\",\"\",INDEX(Data_kom2,MATCH(1,(komnavn2=B50)*(komaar2=D50),0),13))","v":""},{"$f":"IF(B50=\"\",\"\",INDEX(Data_kom2,MATCH(1,(komnavn2=B50)*(komaar2=D50),0),14))","v":""},{"$f":"IF(B50=\"\",\"\",INDEX(Data_kom2,MATCH(1,(komnavn2=B50)*(komaar2=D50),0),15))","v":""},{"$f":"IF(B50=\"\",\"\",INDEX(Data_kom2,MATCH(1,(komnavn2=B50)*(komaar2=D50),0),16))","v":""},{"$f":"IF(B50=\"\",\"\",INDEX(Data_kom2,MATCH(1,(komnavn2=B50)*(komaar2=D50),0),17))","v":""},{"$f":"IF(B50=\"\",\"\",INDEX(Data_kom2,MATCH(1,(komnavn2=B50)*(komaar2=D50),0),18))","v":""},{"$f":"IF(B50=\"\",\"\",INDEX(Data_kom2,MATCH(1,(komnavn2=B50)*(komaar2=D50),0),19))","v":""},{"$f":"IF(B50=\"\",\"\",INDEX(Data_kom2,MATCH(1,(komnavn2=B50)*(komaar2=D50),0),20))","v":""},{"$f":"IF(B50=\"\",\"\",INDEX(Data_kom2,MATCH(1,(komnavn2=B50)*(komaar2=D50),0),21))","v":""},{"$f":"IF(B50=\"\",\"\",INDEX(Data_kom2,MATCH(1,(komnavn2=B50)*(komaar2=D50),0),22))","v":""},{"$f":"IF(B50=\"\",\"\",INDEX(Data_kom2,MATCH(1,(komnavn2=B50)*(komaar2=D50),0),23))","v":""},{"$f":"IF(B50=\"\",\"\",INDEX(Data_kom2,MATCH(1,(komnavn2=B50)*(komaar2=D50),0),24))","v":""},{"$f":"IF(B50=\"\",\"\",INDEX(Data_kom2,MATCH(1,(komnavn2=B50)*(komaar2=D50),0),25))","v":""},{"$f":"IF(B50=\"\",\"\",INDEX(Data_kom2,MATCH(1,(komnavn2=B50)*(komaar2=D50),0),26))","v":""},{"$f":"IF(B50=\"\",\"\",INDEX(Data_kom2,MATCH(1,(komnavn2=B50)*(komaar2=D50),0),27))","v":""},{"$f":"IF(B50=\"\",\"\",INDEX(Data_kom2,MATCH(1,(komnavn2=B50)*(komaar2=D50),0),28))","v":""},{"$f":"IF(B50=\"\",\"\",INDEX(Data_kom2,MATCH(1,(komnavn2=B50)*(komaar2=D50),0),29))","v":""},{"$f":"IF(B50=\"\",\"\",INDEX(Data_kom2,MATCH(1,(komnavn2=B50)*(komaar2=D50),0),30))","v":""},{"$f":"IF(B50=\"\",\"\",INDEX(Data_kom2,MATCH(1,(komnavn2=B50)*(komaar2=D50),0),31))","v":""},{"$f":"IF(B50=\"\",\"\",INDEX(Data_kom2,MATCH(1,(komnavn2=B50)*(komaar2=D50),0),32))","v":""},{"$f":"IF(B50=\"\",\"\",INDEX(Data_kom2,MATCH(1,(komnavn2=B50)*(komaar2=D50),0),33))","v":""},{"$f":"IF(B50=\"\",\"\",INDEX(Data_kom2,MATCH(1,(komnavn2=B50)*(komaar2=D50),0),34))","v":""},{"$f":"IF(B50=\"\",\"\",INDEX(Data_kom2,MATCH(1,(komnavn2=B50)*(komaar2=D50),0),35))","v":""},{"$f":"IF(B50=\"\",\"\",INDEX(Data_kom2,MATCH(1,(komnavn2=B50)*(komaar2=D50),0),36))","v":""},{"$f":"IF(B50=\"\",\"\",INDEX(Data_kom2,MATCH(1,(komnavn2=B50)*(komaar2=D50),0),37))","v":""},{"$f":"IF(B50=\"\",\"\",INDEX(Data_kom2,MATCH(1,(komnavn2=B50)*(komaar2=D50),0),38))","v":""}]
[3,{"$f":"'Dine valg'!$G$26","v":""},{"$f":"IF(B51=\"\",\"\",INDEX(Data_kom2,MATCH(1,(komnavn2=B51)*(komaar2=D51),0),2))","v":""},"2021-01-01",{"$f":"IF(B51=\"\",\"\",INDEX(Data_kom2,MATCH(1,(komnavn2=B51)*(komaar2=D51),0),4))","v":""},{"$f":"IF(B51=\"\",\"\",INDEX(Data_kom2,MATCH(1,(komnavn2=B51)*(komaar2=D51),0),5))","v":""},{"$f":"IF(B51=\"\",\"\",INDEX(Data_kom2,MATCH(1,(komnavn2=B51)*(komaar2=D51),0),6))","v":""},{"$f":"IF(B51=\"\",\"\",INDEX(Data_kom2,MATCH(1,(komnavn2=B51)*(komaar2=D51),0),7))","v":""},{"$f":"IF(B51=\"\",\"\",INDEX(Data_kom2,MATCH(1,(komnavn2=B51)*(komaar2=D51),0),8))","v":""},{"$f":"IF(B51=\"\",\"\",INDEX(Data_kom2,MATCH(1,(komnavn2=B51)*(komaar2=D51),0),9))","v":""},{"$f":"IF(B51=\"\",\"\",INDEX(Data_kom2,MATCH(1,(komnavn2=B51)*(komaar2=D51),0),10))","v":""},{"$f":"IF(B51=\"\",\"\",INDEX(Data_kom2,MATCH(1,(komnavn2=B51)*(komaar2=D51),0),11))","v":""},{"$f":"IF(B51=\"\",\"\",INDEX(Data_kom2,MATCH(1,(komnavn2=B51)*(komaar2=D51),0),12))","v":""},{"$f":"IF(B51=\"\",\"\",INDEX(Data_kom2,MATCH(1,(komnavn2=B51)*(komaar2=D51),0),13))","v":""},{"$f":"IF(B51=\"\",\"\",INDEX(Data_kom2,MATCH(1,(komnavn2=B51)*(komaar2=D51),0),14))","v":""},{"$f":"IF(B51=\"\",\"\",INDEX(Data_kom2,MATCH(1,(komnavn2=B51)*(komaar2=D51),0),15))","v":""},{"$f":"IF(B51=\"\",\"\",INDEX(Data_kom2,MATCH(1,(komnavn2=B51)*(komaar2=D51),0),16))","v":""},{"$f":"IF(B51=\"\",\"\",INDEX(Data_kom2,MATCH(1,(komnavn2=B51)*(komaar2=D51),0),17))","v":""},{"$f":"IF(B51=\"\",\"\",INDEX(Data_kom2,MATCH(1,(komnavn2=B51)*(komaar2=D51),0),18))","v":""},{"$f":"IF(B51=\"\",\"\",INDEX(Data_kom2,MATCH(1,(komnavn2=B51)*(komaar2=D51),0),19))","v":""},{"$f":"IF(B51=\"\",\"\",INDEX(Data_kom2,MATCH(1,(komnavn2=B51)*(komaar2=D51),0),20))","v":""},{"$f":"IF(B51=\"\",\"\",INDEX(Data_kom2,MATCH(1,(komnavn2=B51)*(komaar2=D51),0),21))","v":""},{"$f":"IF(B51=\"\",\"\",INDEX(Data_kom2,MATCH(1,(komnavn2=B51)*(komaar2=D51),0),22))","v":""},{"$f":"IF(B51=\"\",\"\",INDEX(Data_kom2,MATCH(1,(komnavn2=B51)*(komaar2=D51),0),23))","v":""},{"$f":"IF(B51=\"\",\"\",INDEX(Data_kom2,MATCH(1,(komnavn2=B51)*(komaar2=D51),0),24))","v":""},{"$f":"IF(B51=\"\",\"\",INDEX(Data_kom2,MATCH(1,(komnavn2=B51)*(komaar2=D51),0),25))","v":""},{"$f":"IF(B51=\"\",\"\",INDEX(Data_kom2,MATCH(1,(komnavn2=B51)*(komaar2=D51),0),26))","v":""},{"$f":"IF(B51=\"\",\"\",INDEX(Data_kom2,MATCH(1,(komnavn2=B51)*(komaar2=D51),0),27))","v":""},{"$f":"IF(B51=\"\",\"\",INDEX(Data_kom2,MATCH(1,(komnavn2=B51)*(komaar2=D51),0),28))","v":""},{"$f":"IF(B51=\"\",\"\",INDEX(Data_kom2,MATCH(1,(komnavn2=B51)*(komaar2=D51),0),29))","v":""},{"$f":"IF(B51=\"\",\"\",INDEX(Data_kom2,MATCH(1,(komnavn2=B51)*(komaar2=D51),0),30))","v":""},{"$f":"IF(B51=\"\",\"\",INDEX(Data_kom2,MATCH(1,(komnavn2=B51)*(komaar2=D51),0),31))","v":""},{"$f":"IF(B51=\"\",\"\",INDEX(Data_kom2,MATCH(1,(komnavn2=B51)*(komaar2=D51),0),32))","v":""},{"$f":"IF(B51=\"\",\"\",INDEX(Data_kom2,MATCH(1,(komnavn2=B51)*(komaar2=D51),0),33))","v":""},{"$f":"IF(B51=\"\",\"\",INDEX(Data_kom2,MATCH(1,(komnavn2=B51)*(komaar2=D51),0),34))","v":""},{"$f":"IF(B51=\"\",\"\",INDEX(Data_kom2,MATCH(1,(komnavn2=B51)*(komaar2=D51),0),35))","v":""},{"$f":"IF(B51=\"\",\"\",INDEX(Data_kom2,MATCH(1,(komnavn2=B51)*(komaar2=D51),0),36))","v":""},{"$f":"IF(B51=\"\",\"\",INDEX(Data_kom2,MATCH(1,(komnavn2=B51)*(komaar2=D51),0),37))","v":""},{"$f":"IF(B51=\"\",\"\",INDEX(Data_kom2,MATCH(1,(komnavn2=B51)*(komaar2=D51),0),38))","v":""}]
[4,{"$f":"'Dine valg'!$G$27","v":""},{"$f":"IF(B52=\"\",\"\",INDEX(Data_kom2,MATCH(1,(komnavn2=B52)*(komaar2=D52),0),2))","v":""},"2021-01-01",{"$f":"IF(B52=\"\",\"\",INDEX(Data_kom2,MATCH(1,(komnavn2=B52)*(komaar2=D52),0),4))","v":""},{"$f":"IF(B52=\"\",\"\",INDEX(Data_kom2,MATCH(1,(komnavn2=B52)*(komaar2=D52),0),5))","v":""},{"$f":"IF(B52=\"\",\"\",INDEX(Data_kom2,MATCH(1,(komnavn2=B52)*(komaar2=D52),0),6))","v":""},{"$f":"IF(B52=\"\",\"\",INDEX(Data_kom2,MATCH(1,(komnavn2=B52)*(komaar2=D52),0),7))","v":""},{"$f":"IF(B52=\"\",\"\",INDEX(Data_kom2,MATCH(1,(komnavn2=B52)*(komaar2=D52),0),8))","v":""},{"$f":"IF(B52=\"\",\"\",INDEX(Data_kom2,MATCH(1,(komnavn2=B52)*(komaar2=D52),0),9))","v":""},{"$f":"IF(B52=\"\",\"\",INDEX(Data_kom2,MATCH(1,(komnavn2=B52)*(komaar2=D52),0),10))","v":""},{"$f":"IF(B52=\"\",\"\",INDEX(Data_kom2,MATCH(1,(komnavn2=B52)*(komaar2=D52),0),11))","v":""},{"$f":"IF(B52=\"\",\"\",INDEX(Data_kom2,MATCH(1,(komnavn2=B52)*(komaar2=D52),0),12))","v":""},{"$f":"IF(B52=\"\",\"\",INDEX(Data_kom2,MATCH(1,(komnavn2=B52)*(komaar2=D52),0),13))","v":""},{"$f":"IF(B52=\"\",\"\",INDEX(Data_kom2,MATCH(1,(komnavn2=B52)*(komaar2=D52),0),14))","v":""},{"$f":"IF(B52=\"\",\"\",INDEX(Data_kom2,MATCH(1,(komnavn2=B52)*(komaar2=D52),0),15))","v":""},{"$f":"IF(B52=\"\",\"\",INDEX(Data_kom2,MATCH(1,(komnavn2=B52)*(komaar2=D52),0),16))","v":""},{"$f":"IF(B52=\"\",\"\",INDEX(Data_kom2,MATCH(1,(komnavn2=B52)*(komaar2=D52),0),17))","v":""},{"$f":"IF(B52=\"\",\"\",INDEX(Data_kom2,MATCH(1,(komnavn2=B52)*(komaar2=D52),0),18))","v":""},{"$f":"IF(B52=\"\",\"\",INDEX(Data_kom2,MATCH(1,(komnavn2=B52)*(komaar2=D52),0),19))","v":""},{"$f":"IF(B52=\"\",\"\",INDEX(Data_kom2,MATCH(1,(komnavn2=B52)*(komaar2=D52),0),20))","v":""},{"$f":"IF(B52=\"\",\"\",INDEX(Data_kom2,MATCH(1,(komnavn2=B52)*(komaar2=D52),0),21))","v":""},{"$f":"IF(B52=\"\",\"\",INDEX(Data_kom2,MATCH(1,(komnavn2=B52)*(komaar2=D52),0),22))","v":""},{"$f":"IF(B52=\"\",\"\",INDEX(Data_kom2,MATCH(1,(komnavn2=B52)*(komaar2=D52),0),23))","v":""},{"$f":"IF(B52=\"\",\"\",INDEX(Data_kom2,MATCH(1,(komnavn2=B52)*(komaar2=D52),0),24))","v":""},{"$f":"IF(B52=\"\",\"\",INDEX(Data_kom2,MATCH(1,(komnavn2=B52)*(komaar2=D52),0),25))","v":""},{"$f":"IF(B52=\"\",\"\",INDEX(Data_kom2,MATCH(1,(komnavn2=B52)*(komaar2=D52),0),26))","v":""},{"$f":"IF(B52=\"\",\"\",INDEX(Data_kom2,MATCH(1,(komnavn2=B52)*(komaar2=D52),0),27))","v":""},{"$f":"IF(B52=\"\",\"\",INDEX(Data_kom2,MATCH(1,(komnavn2=B52)*(komaar2=D52),0),28))","v":""},{"$f":"IF(B52=\"\",\"\",INDEX(Data_kom2,MATCH(1,(komnavn2=B52)*(komaar2=D52),0),29))","v":""},{"$f":"IF(B52=\"\",\"\",INDEX(Data_kom2,MATCH(1,(komnavn2=B52)*(komaar2=D52),0),30))","v":""},{"$f":"IF(B52=\"\",\"\",INDEX(Data_kom2,MATCH(1,(komnavn2=B52)*(komaar2=D52),0),31))","v":""},{"$f":"IF(B52=\"\",\"\",INDEX(Data_kom2,MATCH(1,(komnavn2=B52)*(komaar2=D52),0),32))","v":""},{"$f":"IF(B52=\"\",\"\",INDEX(Data_kom2,MATCH(1,(komnavn2=B52)*(komaar2=D52),0),33))","v":""},{"$f":"IF(B52=\"\",\"\",INDEX(Data_kom2,MATCH(1,(komnavn2=B52)*(komaar2=D52),0),34))","v":""},{"$f":"IF(B52=\"\",\"\",INDEX(Data_kom2,MATCH(1,(komnavn2=B52)*(komaar2=D52),0),35))","v":""},{"$f":"IF(B52=\"\",\"\",INDEX(Data_kom2,MATCH(1,(komnavn2=B52)*(komaar2=D52),0),36))","v":""},{"$f":"IF(B52=\"\",\"\",INDEX(Data_kom2,MATCH(1,(komnavn2=B52)*(komaar2=D52),0),37))","v":""},{"$f":"IF(B52=\"\",\"\",INDEX(Data_kom2,MATCH(1,(komnavn2=B52)*(komaar2=D52),0),38))","v":""}]
[5,{"$f":"'Dine valg'!$G$28","v":""},{"$f":"IF(B53=\"\",\"\",INDEX(Data_kom2,MATCH(1,(komnavn2=B53)*(komaar2=D53),0),2))","v":""},"2021-01-01",{"$f":"IF(B53=\"\",\"\",INDEX(Data_kom2,MATCH(1,(komnavn2=B53)*(komaar2=D53),0),4))","v":""},{"$f":"IF(B53=\"\",\"\",INDEX(Data_kom2,MATCH(1,(komnavn2=B53)*(komaar2=D53),0),5))","v":""},{"$f":"IF(B53=\"\",\"\",INDEX(Data_kom2,MATCH(1,(komnavn2=B53)*(komaar2=D53),0),6))","v":""},{"$f":"IF(B53=\"\",\"\",INDEX(Data_kom2,MATCH(1,(komnavn2=B53)*(komaar2=D53),0),7))","v":""},{"$f":"IF(B53=\"\",\"\",INDEX(Data_kom2,MATCH(1,(komnavn2=B53)*(komaar2=D53),0),8))","v":""},{"$f":"IF(B53=\"\",\"\",INDEX(Data_kom2,MATCH(1,(komnavn2=B53)*(komaar2=D53),0),9))","v":""},{"$f":"IF(B53=\"\",\"\",INDEX(Data_kom2,MATCH(1,(komnavn2=B53)*(komaar2=D53),0),10))","v":""},{"$f":"IF(B53=\"\",\"\",INDEX(Data_kom2,MATCH(1,(komnavn2=B53)*(komaar2=D53),0),11))","v":""},{"$f":"IF(B53=\"\",\"\",INDEX(Data_kom2,MATCH(1,(komnavn2=B53)*(komaar2=D53),0),12))","v":""},{"$f":"IF(B53=\"\",\"\",INDEX(Data_kom2,MATCH(1,(komnavn2=B53)*(komaar2=D53),0),13))","v":""},{"$f":"IF(B53=\"\",\"\",INDEX(Data_kom2,MATCH(1,(komnavn2=B53)*(komaar2=D53),0),14))","v":""},{"$f":"IF(B53=\"\",\"\",INDEX(Data_kom2,MATCH(1,(komnavn2=B53)*(komaar2=D53),0),15))","v":""},{"$f":"IF(B53=\"\",\"\",INDEX(Data_kom2,MATCH(1,(komnavn2=B53)*(komaar2=D53),0),16))","v":""},{"$f":"IF(B53=\"\",\"\",INDEX(Data_kom2,MATCH(1,(komnavn2=B53)*(komaar2=D53),0),17))","v":""},{"$f":"IF(B53=\"\",\"\",INDEX(Data_kom2,MATCH(1,(komnavn2=B53)*(komaar2=D53),0),18))","v":""},{"$f":"IF(B53=\"\",\"\",INDEX(Data_kom2,MATCH(1,(komnavn2=B53)*(komaar2=D53),0),19))","v":""},{"$f":"IF(B53=\"\",\"\",INDEX(Data_kom2,MATCH(1,(komnavn2=B53)*(komaar2=D53),0),20))","v":""},{"$f":"IF(B53=\"\",\"\",INDEX(Data_kom2,MATCH(1,(komnavn2=B53)*(komaar2=D53),0),21))","v":""},{"$f":"IF(B53=\"\",\"\",INDEX(Data_kom2,MATCH(1,(komnavn2=B53)*(komaar2=D53),0),22))","v":""},{"$f":"IF(B53=\"\",\"\",INDEX(Data_kom2,MATCH(1,(komnavn2=B53)*(komaar2=D53),0),23))","v":""},{"$f":"IF(B53=\"\",\"\",INDEX(Data_kom2,MATCH(1,(komnavn2=B53)*(komaar2=D53),0),24))","v":""},{"$f":"IF(B53=\"\",\"\",INDEX(Data_kom2,MATCH(1,(komnavn2=B53)*(komaar2=D53),0),25))","v":""},{"$f":"IF(B53=\"\",\"\",INDEX(Data_kom2,MATCH(1,(komnavn2=B53)*(komaar2=D53),0),26))","v":""},{"$f":"IF(B53=\"\",\"\",INDEX(Data_kom2,MATCH(1,(komnavn2=B53)*(komaar2=D53),0),27))","v":""},{"$f":"IF(B53=\"\",\"\",INDEX(Data_kom2,MATCH(1,(komnavn2=B53)*(komaar2=D53),0),28))","v":""},{"$f":"IF(B53=\"\",\"\",INDEX(Data_kom2,MATCH(1,(komnavn2=B53)*(komaar2=D53),0),29))","v":""},{"$f":"IF(B53=\"\",\"\",INDEX(Data_kom2,MATCH(1,(komnavn2=B53)*(komaar2=D53),0),30))","v":""},{"$f":"IF(B53=\"\",\"\",INDEX(Data_kom2,MATCH(1,(komnavn2=B53)*(komaar2=D53),0),31))","v":""},{"$f":"IF(B53=\"\",\"\",INDEX(Data_kom2,MATCH(1,(komnavn2=B53)*(komaar2=D53),0),32))","v":""},{"$f":"IF(B53=\"\",\"\",INDEX(Data_kom2,MATCH(1,(komnavn2=B53)*(komaar2=D53),0),33))","v":""},{"$f":"IF(B53=\"\",\"\",INDEX(Data_kom2,MATCH(1,(komnavn2=B53)*(komaar2=D53),0),34))","v":""},{"$f":"IF(B53=\"\",\"\",INDEX(Data_kom2,MATCH(1,(komnavn2=B53)*(komaar2=D53),0),35))","v":""},{"$f":"IF(B53=\"\",\"\",INDEX(Data_kom2,MATCH(1,(komnavn2=B53)*(komaar2=D53),0),36))","v":""},{"$f":"IF(B53=\"\",\"\",INDEX(Data_kom2,MATCH(1,(komnavn2=B53)*(komaar2=D53),0),37))","v":""},{"$f":"IF(B53=\"\",\"\",INDEX(Data_kom2,MATCH(1,(komnavn2=B53)*(komaar2=D53),0),38))","v":""}]
[6,{"$f":"'Dine valg'!$G$29","v":""},{"$f":"IF(B54=\"\",\"\",INDEX(Data_kom2,MATCH(1,(komnavn2=B54)*(komaar2=D54),0),2))","v":""},"2021-01-01",{"$f":"IF(B54=\"\",\"\",INDEX(Data_kom2,MATCH(1,(komnavn2=B54)*(komaar2=D54),0),4))","v":""},{"$f":"IF(B54=\"\",\"\",INDEX(Data_kom2,MATCH(1,(komnavn2=B54)*(komaar2=D54),0),5))","v":""},{"$f":"IF(B54=\"\",\"\",INDEX(Data_kom2,MATCH(1,(komnavn2=B54)*(komaar2=D54),0),6))","v":""},{"$f":"IF(B54=\"\",\"\",INDEX(Data_kom2,MATCH(1,(komnavn2=B54)*(komaar2=D54),0),7))","v":""},{"$f":"IF(B54=\"\",\"\",INDEX(Data_kom2,MATCH(1,(komnavn2=B54)*(komaar2=D54),0),8))","v":""},{"$f":"IF(B54=\"\",\"\",INDEX(Data_kom2,MATCH(1,(komnavn2=B54)*(komaar2=D54),0),9))","v":""},{"$f":"IF(B54=\"\",\"\",INDEX(Data_kom2,MATCH(1,(komnavn2=B54)*(komaar2=D54),0),10))","v":""},{"$f":"IF(B54=\"\",\"\",INDEX(Data_kom2,MATCH(1,(komnavn2=B54)*(komaar2=D54),0),11))","v":""},{"$f":"IF(B54=\"\",\"\",INDEX(Data_kom2,MATCH(1,(komnavn2=B54)*(komaar2=D54),0),12))","v":""},{"$f":"IF(B54=\"\",\"\",INDEX(Data_kom2,MATCH(1,(komnavn2=B54)*(komaar2=D54),0),13))","v":""},{"$f":"IF(B54=\"\",\"\",INDEX(Data_kom2,MATCH(1,(komnavn2=B54)*(komaar2=D54),0),14))","v":""},{"$f":"IF(B54=\"\",\"\",INDEX(Data_kom2,MATCH(1,(komnavn2=B54)*(komaar2=D54),0),15))","v":""},{"$f":"IF(B54=\"\",\"\",INDEX(Data_kom2,MATCH(1,(komnavn2=B54)*(komaar2=D54),0),16))","v":""},{"$f":"IF(B54=\"\",\"\",INDEX(Data_kom2,MATCH(1,(komnavn2=B54)*(komaar2=D54),0),17))","v":""},{"$f":"IF(B54=\"\",\"\",INDEX(Data_kom2,MATCH(1,(komnavn2=B54)*(komaar2=D54),0),18))","v":""},{"$f":"IF(B54=\"\",\"\",INDEX(Data_kom2,MATCH(1,(komnavn2=B54)*(komaar2=D54),0),19))","v":""},{"$f":"IF(B54=\"\",\"\",INDEX(Data_kom2,MATCH(1,(komnavn2=B54)*(komaar2=D54),0),20))","v":""},{"$f":"IF(B54=\"\",\"\",INDEX(Data_kom2,MATCH(1,(komnavn2=B54)*(komaar2=D54),0),21))","v":""},{"$f":"IF(B54=\"\",\"\",INDEX(Data_kom2,MATCH(1,(komnavn2=B54)*(komaar2=D54),0),22))","v":""},{"$f":"IF(B54=\"\",\"\",INDEX(Data_kom2,MATCH(1,(komnavn2=B54)*(komaar2=D54),0),23))","v":""},{"$f":"IF(B54=\"\",\"\",INDEX(Data_kom2,MATCH(1,(komnavn2=B54)*(komaar2=D54),0),24))","v":""},{"$f":"IF(B54=\"\",\"\",INDEX(Data_kom2,MATCH(1,(komnavn2=B54)*(komaar2=D54),0),25))","v":""},{"$f":"IF(B54=\"\",\"\",INDEX(Data_kom2,MATCH(1,(komnavn2=B54)*(komaar2=D54),0),26))","v":""},{"$f":"IF(B54=\"\",\"\",INDEX(Data_kom2,MATCH(1,(komnavn2=B54)*(komaar2=D54),0),27))","v":""},{"$f":"IF(B54=\"\",\"\",INDEX(Data_kom2,MATCH(1,(komnavn2=B54)*(komaar2=D54),0),28))","v":""},{"$f":"IF(B54=\"\",\"\",INDEX(Data_kom2,MATCH(1,(komnavn2=B54)*(komaar2=D54),0),29))","v":""},{"$f":"IF(B54=\"\",\"\",INDEX(Data_kom2,MATCH(1,(komnavn2=B54)*(komaar2=D54),0),30))","v":""},{"$f":"IF(B54=\"\",\"\",INDEX(Data_kom2,MATCH(1,(komnavn2=B54)*(komaar2=D54),0),31))","v":""},{"$f":"IF(B54=\"\",\"\",INDEX(Data_kom2,MATCH(1,(komnavn2=B54)*(komaar2=D54),0),32))","v":""},{"$f":"IF(B54=\"\",\"\",INDEX(Data_kom2,MATCH(1,(komnavn2=B54)*(komaar2=D54),0),33))","v":""},{"$f":"IF(B54=\"\",\"\",INDEX(Data_kom2,MATCH(1,(komnavn2=B54)*(komaar2=D54),0),34))","v":""},{"$f":"IF(B54=\"\",\"\",INDEX(Data_kom2,MATCH(1,(komnavn2=B54)*(komaar2=D54),0),35))","v":""},{"$f":"IF(B54=\"\",\"\",INDEX(Data_kom2,MATCH(1,(komnavn2=B54)*(komaar2=D54),0),36))","v":""},{"$f":"IF(B54=\"\",\"\",INDEX(Data_kom2,MATCH(1,(komnavn2=B54)*(komaar2=D54),0),37))","v":""},{"$f":"IF(B54=\"\",\"\",INDEX(Data_kom2,MATCH(1,(komnavn2=B54)*(komaar2=D54),0),38))","v":""}]
[7,{"$f":"'Dine valg'!$G$30","v":""},{"$f":"IF(B55=\"\",\"\",INDEX(Data_kom2,MATCH(1,(komnavn2=B55)*(komaar2=D55),0),2))","v":""},"2021-01-01",{"$f":"IF(B55=\"\",\"\",INDEX(Data_kom2,MATCH(1,(komnavn2=B55)*(komaar2=D55),0),4))","v":""},{"$f":"IF(B55=\"\",\"\",INDEX(Data_kom2,MATCH(1,(komnavn2=B55)*(komaar2=D55),0),5))","v":""},{"$f":"IF(B55=\"\",\"\",INDEX(Data_kom2,MATCH(1,(komnavn2=B55)*(komaar2=D55),0),6))","v":""},{"$f":"IF(B55=\"\",\"\",INDEX(Data_kom2,MATCH(1,(komnavn2=B55)*(komaar2=D55),0),7))","v":""},{"$f":"IF(B55=\"\",\"\",INDEX(Data_kom2,MATCH(1,(komnavn2=B55)*(komaar2=D55),0),8))","v":""},{"$f":"IF(B55=\"\",\"\",INDEX(Data_kom2,MATCH(1,(komnavn2=B55)*(komaar2=D55),0),9))","v":""},{"$f":"IF(B55=\"\",\"\",INDEX(Data_kom2,MATCH(1,(komnavn2=B55)*(komaar2=D55),0),10))","v":""},{"$f":"IF(B55=\"\",\"\",INDEX(Data_kom2,MATCH(1,(komnavn2=B55)*(komaar2=D55),0),11))","v":""},{"$f":"IF(B55=\"\",\"\",INDEX(Data_kom2,MATCH(1,(komnavn2=B55)*(komaar2=D55),0),12))","v":""},{"$f":"IF(B55=\"\",\"\",INDEX(Data_kom2,MATCH(1,(komnavn2=B55)*(komaar2=D55),0),13))","v":""},{"$f":"IF(B55=\"\",\"\",INDEX(Data_kom2,MATCH(1,(komnavn2=B55)*(komaar2=D55),0),14))","v":""},{"$f":"IF(B55=\"\",\"\",INDEX(Data_kom2,MATCH(1,(komnavn2=B55)*(komaar2=D55),0),15))","v":""},{"$f":"IF(B55=\"\",\"\",INDEX(Data_kom2,MATCH(1,(komnavn2=B55)*(komaar2=D55),0),16))","v":""},{"$f":"IF(B55=\"\",\"\",INDEX(Data_kom2,MATCH(1,(komnavn2=B55)*(komaar2=D55),0),17))","v":""},{"$f":"IF(B55=\"\",\"\",INDEX(Data_kom2,MATCH(1,(komnavn2=B55)*(komaar2=D55),0),18))","v":""},{"$f":"IF(B55=\"\",\"\",INDEX(Data_kom2,MATCH(1,(komnavn2=B55)*(komaar2=D55),0),19))","v":""},{"$f":"IF(B55=\"\",\"\",INDEX(Data_kom2,MATCH(1,(komnavn2=B55)*(komaar2=D55),0),20))","v":""},{"$f":"IF(B55=\"\",\"\",INDEX(Data_kom2,MATCH(1,(komnavn2=B55)*(komaar2=D55),0),21))","v":""},{"$f":"IF(B55=\"\",\"\",INDEX(Data_kom2,MATCH(1,(komnavn2=B55)*(komaar2=D55),0),22))","v":""},{"$f":"IF(B55=\"\",\"\",INDEX(Data_kom2,MATCH(1,(komnavn2=B55)*(komaar2=D55),0),23))","v":""},{"$f":"IF(B55=\"\",\"\",INDEX(Data_kom2,MATCH(1,(komnavn2=B55)*(komaar2=D55),0),24))","v":""},{"$f":"IF(B55=\"\",\"\",INDEX(Data_kom2,MATCH(1,(komnavn2=B55)*(komaar2=D55),0),25))","v":""},{"$f":"IF(B55=\"\",\"\",INDEX(Data_kom2,MATCH(1,(komnavn2=B55)*(komaar2=D55),0),26))","v":""},{"$f":"IF(B55=\"\",\"\",INDEX(Data_kom2,MATCH(1,(komnavn2=B55)*(komaar2=D55),0),27))","v":""},{"$f":"IF(B55=\"\",\"\",INDEX(Data_kom2,MATCH(1,(komnavn2=B55)*(komaar2=D55),0),28))","v":""},{"$f":"IF(B55=\"\",\"\",INDEX(Data_kom2,MATCH(1,(komnavn2=B55)*(komaar2=D55),0),29))","v":""},{"$f":"IF(B55=\"\",\"\",INDEX(Data_kom2,MATCH(1,(komnavn2=B55)*(komaar2=D55),0),30))","v":""},{"$f":"IF(B55=\"\",\"\",INDEX(Data_kom2,MATCH(1,(komnavn2=B55)*(komaar2=D55),0),31))","v":""},{"$f":"IF(B55=\"\",\"\",INDEX(Data_kom2,MATCH(1,(komnavn2=B55)*(komaar2=D55),0),32))","v":""},{"$f":"IF(B55=\"\",\"\",INDEX(Data_kom2,MATCH(1,(komnavn2=B55)*(komaar2=D55),0),33))","v":""},{"$f":"IF(B55=\"\",\"\",INDEX(Data_kom2,MATCH(1,(komnavn2=B55)*(komaar2=D55),0),34))","v":""},{"$f":"IF(B55=\"\",\"\",INDEX(Data_kom2,MATCH(1,(komnavn2=B55)*(komaar2=D55),0),35))","v":""},{"$f":"IF(B55=\"\",\"\",INDEX(Data_kom2,MATCH(1,(komnavn2=B55)*(komaar2=D55),0),36))","v":""},{"$f":"IF(B55=\"\",\"\",INDEX(Data_kom2,MATCH(1,(komnavn2=B55)*(komaar2=D55),0),37))","v":""},{"$f":"IF(B55=\"\",\"\",INDEX(Data_kom2,MATCH(1,(komnavn2=B55)*(komaar2=D55),0),38))","v":""}]
[1,{"$f":"'Dine valg'!$G$24","v":"Aarhus"},{"$f":"IF(B56=\"\",\"\",INDEX(Data_kom2,MATCH(1,(komnavn2=B56)*(komaar2=D56),0),2))","v":64128},"2020-07-01",{"$f":"IF(B56=\"\",\"\",INDEX(Data_kom2,MATCH(1,(komnavn2=B56)*(komaar2=D56),0),4))","v":168},{"$f":"IF(B56=\"\",\"\",INDEX(Data_kom2,MATCH(1,(komnavn2=B56)*(komaar2=D56),0),5))","v":121},{"$f":"IF(B56=\"\",\"\",INDEX(Data_kom2,MATCH(1,(komnavn2=B56)*(komaar2=D56),0),6))","v":10},{"$f":"IF(B56=\"\",\"\",INDEX(Data_kom2,MATCH(1,(komnavn2=B56)*(komaar2=D56),0),7))","v":37},{"$f":"IF(B56=\"\",\"\",INDEX(Data_kom2,MATCH(1,(komnavn2=B56)*(komaar2=D56),0),8))","v":140915},{"$f":"IF(B56=\"\",\"\",INDEX(Data_kom2,MATCH(1,(komnavn2=B56)*(komaar2=D56),0),9))","v":115596},{"$f":"IF(B56=\"\",\"\",INDEX(Data_kom2,MATCH(1,(komnavn2=B56)*(komaar2=D56),0),10))","v":1665},{"$f":"IF(B56=\"\",\"\",INDEX(Data_kom2,MATCH(1,(komnavn2=B56)*(komaar2=D56),0),11))","v":23654},{"$f":"IF(B56=\"\",\"\",INDEX(Data_kom2,MATCH(1,(komnavn2=B56)*(komaar2=D56),0),12))","v":248},{"$f":"IF(B56=\"\",\"\",INDEX(Data_kom2,MATCH(1,(komnavn2=B56)*(komaar2=D56),0),13))","v":24},{"$f":"IF(B56=\"\",\"\",INDEX(Data_kom2,MATCH(1,(komnavn2=B56)*(komaar2=D56),0),14))","v":1262},{"$f":"IF(B56=\"\",\"\",INDEX(Data_kom2,MATCH(1,(komnavn2=B56)*(komaar2=D56),0),15))","v":"*"},{"$f":"IF(B56=\"\",\"\",INDEX(Data_kom2,MATCH(1,(komnavn2=B56)*(komaar2=D56),0),16))","v":"*"},{"$f":"IF(B56=\"\",\"\",INDEX(Data_kom2,MATCH(1,(komnavn2=B56)*(komaar2=D56),0),17))","v":1250},{"$f":"IF(B56=\"\",\"\",INDEX(Data_kom2,MATCH(1,(komnavn2=B56)*(komaar2=D56),0),18))","v":8},{"$f":"IF(B56=\"\",\"\",INDEX(Data_kom2,MATCH(1,(komnavn2=B56)*(komaar2=D56),0),19))","v":0},{"$f":"IF(B56=\"\",\"\",INDEX(Data_kom2,MATCH(1,(komnavn2=B56)*(komaar2=D56),0),20))","v":0},{"$f":"IF(B56=\"\",\"\",INDEX(Data_kom2,MATCH(1,(komnavn2=B56)*(komaar2=D56),0),21))","v":0},{"$f":"IF(B56=\"\",\"\",INDEX(Data_kom2,MATCH(1,(komnavn2=B56)*(komaar2=D56),0),22))","v":47},{"$f":"IF(B56=\"\",\"\",INDEX(Data_kom2,MATCH(1,(komnavn2=B56)*(komaar2=D56),0),23))","v":166},{"$f":"IF(B56=\"\",\"\",INDEX(Data_kom2,MATCH(1,(komnavn2=B56)*(komaar2=D56),0),24))","v":5},{"$f":"IF(B56=\"\",\"\",INDEX(Data_kom2,MATCH(1,(komnavn2=B56)*(komaar2=D56),0),25))","v":166},{"$f":"IF(B56=\"\",\"\",INDEX(Data_kom2,MATCH(1,(komnavn2=B56)*(komaar2=D56),0),26))","v":42},{"$f":"IF(B56=\"\",\"\",INDEX(Data_kom2,MATCH(1,(komnavn2=B56)*(komaar2=D56),0),27))","v":166},{"$f":"IF(B56=\"\",\"\",INDEX(Data_kom2,MATCH(1,(komnavn2=B56)*(komaar2=D56),0),28))","v":37},{"$f":"IF(B56=\"\",\"\",INDEX(Data_kom2,MATCH(1,(komnavn2=B56)*(komaar2=D56),0),29))","v":1282},{"$f":"IF(B56=\"\",\"\",INDEX(Data_kom2,MATCH(1,(komnavn2=B56)*(komaar2=D56),0),30))","v":316},{"$f":"IF(B56=\"\",\"\",INDEX(Data_kom2,MATCH(1,(komnavn2=B56)*(komaar2=D56),0),31))","v":1289},{"$f":"IF(B56=\"\",\"\",INDEX(Data_kom2,MATCH(1,(komnavn2=B56)*(komaar2=D56),0),32))","v":0},{"$f":"IF(B56=\"\",\"\",INDEX(Data_kom2,MATCH(1,(komnavn2=B56)*(komaar2=D56),0),33))","v":0},{"$f":"IF(B56=\"\",\"\",INDEX(Data_kom2,MATCH(1,(komnavn2=B56)*(komaar2=D56),0),34))","v":0},{"$f":"IF(B56=\"\",\"\",INDEX(Data_kom2,MATCH(1,(komnavn2=B56)*(komaar2=D56),0),35))","v":0},{"$f":"IF(B56=\"\",\"\",INDEX(Data_kom2,MATCH(1,(komnavn2=B56)*(komaar2=D56),0),36))","v":0},{"$f":"IF(B56=\"\",\"\",INDEX(Data_kom2,MATCH(1,(komnavn2=B56)*(komaar2=D56),0),37))","v":0},{"$f":"IF(B56=\"\",\"\",INDEX(Data_kom2,MATCH(1,(komnavn2=B56)*(komaar2=D56),0),38))","v":"Region Midtjylland"}]
[2,{"$f":"'Dine valg'!$G$25","v":""},{"$f":"IF(B57=\"\",\"\",INDEX(Data_kom2,MATCH(1,(komnavn2=B57)*(komaar2=D57),0),2))","v":""},"2020-07-01",{"$f":"IF(B57=\"\",\"\",INDEX(Data_kom2,MATCH(1,(komnavn2=B57)*(komaar2=D57),0),4))","v":""},{"$f":"IF(B57=\"\",\"\",INDEX(Data_kom2,MATCH(1,(komnavn2=B57)*(komaar2=D57),0),5))","v":""},{"$f":"IF(B57=\"\",\"\",INDEX(Data_kom2,MATCH(1,(komnavn2=B57)*(komaar2=D57),0),6))","v":""},{"$f":"IF(B57=\"\",\"\",INDEX(Data_kom2,MATCH(1,(komnavn2=B57)*(komaar2=D57),0),7))","v":""},{"$f":"IF(B57=\"\",\"\",INDEX(Data_kom2,MATCH(1,(komnavn2=B57)*(komaar2=D57),0),8))","v":""},{"$f":"IF(B57=\"\",\"\",INDEX(Data_kom2,MATCH(1,(komnavn2=B57)*(komaar2=D57),0),9))","v":""},{"$f":"IF(B57=\"\",\"\",INDEX(Data_kom2,MATCH(1,(komnavn2=B57)*(komaar2=D57),0),10))","v":""},{"$f":"IF(B57=\"\",\"\",INDEX(Data_kom2,MATCH(1,(komnavn2=B57)*(komaar2=D57),0),11))","v":""},{"$f":"IF(B57=\"\",\"\",INDEX(Data_kom2,MATCH(1,(komnavn2=B57)*(komaar2=D57),0),12))","v":""},{"$f":"IF(B57=\"\",\"\",INDEX(Data_kom2,MATCH(1,(komnavn2=B57)*(komaar2=D57),0),13))","v":""},{"$f":"IF(B57=\"\",\"\",INDEX(Data_kom2,MATCH(1,(komnavn2=B57)*(komaar2=D57),0),14))","v":""},{"$f":"IF(B57=\"\",\"\",INDEX(Data_kom2,MATCH(1,(komnavn2=B57)*(komaar2=D57),0),15))","v":""},{"$f":"IF(B57=\"\",\"\",INDEX(Data_kom2,MATCH(1,(komnavn2=B57)*(komaar2=D57),0),16))","v":""},{"$f":"IF(B57=\"\",\"\",INDEX(Data_kom2,MATCH(1,(komnavn2=B57)*(komaar2=D57),0),17))","v":""},{"$f":"IF(B57=\"\",\"\",INDEX(Data_kom2,MATCH(1,(komnavn2=B57)*(komaar2=D57),0),18))","v":""},{"$f":"IF(B57=\"\",\"\",INDEX(Data_kom2,MATCH(1,(komnavn2=B57)*(komaar2=D57),0),19))","v":""},{"$f":"IF(B57=\"\",\"\",INDEX(Data_kom2,MATCH(1,(komnavn2=B57)*(komaar2=D57),0),20))","v":""},{"$f":"IF(B57=\"\",\"\",INDEX(Data_kom2,MATCH(1,(komnavn2=B57)*(komaar2=D57),0),21))","v":""},{"$f":"IF(B57=\"\",\"\",INDEX(Data_kom2,MATCH(1,(komnavn2=B57)*(komaar2=D57),0),22))","v":""},{"$f":"IF(B57=\"\",\"\",INDEX(Data_kom2,MATCH(1,(komnavn2=B57)*(komaar2=D57),0),23))","v":""},{"$f":"IF(B57=\"\",\"\",INDEX(Data_kom2,MATCH(1,(komnavn2=B57)*(komaar2=D57),0),24))","v":""},{"$f":"IF(B57=\"\",\"\",INDEX(Data_kom2,MATCH(1,(komnavn2=B57)*(komaar2=D57),0),25))","v":""},{"$f":"IF(B57=\"\",\"\",INDEX(Data_kom2,MATCH(1,(komnavn2=B57)*(komaar2=D57),0),26))","v":""},{"$f":"IF(B57=\"\",\"\",INDEX(Data_kom2,MATCH(1,(komnavn2=B57)*(komaar2=D57),0),27))","v":""},{"$f":"IF(B57=\"\",\"\",INDEX(Data_kom2,MATCH(1,(komnavn2=B57)*(komaar2=D57),0),28))","v":""},{"$f":"IF(B57=\"\",\"\",INDEX(Data_kom2,MATCH(1,(komnavn2=B57)*(komaar2=D57),0),29))","v":""},{"$f":"IF(B57=\"\",\"\",INDEX(Data_kom2,MATCH(1,(komnavn2=B57)*(komaar2=D57),0),30))","v":""},{"$f":"IF(B57=\"\",\"\",INDEX(Data_kom2,MATCH(1,(komnavn2=B57)*(komaar2=D57),0),31))","v":""},{"$f":"IF(B57=\"\",\"\",INDEX(Data_kom2,MATCH(1,(komnavn2=B57)*(komaar2=D57),0),32))","v":""},{"$f":"IF(B57=\"\",\"\",INDEX(Data_kom2,MATCH(1,(komnavn2=B57)*(komaar2=D57),0),33))","v":""},{"$f":"IF(B57=\"\",\"\",INDEX(Data_kom2,MATCH(1,(komnavn2=B57)*(komaar2=D57),0),34))","v":""},{"$f":"IF(B57=\"\",\"\",INDEX(Data_kom2,MATCH(1,(komnavn2=B57)*(komaar2=D57),0),35))","v":""},{"$f":"IF(B57=\"\",\"\",INDEX(Data_kom2,MATCH(1,(komnavn2=B57)*(komaar2=D57),0),36))","v":""},{"$f":"IF(B57=\"\",\"\",INDEX(Data_kom2,MATCH(1,(komnavn2=B57)*(komaar2=D57),0),37))","v":""},{"$f":"IF(B57=\"\",\"\",INDEX(Data_kom2,MATCH(1,(komnavn2=B57)*(komaar2=D57),0),38))","v":""}]
[3,{"$f":"'Dine valg'!$G$26","v":""},{"$f":"IF(B58=\"\",\"\",INDEX(Data_kom2,MATCH(1,(komnavn2=B58)*(komaar2=D58),0),2))","v":""},"2020-07-01",{"$f":"IF(B58=\"\",\"\",INDEX(Data_kom2,MATCH(1,(komnavn2=B58)*(komaar2=D58),0),4))","v":""},{"$f":"IF(B58=\"\",\"\",INDEX(Data_kom2,MATCH(1,(komnavn2=B58)*(komaar2=D58),0),5))","v":""},{"$f":"IF(B58=\"\",\"\",INDEX(Data_kom2,MATCH(1,(komnavn2=B58)*(komaar2=D58),0),6))","v":""},{"$f":"IF(B58=\"\",\"\",INDEX(Data_kom2,MATCH(1,(komnavn2=B58)*(komaar2=D58),0),7))","v":""},{"$f":"IF(B58=\"\",\"\",INDEX(Data_kom2,MATCH(1,(komnavn2=B58)*(komaar2=D58),0),8))","v":""},{"$f":"IF(B58=\"\",\"\",INDEX(Data_kom2,MATCH(1,(komnavn2=B58)*(komaar2=D58),0),9))","v":""},{"$f":"IF(B58=\"\",\"\",INDEX(Data_kom2,MATCH(1,(komnavn2=B58)*(komaar2=D58),0),10))","v":""},{"$f":"IF(B58=\"\",\"\",INDEX(Data_kom2,MATCH(1,(komnavn2=B58)*(komaar2=D58),0),11))","v":""},{"$f":"IF(B58=\"\",\"\",INDEX(Data_kom2,MATCH(1,(komnavn2=B58)*(komaar2=D58),0),12))","v":""},{"$f":"IF(B58=\"\",\"\",INDEX(Data_kom2,MATCH(1,(komnavn2=B58)*(komaar2=D58),0),13))","v":""},{"$f":"IF(B58=\"\",\"\",INDEX(Data_kom2,MATCH(1,(komnavn2=B58)*(komaar2=D58),0),14))","v":""},{"$f":"IF(B58=\"\",\"\",INDEX(Data_kom2,MATCH(1,(komnavn2=B58)*(komaar2=D58),0),15))","v":""},{"$f":"IF(B58=\"\",\"\",INDEX(Data_kom2,MATCH(1,(komnavn2=B58)*(komaar2=D58),0),16))","v":""},{"$f":"IF(B58=\"\",\"\",INDEX(Data_kom2,MATCH(1,(komnavn2=B58)*(komaar2=D58),0),17))","v":""},{"$f":"IF(B58=\"\",\"\",INDEX(Data_kom2,MATCH(1,(komnavn2=B58)*(komaar2=D58),0),18))","v":""},{"$f":"IF(B58=\"\",\"\",INDEX(Data_kom2,MATCH(1,(komnavn2=B58)*(komaar2=D58),0),19))","v":""},{"$f":"IF(B58=\"\",\"\",INDEX(Data_kom2,MATCH(1,(komnavn2=B58)*(komaar2=D58),0),20))","v":""},{"$f":"IF(B58=\"\",\"\",INDEX(Data_kom2,MATCH(1,(komnavn2=B58)*(komaar2=D58),0),21))","v":""},{"$f":"IF(B58=\"\",\"\",INDEX(Data_kom2,MATCH(1,(komnavn2=B58)*(komaar2=D58),0),22))","v":""},{"$f":"IF(B58=\"\",\"\",INDEX(Data_kom2,MATCH(1,(komnavn2=B58)*(komaar2=D58),0),23))","v":""},{"$f":"IF(B58=\"\",\"\",INDEX(Data_kom2,MATCH(1,(komnavn2=B58)*(komaar2=D58),0),24))","v":""},{"$f":"IF(B58=\"\",\"\",INDEX(Data_kom2,MATCH(1,(komnavn2=B58)*(komaar2=D58),0),25))","v":""},{"$f":"IF(B58=\"\",\"\",INDEX(Data_kom2,MATCH(1,(komnavn2=B58)*(komaar2=D58),0),26))","v":""},{"$f":"IF(B58=\"\",\"\",INDEX(Data_kom2,MATCH(1,(komnavn2=B58)*(komaar2=D58),0),27))","v":""},{"$f":"IF(B58=\"\",\"\",INDEX(Data_kom2,MATCH(1,(komnavn2=B58)*(komaar2=D58),0),28))","v":""},{"$f":"IF(B58=\"\",\"\",INDEX(Data_kom2,MATCH(1,(komnavn2=B58)*(komaar2=D58),0),29))","v":""},{"$f":"IF(B58=\"\",\"\",INDEX(Data_kom2,MATCH(1,(komnavn2=B58)*(komaar2=D58),0),30))","v":""},{"$f":"IF(B58=\"\",\"\",INDEX(Data_kom2,MATCH(1,(komnavn2=B58)*(komaar2=D58),0),31))","v":""},{"$f":"IF(B58=\"\",\"\",INDEX(Data_kom2,MATCH(1,(komnavn2=B58)*(komaar2=D58),0),32))","v":""},{"$f":"IF(B58=\"\",\"\",INDEX(Data_kom2,MATCH(1,(komnavn2=B58)*(komaar2=D58),0),33))","v":""},{"$f":"IF(B58=\"\",\"\",INDEX(Data_kom2,MATCH(1,(komnavn2=B58)*(komaar2=D58),0),34))","v":""},{"$f":"IF(B58=\"\",\"\",INDEX(Data_kom2,MATCH(1,(komnavn2=B58)*(komaar2=D58),0),35))","v":""},{"$f":"IF(B58=\"\",\"\",INDEX(Data_kom2,MATCH(1,(komnavn2=B58)*(komaar2=D58),0),36))","v":""},{"$f":"IF(B58=\"\",\"\",INDEX(Data_kom2,MATCH(1,(komnavn2=B58)*(komaar2=D58),0),37))","v":""},{"$f":"IF(B58=\"\",\"\",INDEX(Data_kom2,MATCH(1,(komnavn2=B58)*(komaar2=D58),0),38))","v":""}]
[4,{"$f":"'Dine valg'!$G$27","v":""},{"$f":"IF(B59=\"\",\"\",INDEX(Data_kom2,MATCH(1,(komnavn2=B59)*(komaar2=D59),0),2))","v":""},"2020-07-01",{"$f":"IF(B59=\"\",\"\",INDEX(Data_kom2,MATCH(1,(komnavn2=B59)*(komaar2=D59),0),4))","v":""},{"$f":"IF(B59=\"\",\"\",INDEX(Data_kom2,MATCH(1,(komnavn2=B59)*(komaar2=D59),0),5))","v":""},{"$f":"IF(B59=\"\",\"\",INDEX(Data_kom2,MATCH(1,(komnavn2=B59)*(komaar2=D59),0),6))","v":""},{"$f":"IF(B59=\"\",\"\",INDEX(Data_kom2,MATCH(1,(komnavn2=B59)*(komaar2=D59),0),7))","v":""},{"$f":"IF(B59=\"\",\"\",INDEX(Data_kom2,MATCH(1,(komnavn2=B59)*(komaar2=D59),0),8))","v":""},{"$f":"IF(B59=\"\",\"\",INDEX(Data_kom2,MATCH(1,(komnavn2=B59)*(komaar2=D59),0),9))","v":""},{"$f":"IF(B59=\"\",\"\",INDEX(Data_kom2,MATCH(1,(komnavn2=B59)*(komaar2=D59),0),10))","v":""},{"$f":"IF(B59=\"\",\"\",INDEX(Data_kom2,MATCH(1,(komnavn2=B59)*(komaar2=D59),0),11))","v":""},{"$f":"IF(B59=\"\",\"\",INDEX(Data_kom2,MATCH(1,(komnavn2=B59)*(komaar2=D59),0),12))","v":""},{"$f":"IF(B59=\"\",\"\",INDEX(Data_kom2,MATCH(1,(komnavn2=B59)*(komaar2=D59),0),13))","v":""},{"$f":"IF(B59=\"\",\"\",INDEX(Data_kom2,MATCH(1,(komnavn2=B59)*(komaar2=D59),0),14))","v":""},{"$f":"IF(B59=\"\",\"\",INDEX(Data_kom2,MATCH(1,(komnavn2=B59)*(komaar2=D59),0),15))","v":""},{"$f":"IF(B59=\"\",\"\",INDEX(Data_kom2,MATCH(1,(komnavn2=B59)*(komaar2=D59),0),16))","v":""},{"$f":"IF(B59=\"\",\"\",INDEX(Data_kom2,MATCH(1,(komnavn2=B59)*(komaar2=D59),0),17))","v":""},{"$f":"IF(B59=\"\",\"\",INDEX(Data_kom2,MATCH(1,(komnavn2=B59)*(komaar2=D59),0),18))","v":""},{"$f":"IF(B59=\"\",\"\",INDEX(Data_kom2,MATCH(1,(komnavn2=B59)*(komaar2=D59),0),19))","v":""},{"$f":"IF(B59=\"\",\"\",INDEX(Data_kom2,MATCH(1,(komnavn2=B59)*(komaar2=D59),0),20))","v":""},{"$f":"IF(B59=\"\",\"\",INDEX(Data_kom2,MATCH(1,(komnavn2=B59)*(komaar2=D59),0),21))","v":""},{"$f":"IF(B59=\"\",\"\",INDEX(Data_kom2,MATCH(1,(komnavn2=B59)*(komaar2=D59),0),22))","v":""},{"$f":"IF(B59=\"\",\"\",INDEX(Data_kom2,MATCH(1,(komnavn2=B59)*(komaar2=D59),0),23))","v":""},{"$f":"IF(B59=\"\",\"\",INDEX(Data_kom2,MATCH(1,(komnavn2=B59)*(komaar2=D59),0),24))","v":""},{"$f":"IF(B59=\"\",\"\",INDEX(Data_kom2,MATCH(1,(komnavn2=B59)*(komaar2=D59),0),25))","v":""},{"$f":"IF(B59=\"\",\"\",INDEX(Data_kom2,MATCH(1,(komnavn2=B59)*(komaar2=D59),0),26))","v":""},{"$f":"IF(B59=\"\",\"\",INDEX(Data_kom2,MATCH(1,(komnavn2=B59)*(komaar2=D59),0),27))","v":""},{"$f":"IF(B59=\"\",\"\",INDEX(Data_kom2,MATCH(1,(komnavn2=B59)*(komaar2=D59),0),28))","v":""},{"$f":"IF(B59=\"\",\"\",INDEX(Data_kom2,MATCH(1,(komnavn2=B59)*(komaar2=D59),0),29))","v":""},{"$f":"IF(B59=\"\",\"\",INDEX(Data_kom2,MATCH(1,(komnavn2=B59)*(komaar2=D59),0),30))","v":""},{"$f":"IF(B59=\"\",\"\",INDEX(Data_kom2,MATCH(1,(komnavn2=B59)*(komaar2=D59),0),31))","v":""},{"$f":"IF(B59=\"\",\"\",INDEX(Data_kom2,MATCH(1,(komnavn2=B59)*(komaar2=D59),0),32))","v":""},{"$f":"IF(B59=\"\",\"\",INDEX(Data_kom2,MATCH(1,(komnavn2=B59)*(komaar2=D59),0),33))","v":""},{"$f":"IF(B59=\"\",\"\",INDEX(Data_kom2,MATCH(1,(komnavn2=B59)*(komaar2=D59),0),34))","v":""},{"$f":"IF(B59=\"\",\"\",INDEX(Data_kom2,MATCH(1,(komnavn2=B59)*(komaar2=D59),0),35))","v":""},{"$f":"IF(B59=\"\",\"\",INDEX(Data_kom2,MATCH(1,(komnavn2=B59)*(komaar2=D59),0),36))","v":""},{"$f":"IF(B59=\"\",\"\",INDEX(Data_kom2,MATCH(1,(komnavn2=B59)*(komaar2=D59),0),37))","v":""},{"$f":"IF(B59=\"\",\"\",INDEX(Data_kom2,MATCH(1,(komnavn2=B59)*(komaar2=D59),0),38))","v":""}]
[5,{"$f":"'Dine valg'!$G$28","v":""},{"$f":"IF(B60=\"\",\"\",INDEX(Data_kom2,MATCH(1,(komnavn2=B60)*(komaar2=D60),0),2))","v":""},"2020-07-01",{"$f":"IF(B60=\"\",\"\",INDEX(Data_kom2,MATCH(1,(komnavn2=B60)*(komaar2=D60),0),4))","v":""},{"$f":"IF(B60=\"\",\"\",INDEX(Data_kom2,MATCH(1,(komnavn2=B60)*(komaar2=D60),0),5))","v":""},{"$f":"IF(B60=\"\",\"\",INDEX(Data_kom2,MATCH(1,(komnavn2=B60)*(komaar2=D60),0),6))","v":""},{"$f":"IF(B60=\"\",\"\",INDEX(Data_kom2,MATCH(1,(komnavn2=B60)*(komaar2=D60),0),7))","v":""},{"$f":"IF(B60=\"\",\"\",INDEX(Data_kom2,MATCH(1,(komnavn2=B60)*(komaar2=D60),0),8))","v":""},{"$f":"IF(B60=\"\",\"\",INDEX(Data_kom2,MATCH(1,(komnavn2=B60)*(komaar2=D60),0),9))","v":""},{"$f":"IF(B60=\"\",\"\",INDEX(Data_kom2,MATCH(1,(komnavn2=B60)*(komaar2=D60),0),10))","v":""},{"$f":"IF(B60=\"\",\"\",INDEX(Data_kom2,MATCH(1,(komnavn2=B60)*(komaar2=D60),0),11))","v":""},{"$f":"IF(B60=\"\",\"\",INDEX(Data_kom2,MATCH(1,(komnavn2=B60)*(komaar2=D60),0),12))","v":""},{"$f":"IF(B60=\"\",\"\",INDEX(Data_kom2,MATCH(1,(komnavn2=B60)*(komaar2=D60),0),13))","v":""},{"$f":"IF(B60=\"\",\"\",INDEX(Data_kom2,MATCH(1,(komnavn2=B60)*(komaar2=D60),0),14))","v":""},{"$f":"IF(B60=\"\",\"\",INDEX(Data_kom2,MATCH(1,(komnavn2=B60)*(komaar2=D60),0),15))","v":""},{"$f":"IF(B60=\"\",\"\",INDEX(Data_kom2,MATCH(1,(komnavn2=B60)*(komaar2=D60),0),16))","v":""},{"$f":"IF(B60=\"\",\"\",INDEX(Data_kom2,MATCH(1,(komnavn2=B60)*(komaar2=D60),0),17))","v":""},{"$f":"IF(B60=\"\",\"\",INDEX(Data_kom2,MATCH(1,(komnavn2=B60)*(komaar2=D60),0),18))","v":""},{"$f":"IF(B60=\"\",\"\",INDEX(Data_kom2,MATCH(1,(komnavn2=B60)*(komaar2=D60),0),19))","v":""},{"$f":"IF(B60=\"\",\"\",INDEX(Data_kom2,MATCH(1,(komnavn2=B60)*(komaar2=D60),0),20))","v":""},{"$f":"IF(B60=\"\",\"\",INDEX(Data_kom2,MATCH(1,(komnavn2=B60)*(komaar2=D60),0),21))","v":""},{"$f":"IF(B60=\"\",\"\",INDEX(Data_kom2,MATCH(1,(komnavn2=B60)*(komaar2=D60),0),22))","v":""},{"$f":"IF(B60=\"\",\"\",INDEX(Data_kom2,MATCH(1,(komnavn2=B60)*(komaar2=D60),0),23))","v":""},{"$f":"IF(B60=\"\",\"\",INDEX(Data_kom2,MATCH(1,(komnavn2=B60)*(komaar2=D60),0),24))","v":""},{"$f":"IF(B60=\"\",\"\",INDEX(Data_kom2,MATCH(1,(komnavn2=B60)*(komaar2=D60),0),25))","v":""},{"$f":"IF(B60=\"\",\"\",INDEX(Data_kom2,MATCH(1,(komnavn2=B60)*(komaar2=D60),0),26))","v":""},{"$f":"IF(B60=\"\",\"\",INDEX(Data_kom2,MATCH(1,(komnavn2=B60)*(komaar2=D60),0),27))","v":""},{"$f":"IF(B60=\"\",\"\",INDEX(Data_kom2,MATCH(1,(komnavn2=B60)*(komaar2=D60),0),28))","v":""},{"$f":"IF(B60=\"\",\"\",INDEX(Data_kom2,MATCH(1,(komnavn2=B60)*(komaar2=D60),0),29))","v":""},{"$f":"IF(B60=\"\",\"\",INDEX(Data_kom2,MATCH(1,(komnavn2=B60)*(komaar2=D60),0),30))","v":""},{"$f":"IF(B60=\"\",\"\",INDEX(Data_kom2,MATCH(1,(komnavn2=B60)*(komaar2=D60),0),31))","v":""},{"$f":"IF(B60=\"\",\"\",INDEX(Data_kom2,MATCH(1,(komnavn2=B60)*(komaar2=D60),0),32))","v":""},{"$f":"IF(B60=\"\",\"\",INDEX(Data_kom2,MATCH(1,(komnavn2=B60)*(komaar2=D60),0),33))","v":""},{"$f":"IF(B60=\"\",\"\",INDEX(Data_kom2,MATCH(1,(komnavn2=B60)*(komaar2=D60),0),34))","v":""},{"$f":"IF(B60=\"\",\"\",INDEX(Data_kom2,MATCH(1,(komnavn2=B60)*(komaar2=D60),0),35))","v":""},{"$f":"IF(B60=\"\",\"\",INDEX(Data_kom2,MATCH(1,(komnavn2=B60)*(komaar2=D60),0),36))","v":""},{"$f":"IF(B60=\"\",\"\",INDEX(Data_kom2,MATCH(1,(komnavn2=B60)*(komaar2=D60),0),37))","v":""},{"$f":"IF(B60=\"\",\"\",INDEX(Data_kom2,MATCH(1,(komnavn2=B60)*(komaar2=D60),0),38))","v":""}]
[6,{"$f":"'Dine valg'!$G$29","v":""},{"$f":"IF(B61=\"\",\"\",INDEX(Data_kom2,MATCH(1,(komnavn2=B61)*(komaar2=D61),0),2))","v":""},"2020-07-01",{"$f":"IF(B61=\"\",\"\",INDEX(Data_kom2,MATCH(1,(komnavn2=B61)*(komaar2=D61),0),4))","v":""},{"$f":"IF(B61=\"\",\"\",INDEX(Data_kom2,MATCH(1,(komnavn2=B61)*(komaar2=D61),0),5))","v":""},{"$f":"IF(B61=\"\",\"\",INDEX(Data_kom2,MATCH(1,(komnavn2=B61)*(komaar2=D61),0),6))","v":""},{"$f":"IF(B61=\"\",\"\",INDEX(Data_kom2,MATCH(1,(komnavn2=B61)*(komaar2=D61),0),7))","v":""},{"$f":"IF(B61=\"\",\"\",INDEX(Data_kom2,MATCH(1,(komnavn2=B61)*(komaar2=D61),0),8))","v":""},{"$f":"IF(B61=\"\",\"\",INDEX(Data_kom2,MATCH(1,(komnavn2=B61)*(komaar2=D61),0),9))","v":""},{"$f":"IF(B61=\"\",\"\",INDEX(Data_kom2,MATCH(1,(komnavn2=B61)*(komaar2=D61),0),10))","v":""},{"$f":"IF(B61=\"\",\"\",INDEX(Data_kom2,MATCH(1,(komnavn2=B61)*(komaar2=D61),0),11))","v":""},{"$f":"IF(B61=\"\",\"\",INDEX(Data_kom2,MATCH(1,(komnavn2=B61)*(komaar2=D61),0),12))","v":""},{"$f":"IF(B61=\"\",\"\",INDEX(Data_kom2,MATCH(1,(komnavn2=B61)*(komaar2=D61),0),13))","v":""},{"$f":"IF(B61=\"\",\"\",INDEX(Data_kom2,MATCH(1,(komnavn2=B61)*(komaar2=D61),0),14))","v":""},{"$f":"IF(B61=\"\",\"\",INDEX(Data_kom2,MATCH(1,(komnavn2=B61)*(komaar2=D61),0),15))","v":""},{"$f":"IF(B61=\"\",\"\",INDEX(Data_kom2,MATCH(1,(komnavn2=B61)*(komaar2=D61),0),16))","v":""},{"$f":"IF(B61=\"\",\"\",INDEX(Data_kom2,MATCH(1,(komnavn2=B61)*(komaar2=D61),0),17))","v":""},{"$f":"IF(B61=\"\",\"\",INDEX(Data_kom2,MATCH(1,(komnavn2=B61)*(komaar2=D61),0),18))","v":""},{"$f":"IF(B61=\"\",\"\",INDEX(Data_kom2,MATCH(1,(komnavn2=B61)*(komaar2=D61),0),19))","v":""},{"$f":"IF(B61=\"\",\"\",INDEX(Data_kom2,MATCH(1,(komnavn2=B61)*(komaar2=D61),0),20))","v":""},{"$f":"IF(B61=\"\",\"\",INDEX(Data_kom2,MATCH(1,(komnavn2=B61)*(komaar2=D61),0),21))","v":""},{"$f":"IF(B61=\"\",\"\",INDEX(Data_kom2,MATCH(1,(komnavn2=B61)*(komaar2=D61),0),22))","v":""},{"$f":"IF(B61=\"\",\"\",INDEX(Data_kom2,MATCH(1,(komnavn2=B61)*(komaar2=D61),0),23))","v":""},{"$f":"IF(B61=\"\",\"\",INDEX(Data_kom2,MATCH(1,(komnavn2=B61)*(komaar2=D61),0),24))","v":""},{"$f":"IF(B61=\"\",\"\",INDEX(Data_kom2,MATCH(1,(komnavn2=B61)*(komaar2=D61),0),25))","v":""},{"$f":"IF(B61=\"\",\"\",INDEX(Data_kom2,MATCH(1,(komnavn2=B61)*(komaar2=D61),0),26))","v":""},{"$f":"IF(B61=\"\",\"\",INDEX(Data_kom2,MATCH(1,(komnavn2=B61)*(komaar2=D61),0),27))","v":""},{"$f":"IF(B61=\"\",\"\",INDEX(Data_kom2,MATCH(1,(komnavn2=B61)*(komaar2=D61),0),28))","v":""},{"$f":"IF(B61=\"\",\"\",INDEX(Data_kom2,MATCH(1,(komnavn2=B61)*(komaar2=D61),0),29))","v":""},{"$f":"IF(B61=\"\",\"\",INDEX(Data_kom2,MATCH(1,(komnavn2=B61)*(komaar2=D61),0),30))","v":""},{"$f":"IF(B61=\"\",\"\",INDEX(Data_kom2,MATCH(1,(komnavn2=B61)*(komaar2=D61),0),31))","v":""},{"$f":"IF(B61=\"\",\"\",INDEX(Data_kom2,MATCH(1,(komnavn2=B61)*(komaar2=D61),0),32))","v":""},{"$f":"IF(B61=\"\",\"\",INDEX(Data_kom2,MATCH(1,(komnavn2=B61)*(komaar2=D61),0),33))","v":""},{"$f":"IF(B61=\"\",\"\",INDEX(Data_kom2,MATCH(1,(komnavn2=B61)*(komaar2=D61),0),34))","v":""},{"$f":"IF(B61=\"\",\"\",INDEX(Data_kom2,MATCH(1,(komnavn2=B61)*(komaar2=D61),0),35))","v":""},{"$f":"IF(B61=\"\",\"\",INDEX(Data_kom2,MATCH(1,(komnavn2=B61)*(komaar2=D61),0),36))","v":""},{"$f":"IF(B61=\"\",\"\",INDEX(Data_kom2,MATCH(1,(komnavn2=B61)*(komaar2=D61),0),37))","v":""},{"$f":"IF(B61=\"\",\"\",INDEX(Data_kom2,MATCH(1,(komnavn2=B61)*(komaar2=D61),0),38))","v":""}]
[7,{"$f":"'Dine valg'!$G$30","v":""},{"$f":"IF(B62=\"\",\"\",INDEX(Data_kom2,MATCH(1,(komnavn2=B62)*(komaar2=D62),0),2))","v":""},"2020-07-01",{"$f":"IF(B62=\"\",\"\",INDEX(Data_kom2,MATCH(1,(komnavn2=B62)*(komaar2=D62),0),4))","v":""},{"$f":"IF(B62=\"\",\"\",INDEX(Data_kom2,MATCH(1,(komnavn2=B62)*(komaar2=D62),0),5))","v":""},{"$f":"IF(B62=\"\",\"\",INDEX(Data_kom2,MATCH(1,(komnavn2=B62)*(komaar2=D62),0),6))","v":""},{"$f":"IF(B62=\"\",\"\",INDEX(Data_kom2,MATCH(1,(komnavn2=B62)*(komaar2=D62),0),7))","v":""},{"$f":"IF(B62=\"\",\"\",INDEX(Data_kom2,MATCH(1,(komnavn2=B62)*(komaar2=D62),0),8))","v":""},{"$f":"IF(B62=\"\",\"\",INDEX(Data_kom2,MATCH(1,(komnavn2=B62)*(komaar2=D62),0),9))","v":""},{"$f":"IF(B62=\"\",\"\",INDEX(Data_kom2,MATCH(1,(komnavn2=B62)*(komaar2=D62),0),10))","v":""},{"$f":"IF(B62=\"\",\"\",INDEX(Data_kom2,MATCH(1,(komnavn2=B62)*(komaar2=D62),0),11))","v":""},{"$f":"IF(B62=\"\",\"\",INDEX(Data_kom2,MATCH(1,(komnavn2=B62)*(komaar2=D62),0),12))","v":""},{"$f":"IF(B62=\"\",\"\",INDEX(Data_kom2,MATCH(1,(komnavn2=B62)*(komaar2=D62),0),13))","v":""},{"$f":"IF(B62=\"\",\"\",INDEX(Data_kom2,MATCH(1,(komnavn2=B62)*(komaar2=D62),0),14))","v":""},{"$f":"IF(B62=\"\",\"\",INDEX(Data_kom2,MATCH(1,(komnavn2=B62)*(komaar2=D62),0),15))","v":""},{"$f":"IF(B62=\"\",\"\",INDEX(Data_kom2,MATCH(1,(komnavn2=B62)*(komaar2=D62),0),16))","v":""},{"$f":"IF(B62=\"\",\"\",INDEX(Data_kom2,MATCH(1,(komnavn2=B62)*(komaar2=D62),0),17))","v":""},{"$f":"IF(B62=\"\",\"\",INDEX(Data_kom2,MATCH(1,(komnavn2=B62)*(komaar2=D62),0),18))","v":""},{"$f":"IF(B62=\"\",\"\",INDEX(Data_kom2,MATCH(1,(komnavn2=B62)*(komaar2=D62),0),19))","v":""},{"$f":"IF(B62=\"\",\"\",INDEX(Data_kom2,MATCH(1,(komnavn2=B62)*(komaar2=D62),0),20))","v":""},{"$f":"IF(B62=\"\",\"\",INDEX(Data_kom2,MATCH(1,(komnavn2=B62)*(komaar2=D62),0),21))","v":""},{"$f":"IF(B62=\"\",\"\",INDEX(Data_kom2,MATCH(1,(komnavn2=B62)*(komaar2=D62),0),22))","v":""},{"$f":"IF(B62=\"\",\"\",INDEX(Data_kom2,MATCH(1,(komnavn2=B62)*(komaar2=D62),0),23))","v":""},{"$f":"IF(B62=\"\",\"\",INDEX(Data_kom2,MATCH(1,(komnavn2=B62)*(komaar2=D62),0),24))","v":""},{"$f":"IF(B62=\"\",\"\",INDEX(Data_kom2,MATCH(1,(komnavn2=B62)*(komaar2=D62),0),25))","v":""},{"$f":"IF(B62=\"\",\"\",INDEX(Data_kom2,MATCH(1,(komnavn2=B62)*(komaar2=D62),0),26))","v":""},{"$f":"IF(B62=\"\",\"\",INDEX(Data_kom2,MATCH(1,(komnavn2=B62)*(komaar2=D62),0),27))","v":""},{"$f":"IF(B62=\"\",\"\",INDEX(Data_kom2,MATCH(1,(komnavn2=B62)*(komaar2=D62),0),28))","v":""},{"$f":"IF(B62=\"\",\"\",INDEX(Data_kom2,MATCH(1,(komnavn2=B62)*(komaar2=D62),0),29))","v":""},{"$f":"IF(B62=\"\",\"\",INDEX(Data_kom2,MATCH(1,(komnavn2=B62)*(komaar2=D62),0),30))","v":""},{"$f":"IF(B62=\"\",\"\",INDEX(Data_kom2,MATCH(1,(komnavn2=B62)*(komaar2=D62),0),31))","v":""},{"$f":"IF(B62=\"\",\"\",INDEX(Data_kom2,MATCH(1,(komnavn2=B62)*(komaar2=D62),0),32))","v":""},{"$f":"IF(B62=\"\",\"\",INDEX(Data_kom2,MATCH(1,(komnavn2=B62)*(komaar2=D62),0),33))","v":""},{"$f":"IF(B62=\"\",\"\",INDEX(Data_kom2,MATCH(1,(komnavn2=B62)*(komaar2=D62),0),34))","v":""},{"$f":"IF(B62=\"\",\"\",INDEX(Data_kom2,MATCH(1,(komnavn2=B62)*(komaar2=D62),0),35))","v":""},{"$f":"IF(B62=\"\",\"\",INDEX(Data_kom2,MATCH(1,(komnavn2=B62)*(komaar2=D62),0),36))","v":""},{"$f":"IF(B62=\"\",\"\",INDEX(Data_kom2,MATCH(1,(komnavn2=B62)*(komaar2=D62),0),37))","v":""},{"$f":"IF(B62=\"\",\"\",INDEX(Data_kom2,MATCH(1,(komnavn2=B62)*(komaar2=D62),0),38))","v":""}]
[1,{"$f":"'Dine valg'!$G$24","v":"Aarhus"},{"$f":"IF(B63=\"\",\"\",INDEX(Data_kom2,MATCH(1,(komnavn2=B63)*(komaar2=D63),0),2))","v":63890},"2020-01-01",{"$f":"IF(B63=\"\",\"\",INDEX(Data_kom2,MATCH(1,(komnavn2=B63)*(komaar2=D63),0),4))","v":166},{"$f":"IF(B63=\"\",\"\",INDEX(Data_kom2,MATCH(1,(komnavn2=B63)*(komaar2=D63),0),5))","v":116},{"$f":"IF(B63=\"\",\"\",INDEX(Data_kom2,MATCH(1,(komnavn2=B63)*(komaar2=D63),0),6))","v":15},{"$f":"IF(B63=\"\",\"\",INDEX(Data_kom2,MATCH(1,(komnavn2=B63)*(komaar2=D63),0),7))","v":35},{"$f":"IF(B63=\"\",\"\",INDEX(Data_kom2,MATCH(1,(komnavn2=B63)*(komaar2=D63),0),8))","v":156232},{"$f":"IF(B63=\"\",\"\",INDEX(Data_kom2,MATCH(1,(komnavn2=B63)*(komaar2=D63),0),9))","v":124048},{"$f":"IF(B63=\"\",\"\",INDEX(Data_kom2,MATCH(1,(komnavn2=B63)*(komaar2=D63),0),10))","v":3592},{"$f":"IF(B63=\"\",\"\",INDEX(Data_kom2,MATCH(1,(komnavn2=B63)*(komaar2=D63),0),11))","v":28592},{"$f":"IF(B63=\"\",\"\",INDEX(Data_kom2,MATCH(1,(komnavn2=B63)*(komaar2=D63),0),12))","v":248},{"$f":"IF(B63=\"\",\"\",INDEX(Data_kom2,MATCH(1,(komnavn2=B63)*(komaar2=D63),0),13))","v":22},{"$f":"IF(B63=\"\",\"\",INDEX(Data_kom2,MATCH(1,(komnavn2=B63)*(komaar2=D63),0),14))","v":1289},{"$f":"IF(B63=\"\",\"\",INDEX(Data_kom2,MATCH(1,(komnavn2=B63)*(komaar2=D63),0),15))","v":"*"},{"$f":"IF(B63=\"\",\"\",INDEX(Data_kom2,MATCH(1,(komnavn2=B63)*(komaar2=D63),0),16))","v":"*"},{"$f":"IF(B63=\"\",\"\",INDEX(Data_kom2,MATCH(1,(komnavn2=B63)*(komaar2=D63),0),17))","v":1274},{"$f":"IF(B63=\"\",\"\",INDEX(Data_kom2,MATCH(1,(komnavn2=B63)*(komaar2=D63),0),18))","v":8},{"$f":"IF(B63=\"\",\"\",INDEX(Data_kom2,MATCH(1,(komnavn2=B63)*(komaar2=D63),0),19))","v":0},{"$f":"IF(B63=\"\",\"\",INDEX(Data_kom2,MATCH(1,(komnavn2=B63)*(komaar2=D63),0),20))","v":0},{"$f":"IF(B63=\"\",\"\",INDEX(Data_kom2,MATCH(1,(komnavn2=B63)*(komaar2=D63),0),21))","v":0},{"$f":"IF(B63=\"\",\"\",INDEX(Data_kom2,MATCH(1,(komnavn2=B63)*(komaar2=D63),0),22))","v":31},{"$f":"IF(B63=\"\",\"\",INDEX(Data_kom2,MATCH(1,(komnavn2=B63)*(komaar2=D63),0),23))","v":173},{"$f":"IF(B63=\"\",\"\",INDEX(Data_kom2,MATCH(1,(komnavn2=B63)*(komaar2=D63),0),24))","v":0},{"$f":"IF(B63=\"\",\"\",INDEX(Data_kom2,MATCH(1,(komnavn2=B63)*(komaar2=D63),0),25))","v":173},{"$f":"IF(B63=\"\",\"\",INDEX(Data_kom2,MATCH(1,(komnavn2=B63)*(komaar2=D63),0),26))","v":31},{"$f":"IF(B63=\"\",\"\",INDEX(Data_kom2,MATCH(1,(komnavn2=B63)*(komaar2=D63),0),27))","v":173},{"$f":"IF(B63=\"\",\"\",INDEX(Data_kom2,MATCH(1,(komnavn2=B63)*(komaar2=D63),0),28))","v":22},{"$f":"IF(B63=\"\",\"\",INDEX(Data_kom2,MATCH(1,(komnavn2=B63)*(komaar2=D63),0),29))","v":1281},{"$f":"IF(B63=\"\",\"\",INDEX(Data_kom2,MATCH(1,(komnavn2=B63)*(komaar2=D63),0),30))","v":376},{"$f":"IF(B63=\"\",\"\",INDEX(Data_kom2,MATCH(1,(komnavn2=B63)*(komaar2=D63),0),31))","v":1286},{"$f":"IF(B63=\"\",\"\",INDEX(Data_kom2,MATCH(1,(komnavn2=B63)*(komaar2=D63),0),32))","v":0},{"$f":"IF(B63=\"\",\"\",INDEX(Data_kom2,MATCH(1,(komnavn2=B63)*(komaar2=D63),0),33))","v":0},{"$f":"IF(B63=\"\",\"\",INDEX(Data_kom2,MATCH(1,(komnavn2=B63)*(komaar2=D63),0),34))","v":0},{"$f":"IF(B63=\"\",\"\",INDEX(Data_kom2,MATCH(1,(komnavn2=B63)*(komaar2=D63),0),35))","v":0},{"$f":"IF(B63=\"\",\"\",INDEX(Data_kom2,MATCH(1,(komnavn2=B63)*(komaar2=D63),0),36))","v":0},{"$f":"IF(B63=\"\",\"\",INDEX(Data_kom2,MATCH(1,(komnavn2=B63)*(komaar2=D63),0),37))","v":0},{"$f":"IF(B63=\"\",\"\",INDEX(Data_kom2,MATCH(1,(komnavn2=B63)*(komaar2=D63),0),38))","v":"Region Midtjylland"}]
[2,{"$f":"'Dine valg'!$G$25","v":""},{"$f":"IF(B64=\"\",\"\",INDEX(Data_kom2,MATCH(1,(komnavn2=B64)*(komaar2=D64),0),2))","v":""},"2020-01-01",{"$f":"IF(B64=\"\",\"\",INDEX(Data_kom2,MATCH(1,(komnavn2=B64)*(komaar2=D64),0),4))","v":""},{"$f":"IF(B64=\"\",\"\",INDEX(Data_kom2,MATCH(1,(komnavn2=B64)*(komaar2=D64),0),5))","v":""},{"$f":"IF(B64=\"\",\"\",INDEX(Data_kom2,MATCH(1,(komnavn2=B64)*(komaar2=D64),0),6))","v":""},{"$f":"IF(B64=\"\",\"\",INDEX(Data_kom2,MATCH(1,(komnavn2=B64)*(komaar2=D64),0),7))","v":""},{"$f":"IF(B64=\"\",\"\",INDEX(Data_kom2,MATCH(1,(komnavn2=B64)*(komaar2=D64),0),8))","v":""},{"$f":"IF(B64=\"\",\"\",INDEX(Data_kom2,MATCH(1,(komnavn2=B64)*(komaar2=D64),0),9))","v":""},{"$f":"IF(B64=\"\",\"\",INDEX(Data_kom2,MATCH(1,(komnavn2=B64)*(komaar2=D64),0),10))","v":""},{"$f":"IF(B64=\"\",\"\",INDEX(Data_kom2,MATCH(1,(komnavn2=B64)*(komaar2=D64),0),11))","v":""},{"$f":"IF(B64=\"\",\"\",INDEX(Data_kom2,MATCH(1,(komnavn2=B64)*(komaar2=D64),0),12))","v":""},{"$f":"IF(B64=\"\",\"\",INDEX(Data_kom2,MATCH(1,(komnavn2=B64)*(komaar2=D64),0),13))","v":""},{"$f":"IF(B64=\"\",\"\",INDEX(Data_kom2,MATCH(1,(komnavn2=B64)*(komaar2=D64),0),14))","v":""},{"$f":"IF(B64=\"\",\"\",INDEX(Data_kom2,MATCH(1,(komnavn2=B64)*(komaar2=D64),0),15))","v":""},{"$f":"IF(B64=\"\",\"\",INDEX(Data_kom2,MATCH(1,(komnavn2=B64)*(komaar2=D64),0),16))","v":""},{"$f":"IF(B64=\"\",\"\",INDEX(Data_kom2,MATCH(1,(komnavn2=B64)*(komaar2=D64),0),17))","v":""},{"$f":"IF(B64=\"\",\"\",INDEX(Data_kom2,MATCH(1,(komnavn2=B64)*(komaar2=D64),0),18))","v":""},{"$f":"IF(B64=\"\",\"\",INDEX(Data_kom2,MATCH(1,(komnavn2=B64)*(komaar2=D64),0),19))","v":""},{"$f":"IF(B64=\"\",\"\",INDEX(Data_kom2,MATCH(1,(komnavn2=B64)*(komaar2=D64),0),20))","v":""},{"$f":"IF(B64=\"\",\"\",INDEX(Data_kom2,MATCH(1,(komnavn2=B64)*(komaar2=D64),0),21))","v":""},{"$f":"IF(B64=\"\",\"\",INDEX(Data_kom2,MATCH(1,(komnavn2=B64)*(komaar2=D64),0),22))","v":""},{"$f":"IF(B64=\"\",\"\",INDEX(Data_kom2,MATCH(1,(komnavn2=B64)*(komaar2=D64),0),23))","v":""},{"$f":"IF(B64=\"\",\"\",INDEX(Data_kom2,MATCH(1,(komnavn2=B64)*(komaar2=D64),0),24))","v":""},{"$f":"IF(B64=\"\",\"\",INDEX(Data_kom2,MATCH(1,(komnavn2=B64)*(komaar2=D64),0),25))","v":""},{"$f":"IF(B64=\"\",\"\",INDEX(Data_kom2,MATCH(1,(komnavn2=B64)*(komaar2=D64),0),26))","v":""},{"$f":"IF(B64=\"\",\"\",INDEX(Data_kom2,MATCH(1,(komnavn2=B64)*(komaar2=D64),0),27))","v":""},{"$f":"IF(B64=\"\",\"\",INDEX(Data_kom2,MATCH(1,(komnavn2=B64)*(komaar2=D64),0),28))","v":""},{"$f":"IF(B64=\"\",\"\",INDEX(Data_kom2,MATCH(1,(komnavn2=B64)*(komaar2=D64),0),29))","v":""},{"$f":"IF(B64=\"\",\"\",INDEX(Data_kom2,MATCH(1,(komnavn2=B64)*(komaar2=D64),0),30))","v":""},{"$f":"IF(B64=\"\",\"\",INDEX(Data_kom2,MATCH(1,(komnavn2=B64)*(komaar2=D64),0),31))","v":""},{"$f":"IF(B64=\"\",\"\",INDEX(Data_kom2,MATCH(1,(komnavn2=B64)*(komaar2=D64),0),32))","v":""},{"$f":"IF(B64=\"\",\"\",INDEX(Data_kom2,MATCH(1,(komnavn2=B64)*(komaar2=D64),0),33))","v":""},{"$f":"IF(B64=\"\",\"\",INDEX(Data_kom2,MATCH(1,(komnavn2=B64)*(komaar2=D64),0),34))","v":""},{"$f":"IF(B64=\"\",\"\",INDEX(Data_kom2,MATCH(1,(komnavn2=B64)*(komaar2=D64),0),35))","v":""},{"$f":"IF(B64=\"\",\"\",INDEX(Data_kom2,MATCH(1,(komnavn2=B64)*(komaar2=D64),0),36))","v":""},{"$f":"IF(B64=\"\",\"\",INDEX(Data_kom2,MATCH(1,(komnavn2=B64)*(komaar2=D64),0),37))","v":""},{"$f":"IF(B64=\"\",\"\",INDEX(Data_kom2,MATCH(1,(komnavn2=B64)*(komaar2=D64),0),38))","v":""}]
[3,{"$f":"'Dine valg'!$G$26","v":""},{"$f":"IF(B65=\"\",\"\",INDEX(Data_kom2,MATCH(1,(komnavn2=B65)*(komaar2=D65),0),2))","v":""},"2020-01-01",{"$f":"IF(B65=\"\",\"\",INDEX(Data_kom2,MATCH(1,(komnavn2=B65)*(komaar2=D65),0),4))","v":""},{"$f":"IF(B65=\"\",\"\",INDEX(Data_kom2,MATCH(1,(komnavn2=B65)*(komaar2=D65),0),5))","v":""},{"$f":"IF(B65=\"\",\"\",INDEX(Data_kom2,MATCH(1,(komnavn2=B65)*(komaar2=D65),0),6))","v":""},{"$f":"IF(B65=\"\",\"\",INDEX(Data_kom2,MATCH(1,(komnavn2=B65)*(komaar2=D65),0),7))","v":""},{"$f":"IF(B65=\"\",\"\",INDEX(Data_kom2,MATCH(1,(komnavn2=B65)*(komaar2=D65),0),8))","v":""},{"$f":"IF(B65=\"\",\"\",INDEX(Data_kom2,MATCH(1,(komnavn2=B65)*(komaar2=D65),0),9))","v":""},{"$f":"IF(B65=\"\",\"\",INDEX(Data_kom2,MATCH(1,(komnavn2=B65)*(komaar2=D65),0),10))","v":""},{"$f":"IF(B65=\"\",\"\",INDEX(Data_kom2,MATCH(1,(komnavn2=B65)*(komaar2=D65),0),11))","v":""},{"$f":"IF(B65=\"\",\"\",INDEX(Data_kom2,MATCH(1,(komnavn2=B65)*(komaar2=D65),0),12))","v":""},{"$f":"IF(B65=\"\",\"\",INDEX(Data_kom2,MATCH(1,(komnavn2=B65)*(komaar2=D65),0),13))","v":""},{"$f":"IF(B65=\"\",\"\",INDEX(Data_kom2,MATCH(1,(komnavn2=B65)*(komaar2=D65),0),14))","v":""},{"$f":"IF(B65=\"\",\"\",INDEX(Data_kom2,MATCH(1,(komnavn2=B65)*(komaar2=D65),0),15))","v":""},{"$f":"IF(B65=\"\",\"\",INDEX(Data_kom2,MATCH(1,(komnavn2=B65)*(komaar2=D65),0),16))","v":""},{"$f":"IF(B65=\"\",\"\",INDEX(Data_kom2,MATCH(1,(komnavn2=B65)*(komaar2=D65),0),17))","v":""},{"$f":"IF(B65=\"\",\"\",INDEX(Data_kom2,MATCH(1,(komnavn2=B65)*(komaar2=D65),0),18))","v":""},{"$f":"IF(B65=\"\",\"\",INDEX(Data_kom2,MATCH(1,(komnavn2=B65)*(komaar2=D65),0),19))","v":""},{"$f":"IF(B65=\"\",\"\",INDEX(Data_kom2,MATCH(1,(komnavn2=B65)*(komaar2=D65),0),20))","v":""},{"$f":"IF(B65=\"\",\"\",INDEX(Data_kom2,MATCH(1,(komnavn2=B65)*(komaar2=D65),0),21))","v":""},{"$f":"IF(B65=\"\",\"\",INDEX(Data_kom2,MATCH(1,(komnavn2=B65)*(komaar2=D65),0),22))","v":""},{"$f":"IF(B65=\"\",\"\",INDEX(Data_kom2,MATCH(1,(komnavn2=B65)*(komaar2=D65),0),23))","v":""},{"$f":"IF(B65=\"\",\"\",INDEX(Data_kom2,MATCH(1,(komnavn2=B65)*(komaar2=D65),0),24))","v":""},{"$f":"IF(B65=\"\",\"\",INDEX(Data_kom2,MATCH(1,(komnavn2=B65)*(komaar2=D65),0),25))","v":""},{"$f":"IF(B65=\"\",\"\",INDEX(Data_kom2,MATCH(1,(komnavn2=B65)*(komaar2=D65),0),26))","v":""},{"$f":"IF(B65=\"\",\"\",INDEX(Data_kom2,MATCH(1,(komnavn2=B65)*(komaar2=D65),0),27))","v":""},{"$f":"IF(B65=\"\",\"\",INDEX(Data_kom2,MATCH(1,(komnavn2=B65)*(komaar2=D65),0),28))","v":""},{"$f":"IF(B65=\"\",\"\",INDEX(Data_kom2,MATCH(1,(komnavn2=B65)*(komaar2=D65),0),29))","v":""},{"$f":"IF(B65=\"\",\"\",INDEX(Data_kom2,MATCH(1,(komnavn2=B65)*(komaar2=D65),0),30))","v":""},{"$f":"IF(B65=\"\",\"\",INDEX(Data_kom2,MATCH(1,(komnavn2=B65)*(komaar2=D65),0),31))","v":""},{"$f":"IF(B65=\"\",\"\",INDEX(Data_kom2,MATCH(1,(komnavn2=B65)*(komaar2=D65),0),32))","v":""},{"$f":"IF(B65=\"\",\"\",INDEX(Data_kom2,MATCH(1,(komnavn2=B65)*(komaar2=D65),0),33))","v":""},{"$f":"IF(B65=\"\",\"\",INDEX(Data_kom2,MATCH(1,(komnavn2=B65)*(komaar2=D65),0),34))","v":""},{"$f":"IF(B65=\"\",\"\",INDEX(Data_kom2,MATCH(1,(komnavn2=B65)*(komaar2=D65),0),35))","v":""},{"$f":"IF(B65=\"\",\"\",INDEX(Data_kom2,MATCH(1,(komnavn2=B65)*(komaar2=D65),0),36))","v":""},{"$f":"IF(B65=\"\",\"\",INDEX(Data_kom2,MATCH(1,(komnavn2=B65)*(komaar2=D65),0),37))","v":""},{"$f":"IF(B65=\"\",\"\",INDEX(Data_kom2,MATCH(1,(komnavn2=B65)*(komaar2=D65),0),38))","v":""}]
[4,{"$f":"'Dine valg'!$G$27","v":""},{"$f":"IF(B66=\"\",\"\",INDEX(Data_kom2,MATCH(1,(komnavn2=B66)*(komaar2=D66),0),2))","v":""},"2020-01-01",{"$f":"IF(B66=\"\",\"\",INDEX(Data_kom2,MATCH(1,(komnavn2=B66)*(komaar2=D66),0),4))","v":""},{"$f":"IF(B66=\"\",\"\",INDEX(Data_kom2,MATCH(1,(komnavn2=B66)*(komaar2=D66),0),5))","v":""},{"$f":"IF(B66=\"\",\"\",INDEX(Data_kom2,MATCH(1,(komnavn2=B66)*(komaar2=D66),0),6))","v":""},{"$f":"IF(B66=\"\",\"\",INDEX(Data_kom2,MATCH(1,(komnavn2=B66)*(komaar2=D66),0),7))","v":""},{"$f":"IF(B66=\"\",\"\",INDEX(Data_kom2,MATCH(1,(komnavn2=B66)*(komaar2=D66),0),8))","v":""},{"$f":"IF(B66=\"\",\"\",INDEX(Data_kom2,MATCH(1,(komnavn2=B66)*(komaar2=D66),0),9))","v":""},{"$f":"IF(B66=\"\",\"\",INDEX(Data_kom2,MATCH(1,(komnavn2=B66)*(komaar2=D66),0),10))","v":""},{"$f":"IF(B66=\"\",\"\",INDEX(Data_kom2,MATCH(1,(komnavn2=B66)*(komaar2=D66),0),11))","v":""},{"$f":"IF(B66=\"\",\"\",INDEX(Data_kom2,MATCH(1,(komnavn2=B66)*(komaar2=D66),0),12))","v":""},{"$f":"IF(B66=\"\",\"\",INDEX(Data_kom2,MATCH(1,(komnavn2=B66)*(komaar2=D66),0),13))","v":""},{"$f":"IF(B66=\"\",\"\",INDEX(Data_kom2,MATCH(1,(komnavn2=B66)*(komaar2=D66),0),14))","v":""},{"$f":"IF(B66=\"\",\"\",INDEX(Data_kom2,MATCH(1,(komnavn2=B66)*(komaar2=D66),0),15))","v":""},{"$f":"IF(B66=\"\",\"\",INDEX(Data_kom2,MATCH(1,(komnavn2=B66)*(komaar2=D66),0),16))","v":""},{"$f":"IF(B66=\"\",\"\",INDEX(Data_kom2,MATCH(1,(komnavn2=B66)*(komaar2=D66),0),17))","v":""},{"$f":"IF(B66=\"\",\"\",INDEX(Data_kom2,MATCH(1,(komnavn2=B66)*(komaar2=D66),0),18))","v":""},{"$f":"IF(B66=\"\",\"\",INDEX(Data_kom2,MATCH(1,(komnavn2=B66)*(komaar2=D66),0),19))","v":""},{"$f":"IF(B66=\"\",\"\",INDEX(Data_kom2,MATCH(1,(komnavn2=B66)*(komaar2=D66),0),20))","v":""},{"$f":"IF(B66=\"\",\"\",INDEX(Data_kom2,MATCH(1,(komnavn2=B66)*(komaar2=D66),0),21))","v":""},{"$f":"IF(B66=\"\",\"\",INDEX(Data_kom2,MATCH(1,(komnavn2=B66)*(komaar2=D66),0),22))","v":""},{"$f":"IF(B66=\"\",\"\",INDEX(Data_kom2,MATCH(1,(komnavn2=B66)*(komaar2=D66),0),23))","v":""},{"$f":"IF(B66=\"\",\"\",INDEX(Data_kom2,MATCH(1,(komnavn2=B66)*(komaar2=D66),0),24))","v":""},{"$f":"IF(B66=\"\",\"\",INDEX(Data_kom2,MATCH(1,(komnavn2=B66)*(komaar2=D66),0),25))","v":""},{"$f":"IF(B66=\"\",\"\",INDEX(Data_kom2,MATCH(1,(komnavn2=B66)*(komaar2=D66),0),26))","v":""},{"$f":"IF(B66=\"\",\"\",INDEX(Data_kom2,MATCH(1,(komnavn2=B66)*(komaar2=D66),0),27))","v":""},{"$f":"IF(B66=\"\",\"\",INDEX(Data_kom2,MATCH(1,(komnavn2=B66)*(komaar2=D66),0),28))","v":""},{"$f":"IF(B66=\"\",\"\",INDEX(Data_kom2,MATCH(1,(komnavn2=B66)*(komaar2=D66),0),29))","v":""},{"$f":"IF(B66=\"\",\"\",INDEX(Data_kom2,MATCH(1,(komnavn2=B66)*(komaar2=D66),0),30))","v":""},{"$f":"IF(B66=\"\",\"\",INDEX(Data_kom2,MATCH(1,(komnavn2=B66)*(komaar2=D66),0),31))","v":""},{"$f":"IF(B66=\"\",\"\",INDEX(Data_kom2,MATCH(1,(komnavn2=B66)*(komaar2=D66),0),32))","v":""},{"$f":"IF(B66=\"\",\"\",INDEX(Data_kom2,MATCH(1,(komnavn2=B66)*(komaar2=D66),0),33))","v":""},{"$f":"IF(B66=\"\",\"\",INDEX(Data_kom2,MATCH(1,(komnavn2=B66)*(komaar2=D66),0),34))","v":""},{"$f":"IF(B66=\"\",\"\",INDEX(Data_kom2,MATCH(1,(komnavn2=B66)*(komaar2=D66),0),35))","v":""},{"$f":"IF(B66=\"\",\"\",INDEX(Data_kom2,MATCH(1,(komnavn2=B66)*(komaar2=D66),0),36))","v":""},{"$f":"IF(B66=\"\",\"\",INDEX(Data_kom2,MATCH(1,(komnavn2=B66)*(komaar2=D66),0),37))","v":""},{"$f":"IF(B66=\"\",\"\",INDEX(Data_kom2,MATCH(1,(komnavn2=B66)*(komaar2=D66),0),38))","v":""}]
[5,{"$f":"'Dine valg'!$G$28","v":""},{"$f":"IF(B67=\"\",\"\",INDEX(Data_kom2,MATCH(1,(komnavn2=B67)*(komaar2=D67),0),2))","v":""},"2020-01-01",{"$f":"IF(B67=\"\",\"\",INDEX(Data_kom2,MATCH(1,(komnavn2=B67)*(komaar2=D67),0),4))","v":""},{"$f":"IF(B67=\"\",\"\",INDEX(Data_kom2,MATCH(1,(komnavn2=B67)*(komaar2=D67),0),5))","v":""},{"$f":"IF(B67=\"\",\"\",INDEX(Data_kom2,MATCH(1,(komnavn2=B67)*(komaar2=D67),0),6))","v":""},{"$f":"IF(B67=\"\",\"\",INDEX(Data_kom2,MATCH(1,(komnavn2=B67)*(komaar2=D67),0),7))","v":""},{"$f":"IF(B67=\"\",\"\",INDEX(Data_kom2,MATCH(1,(komnavn2=B67)*(komaar2=D67),0),8))","v":""},{"$f":"IF(B67=\"\",\"\",INDEX(Data_kom2,MATCH(1,(komnavn2=B67)*(komaar2=D67),0),9))","v":""},{"$f":"IF(B67=\"\",\"\",INDEX(Data_kom2,MATCH(1,(komnavn2=B67)*(komaar2=D67),0),10))","v":""},{"$f":"IF(B67=\"\",\"\",INDEX(Data_kom2,MATCH(1,(komnavn2=B67)*(komaar2=D67),0),11))","v":""},{"$f":"IF(B67=\"\",\"\",INDEX(Data_kom2,MATCH(1,(komnavn2=B67)*(komaar2=D67),0),12))","v":""},{"$f":"IF(B67=\"\",\"\",INDEX(Data_kom2,MATCH(1,(komnavn2=B67)*(komaar2=D67),0),13))","v":""},{"$f":"IF(B67=\"\",\"\",INDEX(Data_kom2,MATCH(1,(komnavn2=B67)*(komaar2=D67),0),14))","v":""},{"$f":"IF(B67=\"\",\"\",INDEX(Data_kom2,MATCH(1,(komnavn2=B67)*(komaar2=D67),0),15))","v":""},{"$f":"IF(B67=\"\",\"\",INDEX(Data_kom2,MATCH(1,(komnavn2=B67)*(komaar2=D67),0),16))","v":""},{"$f":"IF(B67=\"\",\"\",INDEX(Data_kom2,MATCH(1,(komnavn2=B67)*(komaar2=D67),0),17))","v":""},{"$f":"IF(B67=\"\",\"\",INDEX(Data_kom2,MATCH(1,(komnavn2=B67)*(komaar2=D67),0),18))","v":""},{"$f":"IF(B67=\"\",\"\",INDEX(Data_kom2,MATCH(1,(komnavn2=B67)*(komaar2=D67),0),19))","v":""},{"$f":"IF(B67=\"\",\"\",INDEX(Data_kom2,MATCH(1,(komnavn2=B67)*(komaar2=D67),0),20))","v":""},{"$f":"IF(B67=\"\",\"\",INDEX(Data_kom2,MATCH(1,(komnavn2=B67)*(komaar2=D67),0),21))","v":""},{"$f":"IF(B67=\"\",\"\",INDEX(Data_kom2,MATCH(1,(komnavn2=B67)*(komaar2=D67),0),22))","v":""},{"$f":"IF(B67=\"\",\"\",INDEX(Data_kom2,MATCH(1,(komnavn2=B67)*(komaar2=D67),0),23))","v":""},{"$f":"IF(B67=\"\",\"\",INDEX(Data_kom2,MATCH(1,(komnavn2=B67)*(komaar2=D67),0),24))","v":""},{"$f":"IF(B67=\"\",\"\",INDEX(Data_kom2,MATCH(1,(komnavn2=B67)*(komaar2=D67),0),25))","v":""},{"$f":"IF(B67=\"\",\"\",INDEX(Data_kom2,MATCH(1,(komnavn2=B67)*(komaar2=D67),0),26))","v":""},{"$f":"IF(B67=\"\",\"\",INDEX(Data_kom2,MATCH(1,(komnavn2=B67)*(komaar2=D67),0),27))","v":""},{"$f":"IF(B67=\"\",\"\",INDEX(Data_kom2,MATCH(1,(komnavn2=B67)*(komaar2=D67),0),28))","v":""},{"$f":"IF(B67=\"\",\"\",INDEX(Data_kom2,MATCH(1,(komnavn2=B67)*(komaar2=D67),0),29))","v":""},{"$f":"IF(B67=\"\",\"\",INDEX(Data_kom2,MATCH(1,(komnavn2=B67)*(komaar2=D67),0),30))","v":""},{"$f":"IF(B67=\"\",\"\",INDEX(Data_kom2,MATCH(1,(komnavn2=B67)*(komaar2=D67),0),31))","v":""},{"$f":"IF(B67=\"\",\"\",INDEX(Data_kom2,MATCH(1,(komnavn2=B67)*(komaar2=D67),0),32))","v":""},{"$f":"IF(B67=\"\",\"\",INDEX(Data_kom2,MATCH(1,(komnavn2=B67)*(komaar2=D67),0),33))","v":""},{"$f":"IF(B67=\"\",\"\",INDEX(Data_kom2,MATCH(1,(komnavn2=B67)*(komaar2=D67),0),34))","v":""},{"$f":"IF(B67=\"\",\"\",INDEX(Data_kom2,MATCH(1,(komnavn2=B67)*(komaar2=D67),0),35))","v":""},{"$f":"IF(B67=\"\",\"\",INDEX(Data_kom2,MATCH(1,(komnavn2=B67)*(komaar2=D67),0),36))","v":""},{"$f":"IF(B67=\"\",\"\",INDEX(Data_kom2,MATCH(1,(komnavn2=B67)*(komaar2=D67),0),37))","v":""},{"$f":"IF(B67=\"\",\"\",INDEX(Data_kom2,MATCH(1,(komnavn2=B67)*(komaar2=D67),0),38))","v":""}]
[6,{"$f":"'Dine valg'!$G$29","v":""},{"$f":"IF(B68=\"\",\"\",INDEX(Data_kom2,MATCH(1,(komnavn2=B68)*(komaar2=D68),0),2))","v":""},"2020-01-01",{"$f":"IF(B68=\"\",\"\",INDEX(Data_kom2,MATCH(1,(komnavn2=B68)*(komaar2=D68),0),4))","v":""},{"$f":"IF(B68=\"\",\"\",INDEX(Data_kom2,MATCH(1,(komnavn2=B68)*(komaar2=D68),0),5))","v":""},{"$f":"IF(B68=\"\",\"\",INDEX(Data_kom2,MATCH(1,(komnavn2=B68)*(komaar2=D68),0),6))","v":""},{"$f":"IF(B68=\"\",\"\",INDEX(Data_kom2,MATCH(1,(komnavn2=B68)*(komaar2=D68),0),7))","v":""},{"$f":"IF(B68=\"\",\"\",INDEX(Data_kom2,MATCH(1,(komnavn2=B68)*(komaar2=D68),0),8))","v":""},{"$f":"IF(B68=\"\",\"\",INDEX(Data_kom2,MATCH(1,(komnavn2=B68)*(komaar2=D68),0),9))","v":""},{"$f":"IF(B68=\"\",\"\",INDEX(Data_kom2,MATCH(1,(komnavn2=B68)*(komaar2=D68),0),10))","v":""},{"$f":"IF(B68=\"\",\"\",INDEX(Data_kom2,MATCH(1,(komnavn2=B68)*(komaar2=D68),0),11))","v":""},{"$f":"IF(B68=\"\",\"\",INDEX(Data_kom2,MATCH(1,(komnavn2=B68)*(komaar2=D68),0),12))","v":""},{"$f":"IF(B68=\"\",\"\",INDEX(Data_kom2,MATCH(1,(komnavn2=B68)*(komaar2=D68),0),13))","v":""},{"$f":"IF(B68=\"\",\"\",INDEX(Data_kom2,MATCH(1,(komnavn2=B68)*(komaar2=D68),0),14))","v":""},{"$f":"IF(B68=\"\",\"\",INDEX(Data_kom2,MATCH(1,(komnavn2=B68)*(komaar2=D68),0),15))","v":""},{"$f":"IF(B68=\"\",\"\",INDEX(Data_kom2,MATCH(1,(komnavn2=B68)*(komaar2=D68),0),16))","v":""},{"$f":"IF(B68=\"\",\"\",INDEX(Data_kom2,MATCH(1,(komnavn2=B68)*(komaar2=D68),0),17))","v":""},{"$f":"IF(B68=\"\",\"\",INDEX(Data_kom2,MATCH(1,(komnavn2=B68)*(komaar2=D68),0),18))","v":""},{"$f":"IF(B68=\"\",\"\",INDEX(Data_kom2,MATCH(1,(komnavn2=B68)*(komaar2=D68),0),19))","v":""},{"$f":"IF(B68=\"\",\"\",INDEX(Data_kom2,MATCH(1,(komnavn2=B68)*(komaar2=D68),0),20))","v":""},{"$f":"IF(B68=\"\",\"\",INDEX(Data_kom2,MATCH(1,(komnavn2=B68)*(komaar2=D68),0),21))","v":""},{"$f":"IF(B68=\"\",\"\",INDEX(Data_kom2,MATCH(1,(komnavn2=B68)*(komaar2=D68),0),22))","v":""},{"$f":"IF(B68=\"\",\"\",INDEX(Data_kom2,MATCH(1,(komnavn2=B68)*(komaar2=D68),0),23))","v":""},{"$f":"IF(B68=\"\",\"\",INDEX(Data_kom2,MATCH(1,(komnavn2=B68)*(komaar2=D68),0),24))","v":""},{"$f":"IF(B68=\"\",\"\",INDEX(Data_kom2,MATCH(1,(komnavn2=B68)*(komaar2=D68),0),25))","v":""},{"$f":"IF(B68=\"\",\"\",INDEX(Data_kom2,MATCH(1,(komnavn2=B68)*(komaar2=D68),0),26))","v":""},{"$f":"IF(B68=\"\",\"\",INDEX(Data_kom2,MATCH(1,(komnavn2=B68)*(komaar2=D68),0),27))","v":""},{"$f":"IF(B68=\"\",\"\",INDEX(Data_kom2,MATCH(1,(komnavn2=B68)*(komaar2=D68),0),28))","v":""},{"$f":"IF(B68=\"\",\"\",INDEX(Data_kom2,MATCH(1,(komnavn2=B68)*(komaar2=D68),0),29))","v":""},{"$f":"IF(B68=\"\",\"\",INDEX(Data_kom2,MATCH(1,(komnavn2=B68)*(komaar2=D68),0),30))","v":""},{"$f":"IF(B68=\"\",\"\",INDEX(Data_kom2,MATCH(1,(komnavn2=B68)*(komaar2=D68),0),31))","v":""},{"$f":"IF(B68=\"\",\"\",INDEX(Data_kom2,MATCH(1,(komnavn2=B68)*(komaar2=D68),0),32))","v":""},{"$f":"IF(B68=\"\",\"\",INDEX(Data_kom2,MATCH(1,(komnavn2=B68)*(komaar2=D68),0),33))","v":""},{"$f":"IF(B68=\"\",\"\",INDEX(Data_kom2,MATCH(1,(komnavn2=B68)*(komaar2=D68),0),34))","v":""},{"$f":"IF(B68=\"\",\"\",INDEX(Data_kom2,MATCH(1,(komnavn2=B68)*(komaar2=D68),0),35))","v":""},{"$f":"IF(B68=\"\",\"\",INDEX(Data_kom2,MATCH(1,(komnavn2=B68)*(komaar2=D68),0),36))","v":""},{"$f":"IF(B68=\"\",\"\",INDEX(Data_kom2,MATCH(1,(komnavn2=B68)*(komaar2=D68),0),37))","v":""},{"$f":"IF(B68=\"\",\"\",INDEX(Data_kom2,MATCH(1,(komnavn2=B68)*(komaar2=D68),0),38))","v":""}]
[7,{"$f":"'Dine valg'!$G$30","v":""},{"$f":"IF(B69=\"\",\"\",INDEX(Data_kom2,MATCH(1,(komnavn2=B69)*(komaar2=D69),0),2))","v":""},"2020-01-01",{"$f":"IF(B69=\"\",\"\",INDEX(Data_kom2,MATCH(1,(komnavn2=B69)*(komaar2=D69),0),4))","v":""},{"$f":"IF(B69=\"\",\"\",INDEX(Data_kom2,MATCH(1,(komnavn2=B69)*(komaar2=D69),0),5))","v":""},{"$f":"IF(B69=\"\",\"\",INDEX(Data_kom2,MATCH(1,(komnavn2=B69)*(komaar2=D69),0),6))","v":""},{"$f":"IF(B69=\"\",\"\",INDEX(Data_kom2,MATCH(1,(komnavn2=B69)*(komaar2=D69),0),7))","v":""},{"$f":"IF(B69=\"\",\"\",INDEX(Data_kom2,MATCH(1,(komnavn2=B69)*(komaar2=D69),0),8))","v":""},{"$f":"IF(B69=\"\",\"\",INDEX(Data_kom2,MATCH(1,(komnavn2=B69)*(komaar2=D69),0),9))","v":""},{"$f":"IF(B69=\"\",\"\",INDEX(Data_kom2,MATCH(1,(komnavn2=B69)*(komaar2=D69),0),10))","v":""},{"$f":"IF(B69=\"\",\"\",INDEX(Data_kom2,MATCH(1,(komnavn2=B69)*(komaar2=D69),0),11))","v":""},{"$f":"IF(B69=\"\",\"\",INDEX(Data_kom2,MATCH(1,(komnavn2=B69)*(komaar2=D69),0),12))","v":""},{"$f":"IF(B69=\"\",\"\",INDEX(Data_kom2,MATCH(1,(komnavn2=B69)*(komaar2=D69),0),13))","v":""},{"$f":"IF(B69=\"\",\"\",INDEX(Data_kom2,MATCH(1,(komnavn2=B69)*(komaar2=D69),0),14))","v":""},{"$f":"IF(B69=\"\",\"\",INDEX(Data_kom2,MATCH(1,(komnavn2=B69)*(komaar2=D69),0),15))","v":""},{"$f":"IF(B69=\"\",\"\",INDEX(Data_kom2,MATCH(1,(komnavn2=B69)*(komaar2=D69),0),16))","v":""},{"$f":"IF(B69=\"\",\"\",INDEX(Data_kom2,MATCH(1,(komnavn2=B69)*(komaar2=D69),0),17))","v":""},{"$f":"IF(B69=\"\",\"\",INDEX(Data_kom2,MATCH(1,(komnavn2=B69)*(komaar2=D69),0),18))","v":""},{"$f":"IF(B69=\"\",\"\",INDEX(Data_kom2,MATCH(1,(komnavn2=B69)*(komaar2=D69),0),19))","v":""},{"$f":"IF(B69=\"\",\"\",INDEX(Data_kom2,MATCH(1,(komnavn2=B69)*(komaar2=D69),0),20))","v":""},{"$f":"IF(B69=\"\",\"\",INDEX(Data_kom2,MATCH(1,(komnavn2=B69)*(komaar2=D69),0),21))","v":""},{"$f":"IF(B69=\"\",\"\",INDEX(Data_kom2,MATCH(1,(komnavn2=B69)*(komaar2=D69),0),22))","v":""},{"$f":"IF(B69=\"\",\"\",INDEX(Data_kom2,MATCH(1,(komnavn2=B69)*(komaar2=D69),0),23))","v":""},{"$f":"IF(B69=\"\",\"\",INDEX(Data_kom2,MATCH(1,(komnavn2=B69)*(komaar2=D69),0),24))","v":""},{"$f":"IF(B69=\"\",\"\",INDEX(Data_kom2,MATCH(1,(komnavn2=B69)*(komaar2=D69),0),25))","v":""},{"$f":"IF(B69=\"\",\"\",INDEX(Data_kom2,MATCH(1,(komnavn2=B69)*(komaar2=D69),0),26))","v":""},{"$f":"IF(B69=\"\",\"\",INDEX(Data_kom2,MATCH(1,(komnavn2=B69)*(komaar2=D69),0),27))","v":""},{"$f":"IF(B69=\"\",\"\",INDEX(Data_kom2,MATCH(1,(komnavn2=B69)*(komaar2=D69),0),28))","v":""},{"$f":"IF(B69=\"\",\"\",INDEX(Data_kom2,MATCH(1,(komnavn2=B69)*(komaar2=D69),0),29))","v":""},{"$f":"IF(B69=\"\",\"\",INDEX(Data_kom2,MATCH(1,(komnavn2=B69)*(komaar2=D69),0),30))","v":""},{"$f":"IF(B69=\"\",\"\",INDEX(Data_kom2,MATCH(1,(komnavn2=B69)*(komaar2=D69),0),31))","v":""},{"$f":"IF(B69=\"\",\"\",INDEX(Data_kom2,MATCH(1,(komnavn2=B69)*(komaar2=D69),0),32))","v":""},{"$f":"IF(B69=\"\",\"\",INDEX(Data_kom2,MATCH(1,(komnavn2=B69)*(komaar2=D69),0),33))","v":""},{"$f":"IF(B69=\"\",\"\",INDEX(Data_kom2,MATCH(1,(komnavn2=B69)*(komaar2=D69),0),34))","v":""},{"$f":"IF(B69=\"\",\"\",INDEX(Data_kom2,MATCH(1,(komnavn2=B69)*(komaar2=D69),0),35))","v":""},{"$f":"IF(B69=\"\",\"\",INDEX(Data_kom2,MATCH(1,(komnavn2=B69)*(komaar2=D69),0),36))","v":""},{"$f":"IF(B69=\"\",\"\",INDEX(Data_kom2,MATCH(1,(komnavn2=B69)*(komaar2=D69),0),37))","v":""},{"$f":"IF(B69=\"\",\"\",INDEX(Data_kom2,MATCH(1,(komnavn2=B69)*(komaar2=D69),0),38))","v":""}]
[1,{"$f":"'Dine valg'!$G$24","v":"Aarhus"},{"$f":"IF(B70=\"\",\"\",INDEX(Data_kom2,MATCH(1,(komnavn2=B70)*(komaar2=D70),0),2))","v":63704},"2019-07-01",{"$f":"IF(B70=\"\",\"\",INDEX(Data_kom2,MATCH(1,(komnavn2=B70)*(komaar2=D70),0),4))","v":173},{"$f":"IF(B70=\"\",\"\",INDEX(Data_kom2,MATCH(1,(komnavn2=B70)*(komaar2=D70),0),5))","v":122},{"$f":"IF(B70=\"\",\"\",INDEX(Data_kom2,MATCH(1,(komnavn2=B70)*(komaar2=D70),0),6))","v":8},{"$f":"IF(B70=\"\",\"\",INDEX(Data_kom2,MATCH(1,(komnavn2=B70)*(komaar2=D70),0),7))","v":43},{"$f":"IF(B70=\"\",\"\",INDEX(Data_kom2,MATCH(1,(komnavn2=B70)*(komaar2=D70),0),8))","v":158343},{"$f":"IF(B70=\"\",\"\",INDEX(Data_kom2,MATCH(1,(komnavn2=B70)*(komaar2=D70),0),9))","v":122426},{"$f":"IF(B70=\"\",\"\",INDEX(Data_kom2,MATCH(1,(komnavn2=B70)*(komaar2=D70),0),10))","v":2404},{"$f":"IF(B70=\"\",\"\",INDEX(Data_kom2,MATCH(1,(komnavn2=B70)*(komaar2=D70),0),11))","v":33513},{"$f":"IF(B70=\"\",\"\",INDEX(Data_kom2,MATCH(1,(komnavn2=B70)*(komaar2=D70),0),12))","v":252},{"$f":"IF(B70=\"\",\"\",INDEX(Data_kom2,MATCH(1,(komnavn2=B70)*(komaar2=D70),0),13))","v":23},{"$f":"IF(B70=\"\",\"\",INDEX(Data_kom2,MATCH(1,(komnavn2=B70)*(komaar2=D70),0),14))","v":1286},{"$f":"IF(B70=\"\",\"\",INDEX(Data_kom2,MATCH(1,(komnavn2=B70)*(komaar2=D70),0),15))","v":0},{"$f":"IF(B70=\"\",\"\",INDEX(Data_kom2,MATCH(1,(komnavn2=B70)*(komaar2=D70),0),16))","v":5},{"$f":"IF(B70=\"\",\"\",INDEX(Data_kom2,MATCH(1,(komnavn2=B70)*(komaar2=D70),0),17))","v":1273},{"$f":"IF(B70=\"\",\"\",INDEX(Data_kom2,MATCH(1,(komnavn2=B70)*(komaar2=D70),0),18))","v":8},{"$f":"IF(B70=\"\",\"\",INDEX(Data_kom2,MATCH(1,(komnavn2=B70)*(komaar2=D70),0),19))","v":0},{"$f":"IF(B70=\"\",\"\",INDEX(Data_kom2,MATCH(1,(komnavn2=B70)*(komaar2=D70),0),20))","v":0},{"$f":"IF(B70=\"\",\"\",INDEX(Data_kom2,MATCH(1,(komnavn2=B70)*(komaar2=D70),0),21))","v":0},{"$f":"IF(B70=\"\",\"\",INDEX(Data_kom2,MATCH(1,(komnavn2=B70)*(komaar2=D70),0),22))","v":25},{"$f":"IF(B70=\"\",\"\",INDEX(Data_kom2,MATCH(1,(komnavn2=B70)*(komaar2=D70),0),23))","v":173},{"$f":"IF(B70=\"\",\"\",INDEX(Data_kom2,MATCH(1,(komnavn2=B70)*(komaar2=D70),0),24))","v":0},{"$f":"IF(B70=\"\",\"\",INDEX(Data_kom2,MATCH(1,(komnavn2=B70)*(komaar2=D70),0),25))","v":173},{"$f":"IF(B70=\"\",\"\",INDEX(Data_kom2,MATCH(1,(komnavn2=B70)*(komaar2=D70),0),26))","v":25},{"$f":"IF(B70=\"\",\"\",INDEX(Data_kom2,MATCH(1,(komnavn2=B70)*(komaar2=D70),0),27))","v":173},{"$f":"IF(B70=\"\",\"\",INDEX(Data_kom2,MATCH(1,(komnavn2=B70)*(komaar2=D70),0),28))","v":23},{"$f":"IF(B70=\"\",\"\",INDEX(Data_kom2,MATCH(1,(komnavn2=B70)*(komaar2=D70),0),29))","v":1285},{"$f":"IF(B70=\"\",\"\",INDEX(Data_kom2,MATCH(1,(komnavn2=B70)*(komaar2=D70),0),30))","v":377},{"$f":"IF(B70=\"\",\"\",INDEX(Data_kom2,MATCH(1,(komnavn2=B70)*(komaar2=D70),0),31))","v":1295},{"$f":"IF(B70=\"\",\"\",INDEX(Data_kom2,MATCH(1,(komnavn2=B70)*(komaar2=D70),0),32))","v":0},{"$f":"IF(B70=\"\",\"\",INDEX(Data_kom2,MATCH(1,(komnavn2=B70)*(komaar2=D70),0),33))","v":0},{"$f":"IF(B70=\"\",\"\",INDEX(Data_kom2,MATCH(1,(komnavn2=B70)*(komaar2=D70),0),34))","v":0},{"$f":"IF(B70=\"\",\"\",INDEX(Data_kom2,MATCH(1,(komnavn2=B70)*(komaar2=D70),0),35))","v":0},{"$f":"IF(B70=\"\",\"\",INDEX(Data_kom2,MATCH(1,(komnavn2=B70)*(komaar2=D70),0),36))","v":0},{"$f":"IF(B70=\"\",\"\",INDEX(Data_kom2,MATCH(1,(komnavn2=B70)*(komaar2=D70),0),37))","v":0},{"$f":"IF(B70=\"\",\"\",INDEX(Data_kom2,MATCH(1,(komnavn2=B70)*(komaar2=D70),0),38))","v":"Region Midtjylland"}]
[2,{"$f":"'Dine valg'!$G$25","v":""},{"$f":"IF(B71=\"\",\"\",INDEX(Data_kom2,MATCH(1,(komnavn2=B71)*(komaar2=D71),0),2))","v":""},"2019-07-01",{"$f":"IF(B71=\"\",\"\",INDEX(Data_kom2,MATCH(1,(komnavn2=B71)*(komaar2=D71),0),4))","v":""},{"$f":"IF(B71=\"\",\"\",INDEX(Data_kom2,MATCH(1,(komnavn2=B71)*(komaar2=D71),0),5))","v":""},{"$f":"IF(B71=\"\",\"\",INDEX(Data_kom2,MATCH(1,(komnavn2=B71)*(komaar2=D71),0),6))","v":""},{"$f":"IF(B71=\"\",\"\",INDEX(Data_kom2,MATCH(1,(komnavn2=B71)*(komaar2=D71),0),7))","v":""},{"$f":"IF(B71=\"\",\"\",INDEX(Data_kom2,MATCH(1,(komnavn2=B71)*(komaar2=D71),0),8))","v":""},{"$f":"IF(B71=\"\",\"\",INDEX(Data_kom2,MATCH(1,(komnavn2=B71)*(komaar2=D71),0),9))","v":""},{"$f":"IF(B71=\"\",\"\",INDEX(Data_kom2,MATCH(1,(komnavn2=B71)*(komaar2=D71),0),10))","v":""},{"$f":"IF(B71=\"\",\"\",INDEX(Data_kom2,MATCH(1,(komnavn2=B71)*(komaar2=D71),0),11))","v":""},{"$f":"IF(B71=\"\",\"\",INDEX(Data_kom2,MATCH(1,(komnavn2=B71)*(komaar2=D71),0),12))","v":""},{"$f":"IF(B71=\"\",\"\",INDEX(Data_kom2,MATCH(1,(komnavn2=B71)*(komaar2=D71),0),13))","v":""},{"$f":"IF(B71=\"\",\"\",INDEX(Data_kom2,MATCH(1,(komnavn2=B71)*(komaar2=D71),0),14))","v":""},{"$f":"IF(B71=\"\",\"\",INDEX(Data_kom2,MATCH(1,(komnavn2=B71)*(komaar2=D71),0),15))","v":""},{"$f":"IF(B71=\"\",\"\",INDEX(Data_kom2,MATCH(1,(komnavn2=B71)*(komaar2=D71),0),16))","v":""},{"$f":"IF(B71=\"\",\"\",INDEX(Data_kom2,MATCH(1,(komnavn2=B71)*(komaar2=D71),0),17))","v":""},{"$f":"IF(B71=\"\",\"\",INDEX(Data_kom2,MATCH(1,(komnavn2=B71)*(komaar2=D71),0),18))","v":""},{"$f":"IF(B71=\"\",\"\",INDEX(Data_kom2,MATCH(1,(komnavn2=B71)*(komaar2=D71),0),19))","v":""},{"$f":"IF(B71=\"\",\"\",INDEX(Data_kom2,MATCH(1,(komnavn2=B71)*(komaar2=D71),0),20))","v":""},{"$f":"IF(B71=\"\",\"\",INDEX(Data_kom2,MATCH(1,(komnavn2=B71)*(komaar2=D71),0),21))","v":""},{"$f":"IF(B71=\"\",\"\",INDEX(Data_kom2,MATCH(1,(komnavn2=B71)*(komaar2=D71),0),22))","v":""},{"$f":"IF(B71=\"\",\"\",INDEX(Data_kom2,MATCH(1,(komnavn2=B71)*(komaar2=D71),0),23))","v":""},{"$f":"IF(B71=\"\",\"\",INDEX(Data_kom2,MATCH(1,(komnavn2=B71)*(komaar2=D71),0),24))","v":""},{"$f":"IF(B71=\"\",\"\",INDEX(Data_kom2,MATCH(1,(komnavn2=B71)*(komaar2=D71),0),25))","v":""},{"$f":"IF(B71=\"\",\"\",INDEX(Data_kom2,MATCH(1,(komnavn2=B71)*(komaar2=D71),0),26))","v":""},{"$f":"IF(B71=\"\",\"\",INDEX(Data_kom2,MATCH(1,(komnavn2=B71)*(komaar2=D71),0),27))","v":""},{"$f":"IF(B71=\"\",\"\",INDEX(Data_kom2,MATCH(1,(komnavn2=B71)*(komaar2=D71),0),28))","v":""},{"$f":"IF(B71=\"\",\"\",INDEX(Data_kom2,MATCH(1,(komnavn2=B71)*(komaar2=D71),0),29))","v":""},{"$f":"IF(B71=\"\",\"\",INDEX(Data_kom2,MATCH(1,(komnavn2=B71)*(komaar2=D71),0),30))","v":""},{"$f":"IF(B71=\"\",\"\",INDEX(Data_kom2,MATCH(1,(komnavn2=B71)*(komaar2=D71),0),31))","v":""},{"$f":"IF(B71=\"\",\"\",INDEX(Data_kom2,MATCH(1,(komnavn2=B71)*(komaar2=D71),0),32))","v":""},{"$f":"IF(B71=\"\",\"\",INDEX(Data_kom2,MATCH(1,(komnavn2=B71)*(komaar2=D71),0),33))","v":""},{"$f":"IF(B71=\"\",\"\",INDEX(Data_kom2,MATCH(1,(komnavn2=B71)*(komaar2=D71),0),34))","v":""},{"$f":"IF(B71=\"\",\"\",INDEX(Data_kom2,MATCH(1,(komnavn2=B71)*(komaar2=D71),0),35))","v":""},{"$f":"IF(B71=\"\",\"\",INDEX(Data_kom2,MATCH(1,(komnavn2=B71)*(komaar2=D71),0),36))","v":""},{"$f":"IF(B71=\"\",\"\",INDEX(Data_kom2,MATCH(1,(komnavn2=B71)*(komaar2=D71),0),37))","v":""},{"$f":"IF(B71=\"\",\"\",INDEX(Data_kom2,MATCH(1,(komnavn2=B71)*(komaar2=D71),0),38))","v":""}]
[3,{"$f":"'Dine valg'!$G$26","v":""},{"$f":"IF(B72=\"\",\"\",INDEX(Data_kom2,MATCH(1,(komnavn2=B72)*(komaar2=D72),0),2))","v":""},"2019-07-01",{"$f":"IF(B72=\"\",\"\",INDEX(Data_kom2,MATCH(1,(komnavn2=B72)*(komaar2=D72),0),4))","v":""},{"$f":"IF(B72=\"\",\"\",INDEX(Data_kom2,MATCH(1,(komnavn2=B72)*(komaar2=D72),0),5))","v":""},{"$f":"IF(B72=\"\",\"\",INDEX(Data_kom2,MATCH(1,(komnavn2=B72)*(komaar2=D72),0),6))","v":""},{"$f":"IF(B72=\"\",\"\",INDEX(Data_kom2,MATCH(1,(komnavn2=B72)*(komaar2=D72),0),7))","v":""},{"$f":"IF(B72=\"\",\"\",INDEX(Data_kom2,MATCH(1,(komnavn2=B72)*(komaar2=D72),0),8))","v":""},{"$f":"IF(B72=\"\",\"\",INDEX(Data_kom2,MATCH(1,(komnavn2=B72)*(komaar2=D72),0),9))","v":""},{"$f":"IF(B72=\"\",\"\",INDEX(Data_kom2,MATCH(1,(komnavn2=B72)*(komaar2=D72),0),10))","v":""},{"$f":"IF(B72=\"\",\"\",INDEX(Data_kom2,MATCH(1,(komnavn2=B72)*(komaar2=D72),0),11))","v":""},{"$f":"IF(B72=\"\",\"\",INDEX(Data_kom2,MATCH(1,(komnavn2=B72)*(komaar2=D72),0),12))","v":""},{"$f":"IF(B72=\"\",\"\",INDEX(Data_kom2,MATCH(1,(komnavn2=B72)*(komaar2=D72),0),13))","v":""},{"$f":"IF(B72=\"\",\"\",INDEX(Data_kom2,MATCH(1,(komnavn2=B72)*(komaar2=D72),0),14))","v":""},{"$f":"IF(B72=\"\",\"\",INDEX(Data_kom2,MATCH(1,(komnavn2=B72)*(komaar2=D72),0),15))","v":""},{"$f":"IF(B72=\"\",\"\",INDEX(Data_kom2,MATCH(1,(komnavn2=B72)*(komaar2=D72),0),16))","v":""},{"$f":"IF(B72=\"\",\"\",INDEX(Data_kom2,MATCH(1,(komnavn2=B72)*(komaar2=D72),0),17))","v":""},{"$f":"IF(B72=\"\",\"\",INDEX(Data_kom2,MATCH(1,(komnavn2=B72)*(komaar2=D72),0),18))","v":""},{"$f":"IF(B72=\"\",\"\",INDEX(Data_kom2,MATCH(1,(komnavn2=B72)*(komaar2=D72),0),19))","v":""},{"$f":"IF(B72=\"\",\"\",INDEX(Data_kom2,MATCH(1,(komnavn2=B72)*(komaar2=D72),0),20))","v":""},{"$f":"IF(B72=\"\",\"\",INDEX(Data_kom2,MATCH(1,(komnavn2=B72)*(komaar2=D72),0),21))","v":""},{"$f":"IF(B72=\"\",\"\",INDEX(Data_kom2,MATCH(1,(komnavn2=B72)*(komaar2=D72),0),22))","v":""},{"$f":"IF(B72=\"\",\"\",INDEX(Data_kom2,MATCH(1,(komnavn2=B72)*(komaar2=D72),0),23))","v":""},{"$f":"IF(B72=\"\",\"\",INDEX(Data_kom2,MATCH(1,(komnavn2=B72)*(komaar2=D72),0),24))","v":""},{"$f":"IF(B72=\"\",\"\",INDEX(Data_kom2,MATCH(1,(komnavn2=B72)*(komaar2=D72),0),25))","v":""},{"$f":"IF(B72=\"\",\"\",INDEX(Data_kom2,MATCH(1,(komnavn2=B72)*(komaar2=D72),0),26))","v":""},{"$f":"IF(B72=\"\",\"\",INDEX(Data_kom2,MATCH(1,(komnavn2=B72)*(komaar2=D72),0),27))","v":""},{"$f":"IF(B72=\"\",\"\",INDEX(Data_kom2,MATCH(1,(komnavn2=B72)*(komaar2=D72),0),28))","v":""},{"$f":"IF(B72=\"\",\"\",INDEX(Data_kom2,MATCH(1,(komnavn2=B72)*(komaar2=D72),0),29))","v":""},{"$f":"IF(B72=\"\",\"\",INDEX(Data_kom2,MATCH(1,(komnavn2=B72)*(komaar2=D72),0),30))","v":""},{"$f":"IF(B72=\"\",\"\",INDEX(Data_kom2,MATCH(1,(komnavn2=B72)*(komaar2=D72),0),31))","v":""},{"$f":"IF(B72=\"\",\"\",INDEX(Data_kom2,MATCH(1,(komnavn2=B72)*(komaar2=D72),0),32))","v":""},{"$f":"IF(B72=\"\",\"\",INDEX(Data_kom2,MATCH(1,(komnavn2=B72)*(komaar2=D72),0),33))","v":""},{"$f":"IF(B72=\"\",\"\",INDEX(Data_kom2,MATCH(1,(komnavn2=B72)*(komaar2=D72),0),34))","v":""},{"$f":"IF(B72=\"\",\"\",INDEX(Data_kom2,MATCH(1,(komnavn2=B72)*(komaar2=D72),0),35))","v":""},{"$f":"IF(B72=\"\",\"\",INDEX(Data_kom2,MATCH(1,(komnavn2=B72)*(komaar2=D72),0),36))","v":""},{"$f":"IF(B72=\"\",\"\",INDEX(Data_kom2,MATCH(1,(komnavn2=B72)*(komaar2=D72),0),37))","v":""},{"$f":"IF(B72=\"\",\"\",INDEX(Data_kom2,MATCH(1,(komnavn2=B72)*(komaar2=D72),0),38))","v":""}]
[4,{"$f":"'Dine valg'!$G$27","v":""},{"$f":"IF(B73=\"\",\"\",INDEX(Data_kom2,MATCH(1,(komnavn2=B73)*(komaar2=D73),0),2))","v":""},"2019-07-01",{"$f":"IF(B73=\"\",\"\",INDEX(Data_kom2,MATCH(1,(komnavn2=B73)*(komaar2=D73),0),4))","v":""},{"$f":"IF(B73=\"\",\"\",INDEX(Data_kom2,MATCH(1,(komnavn2=B73)*(komaar2=D73),0),5))","v":""},{"$f":"IF(B73=\"\",\"\",INDEX(Data_kom2,MATCH(1,(komnavn2=B73)*(komaar2=D73),0),6))","v":""},{"$f":"IF(B73=\"\",\"\",INDEX(Data_kom2,MATCH(1,(komnavn2=B73)*(komaar2=D73),0),7))","v":""},{"$f":"IF(B73=\"\",\"\",INDEX(Data_kom2,MATCH(1,(komnavn2=B73)*(komaar2=D73),0),8))","v":""},{"$f":"IF(B73=\"\",\"\",INDEX(Data_kom2,MATCH(1,(komnavn2=B73)*(komaar2=D73),0),9))","v":""},{"$f":"IF(B73=\"\",\"\",INDEX(Data_kom2,MATCH(1,(komnavn2=B73)*(komaar2=D73),0),10))","v":""},{"$f":"IF(B73=\"\",\"\",INDEX(Data_kom2,MATCH(1,(komnavn2=B73)*(komaar2=D73),0),11))","v":""},{"$f":"IF(B73=\"\",\"\",INDEX(Data_kom2,MATCH(1,(komnavn2=B73)*(komaar2=D73),0),12))","v":""},{"$f":"IF(B73=\"\",\"\",INDEX(Data_kom2,MATCH(1,(komnavn2=B73)*(komaar2=D73),0),13))","v":""},{"$f":"IF(B73=\"\",\"\",INDEX(Data_kom2,MATCH(1,(komnavn2=B73)*(komaar2=D73),0),14))","v":""},{"$f":"IF(B73=\"\",\"\",INDEX(Data_kom2,MATCH(1,(komnavn2=B73)*(komaar2=D73),0),15))","v":""},{"$f":"IF(B73=\"\",\"\",INDEX(Data_kom2,MATCH(1,(komnavn2=B73)*(komaar2=D73),0),16))","v":""},{"$f":"IF(B73=\"\",\"\",INDEX(Data_kom2,MATCH(1,(komnavn2=B73)*(komaar2=D73),0),17))","v":""},{"$f":"IF(B73=\"\",\"\",INDEX(Data_kom2,MATCH(1,(komnavn2=B73)*(komaar2=D73),0),18))","v":""},{"$f":"IF(B73=\"\",\"\",INDEX(Data_kom2,MATCH(1,(komnavn2=B73)*(komaar2=D73),0),19))","v":""},{"$f":"IF(B73=\"\",\"\",INDEX(Data_kom2,MATCH(1,(komnavn2=B73)*(komaar2=D73),0),20))","v":""},{"$f":"IF(B73=\"\",\"\",INDEX(Data_kom2,MATCH(1,(komnavn2=B73)*(komaar2=D73),0),21))","v":""},{"$f":"IF(B73=\"\",\"\",INDEX(Data_kom2,MATCH(1,(komnavn2=B73)*(komaar2=D73),0),22))","v":""},{"$f":"IF(B73=\"\",\"\",INDEX(Data_kom2,MATCH(1,(komnavn2=B73)*(komaar2=D73),0),23))","v":""},{"$f":"IF(B73=\"\",\"\",INDEX(Data_kom2,MATCH(1,(komnavn2=B73)*(komaar2=D73),0),24))","v":""},{"$f":"IF(B73=\"\",\"\",INDEX(Data_kom2,MATCH(1,(komnavn2=B73)*(komaar2=D73),0),25))","v":""},{"$f":"IF(B73=\"\",\"\",INDEX(Data_kom2,MATCH(1,(komnavn2=B73)*(komaar2=D73),0),26))","v":""},{"$f":"IF(B73=\"\",\"\",INDEX(Data_kom2,MATCH(1,(komnavn2=B73)*(komaar2=D73),0),27))","v":""},{"$f":"IF(B73=\"\",\"\",INDEX(Data_kom2,MATCH(1,(komnavn2=B73)*(komaar2=D73),0),28))","v":""},{"$f":"IF(B73=\"\",\"\",INDEX(Data_kom2,MATCH(1,(komnavn2=B73)*(komaar2=D73),0),29))","v":""},{"$f":"IF(B73=\"\",\"\",INDEX(Data_kom2,MATCH(1,(komnavn2=B73)*(komaar2=D73),0),30))","v":""},{"$f":"IF(B73=\"\",\"\",INDEX(Data_kom2,MATCH(1,(komnavn2=B73)*(komaar2=D73),0),31))","v":""},{"$f":"IF(B73=\"\",\"\",INDEX(Data_kom2,MATCH(1,(komnavn2=B73)*(komaar2=D73),0),32))","v":""},{"$f":"IF(B73=\"\",\"\",INDEX(Data_kom2,MATCH(1,(komnavn2=B73)*(komaar2=D73),0),33))","v":""},{"$f":"IF(B73=\"\",\"\",INDEX(Data_kom2,MATCH(1,(komnavn2=B73)*(komaar2=D73),0),34))","v":""},{"$f":"IF(B73=\"\",\"\",INDEX(Data_kom2,MATCH(1,(komnavn2=B73)*(komaar2=D73),0),35))","v":""},{"$f":"IF(B73=\"\",\"\",INDEX(Data_kom2,MATCH(1,(komnavn2=B73)*(komaar2=D73),0),36))","v":""},{"$f":"IF(B73=\"\",\"\",INDEX(Data_kom2,MATCH(1,(komnavn2=B73)*(komaar2=D73),0),37))","v":""},{"$f":"IF(B73=\"\",\"\",INDEX(Data_kom2,MATCH(1,(komnavn2=B73)*(komaar2=D73),0),38))","v":""}]
[5,{"$f":"'Dine valg'!$G$28","v":""},{"$f":"IF(B74=\"\",\"\",INDEX(Data_kom2,MATCH(1,(komnavn2=B74)*(komaar2=D74),0),2))","v":""},"2019-07-01",{"$f":"IF(B74=\"\",\"\",INDEX(Data_kom2,MATCH(1,(komnavn2=B74)*(komaar2=D74),0),4))","v":""},{"$f":"IF(B74=\"\",\"\",INDEX(Data_kom2,MATCH(1,(komnavn2=B74)*(komaar2=D74),0),5))","v":""},{"$f":"IF(B74=\"\",\"\",INDEX(Data_kom2,MATCH(1,(komnavn2=B74)*(komaar2=D74),0),6))","v":""},{"$f":"IF(B74=\"\",\"\",INDEX(Data_kom2,MATCH(1,(komnavn2=B74)*(komaar2=D74),0),7))","v":""},{"$f":"IF(B74=\"\",\"\",INDEX(Data_kom2,MATCH(1,(komnavn2=B74)*(komaar2=D74),0),8))","v":""},{"$f":"IF(B74=\"\",\"\",INDEX(Data_kom2,MATCH(1,(komnavn2=B74)*(komaar2=D74),0),9))","v":""},{"$f":"IF(B74=\"\",\"\",INDEX(Data_kom2,MATCH(1,(komnavn2=B74)*(komaar2=D74),0),10))","v":""},{"$f":"IF(B74=\"\",\"\",INDEX(Data_kom2,MATCH(1,(komnavn2=B74)*(komaar2=D74),0),11))","v":""},{"$f":"IF(B74=\"\",\"\",INDEX(Data_kom2,MATCH(1,(komnavn2=B74)*(komaar2=D74),0),12))","v":""},{"$f":"IF(B74=\"\",\"\",INDEX(Data_kom2,MATCH(1,(komnavn2=B74)*(komaar2=D74),0),13))","v":""},{"$f":"IF(B74=\"\",\"\",INDEX(Data_kom2,MATCH(1,(komnavn2=B74)*(komaar2=D74),0),14))","v":""},{"$f":"IF(B74=\"\",\"\",INDEX(Data_kom2,MATCH(1,(komnavn2=B74)*(komaar2=D74),0),15))","v":""},{"$f":"IF(B74=\"\",\"\",INDEX(Data_kom2,MATCH(1,(komnavn2=B74)*(komaar2=D74),0),16))","v":""},{"$f":"IF(B74=\"\",\"\",INDEX(Data_kom2,MATCH(1,(komnavn2=B74)*(komaar2=D74),0),17))","v":""},{"$f":"IF(B74=\"\",\"\",INDEX(Data_kom2,MATCH(1,(komnavn2=B74)*(komaar2=D74),0),18))","v":""},{"$f":"IF(B74=\"\",\"\",INDEX(Data_kom2,MATCH(1,(komnavn2=B74)*(komaar2=D74),0),19))","v":""},{"$f":"IF(B74=\"\",\"\",INDEX(Data_kom2,MATCH(1,(komnavn2=B74)*(komaar2=D74),0),20))","v":""},{"$f":"IF(B74=\"\",\"\",INDEX(Data_kom2,MATCH(1,(komnavn2=B74)*(komaar2=D74),0),21))","v":""},{"$f":"IF(B74=\"\",\"\",INDEX(Data_kom2,MATCH(1,(komnavn2=B74)*(komaar2=D74),0),22))","v":""},{"$f":"IF(B74=\"\",\"\",INDEX(Data_kom2,MATCH(1,(komnavn2=B74)*(komaar2=D74),0),23))","v":""},{"$f":"IF(B74=\"\",\"\",INDEX(Data_kom2,MATCH(1,(komnavn2=B74)*(komaar2=D74),0),24))","v":""},{"$f":"IF(B74=\"\",\"\",INDEX(Data_kom2,MATCH(1,(komnavn2=B74)*(komaar2=D74),0),25))","v":""},{"$f":"IF(B74=\"\",\"\",INDEX(Data_kom2,MATCH(1,(komnavn2=B74)*(komaar2=D74),0),26))","v":""},{"$f":"IF(B74=\"\",\"\",INDEX(Data_kom2,MATCH(1,(komnavn2=B74)*(komaar2=D74),0),27))","v":""},{"$f":"IF(B74=\"\",\"\",INDEX(Data_kom2,MATCH(1,(komnavn2=B74)*(komaar2=D74),0),28))","v":""},{"$f":"IF(B74=\"\",\"\",INDEX(Data_kom2,MATCH(1,(komnavn2=B74)*(komaar2=D74),0),29))","v":""},{"$f":"IF(B74=\"\",\"\",INDEX(Data_kom2,MATCH(1,(komnavn2=B74)*(komaar2=D74),0),30))","v":""},{"$f":"IF(B74=\"\",\"\",INDEX(Data_kom2,MATCH(1,(komnavn2=B74)*(komaar2=D74),0),31))","v":""},{"$f":"IF(B74=\"\",\"\",INDEX(Data_kom2,MATCH(1,(komnavn2=B74)*(komaar2=D74),0),32))","v":""},{"$f":"IF(B74=\"\",\"\",INDEX(Data_kom2,MATCH(1,(komnavn2=B74)*(komaar2=D74),0),33))","v":""},{"$f":"IF(B74=\"\",\"\",INDEX(Data_kom2,MATCH(1,(komnavn2=B74)*(komaar2=D74),0),34))","v":""},{"$f":"IF(B74=\"\",\"\",INDEX(Data_kom2,MATCH(1,(komnavn2=B74)*(komaar2=D74),0),35))","v":""},{"$f":"IF(B74=\"\",\"\",INDEX(Data_kom2,MATCH(1,(komnavn2=B74)*(komaar2=D74),0),36))","v":""},{"$f":"IF(B74=\"\",\"\",INDEX(Data_kom2,MATCH(1,(komnavn2=B74)*(komaar2=D74),0),37))","v":""},{"$f":"IF(B74=\"\",\"\",INDEX(Data_kom2,MATCH(1,(komnavn2=B74)*(komaar2=D74),0),38))","v":""}]
[6,{"$f":"'Dine valg'!$G$29","v":""},{"$f":"IF(B75=\"\",\"\",INDEX(Data_kom2,MATCH(1,(komnavn2=B75)*(komaar2=D75),0),2))","v":""},"2019-07-01",{"$f":"IF(B75=\"\",\"\",INDEX(Data_kom2,MATCH(1,(komnavn2=B75)*(komaar2=D75),0),4))","v":""},{"$f":"IF(B75=\"\",\"\",INDEX(Data_kom2,MATCH(1,(komnavn2=B75)*(komaar2=D75),0),5))","v":""},{"$f":"IF(B75=\"\",\"\",INDEX(Data_kom2,MATCH(1,(komnavn2=B75)*(komaar2=D75),0),6))","v":""},{"$f":"IF(B75=\"\",\"\",INDEX(Data_kom2,MATCH(1,(komnavn2=B75)*(komaar2=D75),0),7))","v":""},{"$f":"IF(B75=\"\",\"\",INDEX(Data_kom2,MATCH(1,(komnavn2=B75)*(komaar2=D75),0),8))","v":""},{"$f":"IF(B75=\"\",\"\",INDEX(Data_kom2,MATCH(1,(komnavn2=B75)*(komaar2=D75),0),9))","v":""},{"$f":"IF(B75=\"\",\"\",INDEX(Data_kom2,MATCH(1,(komnavn2=B75)*(komaar2=D75),0),10))","v":""},{"$f":"IF(B75=\"\",\"\",INDEX(Data_kom2,MATCH(1,(komnavn2=B75)*(komaar2=D75),0),11))","v":""},{"$f":"IF(B75=\"\",\"\",INDEX(Data_kom2,MATCH(1,(komnavn2=B75)*(komaar2=D75),0),12))","v":""},{"$f":"IF(B75=\"\",\"\",INDEX(Data_kom2,MATCH(1,(komnavn2=B75)*(komaar2=D75),0),13))","v":""},{"$f":"IF(B75=\"\",\"\",INDEX(Data_kom2,MATCH(1,(komnavn2=B75)*(komaar2=D75),0),14))","v":""},{"$f":"IF(B75=\"\",\"\",INDEX(Data_kom2,MATCH(1,(komnavn2=B75)*(komaar2=D75),0),15))","v":""},{"$f":"IF(B75=\"\",\"\",INDEX(Data_kom2,MATCH(1,(komnavn2=B75)*(komaar2=D75),0),16))","v":""},{"$f":"IF(B75=\"\",\"\",INDEX(Data_kom2,MATCH(1,(komnavn2=B75)*(komaar2=D75),0),17))","v":""},{"$f":"IF(B75=\"\",\"\",INDEX(Data_kom2,MATCH(1,(komnavn2=B75)*(komaar2=D75),0),18))","v":""},{"$f":"IF(B75=\"\",\"\",INDEX(Data_kom2,MATCH(1,(komnavn2=B75)*(komaar2=D75),0),19))","v":""},{"$f":"IF(B75=\"\",\"\",INDEX(Data_kom2,MATCH(1,(komnavn2=B75)*(komaar2=D75),0),20))","v":""},{"$f":"IF(B75=\"\",\"\",INDEX(Data_kom2,MATCH(1,(komnavn2=B75)*(komaar2=D75),0),21))","v":""},{"$f":"IF(B75=\"\",\"\",INDEX(Data_kom2,MATCH(1,(komnavn2=B75)*(komaar2=D75),0),22))","v":""},{"$f":"IF(B75=\"\",\"\",INDEX(Data_kom2,MATCH(1,(komnavn2=B75)*(komaar2=D75),0),23))","v":""},{"$f":"IF(B75=\"\",\"\",INDEX(Data_kom2,MATCH(1,(komnavn2=B75)*(komaar2=D75),0),24))","v":""},{"$f":"IF(B75=\"\",\"\",INDEX(Data_kom2,MATCH(1,(komnavn2=B75)*(komaar2=D75),0),25))","v":""},{"$f":"IF(B75=\"\",\"\",INDEX(Data_kom2,MATCH(1,(komnavn2=B75)*(komaar2=D75),0),26))","v":""},{"$f":"IF(B75=\"\",\"\",INDEX(Data_kom2,MATCH(1,(komnavn2=B75)*(komaar2=D75),0),27))","v":""},{"$f":"IF(B75=\"\",\"\",INDEX(Data_kom2,MATCH(1,(komnavn2=B75)*(komaar2=D75),0),28))","v":""},{"$f":"IF(B75=\"\",\"\",INDEX(Data_kom2,MATCH(1,(komnavn2=B75)*(komaar2=D75),0),29))","v":""},{"$f":"IF(B75=\"\",\"\",INDEX(Data_kom2,MATCH(1,(komnavn2=B75)*(komaar2=D75),0),30))","v":""},{"$f":"IF(B75=\"\",\"\",INDEX(Data_kom2,MATCH(1,(komnavn2=B75)*(komaar2=D75),0),31))","v":""},{"$f":"IF(B75=\"\",\"\",INDEX(Data_kom2,MATCH(1,(komnavn2=B75)*(komaar2=D75),0),32))","v":""},{"$f":"IF(B75=\"\",\"\",INDEX(Data_kom2,MATCH(1,(komnavn2=B75)*(komaar2=D75),0),33))","v":""},{"$f":"IF(B75=\"\",\"\",INDEX(Data_kom2,MATCH(1,(komnavn2=B75)*(komaar2=D75),0),34))","v":""},{"$f":"IF(B75=\"\",\"\",INDEX(Data_kom2,MATCH(1,(komnavn2=B75)*(komaar2=D75),0),35))","v":""},{"$f":"IF(B75=\"\",\"\",INDEX(Data_kom2,MATCH(1,(komnavn2=B75)*(komaar2=D75),0),36))","v":""},{"$f":"IF(B75=\"\",\"\",INDEX(Data_kom2,MATCH(1,(komnavn2=B75)*(komaar2=D75),0),37))","v":""},{"$f":"IF(B75=\"\",\"\",INDEX(Data_kom2,MATCH(1,(komnavn2=B75)*(komaar2=D75),0),38))","v":""}]
[7,{"$f":"'Dine valg'!$G$30","v":""},{"$f":"IF(B76=\"\",\"\",INDEX(Data_kom2,MATCH(1,(komnavn2=B76)*(komaar2=D76),0),2))","v":""},"2019-07-01",{"$f":"IF(B76=\"\",\"\",INDEX(Data_kom2,MATCH(1,(komnavn2=B76)*(komaar2=D76),0),4))","v":""},{"$f":"IF(B76=\"\",\"\",INDEX(Data_kom2,MATCH(1,(komnavn2=B76)*(komaar2=D76),0),5))","v":""},{"$f":"IF(B76=\"\",\"\",INDEX(Data_kom2,MATCH(1,(komnavn2=B76)*(komaar2=D76),0),6))","v":""},{"$f":"IF(B76=\"\",\"\",INDEX(Data_kom2,MATCH(1,(komnavn2=B76)*(komaar2=D76),0),7))","v":""},{"$f":"IF(B76=\"\",\"\",INDEX(Data_kom2,MATCH(1,(komnavn2=B76)*(komaar2=D76),0),8))","v":""},{"$f":"IF(B76=\"\",\"\",INDEX(Data_kom2,MATCH(1,(komnavn2=B76)*(komaar2=D76),0),9))","v":""},{"$f":"IF(B76=\"\",\"\",INDEX(Data_kom2,MATCH(1,(komnavn2=B76)*(komaar2=D76),0),10))","v":""},{"$f":"IF(B76=\"\",\"\",INDEX(Data_kom2,MATCH(1,(komnavn2=B76)*(komaar2=D76),0),11))","v":""},{"$f":"IF(B76=\"\",\"\",INDEX(Data_kom2,MATCH(1,(komnavn2=B76)*(komaar2=D76),0),12))","v":""},{"$f":"IF(B76=\"\",\"\",INDEX(Data_kom2,MATCH(1,(komnavn2=B76)*(komaar2=D76),0),13))","v":""},{"$f":"IF(B76=\"\",\"\",INDEX(Data_kom2,MATCH(1,(komnavn2=B76)*(komaar2=D76),0),14))","v":""},{"$f":"IF(B76=\"\",\"\",INDEX(Data_kom2,MATCH(1,(komnavn2=B76)*(komaar2=D76),0),15))","v":""},{"$f":"IF(B76=\"\",\"\",INDEX(Data_kom2,MATCH(1,(komnavn2=B76)*(komaar2=D76),0),16))","v":""},{"$f":"IF(B76=\"\",\"\",INDEX(Data_kom2,MATCH(1,(komnavn2=B76)*(komaar2=D76),0),17))","v":""},{"$f":"IF(B76=\"\",\"\",INDEX(Data_kom2,MATCH(1,(komnavn2=B76)*(komaar2=D76),0),18))","v":""},{"$f":"IF(B76=\"\",\"\",INDEX(Data_kom2,MATCH(1,(komnavn2=B76)*(komaar2=D76),0),19))","v":""},{"$f":"IF(B76=\"\",\"\",INDEX(Data_kom2,MATCH(1,(komnavn2=B76)*(komaar2=D76),0),20))","v":""},{"$f":"IF(B76=\"\",\"\",INDEX(Data_kom2,MATCH(1,(komnavn2=B76)*(komaar2=D76),0),21))","v":""},{"$f":"IF(B76=\"\",\"\",INDEX(Data_kom2,MATCH(1,(komnavn2=B76)*(komaar2=D76),0),22))","v":""},{"$f":"IF(B76=\"\",\"\",INDEX(Data_kom2,MATCH(1,(komnavn2=B76)*(komaar2=D76),0),23))","v":""},{"$f":"IF(B76=\"\",\"\",INDEX(Data_kom2,MATCH(1,(komnavn2=B76)*(komaar2=D76),0),24))","v":""},{"$f":"IF(B76=\"\",\"\",INDEX(Data_kom2,MATCH(1,(komnavn2=B76)*(komaar2=D76),0),25))","v":""},{"$f":"IF(B76=\"\",\"\",INDEX(Data_kom2,MATCH(1,(komnavn2=B76)*(komaar2=D76),0),26))","v":""},{"$f":"IF(B76=\"\",\"\",INDEX(Data_kom2,MATCH(1,(komnavn2=B76)*(komaar2=D76),0),27))","v":""},{"$f":"IF(B76=\"\",\"\",INDEX(Data_kom2,MATCH(1,(komnavn2=B76)*(komaar2=D76),0),28))","v":""},{"$f":"IF(B76=\"\",\"\",INDEX(Data_kom2,MATCH(1,(komnavn2=B76)*(komaar2=D76),0),29))","v":""},{"$f":"IF(B76=\"\",\"\",INDEX(Data_kom2,MATCH(1,(komnavn2=B76)*(komaar2=D76),0),30))","v":""},{"$f":"IF(B76=\"\",\"\",INDEX(Data_kom2,MATCH(1,(komnavn2=B76)*(komaar2=D76),0),31))","v":""},{"$f":"IF(B76=\"\",\"\",INDEX(Data_kom2,MATCH(1,(komnavn2=B76)*(komaar2=D76),0),32))","v":""},{"$f":"IF(B76=\"\",\"\",INDEX(Data_kom2,MATCH(1,(komnavn2=B76)*(komaar2=D76),0),33))","v":""},{"$f":"IF(B76=\"\",\"\",INDEX(Data_kom2,MATCH(1,(komnavn2=B76)*(komaar2=D76),0),34))","v":""},{"$f":"IF(B76=\"\",\"\",INDEX(Data_kom2,MATCH(1,(komnavn2=B76)*(komaar2=D76),0),35))","v":""},{"$f":"IF(B76=\"\",\"\",INDEX(Data_kom2,MATCH(1,(komnavn2=B76)*(komaar2=D76),0),36))","v":""},{"$f":"IF(B76=\"\",\"\",INDEX(Data_kom2,MATCH(1,(komnavn2=B76)*(komaar2=D76),0),37))","v":""},{"$f":"IF(B76=\"\",\"\",INDEX(Data_kom2,MATCH(1,(komnavn2=B76)*(komaar2=D76),0),38))","v":""}]
[1,{"$f":"'Dine valg'!$G$24","v":"Aarhus"},{"$f":"IF(B77=\"\",\"\",INDEX(Data_kom2,MATCH(1,(komnavn2=B77)*(komaar2=D77),0),2))","v":63607},"2019-01-01",{"$f":"IF(B77=\"\",\"\",INDEX(Data_kom2,MATCH(1,(komnavn2=B77)*(komaar2=D77),0),4))","v":173},{"$f":"IF(B77=\"\",\"\",INDEX(Data_kom2,MATCH(1,(komnavn2=B77)*(komaar2=D77),0),5))","v":116},{"$f":"IF(B77=\"\",\"\",INDEX(Data_kom2,MATCH(1,(komnavn2=B77)*(komaar2=D77),0),6))","v":10},{"$f":"IF(B77=\"\",\"\",INDEX(Data_kom2,MATCH(1,(komnavn2=B77)*(komaar2=D77),0),7))","v":47},{"$f":"IF(B77=\"\",\"\",INDEX(Data_kom2,MATCH(1,(komnavn2=B77)*(komaar2=D77),0),8))","v":144862},{"$f":"IF(B77=\"\",\"\",INDEX(Data_kom2,MATCH(1,(komnavn2=B77)*(komaar2=D77),0),9))","v":110606},{"$f":"IF(B77=\"\",\"\",INDEX(Data_kom2,MATCH(1,(komnavn2=B77)*(komaar2=D77),0),10))","v":1195},{"$f":"IF(B77=\"\",\"\",INDEX(Data_kom2,MATCH(1,(komnavn2=B77)*(komaar2=D77),0),11))","v":33061},{"$f":"IF(B77=\"\",\"\",INDEX(Data_kom2,MATCH(1,(komnavn2=B77)*(komaar2=D77),0),12))","v":253},{"$f":"IF(B77=\"\",\"\",INDEX(Data_kom2,MATCH(1,(komnavn2=B77)*(komaar2=D77),0),13))","v":23},{"$f":"IF(B77=\"\",\"\",INDEX(Data_kom2,MATCH(1,(komnavn2=B77)*(komaar2=D77),0),14))","v":1295},{"$f":"IF(B77=\"\",\"\",INDEX(Data_kom2,MATCH(1,(komnavn2=B77)*(komaar2=D77),0),15))","v":3},{"$f":"IF(B77=\"\",\"\",INDEX(Data_kom2,MATCH(1,(komnavn2=B77)*(komaar2=D77),0),16))","v":7},{"$f":"IF(B77=\"\",\"\",INDEX(Data_kom2,MATCH(1,(komnavn2=B77)*(komaar2=D77),0),17))","v":1274},{"$f":"IF(B77=\"\",\"\",INDEX(Data_kom2,MATCH(1,(komnavn2=B77)*(komaar2=D77),0),18))","v":11},{"$f":"IF(B77=\"\",\"\",INDEX(Data_kom2,MATCH(1,(komnavn2=B77)*(komaar2=D77),0),19))","v":0},{"$f":"IF(B77=\"\",\"\",INDEX(Data_kom2,MATCH(1,(komnavn2=B77)*(komaar2=D77),0),20))","v":0},{"$f":"IF(B77=\"\",\"\",INDEX(Data_kom2,MATCH(1,(komnavn2=B77)*(komaar2=D77),0),21))","v":0},{"$f":"IF(B77=\"\",\"\",INDEX(Data_kom2,MATCH(1,(komnavn2=B77)*(komaar2=D77),0),22))","v":28},{"$f":"IF(B77=\"\",\"\",INDEX(Data_kom2,MATCH(1,(komnavn2=B77)*(komaar2=D77),0),23))","v":166},{"$f":"IF(B77=\"\",\"\",INDEX(Data_kom2,MATCH(1,(komnavn2=B77)*(komaar2=D77),0),24))","v":"*"},{"$f":"IF(B77=\"\",\"\",INDEX(Data_kom2,MATCH(1,(komnavn2=B77)*(komaar2=D77),0),25))","v":166},{"$f":"IF(B77=\"\",\"\",INDEX(Data_kom2,MATCH(1,(komnavn2=B77)*(komaar2=D77),0),26))","v":"*"},{"$f":"IF(B77=\"\",\"\",INDEX(Data_kom2,MATCH(1,(komnavn2=B77)*(komaar2=D77),0),27))","v":166},{"$f":"IF(B77=\"\",\"\",INDEX(Data_kom2,MATCH(1,(komnavn2=B77)*(komaar2=D77),0),28))","v":31},{"$f":"IF(B77=\"\",\"\",INDEX(Data_kom2,MATCH(1,(komnavn2=B77)*(komaar2=D77),0),29))","v":1181},{"$f":"IF(B77=\"\",\"\",INDEX(Data_kom2,MATCH(1,(komnavn2=B77)*(komaar2=D77),0),30))","v":308},{"$f":"IF(B77=\"\",\"\",INDEX(Data_kom2,MATCH(1,(komnavn2=B77)*(komaar2=D77),0),31))","v":1193},{"$f":"IF(B77=\"\",\"\",INDEX(Data_kom2,MATCH(1,(komnavn2=B77)*(komaar2=D77),0),32))","v":0},{"$f":"IF(B77=\"\",\"\",INDEX(Data_kom2,MATCH(1,(komnavn2=B77)*(komaar2=D77),0),33))","v":0},{"$f":"IF(B77=\"\",\"\",INDEX(Data_kom2,MATCH(1,(komnavn2=B77)*(komaar2=D77),0),34))","v":0},{"$f":"IF(B77=\"\",\"\",INDEX(Data_kom2,MATCH(1,(komnavn2=B77)*(komaar2=D77),0),35))","v":0},{"$f":"IF(B77=\"\",\"\",INDEX(Data_kom2,MATCH(1,(komnavn2=B77)*(komaar2=D77),0),36))","v":0},{"$f":"IF(B77=\"\",\"\",INDEX(Data_kom2,MATCH(1,(komnavn2=B77)*(komaar2=D77),0),37))","v":0},{"$f":"IF(B77=\"\",\"\",INDEX(Data_kom2,MATCH(1,(komnavn2=B77)*(komaar2=D77),0),38))","v":"Region Midtjylland"}]
[2,{"$f":"'Dine valg'!$G$25","v":""},{"$f":"IF(B78=\"\",\"\",INDEX(Data_kom2,MATCH(1,(komnavn2=B78)*(komaar2=D78),0),2))","v":""},"2019-01-01",{"$f":"IF(B78=\"\",\"\",INDEX(Data_kom2,MATCH(1,(komnavn2=B78)*(komaar2=D78),0),4))","v":""},{"$f":"IF(B78=\"\",\"\",INDEX(Data_kom2,MATCH(1,(komnavn2=B78)*(komaar2=D78),0),5))","v":""},{"$f":"IF(B78=\"\",\"\",INDEX(Data_kom2,MATCH(1,(komnavn2=B78)*(komaar2=D78),0),6))","v":""},{"$f":"IF(B78=\"\",\"\",INDEX(Data_kom2,MATCH(1,(komnavn2=B78)*(komaar2=D78),0),7))","v":""},{"$f":"IF(B78=\"\",\"\",INDEX(Data_kom2,MATCH(1,(komnavn2=B78)*(komaar2=D78),0),8))","v":""},{"$f":"IF(B78=\"\",\"\",INDEX(Data_kom2,MATCH(1,(komnavn2=B78)*(komaar2=D78),0),9))","v":""},{"$f":"IF(B78=\"\",\"\",INDEX(Data_kom2,MATCH(1,(komnavn2=B78)*(komaar2=D78),0),10))","v":""},{"$f":"IF(B78=\"\",\"\",INDEX(Data_kom2,MATCH(1,(komnavn2=B78)*(komaar2=D78),0),11))","v":""},{"$f":"IF(B78=\"\",\"\",INDEX(Data_kom2,MATCH(1,(komnavn2=B78)*(komaar2=D78),0),12))","v":""},{"$f":"IF(B78=\"\",\"\",INDEX(Data_kom2,MATCH(1,(komnavn2=B78)*(komaar2=D78),0),13))","v":""},{"$f":"IF(B78=\"\",\"\",INDEX(Data_kom2,MATCH(1,(komnavn2=B78)*(komaar2=D78),0),14))","v":""},{"$f":"IF(B78=\"\",\"\",INDEX(Data_kom2,MATCH(1,(komnavn2=B78)*(komaar2=D78),0),15))","v":""},{"$f":"IF(B78=\"\",\"\",INDEX(Data_kom2,MATCH(1,(komnavn2=B78)*(komaar2=D78),0),16))","v":""},{"$f":"IF(B78=\"\",\"\",INDEX(Data_kom2,MATCH(1,(komnavn2=B78)*(komaar2=D78),0),17))","v":""},{"$f":"IF(B78=\"\",\"\",INDEX(Data_kom2,MATCH(1,(komnavn2=B78)*(komaar2=D78),0),18))","v":""},{"$f":"IF(B78=\"\",\"\",INDEX(Data_kom2,MATCH(1,(komnavn2=B78)*(komaar2=D78),0),19))","v":""},{"$f":"IF(B78=\"\",\"\",INDEX(Data_kom2,MATCH(1,(komnavn2=B78)*(komaar2=D78),0),20))","v":""},{"$f":"IF(B78=\"\",\"\",INDEX(Data_kom2,MATCH(1,(komnavn2=B78)*(komaar2=D78),0),21))","v":""},{"$f":"IF(B78=\"\",\"\",INDEX(Data_kom2,MATCH(1,(komnavn2=B78)*(komaar2=D78),0),22))","v":""},{"$f":"IF(B78=\"\",\"\",INDEX(Data_kom2,MATCH(1,(komnavn2=B78)*(komaar2=D78),0),23))","v":""},{"$f":"IF(B78=\"\",\"\",INDEX(Data_kom2,MATCH(1,(komnavn2=B78)*(komaar2=D78),0),24))","v":""},{"$f":"IF(B78=\"\",\"\",INDEX(Data_kom2,MATCH(1,(komnavn2=B78)*(komaar2=D78),0),25))","v":""},{"$f":"IF(B78=\"\",\"\",INDEX(Data_kom2,MATCH(1,(komnavn2=B78)*(komaar2=D78),0),26))","v":""},{"$f":"IF(B78=\"\",\"\",INDEX(Data_kom2,MATCH(1,(komnavn2=B78)*(komaar2=D78),0),27))","v":""},{"$f":"IF(B78=\"\",\"\",INDEX(Data_kom2,MATCH(1,(komnavn2=B78)*(komaar2=D78),0),28))","v":""},{"$f":"IF(B78=\"\",\"\",INDEX(Data_kom2,MATCH(1,(komnavn2=B78)*(komaar2=D78),0),29))","v":""},{"$f":"IF(B78=\"\",\"\",INDEX(Data_kom2,MATCH(1,(komnavn2=B78)*(komaar2=D78),0),30))","v":""},{"$f":"IF(B78=\"\",\"\",INDEX(Data_kom2,MATCH(1,(komnavn2=B78)*(komaar2=D78),0),31))","v":""},{"$f":"IF(B78=\"\",\"\",INDEX(Data_kom2,MATCH(1,(komnavn2=B78)*(komaar2=D78),0),32))","v":""},{"$f":"IF(B78=\"\",\"\",INDEX(Data_kom2,MATCH(1,(komnavn2=B78)*(komaar2=D78),0),33))","v":""},{"$f":"IF(B78=\"\",\"\",INDEX(Data_kom2,MATCH(1,(komnavn2=B78)*(komaar2=D78),0),34))","v":""},{"$f":"IF(B78=\"\",\"\",INDEX(Data_kom2,MATCH(1,(komnavn2=B78)*(komaar2=D78),0),35))","v":""},{"$f":"IF(B78=\"\",\"\",INDEX(Data_kom2,MATCH(1,(komnavn2=B78)*(komaar2=D78),0),36))","v":""},{"$f":"IF(B78=\"\",\"\",INDEX(Data_kom2,MATCH(1,(komnavn2=B78)*(komaar2=D78),0),37))","v":""},{"$f":"IF(B78=\"\",\"\",INDEX(Data_kom2,MATCH(1,(komnavn2=B78)*(komaar2=D78),0),38))","v":""}]
[3,{"$f":"'Dine valg'!$G$26","v":""},{"$f":"IF(B79=\"\",\"\",INDEX(Data_kom2,MATCH(1,(komnavn2=B79)*(komaar2=D79),0),2))","v":""},"2019-01-01",{"$f":"IF(B79=\"\",\"\",INDEX(Data_kom2,MATCH(1,(komnavn2=B79)*(komaar2=D79),0),4))","v":""},{"$f":"IF(B79=\"\",\"\",INDEX(Data_kom2,MATCH(1,(komnavn2=B79)*(komaar2=D79),0),5))","v":""},{"$f":"IF(B79=\"\",\"\",INDEX(Data_kom2,MATCH(1,(komnavn2=B79)*(komaar2=D79),0),6))","v":""},{"$f":"IF(B79=\"\",\"\",INDEX(Data_kom2,MATCH(1,(komnavn2=B79)*(komaar2=D79),0),7))","v":""},{"$f":"IF(B79=\"\",\"\",INDEX(Data_kom2,MATCH(1,(komnavn2=B79)*(komaar2=D79),0),8))","v":""},{"$f":"IF(B79=\"\",\"\",INDEX(Data_kom2,MATCH(1,(komnavn2=B79)*(komaar2=D79),0),9))","v":""},{"$f":"IF(B79=\"\",\"\",INDEX(Data_kom2,MATCH(1,(komnavn2=B79)*(komaar2=D79),0),10))","v":""},{"$f":"IF(B79=\"\",\"\",INDEX(Data_kom2,MATCH(1,(komnavn2=B79)*(komaar2=D79),0),11))","v":""},{"$f":"IF(B79=\"\",\"\",INDEX(Data_kom2,MATCH(1,(komnavn2=B79)*(komaar2=D79),0),12))","v":""},{"$f":"IF(B79=\"\",\"\",INDEX(Data_kom2,MATCH(1,(komnavn2=B79)*(komaar2=D79),0),13))","v":""},{"$f":"IF(B79=\"\",\"\",INDEX(Data_kom2,MATCH(1,(komnavn2=B79)*(komaar2=D79),0),14))","v":""},{"$f":"IF(B79=\"\",\"\",INDEX(Data_kom2,MATCH(1,(komnavn2=B79)*(komaar2=D79),0),15))","v":""},{"$f":"IF(B79=\"\",\"\",INDEX(Data_kom2,MATCH(1,(komnavn2=B79)*(komaar2=D79),0),16))","v":""},{"$f":"IF(B79=\"\",\"\",INDEX(Data_kom2,MATCH(1,(komnavn2=B79)*(komaar2=D79),0),17))","v":""},{"$f":"IF(B79=\"\",\"\",INDEX(Data_kom2,MATCH(1,(komnavn2=B79)*(komaar2=D79),0),18))","v":""},{"$f":"IF(B79=\"\",\"\",INDEX(Data_kom2,MATCH(1,(komnavn2=B79)*(komaar2=D79),0),19))","v":""},{"$f":"IF(B79=\"\",\"\",INDEX(Data_kom2,MATCH(1,(komnavn2=B79)*(komaar2=D79),0),20))","v":""},{"$f":"IF(B79=\"\",\"\",INDEX(Data_kom2,MATCH(1,(komnavn2=B79)*(komaar2=D79),0),21))","v":""},{"$f":"IF(B79=\"\",\"\",INDEX(Data_kom2,MATCH(1,(komnavn2=B79)*(komaar2=D79),0),22))","v":""},{"$f":"IF(B79=\"\",\"\",INDEX(Data_kom2,MATCH(1,(komnavn2=B79)*(komaar2=D79),0),23))","v":""},{"$f":"IF(B79=\"\",\"\",INDEX(Data_kom2,MATCH(1,(komnavn2=B79)*(komaar2=D79),0),24))","v":""},{"$f":"IF(B79=\"\",\"\",INDEX(Data_kom2,MATCH(1,(komnavn2=B79)*(komaar2=D79),0),25))","v":""},{"$f":"IF(B79=\"\",\"\",INDEX(Data_kom2,MATCH(1,(komnavn2=B79)*(komaar2=D79),0),26))","v":""},{"$f":"IF(B79=\"\",\"\",INDEX(Data_kom2,MATCH(1,(komnavn2=B79)*(komaar2=D79),0),27))","v":""},{"$f":"IF(B79=\"\",\"\",INDEX(Data_kom2,MATCH(1,(komnavn2=B79)*(komaar2=D79),0),28))","v":""},{"$f":"IF(B79=\"\",\"\",INDEX(Data_kom2,MATCH(1,(komnavn2=B79)*(komaar2=D79),0),29))","v":""},{"$f":"IF(B79=\"\",\"\",INDEX(Data_kom2,MATCH(1,(komnavn2=B79)*(komaar2=D79),0),30))","v":""},{"$f":"IF(B79=\"\",\"\",INDEX(Data_kom2,MATCH(1,(komnavn2=B79)*(komaar2=D79),0),31))","v":""},{"$f":"IF(B79=\"\",\"\",INDEX(Data_kom2,MATCH(1,(komnavn2=B79)*(komaar2=D79),0),32))","v":""},{"$f":"IF(B79=\"\",\"\",INDEX(Data_kom2,MATCH(1,(komnavn2=B79)*(komaar2=D79),0),33))","v":""},{"$f":"IF(B79=\"\",\"\",INDEX(Data_kom2,MATCH(1,(komnavn2=B79)*(komaar2=D79),0),34))","v":""},{"$f":"IF(B79=\"\",\"\",INDEX(Data_kom2,MATCH(1,(komnavn2=B79)*(komaar2=D79),0),35))","v":""},{"$f":"IF(B79=\"\",\"\",INDEX(Data_kom2,MATCH(1,(komnavn2=B79)*(komaar2=D79),0),36))","v":""},{"$f":"IF(B79=\"\",\"\",INDEX(Data_kom2,MATCH(1,(komnavn2=B79)*(komaar2=D79),0),37))","v":""},{"$f":"IF(B79=\"\",\"\",INDEX(Data_kom2,MATCH(1,(komnavn2=B79)*(komaar2=D79),0),38))","v":""}]
[4,{"$f":"'Dine valg'!$G$27","v":""},{"$f":"IF(B80=\"\",\"\",INDEX(Data_kom2,MATCH(1,(komnavn2=B80)*(komaar2=D80),0),2))","v":""},"2019-01-01",{"$f":"IF(B80=\"\",\"\",INDEX(Data_kom2,MATCH(1,(komnavn2=B80)*(komaar2=D80),0),4))","v":""},{"$f":"IF(B80=\"\",\"\",INDEX(Data_kom2,MATCH(1,(komnavn2=B80)*(komaar2=D80),0),5))","v":""},{"$f":"IF(B80=\"\",\"\",INDEX(Data_kom2,MATCH(1,(komnavn2=B80)*(komaar2=D80),0),6))","v":""},{"$f":"IF(B80=\"\",\"\",INDEX(Data_kom2,MATCH(1,(komnavn2=B80)*(komaar2=D80),0),7))","v":""},{"$f":"IF(B80=\"\",\"\",INDEX(Data_kom2,MATCH(1,(komnavn2=B80)*(komaar2=D80),0),8))","v":""},{"$f":"IF(B80=\"\",\"\",INDEX(Data_kom2,MATCH(1,(komnavn2=B80)*(komaar2=D80),0),9))","v":""},{"$f":"IF(B80=\"\",\"\",INDEX(Data_kom2,MATCH(1,(komnavn2=B80)*(komaar2=D80),0),10))","v":""},{"$f":"IF(B80=\"\",\"\",INDEX(Data_kom2,MATCH(1,(komnavn2=B80)*(komaar2=D80),0),11))","v":""},{"$f":"IF(B80=\"\",\"\",INDEX(Data_kom2,MATCH(1,(komnavn2=B80)*(komaar2=D80),0),12))","v":""},{"$f":"IF(B80=\"\",\"\",INDEX(Data_kom2,MATCH(1,(komnavn2=B80)*(komaar2=D80),0),13))","v":""},{"$f":"IF(B80=\"\",\"\",INDEX(Data_kom2,MATCH(1,(komnavn2=B80)*(komaar2=D80),0),14))","v":""},{"$f":"IF(B80=\"\",\"\",INDEX(Data_kom2,MATCH(1,(komnavn2=B80)*(komaar2=D80),0),15))","v":""},{"$f":"IF(B80=\"\",\"\",INDEX(Data_kom2,MATCH(1,(komnavn2=B80)*(komaar2=D80),0),16))","v":""},{"$f":"IF(B80=\"\",\"\",INDEX(Data_kom2,MATCH(1,(komnavn2=B80)*(komaar2=D80),0),17))","v":""},{"$f":"IF(B80=\"\",\"\",INDEX(Data_kom2,MATCH(1,(komnavn2=B80)*(komaar2=D80),0),18))","v":""},{"$f":"IF(B80=\"\",\"\",INDEX(Data_kom2,MATCH(1,(komnavn2=B80)*(komaar2=D80),0),19))","v":""},{"$f":"IF(B80=\"\",\"\",INDEX(Data_kom2,MATCH(1,(komnavn2=B80)*(komaar2=D80),0),20))","v":""},{"$f":"IF(B80=\"\",\"\",INDEX(Data_kom2,MATCH(1,(komnavn2=B80)*(komaar2=D80),0),21))","v":""},{"$f":"IF(B80=\"\",\"\",INDEX(Data_kom2,MATCH(1,(komnavn2=B80)*(komaar2=D80),0),22))","v":""},{"$f":"IF(B80=\"\",\"\",INDEX(Data_kom2,MATCH(1,(komnavn2=B80)*(komaar2=D80),0),23))","v":""},{"$f":"IF(B80=\"\",\"\",INDEX(Data_kom2,MATCH(1,(komnavn2=B80)*(komaar2=D80),0),24))","v":""},{"$f":"IF(B80=\"\",\"\",INDEX(Data_kom2,MATCH(1,(komnavn2=B80)*(komaar2=D80),0),25))","v":""},{"$f":"IF(B80=\"\",\"\",INDEX(Data_kom2,MATCH(1,(komnavn2=B80)*(komaar2=D80),0),26))","v":""},{"$f":"IF(B80=\"\",\"\",INDEX(Data_kom2,MATCH(1,(komnavn2=B80)*(komaar2=D80),0),27))","v":""},{"$f":"IF(B80=\"\",\"\",INDEX(Data_kom2,MATCH(1,(komnavn2=B80)*(komaar2=D80),0),28))","v":""},{"$f":"IF(B80=\"\",\"\",INDEX(Data_kom2,MATCH(1,(komnavn2=B80)*(komaar2=D80),0),29))","v":""},{"$f":"IF(B80=\"\",\"\",INDEX(Data_kom2,MATCH(1,(komnavn2=B80)*(komaar2=D80),0),30))","v":""},{"$f":"IF(B80=\"\",\"\",INDEX(Data_kom2,MATCH(1,(komnavn2=B80)*(komaar2=D80),0),31))","v":""},{"$f":"IF(B80=\"\",\"\",INDEX(Data_kom2,MATCH(1,(komnavn2=B80)*(komaar2=D80),0),32))","v":""},{"$f":"IF(B80=\"\",\"\",INDEX(Data_kom2,MATCH(1,(komnavn2=B80)*(komaar2=D80),0),33))","v":""},{"$f":"IF(B80=\"\",\"\",INDEX(Data_kom2,MATCH(1,(komnavn2=B80)*(komaar2=D80),0),34))","v":""},{"$f":"IF(B80=\"\",\"\",INDEX(Data_kom2,MATCH(1,(komnavn2=B80)*(komaar2=D80),0),35))","v":""},{"$f":"IF(B80=\"\",\"\",INDEX(Data_kom2,MATCH(1,(komnavn2=B80)*(komaar2=D80),0),36))","v":""},{"$f":"IF(B80=\"\",\"\",INDEX(Data_kom2,MATCH(1,(komnavn2=B80)*(komaar2=D80),0),37))","v":""},{"$f":"IF(B80=\"\",\"\",INDEX(Data_kom2,MATCH(1,(komnavn2=B80)*(komaar2=D80),0),38))","v":""}]
[5,{"$f":"'Dine valg'!$G$28","v":""},{"$f":"IF(B81=\"\",\"\",INDEX(Data_kom2,MATCH(1,(komnavn2=B81)*(komaar2=D81),0),2))","v":""},"2019-01-01",{"$f":"IF(B81=\"\",\"\",INDEX(Data_kom2,MATCH(1,(komnavn2=B81)*(komaar2=D81),0),4))","v":""},{"$f":"IF(B81=\"\",\"\",INDEX(Data_kom2,MATCH(1,(komnavn2=B81)*(komaar2=D81),0),5))","v":""},{"$f":"IF(B81=\"\",\"\",INDEX(Data_kom2,MATCH(1,(komnavn2=B81)*(komaar2=D81),0),6))","v":""},{"$f":"IF(B81=\"\",\"\",INDEX(Data_kom2,MATCH(1,(komnavn2=B81)*(komaar2=D81),0),7))","v":""},{"$f":"IF(B81=\"\",\"\",INDEX(Data_kom2,MATCH(1,(komnavn2=B81)*(komaar2=D81),0),8))","v":""},{"$f":"IF(B81=\"\",\"\",INDEX(Data_kom2,MATCH(1,(komnavn2=B81)*(komaar2=D81),0),9))","v":""},{"$f":"IF(B81=\"\",\"\",INDEX(Data_kom2,MATCH(1,(komnavn2=B81)*(komaar2=D81),0),10))","v":""},{"$f":"IF(B81=\"\",\"\",INDEX(Data_kom2,MATCH(1,(komnavn2=B81)*(komaar2=D81),0),11))","v":""},{"$f":"IF(B81=\"\",\"\",INDEX(Data_kom2,MATCH(1,(komnavn2=B81)*(komaar2=D81),0),12))","v":""},{"$f":"IF(B81=\"\",\"\",INDEX(Data_kom2,MATCH(1,(komnavn2=B81)*(komaar2=D81),0),13))","v":""},{"$f":"IF(B81=\"\",\"\",INDEX(Data_kom2,MATCH(1,(komnavn2=B81)*(komaar2=D81),0),14))","v":""},{"$f":"IF(B81=\"\",\"\",INDEX(Data_kom2,MATCH(1,(komnavn2=B81)*(komaar2=D81),0),15))","v":""},{"$f":"IF(B81=\"\",\"\",INDEX(Data_kom2,MATCH(1,(komnavn2=B81)*(komaar2=D81),0),16))","v":""},{"$f":"IF(B81=\"\",\"\",INDEX(Data_kom2,MATCH(1,(komnavn2=B81)*(komaar2=D81),0),17))","v":""},{"$f":"IF(B81=\"\",\"\",INDEX(Data_kom2,MATCH(1,(komnavn2=B81)*(komaar2=D81),0),18))","v":""},{"$f":"IF(B81=\"\",\"\",INDEX(Data_kom2,MATCH(1,(komnavn2=B81)*(komaar2=D81),0),19))","v":""},{"$f":"IF(B81=\"\",\"\",INDEX(Data_kom2,MATCH(1,(komnavn2=B81)*(komaar2=D81),0),20))","v":""},{"$f":"IF(B81=\"\",\"\",INDEX(Data_kom2,MATCH(1,(komnavn2=B81)*(komaar2=D81),0),21))","v":""},{"$f":"IF(B81=\"\",\"\",INDEX(Data_kom2,MATCH(1,(komnavn2=B81)*(komaar2=D81),0),22))","v":""},{"$f":"IF(B81=\"\",\"\",INDEX(Data_kom2,MATCH(1,(komnavn2=B81)*(komaar2=D81),0),23))","v":""},{"$f":"IF(B81=\"\",\"\",INDEX(Data_kom2,MATCH(1,(komnavn2=B81)*(komaar2=D81),0),24))","v":""},{"$f":"IF(B81=\"\",\"\",INDEX(Data_kom2,MATCH(1,(komnavn2=B81)*(komaar2=D81),0),25))","v":""},{"$f":"IF(B81=\"\",\"\",INDEX(Data_kom2,MATCH(1,(komnavn2=B81)*(komaar2=D81),0),26))","v":""},{"$f":"IF(B81=\"\",\"\",INDEX(Data_kom2,MATCH(1,(komnavn2=B81)*(komaar2=D81),0),27))","v":""},{"$f":"IF(B81=\"\",\"\",INDEX(Data_kom2,MATCH(1,(komnavn2=B81)*(komaar2=D81),0),28))","v":""},{"$f":"IF(B81=\"\",\"\",INDEX(Data_kom2,MATCH(1,(komnavn2=B81)*(komaar2=D81),0),29))","v":""},{"$f":"IF(B81=\"\",\"\",INDEX(Data_kom2,MATCH(1,(komnavn2=B81)*(komaar2=D81),0),30))","v":""},{"$f":"IF(B81=\"\",\"\",INDEX(Data_kom2,MATCH(1,(komnavn2=B81)*(komaar2=D81),0),31))","v":""},{"$f":"IF(B81=\"\",\"\",INDEX(Data_kom2,MATCH(1,(komnavn2=B81)*(komaar2=D81),0),32))","v":""},{"$f":"IF(B81=\"\",\"\",INDEX(Data_kom2,MATCH(1,(komnavn2=B81)*(komaar2=D81),0),33))","v":""},{"$f":"IF(B81=\"\",\"\",INDEX(Data_kom2,MATCH(1,(komnavn2=B81)*(komaar2=D81),0),34))","v":""},{"$f":"IF(B81=\"\",\"\",INDEX(Data_kom2,MATCH(1,(komnavn2=B81)*(komaar2=D81),0),35))","v":""},{"$f":"IF(B81=\"\",\"\",INDEX(Data_kom2,MATCH(1,(komnavn2=B81)*(komaar2=D81),0),36))","v":""},{"$f":"IF(B81=\"\",\"\",INDEX(Data_kom2,MATCH(1,(komnavn2=B81)*(komaar2=D81),0),37))","v":""},{"$f":"IF(B81=\"\",\"\",INDEX(Data_kom2,MATCH(1,(komnavn2=B81)*(komaar2=D81),0),38))","v":""}]
[6,{"$f":"'Dine valg'!$G$29","v":""},{"$f":"IF(B82=\"\",\"\",INDEX(Data_kom2,MATCH(1,(komnavn2=B82)*(komaar2=D82),0),2))","v":""},"2019-01-01",{"$f":"IF(B82=\"\",\"\",INDEX(Data_kom2,MATCH(1,(komnavn2=B82)*(komaar2=D82),0),4))","v":""},{"$f":"IF(B82=\"\",\"\",INDEX(Data_kom2,MATCH(1,(komnavn2=B82)*(komaar2=D82),0),5))","v":""},{"$f":"IF(B82=\"\",\"\",INDEX(Data_kom2,MATCH(1,(komnavn2=B82)*(komaar2=D82),0),6))","v":""},{"$f":"IF(B82=\"\",\"\",INDEX(Data_kom2,MATCH(1,(komnavn2=B82)*(komaar2=D82),0),7))","v":""},{"$f":"IF(B82=\"\",\"\",INDEX(Data_kom2,MATCH(1,(komnavn2=B82)*(komaar2=D82),0),8))","v":""},{"$f":"IF(B82=\"\",\"\",INDEX(Data_kom2,MATCH(1,(komnavn2=B82)*(komaar2=D82),0),9))","v":""},{"$f":"IF(B82=\"\",\"\",INDEX(Data_kom2,MATCH(1,(komnavn2=B82)*(komaar2=D82),0),10))","v":""},{"$f":"IF(B82=\"\",\"\",INDEX(Data_kom2,MATCH(1,(komnavn2=B82)*(komaar2=D82),0),11))","v":""},{"$f":"IF(B82=\"\",\"\",INDEX(Data_kom2,MATCH(1,(komnavn2=B82)*(komaar2=D82),0),12))","v":""},{"$f":"IF(B82=\"\",\"\",INDEX(Data_kom2,MATCH(1,(komnavn2=B82)*(komaar2=D82),0),13))","v":""},{"$f":"IF(B82=\"\",\"\",INDEX(Data_kom2,MATCH(1,(komnavn2=B82)*(komaar2=D82),0),14))","v":""},{"$f":"IF(B82=\"\",\"\",INDEX(Data_kom2,MATCH(1,(komnavn2=B82)*(komaar2=D82),0),15))","v":""},{"$f":"IF(B82=\"\",\"\",INDEX(Data_kom2,MATCH(1,(komnavn2=B82)*(komaar2=D82),0),16))","v":""},{"$f":"IF(B82=\"\",\"\",INDEX(Data_kom2,MATCH(1,(komnavn2=B82)*(komaar2=D82),0),17))","v":""},{"$f":"IF(B82=\"\",\"\",INDEX(Data_kom2,MATCH(1,(komnavn2=B82)*(komaar2=D82),0),18))","v":""},{"$f":"IF(B82=\"\",\"\",INDEX(Data_kom2,MATCH(1,(komnavn2=B82)*(komaar2=D82),0),19))","v":""},{"$f":"IF(B82=\"\",\"\",INDEX(Data_kom2,MATCH(1,(komnavn2=B82)*(komaar2=D82),0),20))","v":""},{"$f":"IF(B82=\"\",\"\",INDEX(Data_kom2,MATCH(1,(komnavn2=B82)*(komaar2=D82),0),21))","v":""},{"$f":"IF(B82=\"\",\"\",INDEX(Data_kom2,MATCH(1,(komnavn2=B82)*(komaar2=D82),0),22))","v":""},{"$f":"IF(B82=\"\",\"\",INDEX(Data_kom2,MATCH(1,(komnavn2=B82)*(komaar2=D82),0),23))","v":""},{"$f":"IF(B82=\"\",\"\",INDEX(Data_kom2,MATCH(1,(komnavn2=B82)*(komaar2=D82),0),24))","v":""},{"$f":"IF(B82=\"\",\"\",INDEX(Data_kom2,MATCH(1,(komnavn2=B82)*(komaar2=D82),0),25))","v":""},{"$f":"IF(B82=\"\",\"\",INDEX(Data_kom2,MATCH(1,(komnavn2=B82)*(komaar2=D82),0),26))","v":""},{"$f":"IF(B82=\"\",\"\",INDEX(Data_kom2,MATCH(1,(komnavn2=B82)*(komaar2=D82),0),27))","v":""},{"$f":"IF(B82=\"\",\"\",INDEX(Data_kom2,MATCH(1,(komnavn2=B82)*(komaar2=D82),0),28))","v":""},{"$f":"IF(B82=\"\",\"\",INDEX(Data_kom2,MATCH(1,(komnavn2=B82)*(komaar2=D82),0),29))","v":""},{"$f":"IF(B82=\"\",\"\",INDEX(Data_kom2,MATCH(1,(komnavn2=B82)*(komaar2=D82),0),30))","v":""},{"$f":"IF(B82=\"\",\"\",INDEX(Data_kom2,MATCH(1,(komnavn2=B82)*(komaar2=D82),0),31))","v":""},{"$f":"IF(B82=\"\",\"\",INDEX(Data_kom2,MATCH(1,(komnavn2=B82)*(komaar2=D82),0),32))","v":""},{"$f":"IF(B82=\"\",\"\",INDEX(Data_kom2,MATCH(1,(komnavn2=B82)*(komaar2=D82),0),33))","v":""},{"$f":"IF(B82=\"\",\"\",INDEX(Data_kom2,MATCH(1,(komnavn2=B82)*(komaar2=D82),0),34))","v":""},{"$f":"IF(B82=\"\",\"\",INDEX(Data_kom2,MATCH(1,(komnavn2=B82)*(komaar2=D82),0),35))","v":""},{"$f":"IF(B82=\"\",\"\",INDEX(Data_kom2,MATCH(1,(komnavn2=B82)*(komaar2=D82),0),36))","v":""},{"$f":"IF(B82=\"\",\"\",INDEX(Data_kom2,MATCH(1,(komnavn2=B82)*(komaar2=D82),0),37))","v":""},{"$f":"IF(B82=\"\",\"\",INDEX(Data_kom2,MATCH(1,(komnavn2=B82)*(komaar2=D82),0),38))","v":""}]
[7,{"$f":"'Dine valg'!$G$30","v":""},{"$f":"IF(B83=\"\",\"\",INDEX(Data_kom2,MATCH(1,(komnavn2=B83)*(komaar2=D83),0),2))","v":""},"2019-01-01",{"$f":"IF(B83=\"\",\"\",INDEX(Data_kom2,MATCH(1,(komnavn2=B83)*(komaar2=D83),0),4))","v":""},{"$f":"IF(B83=\"\",\"\",INDEX(Data_kom2,MATCH(1,(komnavn2=B83)*(komaar2=D83),0),5))","v":""},{"$f":"IF(B83=\"\",\"\",INDEX(Data_kom2,MATCH(1,(komnavn2=B83)*(komaar2=D83),0),6))","v":""},{"$f":"IF(B83=\"\",\"\",INDEX(Data_kom2,MATCH(1,(komnavn2=B83)*(komaar2=D83),0),7))","v":""},{"$f":"IF(B83=\"\",\"\",INDEX(Data_kom2,MATCH(1,(komnavn2=B83)*(komaar2=D83),0),8))","v":""},{"$f":"IF(B83=\"\",\"\",INDEX(Data_kom2,MATCH(1,(komnavn2=B83)*(komaar2=D83),0),9))","v":""},{"$f":"IF(B83=\"\",\"\",INDEX(Data_kom2,MATCH(1,(komnavn2=B83)*(komaar2=D83),0),10))","v":""},{"$f":"IF(B83=\"\",\"\",INDEX(Data_kom2,MATCH(1,(komnavn2=B83)*(komaar2=D83),0),11))","v":""},{"$f":"IF(B83=\"\",\"\",INDEX(Data_kom2,MATCH(1,(komnavn2=B83)*(komaar2=D83),0),12))","v":""},{"$f":"IF(B83=\"\",\"\",INDEX(Data_kom2,MATCH(1,(komnavn2=B83)*(komaar2=D83),0),13))","v":""},{"$f":"IF(B83=\"\",\"\",INDEX(Data_kom2,MATCH(1,(komnavn2=B83)*(komaar2=D83),0),14))","v":""},{"$f":"IF(B83=\"\",\"\",INDEX(Data_kom2,MATCH(1,(komnavn2=B83)*(komaar2=D83),0),15))","v":""},{"$f":"IF(B83=\"\",\"\",INDEX(Data_kom2,MATCH(1,(komnavn2=B83)*(komaar2=D83),0),16))","v":""},{"$f":"IF(B83=\"\",\"\",INDEX(Data_kom2,MATCH(1,(komnavn2=B83)*(komaar2=D83),0),17))","v":""},{"$f":"IF(B83=\"\",\"\",INDEX(Data_kom2,MATCH(1,(komnavn2=B83)*(komaar2=D83),0),18))","v":""},{"$f":"IF(B83=\"\",\"\",INDEX(Data_kom2,MATCH(1,(komnavn2=B83)*(komaar2=D83),0),19))","v":""},{"$f":"IF(B83=\"\",\"\",INDEX(Data_kom2,MATCH(1,(komnavn2=B83)*(komaar2=D83),0),20))","v":""},{"$f":"IF(B83=\"\",\"\",INDEX(Data_kom2,MATCH(1,(komnavn2=B83)*(komaar2=D83),0),21))","v":""},{"$f":"IF(B83=\"\",\"\",INDEX(Data_kom2,MATCH(1,(komnavn2=B83)*(komaar2=D83),0),22))","v":""},{"$f":"IF(B83=\"\",\"\",INDEX(Data_kom2,MATCH(1,(komnavn2=B83)*(komaar2=D83),0),23))","v":""},{"$f":"IF(B83=\"\",\"\",INDEX(Data_kom2,MATCH(1,(komnavn2=B83)*(komaar2=D83),0),24))","v":""},{"$f":"IF(B83=\"\",\"\",INDEX(Data_kom2,MATCH(1,(komnavn2=B83)*(komaar2=D83),0),25))","v":""},{"$f":"IF(B83=\"\",\"\",INDEX(Data_kom2,MATCH(1,(komnavn2=B83)*(komaar2=D83),0),26))","v":""},{"$f":"IF(B83=\"\",\"\",INDEX(Data_kom2,MATCH(1,(komnavn2=B83)*(komaar2=D83),0),27))","v":""},{"$f":"IF(B83=\"\",\"\",INDEX(Data_kom2,MATCH(1,(komnavn2=B83)*(komaar2=D83),0),28))","v":""},{"$f":"IF(B83=\"\",\"\",INDEX(Data_kom2,MATCH(1,(komnavn2=B83)*(komaar2=D83),0),29))","v":""},{"$f":"IF(B83=\"\",\"\",INDEX(Data_kom2,MATCH(1,(komnavn2=B83)*(komaar2=D83),0),30))","v":""},{"$f":"IF(B83=\"\",\"\",INDEX(Data_kom2,MATCH(1,(komnavn2=B83)*(komaar2=D83),0),31))","v":""},{"$f":"IF(B83=\"\",\"\",INDEX(Data_kom2,MATCH(1,(komnavn2=B83)*(komaar2=D83),0),32))","v":""},{"$f":"IF(B83=\"\",\"\",INDEX(Data_kom2,MATCH(1,(komnavn2=B83)*(komaar2=D83),0),33))","v":""},{"$f":"IF(B83=\"\",\"\",INDEX(Data_kom2,MATCH(1,(komnavn2=B83)*(komaar2=D83),0),34))","v":""},{"$f":"IF(B83=\"\",\"\",INDEX(Data_kom2,MATCH(1,(komnavn2=B83)*(komaar2=D83),0),35))","v":""},{"$f":"IF(B83=\"\",\"\",INDEX(Data_kom2,MATCH(1,(komnavn2=B83)*(komaar2=D83),0),36))","v":""},{"$f":"IF(B83=\"\",\"\",INDEX(Data_kom2,MATCH(1,(komnavn2=B83)*(komaar2=D83),0),37))","v":""},{"$f":"IF(B83=\"\",\"\",INDEX(Data_kom2,MATCH(1,(komnavn2=B83)*(komaar2=D83),0),38))","v":""}]
[1,{"$f":"'Dine valg'!$G$24","v":"Aarhus"},{"$f":"IF(B84=\"\",\"\",INDEX(Data_kom2,MATCH(1,(komnavn2=B84)*(komaar2=D84),0),2))","v":63510},"2018-07-01",{"$f":"IF(B84=\"\",\"\",INDEX(Data_kom2,MATCH(1,(komnavn2=B84)*(komaar2=D84),0),4))","v":166},{"$f":"IF(B84=\"\",\"\",INDEX(Data_kom2,MATCH(1,(komnavn2=B84)*(komaar2=D84),0),5))","v":113},{"$f":"IF(B84=\"\",\"\",INDEX(Data_kom2,MATCH(1,(komnavn2=B84)*(komaar2=D84),0),6))","v":7},{"$f":"IF(B84=\"\",\"\",INDEX(Data_kom2,MATCH(1,(komnavn2=B84)*(komaar2=D84),0),7))","v":46},{"$f":"IF(B84=\"\",\"\",INDEX(Data_kom2,MATCH(1,(komnavn2=B84)*(komaar2=D84),0),8))","v":156486},{"$f":"IF(B84=\"\",\"\",INDEX(Data_kom2,MATCH(1,(komnavn2=B84)*(komaar2=D84),0),9))","v":119397},{"$f":"IF(B84=\"\",\"\",INDEX(Data_kom2,MATCH(1,(komnavn2=B84)*(komaar2=D84),0),10))","v":902},{"$f":"IF(B84=\"\",\"\",INDEX(Data_kom2,MATCH(1,(komnavn2=B84)*(komaar2=D84),0),11))","v":36187},{"$f":"IF(B84=\"\",\"\",INDEX(Data_kom2,MATCH(1,(komnavn2=B84)*(komaar2=D84),0),12))","v":255},{"$f":"IF(B84=\"\",\"\",INDEX(Data_kom2,MATCH(1,(komnavn2=B84)*(komaar2=D84),0),13))","v":25},{"$f":"IF(B84=\"\",\"\",INDEX(Data_kom2,MATCH(1,(komnavn2=B84)*(komaar2=D84),0),14))","v":1193},{"$f":"IF(B84=\"\",\"\",INDEX(Data_kom2,MATCH(1,(komnavn2=B84)*(komaar2=D84),0),15))","v":"*"},{"$f":"IF(B84=\"\",\"\",INDEX(Data_kom2,MATCH(1,(komnavn2=B84)*(komaar2=D84),0),16))","v":"*"},{"$f":"IF(B84=\"\",\"\",INDEX(Data_kom2,MATCH(1,(komnavn2=B84)*(komaar2=D84),0),17))","v":1168},{"$f":"IF(B84=\"\",\"\",INDEX(Data_kom2,MATCH(1,(komnavn2=B84)*(komaar2=D84),0),18))","v":13},{"$f":"IF(B84=\"\",\"\",INDEX(Data_kom2,MATCH(1,(komnavn2=B84)*(komaar2=D84),0),19))","v":0},{"$f":"IF(B84=\"\",\"\",INDEX(Data_kom2,MATCH(1,(komnavn2=B84)*(komaar2=D84),0),20))","v":0},{"$f":"IF(B84=\"\",\"\",INDEX(Data_kom2,MATCH(1,(komnavn2=B84)*(komaar2=D84),0),21))","v":0},{"$f":"IF(B84=\"\",\"\",INDEX(Data_kom2,MATCH(1,(komnavn2=B84)*(komaar2=D84),0),22))","v":37},{"$f":"IF(B84=\"\",\"\",INDEX(Data_kom2,MATCH(1,(komnavn2=B84)*(komaar2=D84),0),23))","v":178},{"$f":"IF(B84=\"\",\"\",INDEX(Data_kom2,MATCH(1,(komnavn2=B84)*(komaar2=D84),0),24))","v":"*"},{"$f":"IF(B84=\"\",\"\",INDEX(Data_kom2,MATCH(1,(komnavn2=B84)*(komaar2=D84),0),25))","v":178},{"$f":"IF(B84=\"\",\"\",INDEX(Data_kom2,MATCH(1,(komnavn2=B84)*(komaar2=D84),0),26))","v":"*"},{"$f":"IF(B84=\"\",\"\",INDEX(Data_kom2,MATCH(1,(komnavn2=B84)*(komaar2=D84),0),27))","v":178},{"$f":"IF(B84=\"\",\"\",INDEX(Data_kom2,MATCH(1,(komnavn2=B84)*(komaar2=D84),0),28))","v":"*"},{"$f":"IF(B84=\"\",\"\",INDEX(Data_kom2,MATCH(1,(komnavn2=B84)*(komaar2=D84),0),29))","v":1136},{"$f":"IF(B84=\"\",\"\",INDEX(Data_kom2,MATCH(1,(komnavn2=B84)*(komaar2=D84),0),30))","v":300},{"$f":"IF(B84=\"\",\"\",INDEX(Data_kom2,MATCH(1,(komnavn2=B84)*(komaar2=D84),0),31))","v":1155},{"$f":"IF(B84=\"\",\"\",INDEX(Data_kom2,MATCH(1,(komnavn2=B84)*(komaar2=D84),0),32))","v":0},{"$f":"IF(B84=\"\",\"\",INDEX(Data_kom2,MATCH(1,(komnavn2=B84)*(komaar2=D84),0),33))","v":0},{"$f":"IF(B84=\"\",\"\",INDEX(Data_kom2,MATCH(1,(komnavn2=B84)*(komaar2=D84),0),34))","v":0},{"$f":"IF(B84=\"\",\"\",INDEX(Data_kom2,MATCH(1,(komnavn2=B84)*(komaar2=D84),0),35))","v":0},{"$f":"IF(B84=\"\",\"\",INDEX(Data_kom2,MATCH(1,(komnavn2=B84)*(komaar2=D84),0),36))","v":0},{"$f":"IF(B84=\"\",\"\",INDEX(Data_kom2,MATCH(1,(komnavn2=B84)*(komaar2=D84),0),37))","v":0},{"$f":"IF(B84=\"\",\"\",INDEX(Data_kom2,MATCH(1,(komnavn2=B84)*(komaar2=D84),0),38))","v":"Region Midtjylland"}]
[2,{"$f":"'Dine valg'!$G$25","v":""},{"$f":"IF(B85=\"\",\"\",INDEX(Data_kom2,MATCH(1,(komnavn2=B85)*(komaar2=D85),0),2))","v":""},"2018-07-01",{"$f":"IF(B85=\"\",\"\",INDEX(Data_kom2,MATCH(1,(komnavn2=B85)*(komaar2=D85),0),4))","v":""},{"$f":"IF(B85=\"\",\"\",INDEX(Data_kom2,MATCH(1,(komnavn2=B85)*(komaar2=D85),0),5))","v":""},{"$f":"IF(B85=\"\",\"\",INDEX(Data_kom2,MATCH(1,(komnavn2=B85)*(komaar2=D85),0),6))","v":""},{"$f":"IF(B85=\"\",\"\",INDEX(Data_kom2,MATCH(1,(komnavn2=B85)*(komaar2=D85),0),7))","v":""},{"$f":"IF(B85=\"\",\"\",INDEX(Data_kom2,MATCH(1,(komnavn2=B85)*(komaar2=D85),0),8))","v":""},{"$f":"IF(B85=\"\",\"\",INDEX(Data_kom2,MATCH(1,(komnavn2=B85)*(komaar2=D85),0),9))","v":""},{"$f":"IF(B85=\"\",\"\",INDEX(Data_kom2,MATCH(1,(komnavn2=B85)*(komaar2=D85),0),10))","v":""},{"$f":"IF(B85=\"\",\"\",INDEX(Data_kom2,MATCH(1,(komnavn2=B85)*(komaar2=D85),0),11))","v":""},{"$f":"IF(B85=\"\",\"\",INDEX(Data_kom2,MATCH(1,(komnavn2=B85)*(komaar2=D85),0),12))","v":""},{"$f":"IF(B85=\"\",\"\",INDEX(Data_kom2,MATCH(1,(komnavn2=B85)*(komaar2=D85),0),13))","v":""},{"$f":"IF(B85=\"\",\"\",INDEX(Data_kom2,MATCH(1,(komnavn2=B85)*(komaar2=D85),0),14))","v":""},{"$f":"IF(B85=\"\",\"\",INDEX(Data_kom2,MATCH(1,(komnavn2=B85)*(komaar2=D85),0),15))","v":""},{"$f":"IF(B85=\"\",\"\",INDEX(Data_kom2,MATCH(1,(komnavn2=B85)*(komaar2=D85),0),16))","v":""},{"$f":"IF(B85=\"\",\"\",INDEX(Data_kom2,MATCH(1,(komnavn2=B85)*(komaar2=D85),0),17))","v":""},{"$f":"IF(B85=\"\",\"\",INDEX(Data_kom2,MATCH(1,(komnavn2=B85)*(komaar2=D85),0),18))","v":""},{"$f":"IF(B85=\"\",\"\",INDEX(Data_kom2,MATCH(1,(komnavn2=B85)*(komaar2=D85),0),19))","v":""},{"$f":"IF(B85=\"\",\"\",INDEX(Data_kom2,MATCH(1,(komnavn2=B85)*(komaar2=D85),0),20))","v":""},{"$f":"IF(B85=\"\",\"\",INDEX(Data_kom2,MATCH(1,(komnavn2=B85)*(komaar2=D85),0),21))","v":""},{"$f":"IF(B85=\"\",\"\",INDEX(Data_kom2,MATCH(1,(komnavn2=B85)*(komaar2=D85),0),22))","v":""},{"$f":"IF(B85=\"\",\"\",INDEX(Data_kom2,MATCH(1,(komnavn2=B85)*(komaar2=D85),0),23))","v":""},{"$f":"IF(B85=\"\",\"\",INDEX(Data_kom2,MATCH(1,(komnavn2=B85)*(komaar2=D85),0),24))","v":""},{"$f":"IF(B85=\"\",\"\",INDEX(Data_kom2,MATCH(1,(komnavn2=B85)*(komaar2=D85),0),25))","v":""},{"$f":"IF(B85=\"\",\"\",INDEX(Data_kom2,MATCH(1,(komnavn2=B85)*(komaar2=D85),0),26))","v":""},{"$f":"IF(B85=\"\",\"\",INDEX(Data_kom2,MATCH(1,(komnavn2=B85)*(komaar2=D85),0),27))","v":""},{"$f":"IF(B85=\"\",\"\",INDEX(Data_kom2,MATCH(1,(komnavn2=B85)*(komaar2=D85),0),28))","v":""},{"$f":"IF(B85=\"\",\"\",INDEX(Data_kom2,MATCH(1,(komnavn2=B85)*(komaar2=D85),0),29))","v":""},{"$f":"IF(B85=\"\",\"\",INDEX(Data_kom2,MATCH(1,(komnavn2=B85)*(komaar2=D85),0),30))","v":""},{"$f":"IF(B85=\"\",\"\",INDEX(Data_kom2,MATCH(1,(komnavn2=B85)*(komaar2=D85),0),31))","v":""},{"$f":"IF(B85=\"\",\"\",INDEX(Data_kom2,MATCH(1,(komnavn2=B85)*(komaar2=D85),0),32))","v":""},{"$f":"IF(B85=\"\",\"\",INDEX(Data_kom2,MATCH(1,(komnavn2=B85)*(komaar2=D85),0),33))","v":""},{"$f":"IF(B85=\"\",\"\",INDEX(Data_kom2,MATCH(1,(komnavn2=B85)*(komaar2=D85),0),34))","v":""},{"$f":"IF(B85=\"\",\"\",INDEX(Data_kom2,MATCH(1,(komnavn2=B85)*(komaar2=D85),0),35))","v":""},{"$f":"IF(B85=\"\",\"\",INDEX(Data_kom2,MATCH(1,(komnavn2=B85)*(komaar2=D85),0),36))","v":""},{"$f":"IF(B85=\"\",\"\",INDEX(Data_kom2,MATCH(1,(komnavn2=B85)*(komaar2=D85),0),37))","v":""},{"$f":"IF(B85=\"\",\"\",INDEX(Data_kom2,MATCH(1,(komnavn2=B85)*(komaar2=D85),0),38))","v":""}]
[3,{"$f":"'Dine valg'!$G$26","v":""},{"$f":"IF(B86=\"\",\"\",INDEX(Data_kom2,MATCH(1,(komnavn2=B86)*(komaar2=D86),0),2))","v":""},"2018-07-01",{"$f":"IF(B86=\"\",\"\",INDEX(Data_kom2,MATCH(1,(komnavn2=B86)*(komaar2=D86),0),4))","v":""},{"$f":"IF(B86=\"\",\"\",INDEX(Data_kom2,MATCH(1,(komnavn2=B86)*(komaar2=D86),0),5))","v":""},{"$f":"IF(B86=\"\",\"\",INDEX(Data_kom2,MATCH(1,(komnavn2=B86)*(komaar2=D86),0),6))","v":""},{"$f":"IF(B86=\"\",\"\",INDEX(Data_kom2,MATCH(1,(komnavn2=B86)*(komaar2=D86),0),7))","v":""},{"$f":"IF(B86=\"\",\"\",INDEX(Data_kom2,MATCH(1,(komnavn2=B86)*(komaar2=D86),0),8))","v":""},{"$f":"IF(B86=\"\",\"\",INDEX(Data_kom2,MATCH(1,(komnavn2=B86)*(komaar2=D86),0),9))","v":""},{"$f":"IF(B86=\"\",\"\",INDEX(Data_kom2,MATCH(1,(komnavn2=B86)*(komaar2=D86),0),10))","v":""},{"$f":"IF(B86=\"\",\"\",INDEX(Data_kom2,MATCH(1,(komnavn2=B86)*(komaar2=D86),0),11))","v":""},{"$f":"IF(B86=\"\",\"\",INDEX(Data_kom2,MATCH(1,(komnavn2=B86)*(komaar2=D86),0),12))","v":""},{"$f":"IF(B86=\"\",\"\",INDEX(Data_kom2,MATCH(1,(komnavn2=B86)*(komaar2=D86),0),13))","v":""},{"$f":"IF(B86=\"\",\"\",INDEX(Data_kom2,MATCH(1,(komnavn2=B86)*(komaar2=D86),0),14))","v":""},{"$f":"IF(B86=\"\",\"\",INDEX(Data_kom2,MATCH(1,(komnavn2=B86)*(komaar2=D86),0),15))","v":""},{"$f":"IF(B86=\"\",\"\",INDEX(Data_kom2,MATCH(1,(komnavn2=B86)*(komaar2=D86),0),16))","v":""},{"$f":"IF(B86=\"\",\"\",INDEX(Data_kom2,MATCH(1,(komnavn2=B86)*(komaar2=D86),0),17))","v":""},{"$f":"IF(B86=\"\",\"\",INDEX(Data_kom2,MATCH(1,(komnavn2=B86)*(komaar2=D86),0),18))","v":""},{"$f":"IF(B86=\"\",\"\",INDEX(Data_kom2,MATCH(1,(komnavn2=B86)*(komaar2=D86),0),19))","v":""},{"$f":"IF(B86=\"\",\"\",INDEX(Data_kom2,MATCH(1,(komnavn2=B86)*(komaar2=D86),0),20))","v":""},{"$f":"IF(B86=\"\",\"\",INDEX(Data_kom2,MATCH(1,(komnavn2=B86)*(komaar2=D86),0),21))","v":""},{"$f":"IF(B86=\"\",\"\",INDEX(Data_kom2,MATCH(1,(komnavn2=B86)*(komaar2=D86),0),22))","v":""},{"$f":"IF(B86=\"\",\"\",INDEX(Data_kom2,MATCH(1,(komnavn2=B86)*(komaar2=D86),0),23))","v":""},{"$f":"IF(B86=\"\",\"\",INDEX(Data_kom2,MATCH(1,(komnavn2=B86)*(komaar2=D86),0),24))","v":""},{"$f":"IF(B86=\"\",\"\",INDEX(Data_kom2,MATCH(1,(komnavn2=B86)*(komaar2=D86),0),25))","v":""},{"$f":"IF(B86=\"\",\"\",INDEX(Data_kom2,MATCH(1,(komnavn2=B86)*(komaar2=D86),0),26))","v":""},{"$f":"IF(B86=\"\",\"\",INDEX(Data_kom2,MATCH(1,(komnavn2=B86)*(komaar2=D86),0),27))","v":""},{"$f":"IF(B86=\"\",\"\",INDEX(Data_kom2,MATCH(1,(komnavn2=B86)*(komaar2=D86),0),28))","v":""},{"$f":"IF(B86=\"\",\"\",INDEX(Data_kom2,MATCH(1,(komnavn2=B86)*(komaar2=D86),0),29))","v":""},{"$f":"IF(B86=\"\",\"\",INDEX(Data_kom2,MATCH(1,(komnavn2=B86)*(komaar2=D86),0),30))","v":""},{"$f":"IF(B86=\"\",\"\",INDEX(Data_kom2,MATCH(1,(komnavn2=B86)*(komaar2=D86),0),31))","v":""},{"$f":"IF(B86=\"\",\"\",INDEX(Data_kom2,MATCH(1,(komnavn2=B86)*(komaar2=D86),0),32))","v":""},{"$f":"IF(B86=\"\",\"\",INDEX(Data_kom2,MATCH(1,(komnavn2=B86)*(komaar2=D86),0),33))","v":""},{"$f":"IF(B86=\"\",\"\",INDEX(Data_kom2,MATCH(1,(komnavn2=B86)*(komaar2=D86),0),34))","v":""},{"$f":"IF(B86=\"\",\"\",INDEX(Data_kom2,MATCH(1,(komnavn2=B86)*(komaar2=D86),0),35))","v":""},{"$f":"IF(B86=\"\",\"\",INDEX(Data_kom2,MATCH(1,(komnavn2=B86)*(komaar2=D86),0),36))","v":""},{"$f":"IF(B86=\"\",\"\",INDEX(Data_kom2,MATCH(1,(komnavn2=B86)*(komaar2=D86),0),37))","v":""},{"$f":"IF(B86=\"\",\"\",INDEX(Data_kom2,MATCH(1,(komnavn2=B86)*(komaar2=D86),0),38))","v":""}]
[4,{"$f":"'Dine valg'!$G$27","v":""},{"$f":"IF(B87=\"\",\"\",INDEX(Data_kom2,MATCH(1,(komnavn2=B87)*(komaar2=D87),0),2))","v":""},"2018-07-01",{"$f":"IF(B87=\"\",\"\",INDEX(Data_kom2,MATCH(1,(komnavn2=B87)*(komaar2=D87),0),4))","v":""},{"$f":"IF(B87=\"\",\"\",INDEX(Data_kom2,MATCH(1,(komnavn2=B87)*(komaar2=D87),0),5))","v":""},{"$f":"IF(B87=\"\",\"\",INDEX(Data_kom2,MATCH(1,(komnavn2=B87)*(komaar2=D87),0),6))","v":""},{"$f":"IF(B87=\"\",\"\",INDEX(Data_kom2,MATCH(1,(komnavn2=B87)*(komaar2=D87),0),7))","v":""},{"$f":"IF(B87=\"\",\"\",INDEX(Data_kom2,MATCH(1,(komnavn2=B87)*(komaar2=D87),0),8))","v":""},{"$f":"IF(B87=\"\",\"\",INDEX(Data_kom2,MATCH(1,(komnavn2=B87)*(komaar2=D87),0),9))","v":""},{"$f":"IF(B87=\"\",\"\",INDEX(Data_kom2,MATCH(1,(komnavn2=B87)*(komaar2=D87),0),10))","v":""},{"$f":"IF(B87=\"\",\"\",INDEX(Data_kom2,MATCH(1,(komnavn2=B87)*(komaar2=D87),0),11))","v":""},{"$f":"IF(B87=\"\",\"\",INDEX(Data_kom2,MATCH(1,(komnavn2=B87)*(komaar2=D87),0),12))","v":""},{"$f":"IF(B87=\"\",\"\",INDEX(Data_kom2,MATCH(1,(komnavn2=B87)*(komaar2=D87),0),13))","v":""},{"$f":"IF(B87=\"\",\"\",INDEX(Data_kom2,MATCH(1,(komnavn2=B87)*(komaar2=D87),0),14))","v":""},{"$f":"IF(B87=\"\",\"\",INDEX(Data_kom2,MATCH(1,(komnavn2=B87)*(komaar2=D87),0),15))","v":""},{"$f":"IF(B87=\"\",\"\",INDEX(Data_kom2,MATCH(1,(komnavn2=B87)*(komaar2=D87),0),16))","v":""},{"$f":"IF(B87=\"\",\"\",INDEX(Data_kom2,MATCH(1,(komnavn2=B87)*(komaar2=D87),0),17))","v":""},{"$f":"IF(B87=\"\",\"\",INDEX(Data_kom2,MATCH(1,(komnavn2=B87)*(komaar2=D87),0),18))","v":""},{"$f":"IF(B87=\"\",\"\",INDEX(Data_kom2,MATCH(1,(komnavn2=B87)*(komaar2=D87),0),19))","v":""},{"$f":"IF(B87=\"\",\"\",INDEX(Data_kom2,MATCH(1,(komnavn2=B87)*(komaar2=D87),0),20))","v":""},{"$f":"IF(B87=\"\",\"\",INDEX(Data_kom2,MATCH(1,(komnavn2=B87)*(komaar2=D87),0),21))","v":""},{"$f":"IF(B87=\"\",\"\",INDEX(Data_kom2,MATCH(1,(komnavn2=B87)*(komaar2=D87),0),22))","v":""},{"$f":"IF(B87=\"\",\"\",INDEX(Data_kom2,MATCH(1,(komnavn2=B87)*(komaar2=D87),0),23))","v":""},{"$f":"IF(B87=\"\",\"\",INDEX(Data_kom2,MATCH(1,(komnavn2=B87)*(komaar2=D87),0),24))","v":""},{"$f":"IF(B87=\"\",\"\",INDEX(Data_kom2,MATCH(1,(komnavn2=B87)*(komaar2=D87),0),25))","v":""},{"$f":"IF(B87=\"\",\"\",INDEX(Data_kom2,MATCH(1,(komnavn2=B87)*(komaar2=D87),0),26))","v":""},{"$f":"IF(B87=\"\",\"\",INDEX(Data_kom2,MATCH(1,(komnavn2=B87)*(komaar2=D87),0),27))","v":""},{"$f":"IF(B87=\"\",\"\",INDEX(Data_kom2,MATCH(1,(komnavn2=B87)*(komaar2=D87),0),28))","v":""},{"$f":"IF(B87=\"\",\"\",INDEX(Data_kom2,MATCH(1,(komnavn2=B87)*(komaar2=D87),0),29))","v":""},{"$f":"IF(B87=\"\",\"\",INDEX(Data_kom2,MATCH(1,(komnavn2=B87)*(komaar2=D87),0),30))","v":""},{"$f":"IF(B87=\"\",\"\",INDEX(Data_kom2,MATCH(1,(komnavn2=B87)*(komaar2=D87),0),31))","v":""},{"$f":"IF(B87=\"\",\"\",INDEX(Data_kom2,MATCH(1,(komnavn2=B87)*(komaar2=D87),0),32))","v":""},{"$f":"IF(B87=\"\",\"\",INDEX(Data_kom2,MATCH(1,(komnavn2=B87)*(komaar2=D87),0),33))","v":""},{"$f":"IF(B87=\"\",\"\",INDEX(Data_kom2,MATCH(1,(komnavn2=B87)*(komaar2=D87),0),34))","v":""},{"$f":"IF(B87=\"\",\"\",INDEX(Data_kom2,MATCH(1,(komnavn2=B87)*(komaar2=D87),0),35))","v":""},{"$f":"IF(B87=\"\",\"\",INDEX(Data_kom2,MATCH(1,(komnavn2=B87)*(komaar2=D87),0),36))","v":""},{"$f":"IF(B87=\"\",\"\",INDEX(Data_kom2,MATCH(1,(komnavn2=B87)*(komaar2=D87),0),37))","v":""},{"$f":"IF(B87=\"\",\"\",INDEX(Data_kom2,MATCH(1,(komnavn2=B87)*(komaar2=D87),0),38))","v":""}]
[5,{"$f":"'Dine valg'!$G$28","v":""},{"$f":"IF(B88=\"\",\"\",INDEX(Data_kom2,MATCH(1,(komnavn2=B88)*(komaar2=D88),0),2))","v":""},"2018-07-01",{"$f":"IF(B88=\"\",\"\",INDEX(Data_kom2,MATCH(1,(komnavn2=B88)*(komaar2=D88),0),4))","v":""},{"$f":"IF(B88=\"\",\"\",INDEX(Data_kom2,MATCH(1,(komnavn2=B88)*(komaar2=D88),0),5))","v":""},{"$f":"IF(B88=\"\",\"\",INDEX(Data_kom2,MATCH(1,(komnavn2=B88)*(komaar2=D88),0),6))","v":""},{"$f":"IF(B88=\"\",\"\",INDEX(Data_kom2,MATCH(1,(komnavn2=B88)*(komaar2=D88),0),7))","v":""},{"$f":"IF(B88=\"\",\"\",INDEX(Data_kom2,MATCH(1,(komnavn2=B88)*(komaar2=D88),0),8))","v":""},{"$f":"IF(B88=\"\",\"\",INDEX(Data_kom2,MATCH(1,(komnavn2=B88)*(komaar2=D88),0),9))","v":""},{"$f":"IF(B88=\"\",\"\",INDEX(Data_kom2,MATCH(1,(komnavn2=B88)*(komaar2=D88),0),10))","v":""},{"$f":"IF(B88=\"\",\"\",INDEX(Data_kom2,MATCH(1,(komnavn2=B88)*(komaar2=D88),0),11))","v":""},{"$f":"IF(B88=\"\",\"\",INDEX(Data_kom2,MATCH(1,(komnavn2=B88)*(komaar2=D88),0),12))","v":""},{"$f":"IF(B88=\"\",\"\",INDEX(Data_kom2,MATCH(1,(komnavn2=B88)*(komaar2=D88),0),13))","v":""},{"$f":"IF(B88=\"\",\"\",INDEX(Data_kom2,MATCH(1,(komnavn2=B88)*(komaar2=D88),0),14))","v":""},{"$f":"IF(B88=\"\",\"\",INDEX(Data_kom2,MATCH(1,(komnavn2=B88)*(komaar2=D88),0),15))","v":""},{"$f":"IF(B88=\"\",\"\",INDEX(Data_kom2,MATCH(1,(komnavn2=B88)*(komaar2=D88),0),16))","v":""},{"$f":"IF(B88=\"\",\"\",INDEX(Data_kom2,MATCH(1,(komnavn2=B88)*(komaar2=D88),0),17))","v":""},{"$f":"IF(B88=\"\",\"\",INDEX(Data_kom2,MATCH(1,(komnavn2=B88)*(komaar2=D88),0),18))","v":""},{"$f":"IF(B88=\"\",\"\",INDEX(Data_kom2,MATCH(1,(komnavn2=B88)*(komaar2=D88),0),19))","v":""},{"$f":"IF(B88=\"\",\"\",INDEX(Data_kom2,MATCH(1,(komnavn2=B88)*(komaar2=D88),0),20))","v":""},{"$f":"IF(B88=\"\",\"\",INDEX(Data_kom2,MATCH(1,(komnavn2=B88)*(komaar2=D88),0),21))","v":""},{"$f":"IF(B88=\"\",\"\",INDEX(Data_kom2,MATCH(1,(komnavn2=B88)*(komaar2=D88),0),22))","v":""},{"$f":"IF(B88=\"\",\"\",INDEX(Data_kom2,MATCH(1,(komnavn2=B88)*(komaar2=D88),0),23))","v":""},{"$f":"IF(B88=\"\",\"\",INDEX(Data_kom2,MATCH(1,(komnavn2=B88)*(komaar2=D88),0),24))","v":""},{"$f":"IF(B88=\"\",\"\",INDEX(Data_kom2,MATCH(1,(komnavn2=B88)*(komaar2=D88),0),25))","v":""},{"$f":"IF(B88=\"\",\"\",INDEX(Data_kom2,MATCH(1,(komnavn2=B88)*(komaar2=D88),0),26))","v":""},{"$f":"IF(B88=\"\",\"\",INDEX(Data_kom2,MATCH(1,(komnavn2=B88)*(komaar2=D88),0),27))","v":""},{"$f":"IF(B88=\"\",\"\",INDEX(Data_kom2,MATCH(1,(komnavn2=B88)*(komaar2=D88),0),28))","v":""},{"$f":"IF(B88=\"\",\"\",INDEX(Data_kom2,MATCH(1,(komnavn2=B88)*(komaar2=D88),0),29))","v":""},{"$f":"IF(B88=\"\",\"\",INDEX(Data_kom2,MATCH(1,(komnavn2=B88)*(komaar2=D88),0),30))","v":""},{"$f":"IF(B88=\"\",\"\",INDEX(Data_kom2,MATCH(1,(komnavn2=B88)*(komaar2=D88),0),31))","v":""},{"$f":"IF(B88=\"\",\"\",INDEX(Data_kom2,MATCH(1,(komnavn2=B88)*(komaar2=D88),0),32))","v":""},{"$f":"IF(B88=\"\",\"\",INDEX(Data_kom2,MATCH(1,(komnavn2=B88)*(komaar2=D88),0),33))","v":""},{"$f":"IF(B88=\"\",\"\",INDEX(Data_kom2,MATCH(1,(komnavn2=B88)*(komaar2=D88),0),34))","v":""},{"$f":"IF(B88=\"\",\"\",INDEX(Data_kom2,MATCH(1,(komnavn2=B88)*(komaar2=D88),0),35))","v":""},{"$f":"IF(B88=\"\",\"\",INDEX(Data_kom2,MATCH(1,(komnavn2=B88)*(komaar2=D88),0),36))","v":""},{"$f":"IF(B88=\"\",\"\",INDEX(Data_kom2,MATCH(1,(komnavn2=B88)*(komaar2=D88),0),37))","v":""},{"$f":"IF(B88=\"\",\"\",INDEX(Data_kom2,MATCH(1,(komnavn2=B88)*(komaar2=D88),0),38))","v":""}]
[6,{"$f":"'Dine valg'!$G$29","v":""},{"$f":"IF(B89=\"\",\"\",INDEX(Data_kom2,MATCH(1,(komnavn2=B89)*(komaar2=D89),0),2))","v":""},"2018-07-01",{"$f":"IF(B89=\"\",\"\",INDEX(Data_kom2,MATCH(1,(komnavn2=B89)*(komaar2=D89),0),4))","v":""},{"$f":"IF(B89=\"\",\"\",INDEX(Data_kom2,MATCH(1,(komnavn2=B89)*(komaar2=D89),0),5))","v":""},{"$f":"IF(B89=\"\",\"\",INDEX(Data_kom2,MATCH(1,(komnavn2=B89)*(komaar2=D89),0),6))","v":""},{"$f":"IF(B89=\"\",\"\",INDEX(Data_kom2,MATCH(1,(komnavn2=B89)*(komaar2=D89),0),7))","v":""},{"$f":"IF(B89=\"\",\"\",INDEX(Data_kom2,MATCH(1,(komnavn2=B89)*(komaar2=D89),0),8))","v":""},{"$f":"IF(B89=\"\",\"\",INDEX(Data_kom2,MATCH(1,(komnavn2=B89)*(komaar2=D89),0),9))","v":""},{"$f":"IF(B89=\"\",\"\",INDEX(Data_kom2,MATCH(1,(komnavn2=B89)*(komaar2=D89),0),10))","v":""},{"$f":"IF(B89=\"\",\"\",INDEX(Data_kom2,MATCH(1,(komnavn2=B89)*(komaar2=D89),0),11))","v":""},{"$f":"IF(B89=\"\",\"\",INDEX(Data_kom2,MATCH(1,(komnavn2=B89)*(komaar2=D89),0),12))","v":""},{"$f":"IF(B89=\"\",\"\",INDEX(Data_kom2,MATCH(1,(komnavn2=B89)*(komaar2=D89),0),13))","v":""},{"$f":"IF(B89=\"\",\"\",INDEX(Data_kom2,MATCH(1,(komnavn2=B89)*(komaar2=D89),0),14))","v":""},{"$f":"IF(B89=\"\",\"\",INDEX(Data_kom2,MATCH(1,(komnavn2=B89)*(komaar2=D89),0),15))","v":""},{"$f":"IF(B89=\"\",\"\",INDEX(Data_kom2,MATCH(1,(komnavn2=B89)*(komaar2=D89),0),16))","v":""},{"$f":"IF(B89=\"\",\"\",INDEX(Data_kom2,MATCH(1,(komnavn2=B89)*(komaar2=D89),0),17))","v":""},{"$f":"IF(B89=\"\",\"\",INDEX(Data_kom2,MATCH(1,(komnavn2=B89)*(komaar2=D89),0),18))","v":""},{"$f":"IF(B89=\"\",\"\",INDEX(Data_kom2,MATCH(1,(komnavn2=B89)*(komaar2=D89),0),19))","v":""},{"$f":"IF(B89=\"\",\"\",INDEX(Data_kom2,MATCH(1,(komnavn2=B89)*(komaar2=D89),0),20))","v":""},{"$f":"IF(B89=\"\",\"\",INDEX(Data_kom2,MATCH(1,(komnavn2=B89)*(komaar2=D89),0),21))","v":""},{"$f":"IF(B89=\"\",\"\",INDEX(Data_kom2,MATCH(1,(komnavn2=B89)*(komaar2=D89),0),22))","v":""},{"$f":"IF(B89=\"\",\"\",INDEX(Data_kom2,MATCH(1,(komnavn2=B89)*(komaar2=D89),0),23))","v":""},{"$f":"IF(B89=\"\",\"\",INDEX(Data_kom2,MATCH(1,(komnavn2=B89)*(komaar2=D89),0),24))","v":""},{"$f":"IF(B89=\"\",\"\",INDEX(Data_kom2,MATCH(1,(komnavn2=B89)*(komaar2=D89),0),25))","v":""},{"$f":"IF(B89=\"\",\"\",INDEX(Data_kom2,MATCH(1,(komnavn2=B89)*(komaar2=D89),0),26))","v":""},{"$f":"IF(B89=\"\",\"\",INDEX(Data_kom2,MATCH(1,(komnavn2=B89)*(komaar2=D89),0),27))","v":""},{"$f":"IF(B89=\"\",\"\",INDEX(Data_kom2,MATCH(1,(komnavn2=B89)*(komaar2=D89),0),28))","v":""},{"$f":"IF(B89=\"\",\"\",INDEX(Data_kom2,MATCH(1,(komnavn2=B89)*(komaar2=D89),0),29))","v":""},{"$f":"IF(B89=\"\",\"\",INDEX(Data_kom2,MATCH(1,(komnavn2=B89)*(komaar2=D89),0),30))","v":""},{"$f":"IF(B89=\"\",\"\",INDEX(Data_kom2,MATCH(1,(komnavn2=B89)*(komaar2=D89),0),31))","v":""},{"$f":"IF(B89=\"\",\"\",INDEX(Data_kom2,MATCH(1,(komnavn2=B89)*(komaar2=D89),0),32))","v":""},{"$f":"IF(B89=\"\",\"\",INDEX(Data_kom2,MATCH(1,(komnavn2=B89)*(komaar2=D89),0),33))","v":""},{"$f":"IF(B89=\"\",\"\",INDEX(Data_kom2,MATCH(1,(komnavn2=B89)*(komaar2=D89),0),34))","v":""},{"$f":"IF(B89=\"\",\"\",INDEX(Data_kom2,MATCH(1,(komnavn2=B89)*(komaar2=D89),0),35))","v":""},{"$f":"IF(B89=\"\",\"\",INDEX(Data_kom2,MATCH(1,(komnavn2=B89)*(komaar2=D89),0),36))","v":""},{"$f":"IF(B89=\"\",\"\",INDEX(Data_kom2,MATCH(1,(komnavn2=B89)*(komaar2=D89),0),37))","v":""},{"$f":"IF(B89=\"\",\"\",INDEX(Data_kom2,MATCH(1,(komnavn2=B89)*(komaar2=D89),0),38))","v":""}]
[7,{"$f":"'Dine valg'!$G$30","v":""},{"$f":"IF(B90=\"\",\"\",INDEX(Data_kom2,MATCH(1,(komnavn2=B90)*(komaar2=D90),0),2))","v":""},"2018-07-01",{"$f":"IF(B90=\"\",\"\",INDEX(Data_kom2,MATCH(1,(komnavn2=B90)*(komaar2=D90),0),4))","v":""},{"$f":"IF(B90=\"\",\"\",INDEX(Data_kom2,MATCH(1,(komnavn2=B90)*(komaar2=D90),0),5))","v":""},{"$f":"IF(B90=\"\",\"\",INDEX(Data_kom2,MATCH(1,(komnavn2=B90)*(komaar2=D90),0),6))","v":""},{"$f":"IF(B90=\"\",\"\",INDEX(Data_kom2,MATCH(1,(komnavn2=B90)*(komaar2=D90),0),7))","v":""},{"$f":"IF(B90=\"\",\"\",INDEX(Data_kom2,MATCH(1,(komnavn2=B90)*(komaar2=D90),0),8))","v":""},{"$f":"IF(B90=\"\",\"\",INDEX(Data_kom2,MATCH(1,(komnavn2=B90)*(komaar2=D90),0),9))","v":""},{"$f":"IF(B90=\"\",\"\",INDEX(Data_kom2,MATCH(1,(komnavn2=B90)*(komaar2=D90),0),10))","v":""},{"$f":"IF(B90=\"\",\"\",INDEX(Data_kom2,MATCH(1,(komnavn2=B90)*(komaar2=D90),0),11))","v":""},{"$f":"IF(B90=\"\",\"\",INDEX(Data_kom2,MATCH(1,(komnavn2=B90)*(komaar2=D90),0),12))","v":""},{"$f":"IF(B90=\"\",\"\",INDEX(Data_kom2,MATCH(1,(komnavn2=B90)*(komaar2=D90),0),13))","v":""},{"$f":"IF(B90=\"\",\"\",INDEX(Data_kom2,MATCH(1,(komnavn2=B90)*(komaar2=D90),0),14))","v":""},{"$f":"IF(B90=\"\",\"\",INDEX(Data_kom2,MATCH(1,(komnavn2=B90)*(komaar2=D90),0),15))","v":""},{"$f":"IF(B90=\"\",\"\",INDEX(Data_kom2,MATCH(1,(komnavn2=B90)*(komaar2=D90),0),16))","v":""},{"$f":"IF(B90=\"\",\"\",INDEX(Data_kom2,MATCH(1,(komnavn2=B90)*(komaar2=D90),0),17))","v":""},{"$f":"IF(B90=\"\",\"\",INDEX(Data_kom2,MATCH(1,(komnavn2=B90)*(komaar2=D90),0),18))","v":""},{"$f":"IF(B90=\"\",\"\",INDEX(Data_kom2,MATCH(1,(komnavn2=B90)*(komaar2=D90),0),19))","v":""},{"$f":"IF(B90=\"\",\"\",INDEX(Data_kom2,MATCH(1,(komnavn2=B90)*(komaar2=D90),0),20))","v":""},{"$f":"IF(B90=\"\",\"\",INDEX(Data_kom2,MATCH(1,(komnavn2=B90)*(komaar2=D90),0),21))","v":""},{"$f":"IF(B90=\"\",\"\",INDEX(Data_kom2,MATCH(1,(komnavn2=B90)*(komaar2=D90),0),22))","v":""},{"$f":"IF(B90=\"\",\"\",INDEX(Data_kom2,MATCH(1,(komnavn2=B90)*(komaar2=D90),0),23))","v":""},{"$f":"IF(B90=\"\",\"\",INDEX(Data_kom2,MATCH(1,(komnavn2=B90)*(komaar2=D90),0),24))","v":""},{"$f":"IF(B90=\"\",\"\",INDEX(Data_kom2,MATCH(1,(komnavn2=B90)*(komaar2=D90),0),25))","v":""},{"$f":"IF(B90=\"\",\"\",INDEX(Data_kom2,MATCH(1,(komnavn2=B90)*(komaar2=D90),0),26))","v":""},{"$f":"IF(B90=\"\",\"\",INDEX(Data_kom2,MATCH(1,(komnavn2=B90)*(komaar2=D90),0),27))","v":""},{"$f":"IF(B90=\"\",\"\",INDEX(Data_kom2,MATCH(1,(komnavn2=B90)*(komaar2=D90),0),28))","v":""},{"$f":"IF(B90=\"\",\"\",INDEX(Data_kom2,MATCH(1,(komnavn2=B90)*(komaar2=D90),0),29))","v":""},{"$f":"IF(B90=\"\",\"\",INDEX(Data_kom2,MATCH(1,(komnavn2=B90)*(komaar2=D90),0),30))","v":""},{"$f":"IF(B90=\"\",\"\",INDEX(Data_kom2,MATCH(1,(komnavn2=B90)*(komaar2=D90),0),31))","v":""},{"$f":"IF(B90=\"\",\"\",INDEX(Data_kom2,MATCH(1,(komnavn2=B90)*(komaar2=D90),0),32))","v":""},{"$f":"IF(B90=\"\",\"\",INDEX(Data_kom2,MATCH(1,(komnavn2=B90)*(komaar2=D90),0),33))","v":""},{"$f":"IF(B90=\"\",\"\",INDEX(Data_kom2,MATCH(1,(komnavn2=B90)*(komaar2=D90),0),34))","v":""},{"$f":"IF(B90=\"\",\"\",INDEX(Data_kom2,MATCH(1,(komnavn2=B90)*(komaar2=D90),0),35))","v":""},{"$f":"IF(B90=\"\",\"\",INDEX(Data_kom2,MATCH(1,(komnavn2=B90)*(komaar2=D90),0),36))","v":""},{"$f":"IF(B90=\"\",\"\",INDEX(Data_kom2,MATCH(1,(komnavn2=B90)*(komaar2=D90),0),37))","v":""},{"$f":"IF(B90=\"\",\"\",INDEX(Data_kom2,MATCH(1,(komnavn2=B90)*(komaar2=D90),0),38))","v":""}]
[1,{"$f":"'Dine valg'!$G$24","v":"Aarhus"},{"$f":"IF(B91=\"\",\"\",INDEX(Data_kom2,MATCH(1,(komnavn2=B91)*(komaar2=D91),0),2))","v":63245},"2018-01-01",{"$f":"IF(B91=\"\",\"\",INDEX(Data_kom2,MATCH(1,(komnavn2=B91)*(komaar2=D91),0),4))","v":178},{"$f":"IF(B91=\"\",\"\",INDEX(Data_kom2,MATCH(1,(komnavn2=B91)*(komaar2=D91),0),5))","v":116},{"$f":"IF(B91=\"\",\"\",INDEX(Data_kom2,MATCH(1,(komnavn2=B91)*(komaar2=D91),0),6))","v":4},{"$f":"IF(B91=\"\",\"\",INDEX(Data_kom2,MATCH(1,(komnavn2=B91)*(komaar2=D91),0),7))","v":58},{"$f":"IF(B91=\"\",\"\",INDEX(Data_kom2,MATCH(1,(komnavn2=B91)*(komaar2=D91),0),8))","v":180503},{"$f":"IF(B91=\"\",\"\",INDEX(Data_kom2,MATCH(1,(komnavn2=B91)*(komaar2=D91),0),9))","v":134878},{"$f":"IF(B91=\"\",\"\",INDEX(Data_kom2,MATCH(1,(komnavn2=B91)*(komaar2=D91),0),10))","v":"*"},{"$f":"IF(B91=\"\",\"\",INDEX(Data_kom2,MATCH(1,(komnavn2=B91)*(komaar2=D91),0),11))","v":"*"},{"$f":"IF(B91=\"\",\"\",INDEX(Data_kom2,MATCH(1,(komnavn2=B91)*(komaar2=D91),0),12))","v":244},{"$f":"IF(B91=\"\",\"\",INDEX(Data_kom2,MATCH(1,(komnavn2=B91)*(komaar2=D91),0),13))","v":31},{"$f":"IF(B91=\"\",\"\",INDEX(Data_kom2,MATCH(1,(komnavn2=B91)*(komaar2=D91),0),14))","v":1155},{"$f":"IF(B91=\"\",\"\",INDEX(Data_kom2,MATCH(1,(komnavn2=B91)*(komaar2=D91),0),15))","v":"*"},{"$f":"IF(B91=\"\",\"\",INDEX(Data_kom2,MATCH(1,(komnavn2=B91)*(komaar2=D91),0),16))","v":18},{"$f":"IF(B91=\"\",\"\",INDEX(Data_kom2,MATCH(1,(komnavn2=B91)*(komaar2=D91),0),17))","v":1125},{"$f":"IF(B91=\"\",\"\",INDEX(Data_kom2,MATCH(1,(komnavn2=B91)*(komaar2=D91),0),18))","v":"*"},{"$f":"IF(B91=\"\",\"\",INDEX(Data_kom2,MATCH(1,(komnavn2=B91)*(komaar2=D91),0),19))","v":0},{"$f":"IF(B91=\"\",\"\",INDEX(Data_kom2,MATCH(1,(komnavn2=B91)*(komaar2=D91),0),20))","v":0},{"$f":"IF(B91=\"\",\"\",INDEX(Data_kom2,MATCH(1,(komnavn2=B91)*(komaar2=D91),0),21))","v":0},{"$f":"IF(B91=\"\",\"\",INDEX(Data_kom2,MATCH(1,(komnavn2=B91)*(komaar2=D91),0),22))","v":35},{"$f":"IF(B91=\"\",\"\",INDEX(Data_kom2,MATCH(1,(komnavn2=B91)*(komaar2=D91),0),23))","v":186},{"$f":"IF(B91=\"\",\"\",INDEX(Data_kom2,MATCH(1,(komnavn2=B91)*(komaar2=D91),0),24))","v":5},{"$f":"IF(B91=\"\",\"\",INDEX(Data_kom2,MATCH(1,(komnavn2=B91)*(komaar2=D91),0),25))","v":186},{"$f":"IF(B91=\"\",\"\",INDEX(Data_kom2,MATCH(1,(komnavn2=B91)*(komaar2=D91),0),26))","v":30},{"$f":"IF(B91=\"\",\"\",INDEX(Data_kom2,MATCH(1,(komnavn2=B91)*(komaar2=D91),0),27))","v":186},{"$f":"IF(B91=\"\",\"\",INDEX(Data_kom2,MATCH(1,(komnavn2=B91)*(komaar2=D91),0),28))","v":"*"},{"$f":"IF(B91=\"\",\"\",INDEX(Data_kom2,MATCH(1,(komnavn2=B91)*(komaar2=D91),0),29))","v":1043},{"$f":"IF(B91=\"\",\"\",INDEX(Data_kom2,MATCH(1,(komnavn2=B91)*(komaar2=D91),0),30))","v":272},{"$f":"IF(B91=\"\",\"\",INDEX(Data_kom2,MATCH(1,(komnavn2=B91)*(komaar2=D91),0),31))","v":1070},{"$f":"IF(B91=\"\",\"\",INDEX(Data_kom2,MATCH(1,(komnavn2=B91)*(komaar2=D91),0),32))","v":0},{"$f":"IF(B91=\"\",\"\",INDEX(Data_kom2,MATCH(1,(komnavn2=B91)*(komaar2=D91),0),33))","v":0},{"$f":"IF(B91=\"\",\"\",INDEX(Data_kom2,MATCH(1,(komnavn2=B91)*(komaar2=D91),0),34))","v":0},{"$f":"IF(B91=\"\",\"\",INDEX(Data_kom2,MATCH(1,(komnavn2=B91)*(komaar2=D91),0),35))","v":0},{"$f":"IF(B91=\"\",\"\",INDEX(Data_kom2,MATCH(1,(komnavn2=B91)*(komaar2=D91),0),36))","v":0},{"$f":"IF(B91=\"\",\"\",INDEX(Data_kom2,MATCH(1,(komnavn2=B91)*(komaar2=D91),0),37))","v":0},{"$f":"IF(B91=\"\",\"\",INDEX(Data_kom2,MATCH(1,(komnavn2=B91)*(komaar2=D91),0),38))","v":"Region Midtjylland"}]
[2,{"$f":"'Dine valg'!$G$25","v":""},{"$f":"IF(B92=\"\",\"\",INDEX(Data_kom2,MATCH(1,(komnavn2=B92)*(komaar2=D92),0),2))","v":""},"2018-01-01",{"$f":"IF(B92=\"\",\"\",INDEX(Data_kom2,MATCH(1,(komnavn2=B92)*(komaar2=D92),0),4))","v":""},{"$f":"IF(B92=\"\",\"\",INDEX(Data_kom2,MATCH(1,(komnavn2=B92)*(komaar2=D92),0),5))","v":""},{"$f":"IF(B92=\"\",\"\",INDEX(Data_kom2,MATCH(1,(komnavn2=B92)*(komaar2=D92),0),6))","v":""},{"$f":"IF(B92=\"\",\"\",INDEX(Data_kom2,MATCH(1,(komnavn2=B92)*(komaar2=D92),0),7))","v":""},{"$f":"IF(B92=\"\",\"\",INDEX(Data_kom2,MATCH(1,(komnavn2=B92)*(komaar2=D92),0),8))","v":""},{"$f":"IF(B92=\"\",\"\",INDEX(Data_kom2,MATCH(1,(komnavn2=B92)*(komaar2=D92),0),9))","v":""},{"$f":"IF(B92=\"\",\"\",INDEX(Data_kom2,MATCH(1,(komnavn2=B92)*(komaar2=D92),0),10))","v":""},{"$f":"IF(B92=\"\",\"\",INDEX(Data_kom2,MATCH(1,(komnavn2=B92)*(komaar2=D92),0),11))","v":""},{"$f":"IF(B92=\"\",\"\",INDEX(Data_kom2,MATCH(1,(komnavn2=B92)*(komaar2=D92),0),12))","v":""},{"$f":"IF(B92=\"\",\"\",INDEX(Data_kom2,MATCH(1,(komnavn2=B92)*(komaar2=D92),0),13))","v":""},{"$f":"IF(B92=\"\",\"\",INDEX(Data_kom2,MATCH(1,(komnavn2=B92)*(komaar2=D92),0),14))","v":""},{"$f":"IF(B92=\"\",\"\",INDEX(Data_kom2,MATCH(1,(komnavn2=B92)*(komaar2=D92),0),15))","v":""},{"$f":"IF(B92=\"\",\"\",INDEX(Data_kom2,MATCH(1,(komnavn2=B92)*(komaar2=D92),0),16))","v":""},{"$f":"IF(B92=\"\",\"\",INDEX(Data_kom2,MATCH(1,(komnavn2=B92)*(komaar2=D92),0),17))","v":""},{"$f":"IF(B92=\"\",\"\",INDEX(Data_kom2,MATCH(1,(komnavn2=B92)*(komaar2=D92),0),18))","v":""},{"$f":"IF(B92=\"\",\"\",INDEX(Data_kom2,MATCH(1,(komnavn2=B92)*(komaar2=D92),0),19))","v":""},{"$f":"IF(B92=\"\",\"\",INDEX(Data_kom2,MATCH(1,(komnavn2=B92)*(komaar2=D92),0),20))","v":""},{"$f":"IF(B92=\"\",\"\",INDEX(Data_kom2,MATCH(1,(komnavn2=B92)*(komaar2=D92),0),21))","v":""},{"$f":"IF(B92=\"\",\"\",INDEX(Data_kom2,MATCH(1,(komnavn2=B92)*(komaar2=D92),0),22))","v":""},{"$f":"IF(B92=\"\",\"\",INDEX(Data_kom2,MATCH(1,(komnavn2=B92)*(komaar2=D92),0),23))","v":""},{"$f":"IF(B92=\"\",\"\",INDEX(Data_kom2,MATCH(1,(komnavn2=B92)*(komaar2=D92),0),24))","v":""},{"$f":"IF(B92=\"\",\"\",INDEX(Data_kom2,MATCH(1,(komnavn2=B92)*(komaar2=D92),0),25))","v":""},{"$f":"IF(B92=\"\",\"\",INDEX(Data_kom2,MATCH(1,(komnavn2=B92)*(komaar2=D92),0),26))","v":""},{"$f":"IF(B92=\"\",\"\",INDEX(Data_kom2,MATCH(1,(komnavn2=B92)*(komaar2=D92),0),27))","v":""},{"$f":"IF(B92=\"\",\"\",INDEX(Data_kom2,MATCH(1,(komnavn2=B92)*(komaar2=D92),0),28))","v":""},{"$f":"IF(B92=\"\",\"\",INDEX(Data_kom2,MATCH(1,(komnavn2=B92)*(komaar2=D92),0),29))","v":""},{"$f":"IF(B92=\"\",\"\",INDEX(Data_kom2,MATCH(1,(komnavn2=B92)*(komaar2=D92),0),30))","v":""},{"$f":"IF(B92=\"\",\"\",INDEX(Data_kom2,MATCH(1,(komnavn2=B92)*(komaar2=D92),0),31))","v":""},{"$f":"IF(B92=\"\",\"\",INDEX(Data_kom2,MATCH(1,(komnavn2=B92)*(komaar2=D92),0),32))","v":""},{"$f":"IF(B92=\"\",\"\",INDEX(Data_kom2,MATCH(1,(komnavn2=B92)*(komaar2=D92),0),33))","v":""},{"$f":"IF(B92=\"\",\"\",INDEX(Data_kom2,MATCH(1,(komnavn2=B92)*(komaar2=D92),0),34))","v":""},{"$f":"IF(B92=\"\",\"\",INDEX(Data_kom2,MATCH(1,(komnavn2=B92)*(komaar2=D92),0),35))","v":""},{"$f":"IF(B92=\"\",\"\",INDEX(Data_kom2,MATCH(1,(komnavn2=B92)*(komaar2=D92),0),36))","v":""},{"$f":"IF(B92=\"\",\"\",INDEX(Data_kom2,MATCH(1,(komnavn2=B92)*(komaar2=D92),0),37))","v":""},{"$f":"IF(B92=\"\",\"\",INDEX(Data_kom2,MATCH(1,(komnavn2=B92)*(komaar2=D92),0),38))","v":""}]
[3,{"$f":"'Dine valg'!$G$26","v":""},{"$f":"IF(B93=\"\",\"\",INDEX(Data_kom2,MATCH(1,(komnavn2=B93)*(komaar2=D93),0),2))","v":""},"2018-01-01",{"$f":"IF(B93=\"\",\"\",INDEX(Data_kom2,MATCH(1,(komnavn2=B93)*(komaar2=D93),0),4))","v":""},{"$f":"IF(B93=\"\",\"\",INDEX(Data_kom2,MATCH(1,(komnavn2=B93)*(komaar2=D93),0),5))","v":""},{"$f":"IF(B93=\"\",\"\",INDEX(Data_kom2,MATCH(1,(komnavn2=B93)*(komaar2=D93),0),6))","v":""},{"$f":"IF(B93=\"\",\"\",INDEX(Data_kom2,MATCH(1,(komnavn2=B93)*(komaar2=D93),0),7))","v":""},{"$f":"IF(B93=\"\",\"\",INDEX(Data_kom2,MATCH(1,(komnavn2=B93)*(komaar2=D93),0),8))","v":""},{"$f":"IF(B93=\"\",\"\",INDEX(Data_kom2,MATCH(1,(komnavn2=B93)*(komaar2=D93),0),9))","v":""},{"$f":"IF(B93=\"\",\"\",INDEX(Data_kom2,MATCH(1,(komnavn2=B93)*(komaar2=D93),0),10))","v":""},{"$f":"IF(B93=\"\",\"\",INDEX(Data_kom2,MATCH(1,(komnavn2=B93)*(komaar2=D93),0),11))","v":""},{"$f":"IF(B93=\"\",\"\",INDEX(Data_kom2,MATCH(1,(komnavn2=B93)*(komaar2=D93),0),12))","v":""},{"$f":"IF(B93=\"\",\"\",INDEX(Data_kom2,MATCH(1,(komnavn2=B93)*(komaar2=D93),0),13))","v":""},{"$f":"IF(B93=\"\",\"\",INDEX(Data_kom2,MATCH(1,(komnavn2=B93)*(komaar2=D93),0),14))","v":""},{"$f":"IF(B93=\"\",\"\",INDEX(Data_kom2,MATCH(1,(komnavn2=B93)*(komaar2=D93),0),15))","v":""},{"$f":"IF(B93=\"\",\"\",INDEX(Data_kom2,MATCH(1,(komnavn2=B93)*(komaar2=D93),0),16))","v":""},{"$f":"IF(B93=\"\",\"\",INDEX(Data_kom2,MATCH(1,(komnavn2=B93)*(komaar2=D93),0),17))","v":""},{"$f":"IF(B93=\"\",\"\",INDEX(Data_kom2,MATCH(1,(komnavn2=B93)*(komaar2=D93),0),18))","v":""},{"$f":"IF(B93=\"\",\"\",INDEX(Data_kom2,MATCH(1,(komnavn2=B93)*(komaar2=D93),0),19))","v":""},{"$f":"IF(B93=\"\",\"\",INDEX(Data_kom2,MATCH(1,(komnavn2=B93)*(komaar2=D93),0),20))","v":""},{"$f":"IF(B93=\"\",\"\",INDEX(Data_kom2,MATCH(1,(komnavn2=B93)*(komaar2=D93),0),21))","v":""},{"$f":"IF(B93=\"\",\"\",INDEX(Data_kom2,MATCH(1,(komnavn2=B93)*(komaar2=D93),0),22))","v":""},{"$f":"IF(B93=\"\",\"\",INDEX(Data_kom2,MATCH(1,(komnavn2=B93)*(komaar2=D93),0),23))","v":""},{"$f":"IF(B93=\"\",\"\",INDEX(Data_kom2,MATCH(1,(komnavn2=B93)*(komaar2=D93),0),24))","v":""},{"$f":"IF(B93=\"\",\"\",INDEX(Data_kom2,MATCH(1,(komnavn2=B93)*(komaar2=D93),0),25))","v":""},{"$f":"IF(B93=\"\",\"\",INDEX(Data_kom2,MATCH(1,(komnavn2=B93)*(komaar2=D93),0),26))","v":""},{"$f":"IF(B93=\"\",\"\",INDEX(Data_kom2,MATCH(1,(komnavn2=B93)*(komaar2=D93),0),27))","v":""},{"$f":"IF(B93=\"\",\"\",INDEX(Data_kom2,MATCH(1,(komnavn2=B93)*(komaar2=D93),0),28))","v":""},{"$f":"IF(B93=\"\",\"\",INDEX(Data_kom2,MATCH(1,(komnavn2=B93)*(komaar2=D93),0),29))","v":""},{"$f":"IF(B93=\"\",\"\",INDEX(Data_kom2,MATCH(1,(komnavn2=B93)*(komaar2=D93),0),30))","v":""},{"$f":"IF(B93=\"\",\"\",INDEX(Data_kom2,MATCH(1,(komnavn2=B93)*(komaar2=D93),0),31))","v":""},{"$f":"IF(B93=\"\",\"\",INDEX(Data_kom2,MATCH(1,(komnavn2=B93)*(komaar2=D93),0),32))","v":""},{"$f":"IF(B93=\"\",\"\",INDEX(Data_kom2,MATCH(1,(komnavn2=B93)*(komaar2=D93),0),33))","v":""},{"$f":"IF(B93=\"\",\"\",INDEX(Data_kom2,MATCH(1,(komnavn2=B93)*(komaar2=D93),0),34))","v":""},{"$f":"IF(B93=\"\",\"\",INDEX(Data_kom2,MATCH(1,(komnavn2=B93)*(komaar2=D93),0),35))","v":""},{"$f":"IF(B93=\"\",\"\",INDEX(Data_kom2,MATCH(1,(komnavn2=B93)*(komaar2=D93),0),36))","v":""},{"$f":"IF(B93=\"\",\"\",INDEX(Data_kom2,MATCH(1,(komnavn2=B93)*(komaar2=D93),0),37))","v":""},{"$f":"IF(B93=\"\",\"\",INDEX(Data_kom2,MATCH(1,(komnavn2=B93)*(komaar2=D93),0),38))","v":""}]
[4,{"$f":"'Dine valg'!$G$27","v":""},{"$f":"IF(B94=\"\",\"\",INDEX(Data_kom2,MATCH(1,(komnavn2=B94)*(komaar2=D94),0),2))","v":""},"2018-01-01",{"$f":"IF(B94=\"\",\"\",INDEX(Data_kom2,MATCH(1,(komnavn2=B94)*(komaar2=D94),0),4))","v":""},{"$f":"IF(B94=\"\",\"\",INDEX(Data_kom2,MATCH(1,(komnavn2=B94)*(komaar2=D94),0),5))","v":""},{"$f":"IF(B94=\"\",\"\",INDEX(Data_kom2,MATCH(1,(komnavn2=B94)*(komaar2=D94),0),6))","v":""},{"$f":"IF(B94=\"\",\"\",INDEX(Data_kom2,MATCH(1,(komnavn2=B94)*(komaar2=D94),0),7))","v":""},{"$f":"IF(B94=\"\",\"\",INDEX(Data_kom2,MATCH(1,(komnavn2=B94)*(komaar2=D94),0),8))","v":""},{"$f":"IF(B94=\"\",\"\",INDEX(Data_kom2,MATCH(1,(komnavn2=B94)*(komaar2=D94),0),9))","v":""},{"$f":"IF(B94=\"\",\"\",INDEX(Data_kom2,MATCH(1,(komnavn2=B94)*(komaar2=D94),0),10))","v":""},{"$f":"IF(B94=\"\",\"\",INDEX(Data_kom2,MATCH(1,(komnavn2=B94)*(komaar2=D94),0),11))","v":""},{"$f":"IF(B94=\"\",\"\",INDEX(Data_kom2,MATCH(1,(komnavn2=B94)*(komaar2=D94),0),12))","v":""},{"$f":"IF(B94=\"\",\"\",INDEX(Data_kom2,MATCH(1,(komnavn2=B94)*(komaar2=D94),0),13))","v":""},{"$f":"IF(B94=\"\",\"\",INDEX(Data_kom2,MATCH(1,(komnavn2=B94)*(komaar2=D94),0),14))","v":""},{"$f":"IF(B94=\"\",\"\",INDEX(Data_kom2,MATCH(1,(komnavn2=B94)*(komaar2=D94),0),15))","v":""},{"$f":"IF(B94=\"\",\"\",INDEX(Data_kom2,MATCH(1,(komnavn2=B94)*(komaar2=D94),0),16))","v":""},{"$f":"IF(B94=\"\",\"\",INDEX(Data_kom2,MATCH(1,(komnavn2=B94)*(komaar2=D94),0),17))","v":""},{"$f":"IF(B94=\"\",\"\",INDEX(Data_kom2,MATCH(1,(komnavn2=B94)*(komaar2=D94),0),18))","v":""},{"$f":"IF(B94=\"\",\"\",INDEX(Data_kom2,MATCH(1,(komnavn2=B94)*(komaar2=D94),0),19))","v":""},{"$f":"IF(B94=\"\",\"\",INDEX(Data_kom2,MATCH(1,(komnavn2=B94)*(komaar2=D94),0),20))","v":""},{"$f":"IF(B94=\"\",\"\",INDEX(Data_kom2,MATCH(1,(komnavn2=B94)*(komaar2=D94),0),21))","v":""},{"$f":"IF(B94=\"\",\"\",INDEX(Data_kom2,MATCH(1,(komnavn2=B94)*(komaar2=D94),0),22))","v":""},{"$f":"IF(B94=\"\",\"\",INDEX(Data_kom2,MATCH(1,(komnavn2=B94)*(komaar2=D94),0),23))","v":""},{"$f":"IF(B94=\"\",\"\",INDEX(Data_kom2,MATCH(1,(komnavn2=B94)*(komaar2=D94),0),24))","v":""},{"$f":"IF(B94=\"\",\"\",INDEX(Data_kom2,MATCH(1,(komnavn2=B94)*(komaar2=D94),0),25))","v":""},{"$f":"IF(B94=\"\",\"\",INDEX(Data_kom2,MATCH(1,(komnavn2=B94)*(komaar2=D94),0),26))","v":""},{"$f":"IF(B94=\"\",\"\",INDEX(Data_kom2,MATCH(1,(komnavn2=B94)*(komaar2=D94),0),27))","v":""},{"$f":"IF(B94=\"\",\"\",INDEX(Data_kom2,MATCH(1,(komnavn2=B94)*(komaar2=D94),0),28))","v":""},{"$f":"IF(B94=\"\",\"\",INDEX(Data_kom2,MATCH(1,(komnavn2=B94)*(komaar2=D94),0),29))","v":""},{"$f":"IF(B94=\"\",\"\",INDEX(Data_kom2,MATCH(1,(komnavn2=B94)*(komaar2=D94),0),30))","v":""},{"$f":"IF(B94=\"\",\"\",INDEX(Data_kom2,MATCH(1,(komnavn2=B94)*(komaar2=D94),0),31))","v":""},{"$f":"IF(B94=\"\",\"\",INDEX(Data_kom2,MATCH(1,(komnavn2=B94)*(komaar2=D94),0),32))","v":""},{"$f":"IF(B94=\"\",\"\",INDEX(Data_kom2,MATCH(1,(komnavn2=B94)*(komaar2=D94),0),33))","v":""},{"$f":"IF(B94=\"\",\"\",INDEX(Data_kom2,MATCH(1,(komnavn2=B94)*(komaar2=D94),0),34))","v":""},{"$f":"IF(B94=\"\",\"\",INDEX(Data_kom2,MATCH(1,(komnavn2=B94)*(komaar2=D94),0),35))","v":""},{"$f":"IF(B94=\"\",\"\",INDEX(Data_kom2,MATCH(1,(komnavn2=B94)*(komaar2=D94),0),36))","v":""},{"$f":"IF(B94=\"\",\"\",INDEX(Data_kom2,MATCH(1,(komnavn2=B94)*(komaar2=D94),0),37))","v":""},{"$f":"IF(B94=\"\",\"\",INDEX(Data_kom2,MATCH(1,(komnavn2=B94)*(komaar2=D94),0),38))","v":""}]
[5,{"$f":"'Dine valg'!$G$28","v":""},{"$f":"IF(B95=\"\",\"\",INDEX(Data_kom2,MATCH(1,(komnavn2=B95)*(komaar2=D95),0),2))","v":""},"2018-01-01",{"$f":"IF(B95=\"\",\"\",INDEX(Data_kom2,MATCH(1,(komnavn2=B95)*(komaar2=D95),0),4))","v":""},{"$f":"IF(B95=\"\",\"\",INDEX(Data_kom2,MATCH(1,(komnavn2=B95)*(komaar2=D95),0),5))","v":""},{"$f":"IF(B95=\"\",\"\",INDEX(Data_kom2,MATCH(1,(komnavn2=B95)*(komaar2=D95),0),6))","v":""},{"$f":"IF(B95=\"\",\"\",INDEX(Data_kom2,MATCH(1,(komnavn2=B95)*(komaar2=D95),0),7))","v":""},{"$f":"IF(B95=\"\",\"\",INDEX(Data_kom2,MATCH(1,(komnavn2=B95)*(komaar2=D95),0),8))","v":""},{"$f":"IF(B95=\"\",\"\",INDEX(Data_kom2,MATCH(1,(komnavn2=B95)*(komaar2=D95),0),9))","v":""},{"$f":"IF(B95=\"\",\"\",INDEX(Data_kom2,MATCH(1,(komnavn2=B95)*(komaar2=D95),0),10))","v":""},{"$f":"IF(B95=\"\",\"\",INDEX(Data_kom2,MATCH(1,(komnavn2=B95)*(komaar2=D95),0),11))","v":""},{"$f":"IF(B95=\"\",\"\",INDEX(Data_kom2,MATCH(1,(komnavn2=B95)*(komaar2=D95),0),12))","v":""},{"$f":"IF(B95=\"\",\"\",INDEX(Data_kom2,MATCH(1,(komnavn2=B95)*(komaar2=D95),0),13))","v":""},{"$f":"IF(B95=\"\",\"\",INDEX(Data_kom2,MATCH(1,(komnavn2=B95)*(komaar2=D95),0),14))","v":""},{"$f":"IF(B95=\"\",\"\",INDEX(Data_kom2,MATCH(1,(komnavn2=B95)*(komaar2=D95),0),15))","v":""},{"$f":"IF(B95=\"\",\"\",INDEX(Data_kom2,MATCH(1,(komnavn2=B95)*(komaar2=D95),0),16))","v":""},{"$f":"IF(B95=\"\",\"\",INDEX(Data_kom2,MATCH(1,(komnavn2=B95)*(komaar2=D95),0),17))","v":""},{"$f":"IF(B95=\"\",\"\",INDEX(Data_kom2,MATCH(1,(komnavn2=B95)*(komaar2=D95),0),18))","v":""},{"$f":"IF(B95=\"\",\"\",INDEX(Data_kom2,MATCH(1,(komnavn2=B95)*(komaar2=D95),0),19))","v":""},{"$f":"IF(B95=\"\",\"\",INDEX(Data_kom2,MATCH(1,(komnavn2=B95)*(komaar2=D95),0),20))","v":""},{"$f":"IF(B95=\"\",\"\",INDEX(Data_kom2,MATCH(1,(komnavn2=B95)*(komaar2=D95),0),21))","v":""},{"$f":"IF(B95=\"\",\"\",INDEX(Data_kom2,MATCH(1,(komnavn2=B95)*(komaar2=D95),0),22))","v":""},{"$f":"IF(B95=\"\",\"\",INDEX(Data_kom2,MATCH(1,(komnavn2=B95)*(komaar2=D95),0),23))","v":""},{"$f":"IF(B95=\"\",\"\",INDEX(Data_kom2,MATCH(1,(komnavn2=B95)*(komaar2=D95),0),24))","v":""},{"$f":"IF(B95=\"\",\"\",INDEX(Data_kom2,MATCH(1,(komnavn2=B95)*(komaar2=D95),0),25))","v":""},{"$f":"IF(B95=\"\",\"\",INDEX(Data_kom2,MATCH(1,(komnavn2=B95)*(komaar2=D95),0),26))","v":""},{"$f":"IF(B95=\"\",\"\",INDEX(Data_kom2,MATCH(1,(komnavn2=B95)*(komaar2=D95),0),27))","v":""},{"$f":"IF(B95=\"\",\"\",INDEX(Data_kom2,MATCH(1,(komnavn2=B95)*(komaar2=D95),0),28))","v":""},{"$f":"IF(B95=\"\",\"\",INDEX(Data_kom2,MATCH(1,(komnavn2=B95)*(komaar2=D95),0),29))","v":""},{"$f":"IF(B95=\"\",\"\",INDEX(Data_kom2,MATCH(1,(komnavn2=B95)*(komaar2=D95),0),30))","v":""},{"$f":"IF(B95=\"\",\"\",INDEX(Data_kom2,MATCH(1,(komnavn2=B95)*(komaar2=D95),0),31))","v":""},{"$f":"IF(B95=\"\",\"\",INDEX(Data_kom2,MATCH(1,(komnavn2=B95)*(komaar2=D95),0),32))","v":""},{"$f":"IF(B95=\"\",\"\",INDEX(Data_kom2,MATCH(1,(komnavn2=B95)*(komaar2=D95),0),33))","v":""},{"$f":"IF(B95=\"\",\"\",INDEX(Data_kom2,MATCH(1,(komnavn2=B95)*(komaar2=D95),0),34))","v":""},{"$f":"IF(B95=\"\",\"\",INDEX(Data_kom2,MATCH(1,(komnavn2=B95)*(komaar2=D95),0),35))","v":""},{"$f":"IF(B95=\"\",\"\",INDEX(Data_kom2,MATCH(1,(komnavn2=B95)*(komaar2=D95),0),36))","v":""},{"$f":"IF(B95=\"\",\"\",INDEX(Data_kom2,MATCH(1,(komnavn2=B95)*(komaar2=D95),0),37))","v":""},{"$f":"IF(B95=\"\",\"\",INDEX(Data_kom2,MATCH(1,(komnavn2=B95)*(komaar2=D95),0),38))","v":""}]
[6,{"$f":"'Dine valg'!$G$29","v":""},{"$f":"IF(B96=\"\",\"\",INDEX(Data_kom2,MATCH(1,(komnavn2=B96)*(komaar2=D96),0),2))","v":""},"2018-01-01",{"$f":"IF(B96=\"\",\"\",INDEX(Data_kom2,MATCH(1,(komnavn2=B96)*(komaar2=D96),0),4))","v":""},{"$f":"IF(B96=\"\",\"\",INDEX(Data_kom2,MATCH(1,(komnavn2=B96)*(komaar2=D96),0),5))","v":""},{"$f":"IF(B96=\"\",\"\",INDEX(Data_kom2,MATCH(1,(komnavn2=B96)*(komaar2=D96),0),6))","v":""},{"$f":"IF(B96=\"\",\"\",INDEX(Data_kom2,MATCH(1,(komnavn2=B96)*(komaar2=D96),0),7))","v":""},{"$f":"IF(B96=\"\",\"\",INDEX(Data_kom2,MATCH(1,(komnavn2=B96)*(komaar2=D96),0),8))","v":""},{"$f":"IF(B96=\"\",\"\",INDEX(Data_kom2,MATCH(1,(komnavn2=B96)*(komaar2=D96),0),9))","v":""},{"$f":"IF(B96=\"\",\"\",INDEX(Data_kom2,MATCH(1,(komnavn2=B96)*(komaar2=D96),0),10))","v":""},{"$f":"IF(B96=\"\",\"\",INDEX(Data_kom2,MATCH(1,(komnavn2=B96)*(komaar2=D96),0),11))","v":""},{"$f":"IF(B96=\"\",\"\",INDEX(Data_kom2,MATCH(1,(komnavn2=B96)*(komaar2=D96),0),12))","v":""},{"$f":"IF(B96=\"\",\"\",INDEX(Data_kom2,MATCH(1,(komnavn2=B96)*(komaar2=D96),0),13))","v":""},{"$f":"IF(B96=\"\",\"\",INDEX(Data_kom2,MATCH(1,(komnavn2=B96)*(komaar2=D96),0),14))","v":""},{"$f":"IF(B96=\"\",\"\",INDEX(Data_kom2,MATCH(1,(komnavn2=B96)*(komaar2=D96),0),15))","v":""},{"$f":"IF(B96=\"\",\"\",INDEX(Data_kom2,MATCH(1,(komnavn2=B96)*(komaar2=D96),0),16))","v":""},{"$f":"IF(B96=\"\",\"\",INDEX(Data_kom2,MATCH(1,(komnavn2=B96)*(komaar2=D96),0),17))","v":""},{"$f":"IF(B96=\"\",\"\",INDEX(Data_kom2,MATCH(1,(komnavn2=B96)*(komaar2=D96),0),18))","v":""},{"$f":"IF(B96=\"\",\"\",INDEX(Data_kom2,MATCH(1,(komnavn2=B96)*(komaar2=D96),0),19))","v":""},{"$f":"IF(B96=\"\",\"\",INDEX(Data_kom2,MATCH(1,(komnavn2=B96)*(komaar2=D96),0),20))","v":""},{"$f":"IF(B96=\"\",\"\",INDEX(Data_kom2,MATCH(1,(komnavn2=B96)*(komaar2=D96),0),21))","v":""},{"$f":"IF(B96=\"\",\"\",INDEX(Data_kom2,MATCH(1,(komnavn2=B96)*(komaar2=D96),0),22))","v":""},{"$f":"IF(B96=\"\",\"\",INDEX(Data_kom2,MATCH(1,(komnavn2=B96)*(komaar2=D96),0),23))","v":""},{"$f":"IF(B96=\"\",\"\",INDEX(Data_kom2,MATCH(1,(komnavn2=B96)*(komaar2=D96),0),24))","v":""},{"$f":"IF(B96=\"\",\"\",INDEX(Data_kom2,MATCH(1,(komnavn2=B96)*(komaar2=D96),0),25))","v":""},{"$f":"IF(B96=\"\",\"\",INDEX(Data_kom2,MATCH(1,(komnavn2=B96)*(komaar2=D96),0),26))","v":""},{"$f":"IF(B96=\"\",\"\",INDEX(Data_kom2,MATCH(1,(komnavn2=B96)*(komaar2=D96),0),27))","v":""},{"$f":"IF(B96=\"\",\"\",INDEX(Data_kom2,MATCH(1,(komnavn2=B96)*(komaar2=D96),0),28))","v":""},{"$f":"IF(B96=\"\",\"\",INDEX(Data_kom2,MATCH(1,(komnavn2=B96)*(komaar2=D96),0),29))","v":""},{"$f":"IF(B96=\"\",\"\",INDEX(Data_kom2,MATCH(1,(komnavn2=B96)*(komaar2=D96),0),30))","v":""},{"$f":"IF(B96=\"\",\"\",INDEX(Data_kom2,MATCH(1,(komnavn2=B96)*(komaar2=D96),0),31))","v":""},{"$f":"IF(B96=\"\",\"\",INDEX(Data_kom2,MATCH(1,(komnavn2=B96)*(komaar2=D96),0),32))","v":""},{"$f":"IF(B96=\"\",\"\",INDEX(Data_kom2,MATCH(1,(komnavn2=B96)*(komaar2=D96),0),33))","v":""},{"$f":"IF(B96=\"\",\"\",INDEX(Data_kom2,MATCH(1,(komnavn2=B96)*(komaar2=D96),0),34))","v":""},{"$f":"IF(B96=\"\",\"\",INDEX(Data_kom2,MATCH(1,(komnavn2=B96)*(komaar2=D96),0),35))","v":""},{"$f":"IF(B96=\"\",\"\",INDEX(Data_kom2,MATCH(1,(komnavn2=B96)*(komaar2=D96),0),36))","v":""},{"$f":"IF(B96=\"\",\"\",INDEX(Data_kom2,MATCH(1,(komnavn2=B96)*(komaar2=D96),0),37))","v":""},{"$f":"IF(B96=\"\",\"\",INDEX(Data_kom2,MATCH(1,(komnavn2=B96)*(komaar2=D96),0),38))","v":""}]
[7,{"$f":"'Dine valg'!$G$30","v":""},{"$f":"IF(B97=\"\",\"\",INDEX(Data_kom2,MATCH(1,(komnavn2=B97)*(komaar2=D97),0),2))","v":""},"2018-01-01",{"$f":"IF(B97=\"\",\"\",INDEX(Data_kom2,MATCH(1,(komnavn2=B97)*(komaar2=D97),0),4))","v":""},{"$f":"IF(B97=\"\",\"\",INDEX(Data_kom2,MATCH(1,(komnavn2=B97)*(komaar2=D97),0),5))","v":""},{"$f":"IF(B97=\"\",\"\",INDEX(Data_kom2,MATCH(1,(komnavn2=B97)*(komaar2=D97),0),6))","v":""},{"$f":"IF(B97=\"\",\"\",INDEX(Data_kom2,MATCH(1,(komnavn2=B97)*(komaar2=D97),0),7))","v":""},{"$f":"IF(B97=\"\",\"\",INDEX(Data_kom2,MATCH(1,(komnavn2=B97)*(komaar2=D97),0),8))","v":""},{"$f":"IF(B97=\"\",\"\",INDEX(Data_kom2,MATCH(1,(komnavn2=B97)*(komaar2=D97),0),9))","v":""},{"$f":"IF(B97=\"\",\"\",INDEX(Data_kom2,MATCH(1,(komnavn2=B97)*(komaar2=D97),0),10))","v":""},{"$f":"IF(B97=\"\",\"\",INDEX(Data_kom2,MATCH(1,(komnavn2=B97)*(komaar2=D97),0),11))","v":""},{"$f":"IF(B97=\"\",\"\",INDEX(Data_kom2,MATCH(1,(komnavn2=B97)*(komaar2=D97),0),12))","v":""},{"$f":"IF(B97=\"\",\"\",INDEX(Data_kom2,MATCH(1,(komnavn2=B97)*(komaar2=D97),0),13))","v":""},{"$f":"IF(B97=\"\",\"\",INDEX(Data_kom2,MATCH(1,(komnavn2=B97)*(komaar2=D97),0),14))","v":""},{"$f":"IF(B97=\"\",\"\",INDEX(Data_kom2,MATCH(1,(komnavn2=B97)*(komaar2=D97),0),15))","v":""},{"$f":"IF(B97=\"\",\"\",INDEX(Data_kom2,MATCH(1,(komnavn2=B97)*(komaar2=D97),0),16))","v":""},{"$f":"IF(B97=\"\",\"\",INDEX(Data_kom2,MATCH(1,(komnavn2=B97)*(komaar2=D97),0),17))","v":""},{"$f":"IF(B97=\"\",\"\",INDEX(Data_kom2,MATCH(1,(komnavn2=B97)*(komaar2=D97),0),18))","v":""},{"$f":"IF(B97=\"\",\"\",INDEX(Data_kom2,MATCH(1,(komnavn2=B97)*(komaar2=D97),0),19))","v":""},{"$f":"IF(B97=\"\",\"\",INDEX(Data_kom2,MATCH(1,(komnavn2=B97)*(komaar2=D97),0),20))","v":""},{"$f":"IF(B97=\"\",\"\",INDEX(Data_kom2,MATCH(1,(komnavn2=B97)*(komaar2=D97),0),21))","v":""},{"$f":"IF(B97=\"\",\"\",INDEX(Data_kom2,MATCH(1,(komnavn2=B97)*(komaar2=D97),0),22))","v":""},{"$f":"IF(B97=\"\",\"\",INDEX(Data_kom2,MATCH(1,(komnavn2=B97)*(komaar2=D97),0),23))","v":""},{"$f":"IF(B97=\"\",\"\",INDEX(Data_kom2,MATCH(1,(komnavn2=B97)*(komaar2=D97),0),24))","v":""},{"$f":"IF(B97=\"\",\"\",INDEX(Data_kom2,MATCH(1,(komnavn2=B97)*(komaar2=D97),0),25))","v":""},{"$f":"IF(B97=\"\",\"\",INDEX(Data_kom2,MATCH(1,(komnavn2=B97)*(komaar2=D97),0),26))","v":""},{"$f":"IF(B97=\"\",\"\",INDEX(Data_kom2,MATCH(1,(komnavn2=B97)*(komaar2=D97),0),27))","v":""},{"$f":"IF(B97=\"\",\"\",INDEX(Data_kom2,MATCH(1,(komnavn2=B97)*(komaar2=D97),0),28))","v":""},{"$f":"IF(B97=\"\",\"\",INDEX(Data_kom2,MATCH(1,(komnavn2=B97)*(komaar2=D97),0),29))","v":""},{"$f":"IF(B97=\"\",\"\",INDEX(Data_kom2,MATCH(1,(komnavn2=B97)*(komaar2=D97),0),30))","v":""},{"$f":"IF(B97=\"\",\"\",INDEX(Data_kom2,MATCH(1,(komnavn2=B97)*(komaar2=D97),0),31))","v":""},{"$f":"IF(B97=\"\",\"\",INDEX(Data_kom2,MATCH(1,(komnavn2=B97)*(komaar2=D97),0),32))","v":""},{"$f":"IF(B97=\"\",\"\",INDEX(Data_kom2,MATCH(1,(komnavn2=B97)*(komaar2=D97),0),33))","v":""},{"$f":"IF(B97=\"\",\"\",INDEX(Data_kom2,MATCH(1,(komnavn2=B97)*(komaar2=D97),0),34))","v":""},{"$f":"IF(B97=\"\",\"\",INDEX(Data_kom2,MATCH(1,(komnavn2=B97)*(komaar2=D97),0),35))","v":""},{"$f":"IF(B97=\"\",\"\",INDEX(Data_kom2,MATCH(1,(komnavn2=B97)*(komaar2=D97),0),36))","v":""},{"$f":"IF(B97=\"\",\"\",INDEX(Data_kom2,MATCH(1,(komnavn2=B97)*(komaar2=D97),0),37))","v":""},{"$f":"IF(B97=\"\",\"\",INDEX(Data_kom2,MATCH(1,(komnavn2=B97)*(komaar2=D97),0),38))","v":""}]
[1,{"$f":"'Dine valg'!$G$24","v":"Aarhus"},{"$f":"IF(B98=\"\",\"\",INDEX(Data_kom2,MATCH(1,(komnavn2=B98)*(komaar2=D98),0),2))","v":63077},"2017-07-01",{"$f":"IF(B98=\"\",\"\",INDEX(Data_kom2,MATCH(1,(komnavn2=B98)*(komaar2=D98),0),4))","v":186},{"$f":"IF(B98=\"\",\"\",INDEX(Data_kom2,MATCH(1,(komnavn2=B98)*(komaar2=D98),0),5))","v":130},{"$f":"IF(B98=\"\",\"\",INDEX(Data_kom2,MATCH(1,(komnavn2=B98)*(komaar2=D98),0),6))","v":4},{"$f":"IF(B98=\"\",\"\",INDEX(Data_kom2,MATCH(1,(komnavn2=B98)*(komaar2=D98),0),7))","v":52},{"$f":"IF(B98=\"\",\"\",INDEX(Data_kom2,MATCH(1,(komnavn2=B98)*(komaar2=D98),0),8))","v":192986},{"$f":"IF(B98=\"\",\"\",INDEX(Data_kom2,MATCH(1,(komnavn2=B98)*(komaar2=D98),0),9))","v":150184},{"$f":"IF(B98=\"\",\"\",INDEX(Data_kom2,MATCH(1,(komnavn2=B98)*(komaar2=D98),0),10))","v":"*"},{"$f":"IF(B98=\"\",\"\",INDEX(Data_kom2,MATCH(1,(komnavn2=B98)*(komaar2=D98),0),11))","v":"*"},{"$f":"IF(B98=\"\",\"\",INDEX(Data_kom2,MATCH(1,(komnavn2=B98)*(komaar2=D98),0),12))","v":243},{"$f":"IF(B98=\"\",\"\",INDEX(Data_kom2,MATCH(1,(komnavn2=B98)*(komaar2=D98),0),13))","v":35},{"$f":"IF(B98=\"\",\"\",INDEX(Data_kom2,MATCH(1,(komnavn2=B98)*(komaar2=D98),0),14))","v":1070},{"$f":"IF(B98=\"\",\"\",INDEX(Data_kom2,MATCH(1,(komnavn2=B98)*(komaar2=D98),0),15))","v":"*"},{"$f":"IF(B98=\"\",\"\",INDEX(Data_kom2,MATCH(1,(komnavn2=B98)*(komaar2=D98),0),16))","v":25},{"$f":"IF(B98=\"\",\"\",INDEX(Data_kom2,MATCH(1,(komnavn2=B98)*(komaar2=D98),0),17))","v":1034},{"$f":"IF(B98=\"\",\"\",INDEX(Data_kom2,MATCH(1,(komnavn2=B98)*(komaar2=D98),0),18))","v":"*"},{"$f":"IF(B98=\"\",\"\",INDEX(Data_kom2,MATCH(1,(komnavn2=B98)*(komaar2=D98),0),19))","v":0},{"$f":"IF(B98=\"\",\"\",INDEX(Data_kom2,MATCH(1,(komnavn2=B98)*(komaar2=D98),0),20))","v":0},{"$f":"IF(B98=\"\",\"\",INDEX(Data_kom2,MATCH(1,(komnavn2=B98)*(komaar2=D98),0),21))","v":0},{"$f":"IF(B98=\"\",\"\",INDEX(Data_kom2,MATCH(1,(komnavn2=B98)*(komaar2=D98),0),22))","v":36},{"$f":"IF(B98=\"\",\"\",INDEX(Data_kom2,MATCH(1,(komnavn2=B98)*(komaar2=D98),0),23))","v":188},{"$f":"IF(B98=\"\",\"\",INDEX(Data_kom2,MATCH(1,(komnavn2=B98)*(komaar2=D98),0),24))","v":"*"},{"$f":"IF(B98=\"\",\"\",INDEX(Data_kom2,MATCH(1,(komnavn2=B98)*(komaar2=D98),0),25))","v":188},{"$f":"IF(B98=\"\",\"\",INDEX(Data_kom2,MATCH(1,(komnavn2=B98)*(komaar2=D98),0),26))","v":"*"},{"$f":"IF(B98=\"\",\"\",INDEX(Data_kom2,MATCH(1,(komnavn2=B98)*(komaar2=D98),0),27))","v":188},{"$f":"IF(B98=\"\",\"\",INDEX(Data_kom2,MATCH(1,(komnavn2=B98)*(komaar2=D98),0),28))","v":"*"},{"$f":"IF(B98=\"\",\"\",INDEX(Data_kom2,MATCH(1,(komnavn2=B98)*(komaar2=D98),0),29))","v":1099},{"$f":"IF(B98=\"\",\"\",INDEX(Data_kom2,MATCH(1,(komnavn2=B98)*(komaar2=D98),0),30))","v":296},{"$f":"IF(B98=\"\",\"\",INDEX(Data_kom2,MATCH(1,(komnavn2=B98)*(komaar2=D98),0),31))","v":1124},{"$f":"IF(B98=\"\",\"\",INDEX(Data_kom2,MATCH(1,(komnavn2=B98)*(komaar2=D98),0),32))","v":0},{"$f":"IF(B98=\"\",\"\",INDEX(Data_kom2,MATCH(1,(komnavn2=B98)*(komaar2=D98),0),33))","v":0},{"$f":"IF(B98=\"\",\"\",INDEX(Data_kom2,MATCH(1,(komnavn2=B98)*(komaar2=D98),0),34))","v":0},{"$f":"IF(B98=\"\",\"\",INDEX(Data_kom2,MATCH(1,(komnavn2=B98)*(komaar2=D98),0),35))","v":0},{"$f":"IF(B98=\"\",\"\",INDEX(Data_kom2,MATCH(1,(komnavn2=B98)*(komaar2=D98),0),36))","v":0},{"$f":"IF(B98=\"\",\"\",INDEX(Data_kom2,MATCH(1,(komnavn2=B98)*(komaar2=D98),0),37))","v":0},{"$f":"IF(B98=\"\",\"\",INDEX(Data_kom2,MATCH(1,(komnavn2=B98)*(komaar2=D98),0),38))","v":"Region Midtjylland"}]
[2,{"$f":"'Dine valg'!$G$25","v":""},{"$f":"IF(B99=\"\",\"\",INDEX(Data_kom2,MATCH(1,(komnavn2=B99)*(komaar2=D99),0),2))","v":""},"2017-07-01",{"$f":"IF(B99=\"\",\"\",INDEX(Data_kom2,MATCH(1,(komnavn2=B99)*(komaar2=D99),0),4))","v":""},{"$f":"IF(B99=\"\",\"\",INDEX(Data_kom2,MATCH(1,(komnavn2=B99)*(komaar2=D99),0),5))","v":""},{"$f":"IF(B99=\"\",\"\",INDEX(Data_kom2,MATCH(1,(komnavn2=B99)*(komaar2=D99),0),6))","v":""},{"$f":"IF(B99=\"\",\"\",INDEX(Data_kom2,MATCH(1,(komnavn2=B99)*(komaar2=D99),0),7))","v":""},{"$f":"IF(B99=\"\",\"\",INDEX(Data_kom2,MATCH(1,(komnavn2=B99)*(komaar2=D99),0),8))","v":""},{"$f":"IF(B99=\"\",\"\",INDEX(Data_kom2,MATCH(1,(komnavn2=B99)*(komaar2=D99),0),9))","v":""},{"$f":"IF(B99=\"\",\"\",INDEX(Data_kom2,MATCH(1,(komnavn2=B99)*(komaar2=D99),0),10))","v":""},{"$f":"IF(B99=\"\",\"\",INDEX(Data_kom2,MATCH(1,(komnavn2=B99)*(komaar2=D99),0),11))","v":""},{"$f":"IF(B99=\"\",\"\",INDEX(Data_kom2,MATCH(1,(komnavn2=B99)*(komaar2=D99),0),12))","v":""},{"$f":"IF(B99=\"\",\"\",INDEX(Data_kom2,MATCH(1,(komnavn2=B99)*(komaar2=D99),0),13))","v":""},{"$f":"IF(B99=\"\",\"\",INDEX(Data_kom2,MATCH(1,(komnavn2=B99)*(komaar2=D99),0),14))","v":""},{"$f":"IF(B99=\"\",\"\",INDEX(Data_kom2,MATCH(1,(komnavn2=B99)*(komaar2=D99),0),15))","v":""},{"$f":"IF(B99=\"\",\"\",INDEX(Data_kom2,MATCH(1,(komnavn2=B99)*(komaar2=D99),0),16))","v":""},{"$f":"IF(B99=\"\",\"\",INDEX(Data_kom2,MATCH(1,(komnavn2=B99)*(komaar2=D99),0),17))","v":""},{"$f":"IF(B99=\"\",\"\",INDEX(Data_kom2,MATCH(1,(komnavn2=B99)*(komaar2=D99),0),18))","v":""},{"$f":"IF(B99=\"\",\"\",INDEX(Data_kom2,MATCH(1,(komnavn2=B99)*(komaar2=D99),0),19))","v":""},{"$f":"IF(B99=\"\",\"\",INDEX(Data_kom2,MATCH(1,(komnavn2=B99)*(komaar2=D99),0),20))","v":""},{"$f":"IF(B99=\"\",\"\",INDEX(Data_kom2,MATCH(1,(komnavn2=B99)*(komaar2=D99),0),21))","v":""},{"$f":"IF(B99=\"\",\"\",INDEX(Data_kom2,MATCH(1,(komnavn2=B99)*(komaar2=D99),0),22))","v":""},{"$f":"IF(B99=\"\",\"\",INDEX(Data_kom2,MATCH(1,(komnavn2=B99)*(komaar2=D99),0),23))","v":""},{"$f":"IF(B99=\"\",\"\",INDEX(Data_kom2,MATCH(1,(komnavn2=B99)*(komaar2=D99),0),24))","v":""},{"$f":"IF(B99=\"\",\"\",INDEX(Data_kom2,MATCH(1,(komnavn2=B99)*(komaar2=D99),0),25))","v":""},{"$f":"IF(B99=\"\",\"\",INDEX(Data_kom2,MATCH(1,(komnavn2=B99)*(komaar2=D99),0),26))","v":""},{"$f":"IF(B99=\"\",\"\",INDEX(Data_kom2,MATCH(1,(komnavn2=B99)*(komaar2=D99),0),27))","v":""},{"$f":"IF(B99=\"\",\"\",INDEX(Data_kom2,MATCH(1,(komnavn2=B99)*(komaar2=D99),0),28))","v":""},{"$f":"IF(B99=\"\",\"\",INDEX(Data_kom2,MATCH(1,(komnavn2=B99)*(komaar2=D99),0),29))","v":""},{"$f":"IF(B99=\"\",\"\",INDEX(Data_kom2,MATCH(1,(komnavn2=B99)*(komaar2=D99),0),30))","v":""},{"$f":"IF(B99=\"\",\"\",INDEX(Data_kom2,MATCH(1,(komnavn2=B99)*(komaar2=D99),0),31))","v":""},{"$f":"IF(B99=\"\",\"\",INDEX(Data_kom2,MATCH(1,(komnavn2=B99)*(komaar2=D99),0),32))","v":""},{"$f":"IF(B99=\"\",\"\",INDEX(Data_kom2,MATCH(1,(komnavn2=B99)*(komaar2=D99),0),33))","v":""},{"$f":"IF(B99=\"\",\"\",INDEX(Data_kom2,MATCH(1,(komnavn2=B99)*(komaar2=D99),0),34))","v":""},{"$f":"IF(B99=\"\",\"\",INDEX(Data_kom2,MATCH(1,(komnavn2=B99)*(komaar2=D99),0),35))","v":""},{"$f":"IF(B99=\"\",\"\",INDEX(Data_kom2,MATCH(1,(komnavn2=B99)*(komaar2=D99),0),36))","v":""},{"$f":"IF(B99=\"\",\"\",INDEX(Data_kom2,MATCH(1,(komnavn2=B99)*(komaar2=D99),0),37))","v":""},{"$f":"IF(B99=\"\",\"\",INDEX(Data_kom2,MATCH(1,(komnavn2=B99)*(komaar2=D99),0),38))","v":""}]
[3,{"$f":"'Dine valg'!$G$26","v":""},{"$f":"IF(B100=\"\",\"\",INDEX(Data_kom2,MATCH(1,(komnavn2=B100)*(komaar2=D100),0),2))","v":""},"2017-07-01",{"$f":"IF(B100=\"\",\"\",INDEX(Data_kom2,MATCH(1,(komnavn2=B100)*(komaar2=D100),0),4))","v":""},{"$f":"IF(B100=\"\",\"\",INDEX(Data_kom2,MATCH(1,(komnavn2=B100)*(komaar2=D100),0),5))","v":""},{"$f":"IF(B100=\"\",\"\",INDEX(Data_kom2,MATCH(1,(komnavn2=B100)*(komaar2=D100),0),6))","v":""},{"$f":"IF(B100=\"\",\"\",INDEX(Data_kom2,MATCH(1,(komnavn2=B100)*(komaar2=D100),0),7))","v":""},{"$f":"IF(B100=\"\",\"\",INDEX(Data_kom2,MATCH(1,(komnavn2=B100)*(komaar2=D100),0),8))","v":""},{"$f":"IF(B100=\"\",\"\",INDEX(Data_kom2,MATCH(1,(komnavn2=B100)*(komaar2=D100),0),9))","v":""},{"$f":"IF(B100=\"\",\"\",INDEX(Data_kom2,MATCH(1,(komnavn2=B100)*(komaar2=D100),0),10))","v":""},{"$f":"IF(B100=\"\",\"\",INDEX(Data_kom2,MATCH(1,(komnavn2=B100)*(komaar2=D100),0),11))","v":""},{"$f":"IF(B100=\"\",\"\",INDEX(Data_kom2,MATCH(1,(komnavn2=B100)*(komaar2=D100),0),12))","v":""},{"$f":"IF(B100=\"\",\"\",INDEX(Data_kom2,MATCH(1,(komnavn2=B100)*(komaar2=D100),0),13))","v":""},{"$f":"IF(B100=\"\",\"\",INDEX(Data_kom2,MATCH(1,(komnavn2=B100)*(komaar2=D100),0),14))","v":""},{"$f":"IF(B100=\"\",\"\",INDEX(Data_kom2,MATCH(1,(komnavn2=B100)*(komaar2=D100),0),15))","v":""},{"$f":"IF(B100=\"\",\"\",INDEX(Data_kom2,MATCH(1,(komnavn2=B100)*(komaar2=D100),0),16))","v":""},{"$f":"IF(B100=\"\",\"\",INDEX(Data_kom2,MATCH(1,(komnavn2=B100)*(komaar2=D100),0),17))","v":""},{"$f":"IF(B100=\"\",\"\",INDEX(Data_kom2,MATCH(1,(komnavn2=B100)*(komaar2=D100),0),18))","v":""},{"$f":"IF(B100=\"\",\"\",INDEX(Data_kom2,MATCH(1,(komnavn2=B100)*(komaar2=D100),0),19))","v":""},{"$f":"IF(B100=\"\",\"\",INDEX(Data_kom2,MATCH(1,(komnavn2=B100)*(komaar2=D100),0),20))","v":""},{"$f":"IF(B100=\"\",\"\",INDEX(Data_kom2,MATCH(1,(komnavn2=B100)*(komaar2=D100),0),21))","v":""},{"$f":"IF(B100=\"\",\"\",INDEX(Data_kom2,MATCH(1,(komnavn2=B100)*(komaar2=D100),0),22))","v":""},{"$f":"IF(B100=\"\",\"\",INDEX(Data_kom2,MATCH(1,(komnavn2=B100)*(komaar2=D100),0),23))","v":""},{"$f":"IF(B100=\"\",\"\",INDEX(Data_kom2,MATCH(1,(komnavn2=B100)*(komaar2=D100),0),24))","v":""},{"$f":"IF(B100=\"\",\"\",INDEX(Data_kom2,MATCH(1,(komnavn2=B100)*(komaar2=D100),0),25))","v":""},{"$f":"IF(B100=\"\",\"\",INDEX(Data_kom2,MATCH(1,(komnavn2=B100)*(komaar2=D100),0),26))","v":""},{"$f":"IF(B100=\"\",\"\",INDEX(Data_kom2,MATCH(1,(komnavn2=B100)*(komaar2=D100),0),27))","v":""},{"$f":"IF(B100=\"\",\"\",INDEX(Data_kom2,MATCH(1,(komnavn2=B100)*(komaar2=D100),0),28))","v":""},{"$f":"IF(B100=\"\",\"\",INDEX(Data_kom2,MATCH(1,(komnavn2=B100)*(komaar2=D100),0),29))","v":""},{"$f":"IF(B100=\"\",\"\",INDEX(Data_kom2,MATCH(1,(komnavn2=B100)*(komaar2=D100),0),30))","v":""},{"$f":"IF(B100=\"\",\"\",INDEX(Data_kom2,MATCH(1,(komnavn2=B100)*(komaar2=D100),0),31))","v":""},{"$f":"IF(B100=\"\",\"\",INDEX(Data_kom2,MATCH(1,(komnavn2=B100)*(komaar2=D100),0),32))","v":""},{"$f":"IF(B100=\"\",\"\",INDEX(Data_kom2,MATCH(1,(komnavn2=B100)*(komaar2=D100),0),33))","v":""},{"$f":"IF(B100=\"\",\"\",INDEX(Data_kom2,MATCH(1,(komnavn2=B100)*(komaar2=D100),0),34))","v":""},{"$f":"IF(B100=\"\",\"\",INDEX(Data_kom2,MATCH(1,(komnavn2=B100)*(komaar2=D100),0),35))","v":""},{"$f":"IF(B100=\"\",\"\",INDEX(Data_kom2,MATCH(1,(komnavn2=B100)*(komaar2=D100),0),36))","v":""},{"$f":"IF(B100=\"\",\"\",INDEX(Data_kom2,MATCH(1,(komnavn2=B100)*(komaar2=D100),0),37))","v":""},{"$f":"IF(B100=\"\",\"\",INDEX(Data_kom2,MATCH(1,(komnavn2=B100)*(komaar2=D100),0),38))","v":""}]
[4,{"$f":"'Dine valg'!$G$27","v":""},{"$f":"IF(B101=\"\",\"\",INDEX(Data_kom2,MATCH(1,(komnavn2=B101)*(komaar2=D101),0),2))","v":""},"2017-07-01",{"$f":"IF(B101=\"\",\"\",INDEX(Data_kom2,MATCH(1,(komnavn2=B101)*(komaar2=D101),0),4))","v":""},{"$f":"IF(B101=\"\",\"\",INDEX(Data_kom2,MATCH(1,(komnavn2=B101)*(komaar2=D101),0),5))","v":""},{"$f":"IF(B101=\"\",\"\",INDEX(Data_kom2,MATCH(1,(komnavn2=B101)*(komaar2=D101),0),6))","v":""},{"$f":"IF(B101=\"\",\"\",INDEX(Data_kom2,MATCH(1,(komnavn2=B101)*(komaar2=D101),0),7))","v":""},{"$f":"IF(B101=\"\",\"\",INDEX(Data_kom2,MATCH(1,(komnavn2=B101)*(komaar2=D101),0),8))","v":""},{"$f":"IF(B101=\"\",\"\",INDEX(Data_kom2,MATCH(1,(komnavn2=B101)*(komaar2=D101),0),9))","v":""},{"$f":"IF(B101=\"\",\"\",INDEX(Data_kom2,MATCH(1,(komnavn2=B101)*(komaar2=D101),0),10))","v":""},{"$f":"IF(B101=\"\",\"\",INDEX(Data_kom2,MATCH(1,(komnavn2=B101)*(komaar2=D101),0),11))","v":""},{"$f":"IF(B101=\"\",\"\",INDEX(Data_kom2,MATCH(1,(komnavn2=B101)*(komaar2=D101),0),12))","v":""},{"$f":"IF(B101=\"\",\"\",INDEX(Data_kom2,MATCH(1,(komnavn2=B101)*(komaar2=D101),0),13))","v":""},{"$f":"IF(B101=\"\",\"\",INDEX(Data_kom2,MATCH(1,(komnavn2=B101)*(komaar2=D101),0),14))","v":""},{"$f":"IF(B101=\"\",\"\",INDEX(Data_kom2,MATCH(1,(komnavn2=B101)*(komaar2=D101),0),15))","v":""},{"$f":"IF(B101=\"\",\"\",INDEX(Data_kom2,MATCH(1,(komnavn2=B101)*(komaar2=D101),0),16))","v":""},{"$f":"IF(B101=\"\",\"\",INDEX(Data_kom2,MATCH(1,(komnavn2=B101)*(komaar2=D101),0),17))","v":""},{"$f":"IF(B101=\"\",\"\",INDEX(Data_kom2,MATCH(1,(komnavn2=B101)*(komaar2=D101),0),18))","v":""},{"$f":"IF(B101=\"\",\"\",INDEX(Data_kom2,MATCH(1,(komnavn2=B101)*(komaar2=D101),0),19))","v":""},{"$f":"IF(B101=\"\",\"\",INDEX(Data_kom2,MATCH(1,(komnavn2=B101)*(komaar2=D101),0),20))","v":""},{"$f":"IF(B101=\"\",\"\",INDEX(Data_kom2,MATCH(1,(komnavn2=B101)*(komaar2=D101),0),21))","v":""},{"$f":"IF(B101=\"\",\"\",INDEX(Data_kom2,MATCH(1,(komnavn2=B101)*(komaar2=D101),0),22))","v":""},{"$f":"IF(B101=\"\",\"\",INDEX(Data_kom2,MATCH(1,(komnavn2=B101)*(komaar2=D101),0),23))","v":""},{"$f":"IF(B101=\"\",\"\",INDEX(Data_kom2,MATCH(1,(komnavn2=B101)*(komaar2=D101),0),24))","v":""},{"$f":"IF(B101=\"\",\"\",INDEX(Data_kom2,MATCH(1,(komnavn2=B101)*(komaar2=D101),0),25))","v":""},{"$f":"IF(B101=\"\",\"\",INDEX(Data_kom2,MATCH(1,(komnavn2=B101)*(komaar2=D101),0),26))","v":""},{"$f":"IF(B101=\"\",\"\",INDEX(Data_kom2,MATCH(1,(komnavn2=B101)*(komaar2=D101),0),27))","v":""},{"$f":"IF(B101=\"\",\"\",INDEX(Data_kom2,MATCH(1,(komnavn2=B101)*(komaar2=D101),0),28))","v":""},{"$f":"IF(B101=\"\",\"\",INDEX(Data_kom2,MATCH(1,(komnavn2=B101)*(komaar2=D101),0),29))","v":""},{"$f":"IF(B101=\"\",\"\",INDEX(Data_kom2,MATCH(1,(komnavn2=B101)*(komaar2=D101),0),30))","v":""},{"$f":"IF(B101=\"\",\"\",INDEX(Data_kom2,MATCH(1,(komnavn2=B101)*(komaar2=D101),0),31))","v":""},{"$f":"IF(B101=\"\",\"\",INDEX(Data_kom2,MATCH(1,(komnavn2=B101)*(komaar2=D101),0),32))","v":""},{"$f":"IF(B101=\"\",\"\",INDEX(Data_kom2,MATCH(1,(komnavn2=B101)*(komaar2=D101),0),33))","v":""},{"$f":"IF(B101=\"\",\"\",INDEX(Data_kom2,MATCH(1,(komnavn2=B101)*(komaar2=D101),0),34))","v":""},{"$f":"IF(B101=\"\",\"\",INDEX(Data_kom2,MATCH(1,(komnavn2=B101)*(komaar2=D101),0),35))","v":""},{"$f":"IF(B101=\"\",\"\",INDEX(Data_kom2,MATCH(1,(komnavn2=B101)*(komaar2=D101),0),36))","v":""},{"$f":"IF(B101=\"\",\"\",INDEX(Data_kom2,MATCH(1,(komnavn2=B101)*(komaar2=D101),0),37))","v":""},{"$f":"IF(B101=\"\",\"\",INDEX(Data_kom2,MATCH(1,(komnavn2=B101)*(komaar2=D101),0),38))","v":""}]
[5,{"$f":"'Dine valg'!$G$28","v":""},{"$f":"IF(B102=\"\",\"\",INDEX(Data_kom2,MATCH(1,(komnavn2=B102)*(komaar2=D102),0),2))","v":""},"2017-07-01",{"$f":"IF(B102=\"\",\"\",INDEX(Data_kom2,MATCH(1,(komnavn2=B102)*(komaar2=D102),0),4))","v":""},{"$f":"IF(B102=\"\",\"\",INDEX(Data_kom2,MATCH(1,(komnavn2=B102)*(komaar2=D102),0),5))","v":""},{"$f":"IF(B102=\"\",\"\",INDEX(Data_kom2,MATCH(1,(komnavn2=B102)*(komaar2=D102),0),6))","v":""},{"$f":"IF(B102=\"\",\"\",INDEX(Data_kom2,MATCH(1,(komnavn2=B102)*(komaar2=D102),0),7))","v":""},{"$f":"IF(B102=\"\",\"\",INDEX(Data_kom2,MATCH(1,(komnavn2=B102)*(komaar2=D102),0),8))","v":""},{"$f":"IF(B102=\"\",\"\",INDEX(Data_kom2,MATCH(1,(komnavn2=B102)*(komaar2=D102),0),9))","v":""},{"$f":"IF(B102=\"\",\"\",INDEX(Data_kom2,MATCH(1,(komnavn2=B102)*(komaar2=D102),0),10))","v":""},{"$f":"IF(B102=\"\",\"\",INDEX(Data_kom2,MATCH(1,(komnavn2=B102)*(komaar2=D102),0),11))","v":""},{"$f":"IF(B102=\"\",\"\",INDEX(Data_kom2,MATCH(1,(komnavn2=B102)*(komaar2=D102),0),12))","v":""},{"$f":"IF(B102=\"\",\"\",INDEX(Data_kom2,MATCH(1,(komnavn2=B102)*(komaar2=D102),0),13))","v":""},{"$f":"IF(B102=\"\",\"\",INDEX(Data_kom2,MATCH(1,(komnavn2=B102)*(komaar2=D102),0),14))","v":""},{"$f":"IF(B102=\"\",\"\",INDEX(Data_kom2,MATCH(1,(komnavn2=B102)*(komaar2=D102),0),15))","v":""},{"$f":"IF(B102=\"\",\"\",INDEX(Data_kom2,MATCH(1,(komnavn2=B102)*(komaar2=D102),0),16))","v":""},{"$f":"IF(B102=\"\",\"\",INDEX(Data_kom2,MATCH(1,(komnavn2=B102)*(komaar2=D102),0),17))","v":""},{"$f":"IF(B102=\"\",\"\",INDEX(Data_kom2,MATCH(1,(komnavn2=B102)*(komaar2=D102),0),18))","v":""},{"$f":"IF(B102=\"\",\"\",INDEX(Data_kom2,MATCH(1,(komnavn2=B102)*(komaar2=D102),0),19))","v":""},{"$f":"IF(B102=\"\",\"\",INDEX(Data_kom2,MATCH(1,(komnavn2=B102)*(komaar2=D102),0),20))","v":""},{"$f":"IF(B102=\"\",\"\",INDEX(Data_kom2,MATCH(1,(komnavn2=B102)*(komaar2=D102),0),21))","v":""},{"$f":"IF(B102=\"\",\"\",INDEX(Data_kom2,MATCH(1,(komnavn2=B102)*(komaar2=D102),0),22))","v":""},{"$f":"IF(B102=\"\",\"\",INDEX(Data_kom2,MATCH(1,(komnavn2=B102)*(komaar2=D102),0),23))","v":""},{"$f":"IF(B102=\"\",\"\",INDEX(Data_kom2,MATCH(1,(komnavn2=B102)*(komaar2=D102),0),24))","v":""},{"$f":"IF(B102=\"\",\"\",INDEX(Data_kom2,MATCH(1,(komnavn2=B102)*(komaar2=D102),0),25))","v":""},{"$f":"IF(B102=\"\",\"\",INDEX(Data_kom2,MATCH(1,(komnavn2=B102)*(komaar2=D102),0),26))","v":""},{"$f":"IF(B102=\"\",\"\",INDEX(Data_kom2,MATCH(1,(komnavn2=B102)*(komaar2=D102),0),27))","v":""},{"$f":"IF(B102=\"\",\"\",INDEX(Data_kom2,MATCH(1,(komnavn2=B102)*(komaar2=D102),0),28))","v":""},{"$f":"IF(B102=\"\",\"\",INDEX(Data_kom2,MATCH(1,(komnavn2=B102)*(komaar2=D102),0),29))","v":""},{"$f":"IF(B102=\"\",\"\",INDEX(Data_kom2,MATCH(1,(komnavn2=B102)*(komaar2=D102),0),30))","v":""},{"$f":"IF(B102=\"\",\"\",INDEX(Data_kom2,MATCH(1,(komnavn2=B102)*(komaar2=D102),0),31))","v":""},{"$f":"IF(B102=\"\",\"\",INDEX(Data_kom2,MATCH(1,(komnavn2=B102)*(komaar2=D102),0),32))","v":""},{"$f":"IF(B102=\"\",\"\",INDEX(Data_kom2,MATCH(1,(komnavn2=B102)*(komaar2=D102),0),33))","v":""},{"$f":"IF(B102=\"\",\"\",INDEX(Data_kom2,MATCH(1,(komnavn2=B102)*(komaar2=D102),0),34))","v":""},{"$f":"IF(B102=\"\",\"\",INDEX(Data_kom2,MATCH(1,(komnavn2=B102)*(komaar2=D102),0),35))","v":""},{"$f":"IF(B102=\"\",\"\",INDEX(Data_kom2,MATCH(1,(komnavn2=B102)*(komaar2=D102),0),36))","v":""},{"$f":"IF(B102=\"\",\"\",INDEX(Data_kom2,MATCH(1,(komnavn2=B102)*(komaar2=D102),0),37))","v":""},{"$f":"IF(B102=\"\",\"\",INDEX(Data_kom2,MATCH(1,(komnavn2=B102)*(komaar2=D102),0),38))","v":""}]
[6,{"$f":"'Dine valg'!$G$29","v":""},{"$f":"IF(B103=\"\",\"\",INDEX(Data_kom2,MATCH(1,(komnavn2=B103)*(komaar2=D103),0),2))","v":""},"2017-07-01",{"$f":"IF(B103=\"\",\"\",INDEX(Data_kom2,MATCH(1,(komnavn2=B103)*(komaar2=D103),0),4))","v":""},{"$f":"IF(B103=\"\",\"\",INDEX(Data_kom2,MATCH(1,(komnavn2=B103)*(komaar2=D103),0),5))","v":""},{"$f":"IF(B103=\"\",\"\",INDEX(Data_kom2,MATCH(1,(komnavn2=B103)*(komaar2=D103),0),6))","v":""},{"$f":"IF(B103=\"\",\"\",INDEX(Data_kom2,MATCH(1,(komnavn2=B103)*(komaar2=D103),0),7))","v":""},{"$f":"IF(B103=\"\",\"\",INDEX(Data_kom2,MATCH(1,(komnavn2=B103)*(komaar2=D103),0),8))","v":""},{"$f":"IF(B103=\"\",\"\",INDEX(Data_kom2,MATCH(1,(komnavn2=B103)*(komaar2=D103),0),9))","v":""},{"$f":"IF(B103=\"\",\"\",INDEX(Data_kom2,MATCH(1,(komnavn2=B103)*(komaar2=D103),0),10))","v":""},{"$f":"IF(B103=\"\",\"\",INDEX(Data_kom2,MATCH(1,(komnavn2=B103)*(komaar2=D103),0),11))","v":""},{"$f":"IF(B103=\"\",\"\",INDEX(Data_kom2,MATCH(1,(komnavn2=B103)*(komaar2=D103),0),12))","v":""},{"$f":"IF(B103=\"\",\"\",INDEX(Data_kom2,MATCH(1,(komnavn2=B103)*(komaar2=D103),0),13))","v":""},{"$f":"IF(B103=\"\",\"\",INDEX(Data_kom2,MATCH(1,(komnavn2=B103)*(komaar2=D103),0),14))","v":""},{"$f":"IF(B103=\"\",\"\",INDEX(Data_kom2,MATCH(1,(komnavn2=B103)*(komaar2=D103),0),15))","v":""},{"$f":"IF(B103=\"\",\"\",INDEX(Data_kom2,MATCH(1,(komnavn2=B103)*(komaar2=D103),0),16))","v":""},{"$f":"IF(B103=\"\",\"\",INDEX(Data_kom2,MATCH(1,(komnavn2=B103)*(komaar2=D103),0),17))","v":""},{"$f":"IF(B103=\"\",\"\",INDEX(Data_kom2,MATCH(1,(komnavn2=B103)*(komaar2=D103),0),18))","v":""},{"$f":"IF(B103=\"\",\"\",INDEX(Data_kom2,MATCH(1,(komnavn2=B103)*(komaar2=D103),0),19))","v":""},{"$f":"IF(B103=\"\",\"\",INDEX(Data_kom2,MATCH(1,(komnavn2=B103)*(komaar2=D103),0),20))","v":""},{"$f":"IF(B103=\"\",\"\",INDEX(Data_kom2,MATCH(1,(komnavn2=B103)*(komaar2=D103),0),21))","v":""},{"$f":"IF(B103=\"\",\"\",INDEX(Data_kom2,MATCH(1,(komnavn2=B103)*(komaar2=D103),0),22))","v":""},{"$f":"IF(B103=\"\",\"\",INDEX(Data_kom2,MATCH(1,(komnavn2=B103)*(komaar2=D103),0),23))","v":""},{"$f":"IF(B103=\"\",\"\",INDEX(Data_kom2,MATCH(1,(komnavn2=B103)*(komaar2=D103),0),24))","v":""},{"$f":"IF(B103=\"\",\"\",INDEX(Data_kom2,MATCH(1,(komnavn2=B103)*(komaar2=D103),0),25))","v":""},{"$f":"IF(B103=\"\",\"\",INDEX(Data_kom2,MATCH(1,(komnavn2=B103)*(komaar2=D103),0),26))","v":""},{"$f":"IF(B103=\"\",\"\",INDEX(Data_kom2,MATCH(1,(komnavn2=B103)*(komaar2=D103),0),27))","v":""},{"$f":"IF(B103=\"\",\"\",INDEX(Data_kom2,MATCH(1,(komnavn2=B103)*(komaar2=D103),0),28))","v":""},{"$f":"IF(B103=\"\",\"\",INDEX(Data_kom2,MATCH(1,(komnavn2=B103)*(komaar2=D103),0),29))","v":""},{"$f":"IF(B103=\"\",\"\",INDEX(Data_kom2,MATCH(1,(komnavn2=B103)*(komaar2=D103),0),30))","v":""},{"$f":"IF(B103=\"\",\"\",INDEX(Data_kom2,MATCH(1,(komnavn2=B103)*(komaar2=D103),0),31))","v":""},{"$f":"IF(B103=\"\",\"\",INDEX(Data_kom2,MATCH(1,(komnavn2=B103)*(komaar2=D103),0),32))","v":""},{"$f":"IF(B103=\"\",\"\",INDEX(Data_kom2,MATCH(1,(komnavn2=B103)*(komaar2=D103),0),33))","v":""},{"$f":"IF(B103=\"\",\"\",INDEX(Data_kom2,MATCH(1,(komnavn2=B103)*(komaar2=D103),0),34))","v":""},{"$f":"IF(B103=\"\",\"\",INDEX(Data_kom2,MATCH(1,(komnavn2=B103)*(komaar2=D103),0),35))","v":""},{"$f":"IF(B103=\"\",\"\",INDEX(Data_kom2,MATCH(1,(komnavn2=B103)*(komaar2=D103),0),36))","v":""},{"$f":"IF(B103=\"\",\"\",INDEX(Data_kom2,MATCH(1,(komnavn2=B103)*(komaar2=D103),0),37))","v":""},{"$f":"IF(B103=\"\",\"\",INDEX(Data_kom2,MATCH(1,(komnavn2=B103)*(komaar2=D103),0),38))","v":""}]
[7,{"$f":"'Dine valg'!$G$30","v":""},{"$f":"IF(B104=\"\",\"\",INDEX(Data_kom2,MATCH(1,(komnavn2=B104)*(komaar2=D104),0),2))","v":""},"2017-07-01",{"$f":"IF(B104=\"\",\"\",INDEX(Data_kom2,MATCH(1,(komnavn2=B104)*(komaar2=D104),0),4))","v":""},{"$f":"IF(B104=\"\",\"\",INDEX(Data_kom2,MATCH(1,(komnavn2=B104)*(komaar2=D104),0),5))","v":""},{"$f":"IF(B104=\"\",\"\",INDEX(Data_kom2,MATCH(1,(komnavn2=B104)*(komaar2=D104),0),6))","v":""},{"$f":"IF(B104=\"\",\"\",INDEX(Data_kom2,MATCH(1,(komnavn2=B104)*(komaar2=D104),0),7))","v":""},{"$f":"IF(B104=\"\",\"\",INDEX(Data_kom2,MATCH(1,(komnavn2=B104)*(komaar2=D104),0),8))","v":""},{"$f":"IF(B104=\"\",\"\",INDEX(Data_kom2,MATCH(1,(komnavn2=B104)*(komaar2=D104),0),9))","v":""},{"$f":"IF(B104=\"\",\"\",INDEX(Data_kom2,MATCH(1,(komnavn2=B104)*(komaar2=D104),0),10))","v":""},{"$f":"IF(B104=\"\",\"\",INDEX(Data_kom2,MATCH(1,(komnavn2=B104)*(komaar2=D104),0),11))","v":""},{"$f":"IF(B104=\"\",\"\",INDEX(Data_kom2,MATCH(1,(komnavn2=B104)*(komaar2=D104),0),12))","v":""},{"$f":"IF(B104=\"\",\"\",INDEX(Data_kom2,MATCH(1,(komnavn2=B104)*(komaar2=D104),0),13))","v":""},{"$f":"IF(B104=\"\",\"\",INDEX(Data_kom2,MATCH(1,(komnavn2=B104)*(komaar2=D104),0),14))","v":""},{"$f":"IF(B104=\"\",\"\",INDEX(Data_kom2,MATCH(1,(komnavn2=B104)*(komaar2=D104),0),15))","v":""},{"$f":"IF(B104=\"\",\"\",INDEX(Data_kom2,MATCH(1,(komnavn2=B104)*(komaar2=D104),0),16))","v":""},{"$f":"IF(B104=\"\",\"\",INDEX(Data_kom2,MATCH(1,(komnavn2=B104)*(komaar2=D104),0),17))","v":""},{"$f":"IF(B104=\"\",\"\",INDEX(Data_kom2,MATCH(1,(komnavn2=B104)*(komaar2=D104),0),18))","v":""},{"$f":"IF(B104=\"\",\"\",INDEX(Data_kom2,MATCH(1,(komnavn2=B104)*(komaar2=D104),0),19))","v":""},{"$f":"IF(B104=\"\",\"\",INDEX(Data_kom2,MATCH(1,(komnavn2=B104)*(komaar2=D104),0),20))","v":""},{"$f":"IF(B104=\"\",\"\",INDEX(Data_kom2,MATCH(1,(komnavn2=B104)*(komaar2=D104),0),21))","v":""},{"$f":"IF(B104=\"\",\"\",INDEX(Data_kom2,MATCH(1,(komnavn2=B104)*(komaar2=D104),0),22))","v":""},{"$f":"IF(B104=\"\",\"\",INDEX(Data_kom2,MATCH(1,(komnavn2=B104)*(komaar2=D104),0),23))","v":""},{"$f":"IF(B104=\"\",\"\",INDEX(Data_kom2,MATCH(1,(komnavn2=B104)*(komaar2=D104),0),24))","v":""},{"$f":"IF(B104=\"\",\"\",INDEX(Data_kom2,MATCH(1,(komnavn2=B104)*(komaar2=D104),0),25))","v":""},{"$f":"IF(B104=\"\",\"\",INDEX(Data_kom2,MATCH(1,(komnavn2=B104)*(komaar2=D104),0),26))","v":""},{"$f":"IF(B104=\"\",\"\",INDEX(Data_kom2,MATCH(1,(komnavn2=B104)*(komaar2=D104),0),27))","v":""},{"$f":"IF(B104=\"\",\"\",INDEX(Data_kom2,MATCH(1,(komnavn2=B104)*(komaar2=D104),0),28))","v":""},{"$f":"IF(B104=\"\",\"\",INDEX(Data_kom2,MATCH(1,(komnavn2=B104)*(komaar2=D104),0),29))","v":""},{"$f":"IF(B104=\"\",\"\",INDEX(Data_kom2,MATCH(1,(komnavn2=B104)*(komaar2=D104),0),30))","v":""},{"$f":"IF(B104=\"\",\"\",INDEX(Data_kom2,MATCH(1,(komnavn2=B104)*(komaar2=D104),0),31))","v":""},{"$f":"IF(B104=\"\",\"\",INDEX(Data_kom2,MATCH(1,(komnavn2=B104)*(komaar2=D104),0),32))","v":""},{"$f":"IF(B104=\"\",\"\",INDEX(Data_kom2,MATCH(1,(komnavn2=B104)*(komaar2=D104),0),33))","v":""},{"$f":"IF(B104=\"\",\"\",INDEX(Data_kom2,MATCH(1,(komnavn2=B104)*(komaar2=D104),0),34))","v":""},{"$f":"IF(B104=\"\",\"\",INDEX(Data_kom2,MATCH(1,(komnavn2=B104)*(komaar2=D104),0),35))","v":""},{"$f":"IF(B104=\"\",\"\",INDEX(Data_kom2,MATCH(1,(komnavn2=B104)*(komaar2=D104),0),36))","v":""},{"$f":"IF(B104=\"\",\"\",INDEX(Data_kom2,MATCH(1,(komnavn2=B104)*(komaar2=D104),0),37))","v":""},{"$f":"IF(B104=\"\",\"\",INDEX(Data_kom2,MATCH(1,(komnavn2=B104)*(komaar2=D104),0),38))","v":""}]
[1,{"$f":"'Dine valg'!$G$24","v":"Aarhus"},{"$f":"IF(B105=\"\",\"\",INDEX(Data_kom2,MATCH(1,(komnavn2=B105)*(komaar2=D105),0),2))","v":62903},"2017-01-01",{"$f":"IF(B105=\"\",\"\",INDEX(Data_kom2,MATCH(1,(komnavn2=B105)*(komaar2=D105),0),4))","v":188},{"$f":"IF(B105=\"\",\"\",INDEX(Data_kom2,MATCH(1,(komnavn2=B105)*(komaar2=D105),0),5))","v":129},{"$f":"IF(B105=\"\",\"\",INDEX(Data_kom2,MATCH(1,(komnavn2=B105)*(komaar2=D105),0),6))","v":3},{"$f":"IF(B105=\"\",\"\",INDEX(Data_kom2,MATCH(1,(komnavn2=B105)*(komaar2=D105),0),7))","v":56},{"$f":"IF(B105=\"\",\"\",INDEX(Data_kom2,MATCH(1,(komnavn2=B105)*(komaar2=D105),0),8))","v":197062},{"$f":"IF(B105=\"\",\"\",INDEX(Data_kom2,MATCH(1,(komnavn2=B105)*(komaar2=D105),0),9))","v":150304},{"$f":"IF(B105=\"\",\"\",INDEX(Data_kom2,MATCH(1,(komnavn2=B105)*(komaar2=D105),0),10))","v":"*"},{"$f":"IF(B105=\"\",\"\",INDEX(Data_kom2,MATCH(1,(komnavn2=B105)*(komaar2=D105),0),11))","v":"*"},{"$f":"IF(B105=\"\",\"\",INDEX(Data_kom2,MATCH(1,(komnavn2=B105)*(komaar2=D105),0),12))","v":228},{"$f":"IF(B105=\"\",\"\",INDEX(Data_kom2,MATCH(1,(komnavn2=B105)*(komaar2=D105),0),13))","v":41},{"$f":"IF(B105=\"\",\"\",INDEX(Data_kom2,MATCH(1,(komnavn2=B105)*(komaar2=D105),0),14))","v":1124},{"$f":"IF(B105=\"\",\"\",INDEX(Data_kom2,MATCH(1,(komnavn2=B105)*(komaar2=D105),0),15))","v":"*"},{"$f":"IF(B105=\"\",\"\",INDEX(Data_kom2,MATCH(1,(komnavn2=B105)*(komaar2=D105),0),16))","v":24},{"$f":"IF(B105=\"\",\"\",INDEX(Data_kom2,MATCH(1,(komnavn2=B105)*(komaar2=D105),0),17))","v":1090},{"$f":"IF(B105=\"\",\"\",INDEX(Data_kom2,MATCH(1,(komnavn2=B105)*(komaar2=D105),0),18))","v":"*"},{"$f":"IF(B105=\"\",\"\",INDEX(Data_kom2,MATCH(1,(komnavn2=B105)*(komaar2=D105),0),19))","v":0},{"$f":"IF(B105=\"\",\"\",INDEX(Data_kom2,MATCH(1,(komnavn2=B105)*(komaar2=D105),0),20))","v":0},{"$f":"IF(B105=\"\",\"\",INDEX(Data_kom2,MATCH(1,(komnavn2=B105)*(komaar2=D105),0),21))","v":0},{"$f":"IF(B105=\"\",\"\",INDEX(Data_kom2,MATCH(1,(komnavn2=B105)*(komaar2=D105),0),22))","v":36},{"$f":"IF(B105=\"\",\"\",INDEX(Data_kom2,MATCH(1,(komnavn2=B105)*(komaar2=D105),0),23))","v":200},{"$f":"IF(B105=\"\",\"\",INDEX(Data_kom2,MATCH(1,(komnavn2=B105)*(komaar2=D105),0),24))","v":6},{"$f":"IF(B105=\"\",\"\",INDEX(Data_kom2,MATCH(1,(komnavn2=B105)*(komaar2=D105),0),25))","v":200},{"$f":"IF(B105=\"\",\"\",INDEX(Data_kom2,MATCH(1,(komnavn2=B105)*(komaar2=D105),0),26))","v":30},{"$f":"IF(B105=\"\",\"\",INDEX(Data_kom2,MATCH(1,(komnavn2=B105)*(komaar2=D105),0),27))","v":200},{"$f":"IF(B105=\"\",\"\",INDEX(Data_kom2,MATCH(1,(komnavn2=B105)*(komaar2=D105),0),28))","v":"*"},{"$f":"IF(B105=\"\",\"\",INDEX(Data_kom2,MATCH(1,(komnavn2=B105)*(komaar2=D105),0),29))","v":1115},{"$f":"IF(B105=\"\",\"\",INDEX(Data_kom2,MATCH(1,(komnavn2=B105)*(komaar2=D105),0),30))","v":314},{"$f":"IF(B105=\"\",\"\",INDEX(Data_kom2,MATCH(1,(komnavn2=B105)*(komaar2=D105),0),31))","v":1135},{"$f":"IF(B105=\"\",\"\",INDEX(Data_kom2,MATCH(1,(komnavn2=B105)*(komaar2=D105),0),32))","v":0},{"$f":"IF(B105=\"\",\"\",INDEX(Data_kom2,MATCH(1,(komnavn2=B105)*(komaar2=D105),0),33))","v":0},{"$f":"IF(B105=\"\",\"\",INDEX(Data_kom2,MATCH(1,(komnavn2=B105)*(komaar2=D105),0),34))","v":0},{"$f":"IF(B105=\"\",\"\",INDEX(Data_kom2,MATCH(1,(komnavn2=B105)*(komaar2=D105),0),35))","v":0},{"$f":"IF(B105=\"\",\"\",INDEX(Data_kom2,MATCH(1,(komnavn2=B105)*(komaar2=D105),0),36))","v":0},{"$f":"IF(B105=\"\",\"\",INDEX(Data_kom2,MATCH(1,(komnavn2=B105)*(komaar2=D105),0),37))","v":0},{"$f":"IF(B105=\"\",\"\",INDEX(Data_kom2,MATCH(1,(komnavn2=B105)*(komaar2=D105),0),38))","v":"Region Midtjylland"}]
[2,{"$f":"'Dine valg'!$G$25","v":""},{"$f":"IF(B106=\"\",\"\",INDEX(Data_kom2,MATCH(1,(komnavn2=B106)*(komaar2=D106),0),2))","v":""},"2017-01-01",{"$f":"IF(B106=\"\",\"\",INDEX(Data_kom2,MATCH(1,(komnavn2=B106)*(komaar2=D106),0),4))","v":""},{"$f":"IF(B106=\"\",\"\",INDEX(Data_kom2,MATCH(1,(komnavn2=B106)*(komaar2=D106),0),5))","v":""},{"$f":"IF(B106=\"\",\"\",INDEX(Data_kom2,MATCH(1,(komnavn2=B106)*(komaar2=D106),0),6))","v":""},{"$f":"IF(B106=\"\",\"\",INDEX(Data_kom2,MATCH(1,(komnavn2=B106)*(komaar2=D106),0),7))","v":""},{"$f":"IF(B106=\"\",\"\",INDEX(Data_kom2,MATCH(1,(komnavn2=B106)*(komaar2=D106),0),8))","v":""},{"$f":"IF(B106=\"\",\"\",INDEX(Data_kom2,MATCH(1,(komnavn2=B106)*(komaar2=D106),0),9))","v":""},{"$f":"IF(B106=\"\",\"\",INDEX(Data_kom2,MATCH(1,(komnavn2=B106)*(komaar2=D106),0),10))","v":""},{"$f":"IF(B106=\"\",\"\",INDEX(Data_kom2,MATCH(1,(komnavn2=B106)*(komaar2=D106),0),11))","v":""},{"$f":"IF(B106=\"\",\"\",INDEX(Data_kom2,MATCH(1,(komnavn2=B106)*(komaar2=D106),0),12))","v":""},{"$f":"IF(B106=\"\",\"\",INDEX(Data_kom2,MATCH(1,(komnavn2=B106)*(komaar2=D106),0),13))","v":""},{"$f":"IF(B106=\"\",\"\",INDEX(Data_kom2,MATCH(1,(komnavn2=B106)*(komaar2=D106),0),14))","v":""},{"$f":"IF(B106=\"\",\"\",INDEX(Data_kom2,MATCH(1,(komnavn2=B106)*(komaar2=D106),0),15))","v":""},{"$f":"IF(B106=\"\",\"\",INDEX(Data_kom2,MATCH(1,(komnavn2=B106)*(komaar2=D106),0),16))","v":""},{"$f":"IF(B106=\"\",\"\",INDEX(Data_kom2,MATCH(1,(komnavn2=B106)*(komaar2=D106),0),17))","v":""},{"$f":"IF(B106=\"\",\"\",INDEX(Data_kom2,MATCH(1,(komnavn2=B106)*(komaar2=D106),0),18))","v":""},{"$f":"IF(B106=\"\",\"\",INDEX(Data_kom2,MATCH(1,(komnavn2=B106)*(komaar2=D106),0),19))","v":""},{"$f":"IF(B106=\"\",\"\",INDEX(Data_kom2,MATCH(1,(komnavn2=B106)*(komaar2=D106),0),20))","v":""},{"$f":"IF(B106=\"\",\"\",INDEX(Data_kom2,MATCH(1,(komnavn2=B106)*(komaar2=D106),0),21))","v":""},{"$f":"IF(B106=\"\",\"\",INDEX(Data_kom2,MATCH(1,(komnavn2=B106)*(komaar2=D106),0),22))","v":""},{"$f":"IF(B106=\"\",\"\",INDEX(Data_kom2,MATCH(1,(komnavn2=B106)*(komaar2=D106),0),23))","v":""},{"$f":"IF(B106=\"\",\"\",INDEX(Data_kom2,MATCH(1,(komnavn2=B106)*(komaar2=D106),0),24))","v":""},{"$f":"IF(B106=\"\",\"\",INDEX(Data_kom2,MATCH(1,(komnavn2=B106)*(komaar2=D106),0),25))","v":""},{"$f":"IF(B106=\"\",\"\",INDEX(Data_kom2,MATCH(1,(komnavn2=B106)*(komaar2=D106),0),26))","v":""},{"$f":"IF(B106=\"\",\"\",INDEX(Data_kom2,MATCH(1,(komnavn2=B106)*(komaar2=D106),0),27))","v":""},{"$f":"IF(B106=\"\",\"\",INDEX(Data_kom2,MATCH(1,(komnavn2=B106)*(komaar2=D106),0),28))","v":""},{"$f":"IF(B106=\"\",\"\",INDEX(Data_kom2,MATCH(1,(komnavn2=B106)*(komaar2=D106),0),29))","v":""},{"$f":"IF(B106=\"\",\"\",INDEX(Data_kom2,MATCH(1,(komnavn2=B106)*(komaar2=D106),0),30))","v":""},{"$f":"IF(B106=\"\",\"\",INDEX(Data_kom2,MATCH(1,(komnavn2=B106)*(komaar2=D106),0),31))","v":""},{"$f":"IF(B106=\"\",\"\",INDEX(Data_kom2,MATCH(1,(komnavn2=B106)*(komaar2=D106),0),32))","v":""},{"$f":"IF(B106=\"\",\"\",INDEX(Data_kom2,MATCH(1,(komnavn2=B106)*(komaar2=D106),0),33))","v":""},{"$f":"IF(B106=\"\",\"\",INDEX(Data_kom2,MATCH(1,(komnavn2=B106)*(komaar2=D106),0),34))","v":""},{"$f":"IF(B106=\"\",\"\",INDEX(Data_kom2,MATCH(1,(komnavn2=B106)*(komaar2=D106),0),35))","v":""},{"$f":"IF(B106=\"\",\"\",INDEX(Data_kom2,MATCH(1,(komnavn2=B106)*(komaar2=D106),0),36))","v":""},{"$f":"IF(B106=\"\",\"\",INDEX(Data_kom2,MATCH(1,(komnavn2=B106)*(komaar2=D106),0),37))","v":""},{"$f":"IF(B106=\"\",\"\",INDEX(Data_kom2,MATCH(1,(komnavn2=B106)*(komaar2=D106),0),38))","v":""}]
[3,{"$f":"'Dine valg'!$G$26","v":""},{"$f":"IF(B107=\"\",\"\",INDEX(Data_kom2,MATCH(1,(komnavn2=B107)*(komaar2=D107),0),2))","v":""},"2017-01-01",{"$f":"IF(B107=\"\",\"\",INDEX(Data_kom2,MATCH(1,(komnavn2=B107)*(komaar2=D107),0),4))","v":""},{"$f":"IF(B107=\"\",\"\",INDEX(Data_kom2,MATCH(1,(komnavn2=B107)*(komaar2=D107),0),5))","v":""},{"$f":"IF(B107=\"\",\"\",INDEX(Data_kom2,MATCH(1,(komnavn2=B107)*(komaar2=D107),0),6))","v":""},{"$f":"IF(B107=\"\",\"\",INDEX(Data_kom2,MATCH(1,(komnavn2=B107)*(komaar2=D107),0),7))","v":""},{"$f":"IF(B107=\"\",\"\",INDEX(Data_kom2,MATCH(1,(komnavn2=B107)*(komaar2=D107),0),8))","v":""},{"$f":"IF(B107=\"\",\"\",INDEX(Data_kom2,MATCH(1,(komnavn2=B107)*(komaar2=D107),0),9))","v":""},{"$f":"IF(B107=\"\",\"\",INDEX(Data_kom2,MATCH(1,(komnavn2=B107)*(komaar2=D107),0),10))","v":""},{"$f":"IF(B107=\"\",\"\",INDEX(Data_kom2,MATCH(1,(komnavn2=B107)*(komaar2=D107),0),11))","v":""},{"$f":"IF(B107=\"\",\"\",INDEX(Data_kom2,MATCH(1,(komnavn2=B107)*(komaar2=D107),0),12))","v":""},{"$f":"IF(B107=\"\",\"\",INDEX(Data_kom2,MATCH(1,(komnavn2=B107)*(komaar2=D107),0),13))","v":""},{"$f":"IF(B107=\"\",\"\",INDEX(Data_kom2,MATCH(1,(komnavn2=B107)*(komaar2=D107),0),14))","v":""},{"$f":"IF(B107=\"\",\"\",INDEX(Data_kom2,MATCH(1,(komnavn2=B107)*(komaar2=D107),0),15))","v":""},{"$f":"IF(B107=\"\",\"\",INDEX(Data_kom2,MATCH(1,(komnavn2=B107)*(komaar2=D107),0),16))","v":""},{"$f":"IF(B107=\"\",\"\",INDEX(Data_kom2,MATCH(1,(komnavn2=B107)*(komaar2=D107),0),17))","v":""},{"$f":"IF(B107=\"\",\"\",INDEX(Data_kom2,MATCH(1,(komnavn2=B107)*(komaar2=D107),0),18))","v":""},{"$f":"IF(B107=\"\",\"\",INDEX(Data_kom2,MATCH(1,(komnavn2=B107)*(komaar2=D107),0),19))","v":""},{"$f":"IF(B107=\"\",\"\",INDEX(Data_kom2,MATCH(1,(komnavn2=B107)*(komaar2=D107),0),20))","v":""},{"$f":"IF(B107=\"\",\"\",INDEX(Data_kom2,MATCH(1,(komnavn2=B107)*(komaar2=D107),0),21))","v":""},{"$f":"IF(B107=\"\",\"\",INDEX(Data_kom2,MATCH(1,(komnavn2=B107)*(komaar2=D107),0),22))","v":""},{"$f":"IF(B107=\"\",\"\",INDEX(Data_kom2,MATCH(1,(komnavn2=B107)*(komaar2=D107),0),23))","v":""},{"$f":"IF(B107=\"\",\"\",INDEX(Data_kom2,MATCH(1,(komnavn2=B107)*(komaar2=D107),0),24))","v":""},{"$f":"IF(B107=\"\",\"\",INDEX(Data_kom2,MATCH(1,(komnavn2=B107)*(komaar2=D107),0),25))","v":""},{"$f":"IF(B107=\"\",\"\",INDEX(Data_kom2,MATCH(1,(komnavn2=B107)*(komaar2=D107),0),26))","v":""},{"$f":"IF(B107=\"\",\"\",INDEX(Data_kom2,MATCH(1,(komnavn2=B107)*(komaar2=D107),0),27))","v":""},{"$f":"IF(B107=\"\",\"\",INDEX(Data_kom2,MATCH(1,(komnavn2=B107)*(komaar2=D107),0),28))","v":""},{"$f":"IF(B107=\"\",\"\",INDEX(Data_kom2,MATCH(1,(komnavn2=B107)*(komaar2=D107),0),29))","v":""},{"$f":"IF(B107=\"\",\"\",INDEX(Data_kom2,MATCH(1,(komnavn2=B107)*(komaar2=D107),0),30))","v":""},{"$f":"IF(B107=\"\",\"\",INDEX(Data_kom2,MATCH(1,(komnavn2=B107)*(komaar2=D107),0),31))","v":""},{"$f":"IF(B107=\"\",\"\",INDEX(Data_kom2,MATCH(1,(komnavn2=B107)*(komaar2=D107),0),32))","v":""},{"$f":"IF(B107=\"\",\"\",INDEX(Data_kom2,MATCH(1,(komnavn2=B107)*(komaar2=D107),0),33))","v":""},{"$f":"IF(B107=\"\",\"\",INDEX(Data_kom2,MATCH(1,(komnavn2=B107)*(komaar2=D107),0),34))","v":""},{"$f":"IF(B107=\"\",\"\",INDEX(Data_kom2,MATCH(1,(komnavn2=B107)*(komaar2=D107),0),35))","v":""},{"$f":"IF(B107=\"\",\"\",INDEX(Data_kom2,MATCH(1,(komnavn2=B107)*(komaar2=D107),0),36))","v":""},{"$f":"IF(B107=\"\",\"\",INDEX(Data_kom2,MATCH(1,(komnavn2=B107)*(komaar2=D107),0),37))","v":""},{"$f":"IF(B107=\"\",\"\",INDEX(Data_kom2,MATCH(1,(komnavn2=B107)*(komaar2=D107),0),38))","v":""}]
[4,{"$f":"'Dine valg'!$G$27","v":""},{"$f":"IF(B108=\"\",\"\",INDEX(Data_kom2,MATCH(1,(komnavn2=B108)*(komaar2=D108),0),2))","v":""},"2017-01-01",{"$f":"IF(B108=\"\",\"\",INDEX(Data_kom2,MATCH(1,(komnavn2=B108)*(komaar2=D108),0),4))","v":""},{"$f":"IF(B108=\"\",\"\",INDEX(Data_kom2,MATCH(1,(komnavn2=B108)*(komaar2=D108),0),5))","v":""},{"$f":"IF(B108=\"\",\"\",INDEX(Data_kom2,MATCH(1,(komnavn2=B108)*(komaar2=D108),0),6))","v":""},{"$f":"IF(B108=\"\",\"\",INDEX(Data_kom2,MATCH(1,(komnavn2=B108)*(komaar2=D108),0),7))","v":""},{"$f":"IF(B108=\"\",\"\",INDEX(Data_kom2,MATCH(1,(komnavn2=B108)*(komaar2=D108),0),8))","v":""},{"$f":"IF(B108=\"\",\"\",INDEX(Data_kom2,MATCH(1,(komnavn2=B108)*(komaar2=D108),0),9))","v":""},{"$f":"IF(B108=\"\",\"\",INDEX(Data_kom2,MATCH(1,(komnavn2=B108)*(komaar2=D108),0),10))","v":""},{"$f":"IF(B108=\"\",\"\",INDEX(Data_kom2,MATCH(1,(komnavn2=B108)*(komaar2=D108),0),11))","v":""},{"$f":"IF(B108=\"\",\"\",INDEX(Data_kom2,MATCH(1,(komnavn2=B108)*(komaar2=D108),0),12))","v":""},{"$f":"IF(B108=\"\",\"\",INDEX(Data_kom2,MATCH(1,(komnavn2=B108)*(komaar2=D108),0),13))","v":""},{"$f":"IF(B108=\"\",\"\",INDEX(Data_kom2,MATCH(1,(komnavn2=B108)*(komaar2=D108),0),14))","v":""},{"$f":"IF(B108=\"\",\"\",INDEX(Data_kom2,MATCH(1,(komnavn2=B108)*(komaar2=D108),0),15))","v":""},{"$f":"IF(B108=\"\",\"\",INDEX(Data_kom2,MATCH(1,(komnavn2=B108)*(komaar2=D108),0),16))","v":""},{"$f":"IF(B108=\"\",\"\",INDEX(Data_kom2,MATCH(1,(komnavn2=B108)*(komaar2=D108),0),17))","v":""},{"$f":"IF(B108=\"\",\"\",INDEX(Data_kom2,MATCH(1,(komnavn2=B108)*(komaar2=D108),0),18))","v":""},{"$f":"IF(B108=\"\",\"\",INDEX(Data_kom2,MATCH(1,(komnavn2=B108)*(komaar2=D108),0),19))","v":""},{"$f":"IF(B108=\"\",\"\",INDEX(Data_kom2,MATCH(1,(komnavn2=B108)*(komaar2=D108),0),20))","v":""},{"$f":"IF(B108=\"\",\"\",INDEX(Data_kom2,MATCH(1,(komnavn2=B108)*(komaar2=D108),0),21))","v":""},{"$f":"IF(B108=\"\",\"\",INDEX(Data_kom2,MATCH(1,(komnavn2=B108)*(komaar2=D108),0),22))","v":""},{"$f":"IF(B108=\"\",\"\",INDEX(Data_kom2,MATCH(1,(komnavn2=B108)*(komaar2=D108),0),23))","v":""},{"$f":"IF(B108=\"\",\"\",INDEX(Data_kom2,MATCH(1,(komnavn2=B108)*(komaar2=D108),0),24))","v":""},{"$f":"IF(B108=\"\",\"\",INDEX(Data_kom2,MATCH(1,(komnavn2=B108)*(komaar2=D108),0),25))","v":""},{"$f":"IF(B108=\"\",\"\",INDEX(Data_kom2,MATCH(1,(komnavn2=B108)*(komaar2=D108),0),26))","v":""},{"$f":"IF(B108=\"\",\"\",INDEX(Data_kom2,MATCH(1,(komnavn2=B108)*(komaar2=D108),0),27))","v":""},{"$f":"IF(B108=\"\",\"\",INDEX(Data_kom2,MATCH(1,(komnavn2=B108)*(komaar2=D108),0),28))","v":""},{"$f":"IF(B108=\"\",\"\",INDEX(Data_kom2,MATCH(1,(komnavn2=B108)*(komaar2=D108),0),29))","v":""},{"$f":"IF(B108=\"\",\"\",INDEX(Data_kom2,MATCH(1,(komnavn2=B108)*(komaar2=D108),0),30))","v":""},{"$f":"IF(B108=\"\",\"\",INDEX(Data_kom2,MATCH(1,(komnavn2=B108)*(komaar2=D108),0),31))","v":""},{"$f":"IF(B108=\"\",\"\",INDEX(Data_kom2,MATCH(1,(komnavn2=B108)*(komaar2=D108),0),32))","v":""},{"$f":"IF(B108=\"\",\"\",INDEX(Data_kom2,MATCH(1,(komnavn2=B108)*(komaar2=D108),0),33))","v":""},{"$f":"IF(B108=\"\",\"\",INDEX(Data_kom2,MATCH(1,(komnavn2=B108)*(komaar2=D108),0),34))","v":""},{"$f":"IF(B108=\"\",\"\",INDEX(Data_kom2,MATCH(1,(komnavn2=B108)*(komaar2=D108),0),35))","v":""},{"$f":"IF(B108=\"\",\"\",INDEX(Data_kom2,MATCH(1,(komnavn2=B108)*(komaar2=D108),0),36))","v":""},{"$f":"IF(B108=\"\",\"\",INDEX(Data_kom2,MATCH(1,(komnavn2=B108)*(komaar2=D108),0),37))","v":""},{"$f":"IF(B108=\"\",\"\",INDEX(Data_kom2,MATCH(1,(komnavn2=B108)*(komaar2=D108),0),38))","v":""}]
[5,{"$f":"'Dine valg'!$G$28","v":""},{"$f":"IF(B109=\"\",\"\",INDEX(Data_kom2,MATCH(1,(komnavn2=B109)*(komaar2=D109),0),2))","v":""},"2017-01-01",{"$f":"IF(B109=\"\",\"\",INDEX(Data_kom2,MATCH(1,(komnavn2=B109)*(komaar2=D109),0),4))","v":""},{"$f":"IF(B109=\"\",\"\",INDEX(Data_kom2,MATCH(1,(komnavn2=B109)*(komaar2=D109),0),5))","v":""},{"$f":"IF(B109=\"\",\"\",INDEX(Data_kom2,MATCH(1,(komnavn2=B109)*(komaar2=D109),0),6))","v":""},{"$f":"IF(B109=\"\",\"\",INDEX(Data_kom2,MATCH(1,(komnavn2=B109)*(komaar2=D109),0),7))","v":""},{"$f":"IF(B109=\"\",\"\",INDEX(Data_kom2,MATCH(1,(komnavn2=B109)*(komaar2=D109),0),8))","v":""},{"$f":"IF(B109=\"\",\"\",INDEX(Data_kom2,MATCH(1,(komnavn2=B109)*(komaar2=D109),0),9))","v":""},{"$f":"IF(B109=\"\",\"\",INDEX(Data_kom2,MATCH(1,(komnavn2=B109)*(komaar2=D109),0),10))","v":""},{"$f":"IF(B109=\"\",\"\",INDEX(Data_kom2,MATCH(1,(komnavn2=B109)*(komaar2=D109),0),11))","v":""},{"$f":"IF(B109=\"\",\"\",INDEX(Data_kom2,MATCH(1,(komnavn2=B109)*(komaar2=D109),0),12))","v":""},{"$f":"IF(B109=\"\",\"\",INDEX(Data_kom2,MATCH(1,(komnavn2=B109)*(komaar2=D109),0),13))","v":""},{"$f":"IF(B109=\"\",\"\",INDEX(Data_kom2,MATCH(1,(komnavn2=B109)*(komaar2=D109),0),14))","v":""},{"$f":"IF(B109=\"\",\"\",INDEX(Data_kom2,MATCH(1,(komnavn2=B109)*(komaar2=D109),0),15))","v":""},{"$f":"IF(B109=\"\",\"\",INDEX(Data_kom2,MATCH(1,(komnavn2=B109)*(komaar2=D109),0),16))","v":""},{"$f":"IF(B109=\"\",\"\",INDEX(Data_kom2,MATCH(1,(komnavn2=B109)*(komaar2=D109),0),17))","v":""},{"$f":"IF(B109=\"\",\"\",INDEX(Data_kom2,MATCH(1,(komnavn2=B109)*(komaar2=D109),0),18))","v":""},{"$f":"IF(B109=\"\",\"\",INDEX(Data_kom2,MATCH(1,(komnavn2=B109)*(komaar2=D109),0),19))","v":""},{"$f":"IF(B109=\"\",\"\",INDEX(Data_kom2,MATCH(1,(komnavn2=B109)*(komaar2=D109),0),20))","v":""},{"$f":"IF(B109=\"\",\"\",INDEX(Data_kom2,MATCH(1,(komnavn2=B109)*(komaar2=D109),0),21))","v":""},{"$f":"IF(B109=\"\",\"\",INDEX(Data_kom2,MATCH(1,(komnavn2=B109)*(komaar2=D109),0),22))","v":""},{"$f":"IF(B109=\"\",\"\",INDEX(Data_kom2,MATCH(1,(komnavn2=B109)*(komaar2=D109),0),23))","v":""},{"$f":"IF(B109=\"\",\"\",INDEX(Data_kom2,MATCH(1,(komnavn2=B109)*(komaar2=D109),0),24))","v":""},{"$f":"IF(B109=\"\",\"\",INDEX(Data_kom2,MATCH(1,(komnavn2=B109)*(komaar2=D109),0),25))","v":""},{"$f":"IF(B109=\"\",\"\",INDEX(Data_kom2,MATCH(1,(komnavn2=B109)*(komaar2=D109),0),26))","v":""},{"$f":"IF(B109=\"\",\"\",INDEX(Data_kom2,MATCH(1,(komnavn2=B109)*(komaar2=D109),0),27))","v":""},{"$f":"IF(B109=\"\",\"\",INDEX(Data_kom2,MATCH(1,(komnavn2=B109)*(komaar2=D109),0),28))","v":""},{"$f":"IF(B109=\"\",\"\",INDEX(Data_kom2,MATCH(1,(komnavn2=B109)*(komaar2=D109),0),29))","v":""},{"$f":"IF(B109=\"\",\"\",INDEX(Data_kom2,MATCH(1,(komnavn2=B109)*(komaar2=D109),0),30))","v":""},{"$f":"IF(B109=\"\",\"\",INDEX(Data_kom2,MATCH(1,(komnavn2=B109)*(komaar2=D109),0),31))","v":""},{"$f":"IF(B109=\"\",\"\",INDEX(Data_kom2,MATCH(1,(komnavn2=B109)*(komaar2=D109),0),32))","v":""},{"$f":"IF(B109=\"\",\"\",INDEX(Data_kom2,MATCH(1,(komnavn2=B109)*(komaar2=D109),0),33))","v":""},{"$f":"IF(B109=\"\",\"\",INDEX(Data_kom2,MATCH(1,(komnavn2=B109)*(komaar2=D109),0),34))","v":""},{"$f":"IF(B109=\"\",\"\",INDEX(Data_kom2,MATCH(1,(komnavn2=B109)*(komaar2=D109),0),35))","v":""},{"$f":"IF(B109=\"\",\"\",INDEX(Data_kom2,MATCH(1,(komnavn2=B109)*(komaar2=D109),0),36))","v":""},{"$f":"IF(B109=\"\",\"\",INDEX(Data_kom2,MATCH(1,(komnavn2=B109)*(komaar2=D109),0),37))","v":""},{"$f":"IF(B109=\"\",\"\",INDEX(Data_kom2,MATCH(1,(komnavn2=B109)*(komaar2=D109),0),38))","v":""}]
[6,{"$f":"'Dine valg'!$G$29","v":""},{"$f":"IF(B110=\"\",\"\",INDEX(Data_kom2,MATCH(1,(komnavn2=B110)*(komaar2=D110),0),2))","v":""},"2017-01-01",{"$f":"IF(B110=\"\",\"\",INDEX(Data_kom2,MATCH(1,(komnavn2=B110)*(komaar2=D110),0),4))","v":""},{"$f":"IF(B110=\"\",\"\",INDEX(Data_kom2,MATCH(1,(komnavn2=B110)*(komaar2=D110),0),5))","v":""},{"$f":"IF(B110=\"\",\"\",INDEX(Data_kom2,MATCH(1,(komnavn2=B110)*(komaar2=D110),0),6))","v":""},{"$f":"IF(B110=\"\",\"\",INDEX(Data_kom2,MATCH(1,(komnavn2=B110)*(komaar2=D110),0),7))","v":""},{"$f":"IF(B110=\"\",\"\",INDEX(Data_kom2,MATCH(1,(komnavn2=B110)*(komaar2=D110),0),8))","v":""},{"$f":"IF(B110=\"\",\"\",INDEX(Data_kom2,MATCH(1,(komnavn2=B110)*(komaar2=D110),0),9))","v":""},{"$f":"IF(B110=\"\",\"\",INDEX(Data_kom2,MATCH(1,(komnavn2=B110)*(komaar2=D110),0),10))","v":""},{"$f":"IF(B110=\"\",\"\",INDEX(Data_kom2,MATCH(1,(komnavn2=B110)*(komaar2=D110),0),11))","v":""},{"$f":"IF(B110=\"\",\"\",INDEX(Data_kom2,MATCH(1,(komnavn2=B110)*(komaar2=D110),0),12))","v":""},{"$f":"IF(B110=\"\",\"\",INDEX(Data_kom2,MATCH(1,(komnavn2=B110)*(komaar2=D110),0),13))","v":""},{"$f":"IF(B110=\"\",\"\",INDEX(Data_kom2,MATCH(1,(komnavn2=B110)*(komaar2=D110),0),14))","v":""},{"$f":"IF(B110=\"\",\"\",INDEX(Data_kom2,MATCH(1,(komnavn2=B110)*(komaar2=D110),0),15))","v":""},{"$f":"IF(B110=\"\",\"\",INDEX(Data_kom2,MATCH(1,(komnavn2=B110)*(komaar2=D110),0),16))","v":""},{"$f":"IF(B110=\"\",\"\",INDEX(Data_kom2,MATCH(1,(komnavn2=B110)*(komaar2=D110),0),17))","v":""},{"$f":"IF(B110=\"\",\"\",INDEX(Data_kom2,MATCH(1,(komnavn2=B110)*(komaar2=D110),0),18))","v":""},{"$f":"IF(B110=\"\",\"\",INDEX(Data_kom2,MATCH(1,(komnavn2=B110)*(komaar2=D110),0),19))","v":""},{"$f":"IF(B110=\"\",\"\",INDEX(Data_kom2,MATCH(1,(komnavn2=B110)*(komaar2=D110),0),20))","v":""},{"$f":"IF(B110=\"\",\"\",INDEX(Data_kom2,MATCH(1,(komnavn2=B110)*(komaar2=D110),0),21))","v":""},{"$f":"IF(B110=\"\",\"\",INDEX(Data_kom2,MATCH(1,(komnavn2=B110)*(komaar2=D110),0),22))","v":""},{"$f":"IF(B110=\"\",\"\",INDEX(Data_kom2,MATCH(1,(komnavn2=B110)*(komaar2=D110),0),23))","v":""},{"$f":"IF(B110=\"\",\"\",INDEX(Data_kom2,MATCH(1,(komnavn2=B110)*(komaar2=D110),0),24))","v":""},{"$f":"IF(B110=\"\",\"\",INDEX(Data_kom2,MATCH(1,(komnavn2=B110)*(komaar2=D110),0),25))","v":""},{"$f":"IF(B110=\"\",\"\",INDEX(Data_kom2,MATCH(1,(komnavn2=B110)*(komaar2=D110),0),26))","v":""},{"$f":"IF(B110=\"\",\"\",INDEX(Data_kom2,MATCH(1,(komnavn2=B110)*(komaar2=D110),0),27))","v":""},{"$f":"IF(B110=\"\",\"\",INDEX(Data_kom2,MATCH(1,(komnavn2=B110)*(komaar2=D110),0),28))","v":""},{"$f":"IF(B110=\"\",\"\",INDEX(Data_kom2,MATCH(1,(komnavn2=B110)*(komaar2=D110),0),29))","v":""},{"$f":"IF(B110=\"\",\"\",INDEX(Data_kom2,MATCH(1,(komnavn2=B110)*(komaar2=D110),0),30))","v":""},{"$f":"IF(B110=\"\",\"\",INDEX(Data_kom2,MATCH(1,(komnavn2=B110)*(komaar2=D110),0),31))","v":""},{"$f":"IF(B110=\"\",\"\",INDEX(Data_kom2,MATCH(1,(komnavn2=B110)*(komaar2=D110),0),32))","v":""},{"$f":"IF(B110=\"\",\"\",INDEX(Data_kom2,MATCH(1,(komnavn2=B110)*(komaar2=D110),0),33))","v":""},{"$f":"IF(B110=\"\",\"\",INDEX(Data_kom2,MATCH(1,(komnavn2=B110)*(komaar2=D110),0),34))","v":""},{"$f":"IF(B110=\"\",\"\",INDEX(Data_kom2,MATCH(1,(komnavn2=B110)*(komaar2=D110),0),35))","v":""},{"$f":"IF(B110=\"\",\"\",INDEX(Data_kom2,MATCH(1,(komnavn2=B110)*(komaar2=D110),0),36))","v":""},{"$f":"IF(B110=\"\",\"\",INDEX(Data_kom2,MATCH(1,(komnavn2=B110)*(komaar2=D110),0),37))","v":""},{"$f":"IF(B110=\"\",\"\",INDEX(Data_kom2,MATCH(1,(komnavn2=B110)*(komaar2=D110),0),38))","v":""}]
[7,{"$f":"'Dine valg'!$G$30","v":""},{"$f":"IF(B111=\"\",\"\",INDEX(Data_kom2,MATCH(1,(komnavn2=B111)*(komaar2=D111),0),2))","v":""},"2017-01-01",{"$f":"IF(B111=\"\",\"\",INDEX(Data_kom2,MATCH(1,(komnavn2=B111)*(komaar2=D111),0),4))","v":""},{"$f":"IF(B111=\"\",\"\",INDEX(Data_kom2,MATCH(1,(komnavn2=B111)*(komaar2=D111),0),5))","v":""},{"$f":"IF(B111=\"\",\"\",INDEX(Data_kom2,MATCH(1,(komnavn2=B111)*(komaar2=D111),0),6))","v":""},{"$f":"IF(B111=\"\",\"\",INDEX(Data_kom2,MATCH(1,(komnavn2=B111)*(komaar2=D111),0),7))","v":""},{"$f":"IF(B111=\"\",\"\",INDEX(Data_kom2,MATCH(1,(komnavn2=B111)*(komaar2=D111),0),8))","v":""},{"$f":"IF(B111=\"\",\"\",INDEX(Data_kom2,MATCH(1,(komnavn2=B111)*(komaar2=D111),0),9))","v":""},{"$f":"IF(B111=\"\",\"\",INDEX(Data_kom2,MATCH(1,(komnavn2=B111)*(komaar2=D111),0),10))","v":""},{"$f":"IF(B111=\"\",\"\",INDEX(Data_kom2,MATCH(1,(komnavn2=B111)*(komaar2=D111),0),11))","v":""},{"$f":"IF(B111=\"\",\"\",INDEX(Data_kom2,MATCH(1,(komnavn2=B111)*(komaar2=D111),0),12))","v":""},{"$f":"IF(B111=\"\",\"\",INDEX(Data_kom2,MATCH(1,(komnavn2=B111)*(komaar2=D111),0),13))","v":""},{"$f":"IF(B111=\"\",\"\",INDEX(Data_kom2,MATCH(1,(komnavn2=B111)*(komaar2=D111),0),14))","v":""},{"$f":"IF(B111=\"\",\"\",INDEX(Data_kom2,MATCH(1,(komnavn2=B111)*(komaar2=D111),0),15))","v":""},{"$f":"IF(B111=\"\",\"\",INDEX(Data_kom2,MATCH(1,(komnavn2=B111)*(komaar2=D111),0),16))","v":""},{"$f":"IF(B111=\"\",\"\",INDEX(Data_kom2,MATCH(1,(komnavn2=B111)*(komaar2=D111),0),17))","v":""},{"$f":"IF(B111=\"\",\"\",INDEX(Data_kom2,MATCH(1,(komnavn2=B111)*(komaar2=D111),0),18))","v":""},{"$f":"IF(B111=\"\",\"\",INDEX(Data_kom2,MATCH(1,(komnavn2=B111)*(komaar2=D111),0),19))","v":""},{"$f":"IF(B111=\"\",\"\",INDEX(Data_kom2,MATCH(1,(komnavn2=B111)*(komaar2=D111),0),20))","v":""},{"$f":"IF(B111=\"\",\"\",INDEX(Data_kom2,MATCH(1,(komnavn2=B111)*(komaar2=D111),0),21))","v":""},{"$f":"IF(B111=\"\",\"\",INDEX(Data_kom2,MATCH(1,(komnavn2=B111)*(komaar2=D111),0),22))","v":""},{"$f":"IF(B111=\"\",\"\",INDEX(Data_kom2,MATCH(1,(komnavn2=B111)*(komaar2=D111),0),23))","v":""},{"$f":"IF(B111=\"\",\"\",INDEX(Data_kom2,MATCH(1,(komnavn2=B111)*(komaar2=D111),0),24))","v":""},{"$f":"IF(B111=\"\",\"\",INDEX(Data_kom2,MATCH(1,(komnavn2=B111)*(komaar2=D111),0),25))","v":""},{"$f":"IF(B111=\"\",\"\",INDEX(Data_kom2,MATCH(1,(komnavn2=B111)*(komaar2=D111),0),26))","v":""},{"$f":"IF(B111=\"\",\"\",INDEX(Data_kom2,MATCH(1,(komnavn2=B111)*(komaar2=D111),0),27))","v":""},{"$f":"IF(B111=\"\",\"\",INDEX(Data_kom2,MATCH(1,(komnavn2=B111)*(komaar2=D111),0),28))","v":""},{"$f":"IF(B111=\"\",\"\",INDEX(Data_kom2,MATCH(1,(komnavn2=B111)*(komaar2=D111),0),29))","v":""},{"$f":"IF(B111=\"\",\"\",INDEX(Data_kom2,MATCH(1,(komnavn2=B111)*(komaar2=D111),0),30))","v":""},{"$f":"IF(B111=\"\",\"\",INDEX(Data_kom2,MATCH(1,(komnavn2=B111)*(komaar2=D111),0),31))","v":""},{"$f":"IF(B111=\"\",\"\",INDEX(Data_kom2,MATCH(1,(komnavn2=B111)*(komaar2=D111),0),32))","v":""},{"$f":"IF(B111=\"\",\"\",INDEX(Data_kom2,MATCH(1,(komnavn2=B111)*(komaar2=D111),0),33))","v":""},{"$f":"IF(B111=\"\",\"\",INDEX(Data_kom2,MATCH(1,(komnavn2=B111)*(komaar2=D111),0),34))","v":""},{"$f":"IF(B111=\"\",\"\",INDEX(Data_kom2,MATCH(1,(komnavn2=B111)*(komaar2=D111),0),35))","v":""},{"$f":"IF(B111=\"\",\"\",INDEX(Data_kom2,MATCH(1,(komnavn2=B111)*(komaar2=D111),0),36))","v":""},{"$f":"IF(B111=\"\",\"\",INDEX(Data_kom2,MATCH(1,(komnavn2=B111)*(komaar2=D111),0),37))","v":""},{"$f":"IF(B111=\"\",\"\",INDEX(Data_kom2,MATCH(1,(komnavn2=B111)*(komaar2=D111),0),38))","v":""}]
[]
[]
[]
[]
[]
[]
[]
[]
[]
[null,null,null,null,null,null,null,null,null,null,null,null,null,null,null,null,null,null,null,null,null,null,65,251,11,251,54,251,null,null,475,1929]
[null,null,null,null,null,null,null,null,null,null,null,null,null,null,null,null,null,null,null,null,null,null,null,54,0,54,null,54,10,182,29,187]
[null,null,null,null,null,null,null,null,null,null,null,null,null,null,null,null,null,null,null,null,null,null,11,42,0,42,11,42,12,339,64,345]
[null,null,null,null,null,null,null,null,null,null,null,null,null,null,null,null,null,null,null,null,null,null,9,39,null,39,null,39,null,null,31,136]
[null,null,null,null,null,null,null,null,null,null,null,null,null,null,null,null,null,null,null,null,null,null,null,null,null,null,null,null,null,null,6,28]
[null,null,null,null,null,null,null,null,null,null,null,null,null,null,null,null,null,null,null,null,null,null,5,27,0,27,5,27,null,null,45,130]
[null,null,null,null,null,null,null,null,null,null,null,null,null,null,null,null,null,null,null,null,null,null,6,33,0,33,6,33,null,null,81,310]
[null,null,null,null,null,null,null,null,null,null,null,null,null,null,null,null,null,null,null,null,null,null,0,6,0,6,0,6,null,null,9,43]
[null,null,null,null,null,null,null,null,null,null,null,null,null,null,null,null,null,null,null,null,null,null,6,25,null,25,null,25,null,null,21,97]
[null,null,null,null,null,null,null,null,null,null,null,null,null,null,null,null,null,null,null,null,null,null,7,33,0,33,7,33,6,126,20,129]
[null,null,null,null,null,null,null,null,null,null,null,null,null,null,null,null,null,null,null,null,null,null,10,32,null,32,null,32,null,null,42,237]
[null,null,null,null,null,null,null,null,null,null,null,null,null,null,null,null,null,null,null,null,null,null,3,46,0,46,3,46,9,219,58,224]
[null,null,null,null,null,null,null,null,null,null,null,null,null,null,null,null,null,null,null,null,null,null,4,20,0,20,4,20,null,null,35,163]
[null,null,null,null,null,null,null,null,null,null,null,null,null,null,null,null,null,null,null,null,null,null,null,15,0,15,null,15,null,null,11,124]
[null,null,null,null,null,null,null,null,null,null,null,null,null,null,null,null,null,null,null,null,null,null,3,39,0,39,3,39,null,null,51,157]
[null,null,null,null,null,null,null,null,null,null,null,null,null,null,null,null,null,null,null,null,null,null,7,13,0,13,7,13,null,null,17,97]
[null,null,null,null,null,null,null,null,null,null,null,null,null,null,null,null,null,null,null,null,null,null,null,9,0,9,null,9,null,null,17,50]
[null,null,null,null,null,null,null,null,null,null,null,null,null,null,null,null,null,null,null,null,null,null,4,17,0,17,4,17,null,null,17,114]
[null,null,null,null,null,null,null,null,null,null,null,null,null,null,null,null,null,null,null,null,null,null,4,17,null,17,null,17,null,null,9,57]
[null,null,null,null,null,null,null,null,null,null,null,null,null,null,null,null,null,null,null,null,null,null,3,15,0,15,3,15,null,null,32,205]
[null,null,null,null,null,null,null,null,null,null,null,null,null,null,null,null,null,null,null,null,null,null,9,47,null,47,null,47,8,278,57,284]
[null,null,null,null,null,null,null,null,null,null,null,null,null,null,null,null,null,null,null,null,null,null,3,24,0,24,3,24,3,197,48,203]
[null,null,null,null,null,null,null,null,null,null,null,null,null,null,null,null,null,null,null,null,null,null,null,7,0,7,null,7,3,44,5,47]
[null,null,null,null,null,null,null,null,null,null,null,null,null,null,null,null,null,null,null,null,null,null,9,33,0,33,9,33,null,null,80,179]
[null,null,null,null,null,null,null,null,null,null,null,null,null,null,null,null,null,null,null,null,null,null,null,19,0,19,null,19,3,173,19,176]
[null,null,null,null,null,null,null,null,null,null,null,null,null,null,null,null,null,null,null,null,null,null,6,19,3,19,3,19,5,230,52,237]
[null,null,null,null,null,null,null,null,null,null,null,null,null,null,null,null,null,null,null,null,null,null,6,27,0,27,6,27,null,null,42,215]
[null,null,null,null,null,null,null,null,null,null,null,null,null,null,null,null,null,null,null,null,null,null,9,34,0,34,9,34,null,null,65,194]
[null,null,null,null,null,null,null,null,null,null,null,null,null,null,null,null,null,null,null,null,null,null,8,40,null,40,null,40,7,127,24,131]
[null,null,null,null,null,null,null,null,null,null,null,null,null,null,null,null,null,null,null,null,null,null,13,64,0,64,13,64,8,272,90,283]
[null,null,null,null,null,null,null,null,null,null,null,null,null,null,null,null,null,null,null,null,null,null,4,14,null,14,null,14,null,null,14,67]
[null,null,null,null,null,null,null,null,null,null,null,null,null,null,null,null,null,null,null,null,null,null,4,23,0,23,4,23,12,218,63,226]
[null,null,null,null,null,null,null,null,null,null,null,null,null,null,null,null,null,null,null,null,null,null,null,30,0,30,null,30,6,252,11,255]
[null,null,null,null,null,null,null,null,null,null,null,null,null,null,null,null,null,null,null,null,null,null,7,47,0,47,7,47,14,288,57,293]
[null,null,null,null,null,null,null,null,null,null,null,null,null,null,null,null,null,null,null,null,null,null,4,21,0,21,4,21,null,null,35,171]
[null,null,null,null,null,null,null,null,null,null,null,null,null,null,null,null,null,null,null,null,null,null,9,48,null,48,null,48,null,null,76,234]
[null,null,null,null,null,null,null,null,null,null,null,null,null,null,null,null,null,null,null,null,null,null,4,28,0,28,4,28,null,null,31,171]
[null,null,null,null,null,null,null,null,null,null,null,null,null,null,null,null,null,null,null,null,null,null,7,48,0,48,7,48,7,260,52,266]
[null,null,null,null,null,null,null,null,null,null,null,null,null,null,null,null,null,null,null,null,null,null,null,17,null,17,null,17,null,null,10,78]
[null,null,null,null,null,null,null,null,null,null,null,null,null,null,null,null,null,null,null,null,null,null,null,19,0,19,null,19,null,null,36,184]
[null,null,null,null,null,null,null,null,null,null,null,null,null,null,null,null,null,null,null,null,null,null,5,17,0,17,5,17,null,null,24,130]
[null,null,null,null,null,null,null,null,null,null,null,null,null,null,null,null,null,null,null,null,null,null,6,45,null,45,null,45,null,null,67,174]
[null,null,null,null,null,null,null,null,null,null,null,null,null,null,null,null,null,null,null,null,null,null,10,75,3,75,7,75,16,230,32,242]
[null,null,null,null,null,null,null,null,null,null,null,null,null,null,null,null,null,null,null,null,null,null,7,59,0,59,7,59,null,null,53,245]
[null,null,null,null,null,null,null,null,null,null,null,null,null,null,null,null,null,null,null,null,null,null,4,40,0,40,4,40,8,92,42,96]
[null,null,null,null,null,null,null,null,null,null,null,null,null,null,null,null,null,null,null,null,null,null,3,19,0,19,3,19,10,170,43,173]
[null,null,null,null,null,null,null,null,null,null,null,null,null,null,null,null,null,null,null,null,null,null,5,24,0,24,5,24,null,null,37,219]
[null,null,null,null,null,null,null,null,null,null,null,null,null,null,null,null,null,null,null,null,null,null,6,16,0,16,6,16,null,null,32,172]
[null,null,null,null,null,null,null,null,null,null,null,null,null,null,null,null,null,null,null,null,null,null,5,36,0,36,5,36,10,123,45,135]
[null,null,null,null,null,null,null,null,null,null,null,null,null,null,null,null,null,null,null,null,null,null,null,19,0,19,null,19,null,null,3,45]
[null,null,null,null,null,null,null,null,null,null,null,null,null,null,null,null,null,null,null,null,null,null,3,16,0,16,3,16,5,133,25,133]
[null,null,null,null,null,null,null,null,null,null,null,null,null,null,null,null,null,null,null,null,null,null,22,141,5,141,17,141,22,868,223,877]
[null,null,null,null,null,null,null,null,null,null,null,null,null,null,null,null,null,null,null,null,null,null,9,43,0,43,9,43,10,370,48,373]
[null,null,null,null,null,null,null,null,null,null,null,null,null,null,null,null,null,null,null,null,null,null,4,13,0,13,4,13,5,74,17,79]
[null,null,null,null,null,null,null,null,null,null,null,null,null,null,null,null,null,null,null,null,null,null,5,22,null,22,null,22,null,null,3,36]
[null,null,null,null,null,null,null,null,null,null,null,null,null,null,null,null,null,null,null,null,null,null,null,null,null,null,null,null,null,null,5,11]
[null,null,null,null,null,null,null,null,null,null,null,null,null,null,null,null,null,null,null,null,null,null,3,29,null,29,null,29,11,226,53,232]
[null,null,null,null,null,null,null,null,null,null,null,null,null,null,null,null,null,null,null,null,null,null,5,13,null,13,null,13,null,null,37,151]
[null,null,null,null,null,null,null,null,null,null,null,null,null,null,null,null,null,null,null,null,null,null,5,27,0,27,5,27,null,null,62,431]
[null,null,null,null,null,null,null,null,null,null,null,null,null,null,null,null,null,null,null,null,null,null,null,19,0,19,null,19,4,175,47,178]
[null,null,null,null,null,null,null,null,null,null,null,null,null,null,null,null,null,null,null,null,null,null,18,156,0,156,18,156,17,890,104,909]
[null,null,null,null,null,null,null,null,null,null,null,null,null,null,null,null,null,null,null,null,null,null,null,null,null,null,null,null,null,null,0,5]
[null,null,null,null,null,null,null,null,null,null,null,null,null,null,null,null,null,null,null,null,null,null,4,22,0,22,4,22,null,null,100,474]
[null,null,null,null,null,null,null,null,null,null,null,null,null,null,null,null,null,null,null,null,null,null,6,39,0,39,6,39,null,null,57,218]
[null,null,null,null,null,null,null,null,null,null,null,null,null,null,null,null,null,null,null,null,null,null,10,49,null,49,null,49,9,321,73,325]
[null,null,null,null,null,null,null,null,null,null,null,null,null,null,null,null,null,null,null,null,null,null,null,15,0,15,null,15,null,null,18,185]
[null,null,null,null,null,null,null,null,null,null,null,null,null,null,null,null,null,null,null,null,null,null,9,49,0,49,9,49,null,null,107,480]
[null,null,null,null,null,null,null,null,null,null,null,null,null,null,null,null,null,null,null,null,null,null,14,42,4,42,10,42,null,null,68,291]
[null,null,null,null,null,null,null,null,null,null,null,null,null,null,null,null,null,null,null,null,null,null,17,59,null,59,null,59,20,598,129,603]
[null,null,null,null,null,null,null,null,null,null,null,null,null,null,null,null,null,null,null,null,null,null,11,45,null,45,null,45,16,289,36,300]
[null,null,null,null,null,null,null,null,null,null,null,null,null,null,null,null,null,null,null,null,null,null,8,37,null,37,null,37,3,251,62,254]
[null,null,null,null,null,null,null,null,null,null,null,null,null,null,null,null,null,null,null,null,null,null,null,15,0,15,null,15,null,null,23,90]
[null,null,null,null,null,null,null,null,null,null,null,null,null,null,null,null,null,null,null,null,null,null,null,11,0,11,null,11,null,null,29,81]
[null,null,null,null,null,null,null,null,null,null,null,null,null,null,null,null,null,null,null,null,null,null,4,13,0,13,4,13,5,320,56,324]
[null,null,null,null,null,null,null,null,null,null,null,null,null,null,null,null,null,null,null,null,null,null,null,45,0,45,null,45,9,255,42,261]
[null,null,null,null,null,null,null,null,null,null,null,null,null,null,null,null,null,null,null,null,null,null,null,37,0,37,null,37,null,null,13,122]
[null,null,null,null,null,null,null,null,null,null,null,null,null,null,null,null,null,null,null,null,null,null,null,6,0,6,null,6,null,null,8,95]
[null,null,null,null,null,null,null,null,null,null,null,null,null,null,null,null,null,null,null,null,null,null,7,43,0,43,7,43,6,373,124,379]
[null,null,null,null,null,null,null,null,null,null,null,null,null,null,null,null,null,null,null,null,null,null,5,37,null,37,null,37,null,null,72,234]
[null,null,null,null,null,null,null,null,null,null,null,null,null,null,null,null,null,null,null,null,null,null,null,null,null,null,null,null,null,null,6,27]
[null,null,null,null,null,null,null,null,null,null,null,null,null,null,null,null,null,null,null,null,null,null,8,24,3,24,5,24,3,171,49,177]
[null,null,null,null,null,null,null,null,null,null,null,null,null,null,null,null,null,null,null,null,null,null,30,190,4,190,26,190,null,null,293,1083]
[null,null,null,null,null,null,null,null,null,null,null,null,null,null,null,null,null,null,null,null,null,null,null,17,0,17,null,17,null,null,105,139]
[null,null,null,null,null,null,null,null,null,null,null,null,null,null,null,null,null,null,null,null,null,null,4,34,0,34,4,34,null,null,46,317]
[null,null,null,null,null,null,null,null,null,null,null,null,null,null,null,null,null,null,null,null,null,null,5,34,0,34,5,34,null,null,84,351]
[null,null,null,null,null,null,null,null,null,null,null,null,null,null,null,null,null,null,null,null,null,null,7,21,null,21,null,21,null,null,26,121]
[null,null,null,null,null,null,null,null,null,null,null,null,null,null,null,null,null,null,null,null,null,null,6,27,0,27,6,27,null,null,41,223]
[null,null,null,null,null,null,null,null,null,null,null,null,null,null,null,null,null,null,null,null,null,null,10,34,0,34,10,34,4,285,60,288]
[null,null,null,null,null,null,null,null,null,null,null,null,null,null,null,null,null,null,null,null,null,null,6,42,0,42,6,42,15,466,45,473]
[null,null,null,null,null,null,null,null,null,null,null,null,null,null,null,null,null,null,null,null,null,null,6,32,null,32,null,32,null,null,34,159]
[null,null,null,null,{"$f":"IF(B211=\"\",\"\",INDEX(Data_kom2,MATCH(1,(komnavn2=B211)*(komaar2=D211),0),4))","v":""},{"$f":"IF(B211=\"\",\"\",INDEX(Data_kom2,MATCH(1,(komnavn2=B211)*(komaar2=D211),0),5))","v":""},{"$f":"IF(B211=\"\",\"\",INDEX(Data_kom2,MATCH(1,(komnavn2=B211)*(komaar2=D211),0),6))","v":""},{"$f":"IF(B211=\"\",\"\",INDEX(Data_kom2,MATCH(1,(komnavn2=B211)*(komaar2=D211),0),7))","v":""},{"$f":"IF(B211=\"\",\"\",INDEX(Data_kom2,MATCH(1,(komnavn2=B211)*(komaar2=D211),0),8))","v":""},{"$f":"IF(B211=\"\",\"\",INDEX(Data_kom2,MATCH(1,(komnavn2=B211)*(komaar2=D211),0),9))","v":""},{"$f":"IF(B211=\"\",\"\",INDEX(Data_kom2,MATCH(1,(komnavn2=B211)*(komaar2=D211),0),10))","v":""},{"$f":"IF(B211=\"\",\"\",INDEX(Data_kom2,MATCH(1,(komnavn2=B211)*(komaar2=D211),0),11))","v":""},{"$f":"IF(B211=\"\",\"\",INDEX(Data_kom2,MATCH(1,(komnavn2=B211)*(komaar2=D211),0),12))","v":""},{"$f":"IF(B211=\"\",\"\",INDEX(Data_kom2,MATCH(1,(komnavn2=B211)*(komaar2=D211),0),13))","v":""},{"$f":"IF(B211=\"\",\"\",INDEX(Data_kom2,MATCH(1,(komnavn2=B211)*(komaar2=D211),0),14))","v":""},{"$f":"IF(B211=\"\",\"\",INDEX(Data_kom2,MATCH(1,(komnavn2=B211)*(komaar2=D211),0),15))","v":""},{"$f":"IF(B211=\"\",\"\",INDEX(Data_kom2,MATCH(1,(komnavn2=B211)*(komaar2=D211),0),16))","v":""},{"$f":"IF(B211=\"\",\"\",INDEX(Data_kom2,MATCH(1,(komnavn2=B211)*(komaar2=D211),0),17))","v":""},{"$f":"IF(B211=\"\",\"\",INDEX(Data_kom2,MATCH(1,(komnavn2=B211)*(komaar2=D211),0),18))","v":""},null,null,null,8,30,null,30,null,30,null,null,55,235]
[null,null,null,null,{"$f":"IF(B212=\"\",\"\",INDEX(Data_kom2,MATCH(1,(komnavn2=B212)*(komaar2=D212),0),4))","v":""},{"$f":"IF(B212=\"\",\"\",INDEX(Data_kom2,MATCH(1,(komnavn2=B212)*(komaar2=D212),0),5))","v":""},{"$f":"IF(B212=\"\",\"\",INDEX(Data_kom2,MATCH(1,(komnavn2=B212)*(komaar2=D212),0),6))","v":""},{"$f":"IF(B212=\"\",\"\",INDEX(Data_kom2,MATCH(1,(komnavn2=B212)*(komaar2=D212),0),7))","v":""},{"$f":"IF(B212=\"\",\"\",INDEX(Data_kom2,MATCH(1,(komnavn2=B212)*(komaar2=D212),0),8))","v":""},{"$f":"IF(B212=\"\",\"\",INDEX(Data_kom2,MATCH(1,(komnavn2=B212)*(komaar2=D212),0),9))","v":""},{"$f":"IF(B212=\"\",\"\",INDEX(Data_kom2,MATCH(1,(komnavn2=B212)*(komaar2=D212),0),10))","v":""},{"$f":"IF(B212=\"\",\"\",INDEX(Data_kom2,MATCH(1,(komnavn2=B212)*(komaar2=D212),0),11))","v":""},{"$f":"IF(B212=\"\",\"\",INDEX(Data_kom2,MATCH(1,(komnavn2=B212)*(komaar2=D212),0),12))","v":""},{"$f":"IF(B212=\"\",\"\",INDEX(Data_kom2,MATCH(1,(komnavn2=B212)*(komaar2=D212),0),13))","v":""},{"$f":"IF(B212=\"\",\"\",INDEX(Data_kom2,MATCH(1,(komnavn2=B212)*(komaar2=D212),0),14))","v":""},{"$f":"IF(B212=\"\",\"\",INDEX(Data_kom2,MATCH(1,(komnavn2=B212)*(komaar2=D212),0),15))","v":""},{"$f":"IF(B212=\"\",\"\",INDEX(Data_kom2,MATCH(1,(komnavn2=B212)*(komaar2=D212),0),16))","v":""},{"$f":"IF(B212=\"\",\"\",INDEX(Data_kom2,MATCH(1,(komnavn2=B212)*(komaar2=D212),0),17))","v":""},{"$f":"IF(B212=\"\",\"\",INDEX(Data_kom2,MATCH(1,(komnavn2=B212)*(komaar2=D212),0),18))","v":""},null,null,null,3,32,0,32,3,32,7,260,50,263]
[null,null,null,null,{"$f":"IF(B213=\"\",\"\",INDEX(Data_kom2,MATCH(1,(komnavn2=B213)*(komaar2=D213),0),4))","v":""},{"$f":"IF(B213=\"\",\"\",INDEX(Data_kom2,MATCH(1,(komnavn2=B213)*(komaar2=D213),0),5))","v":""},{"$f":"IF(B213=\"\",\"\",INDEX(Data_kom2,MATCH(1,(komnavn2=B213)*(komaar2=D213),0),6))","v":""},{"$f":"IF(B213=\"\",\"\",INDEX(Data_kom2,MATCH(1,(komnavn2=B213)*(komaar2=D213),0),7))","v":""},{"$f":"IF(B213=\"\",\"\",INDEX(Data_kom2,MATCH(1,(komnavn2=B213)*(komaar2=D213),0),8))","v":""},{"$f":"IF(B213=\"\",\"\",INDEX(Data_kom2,MATCH(1,(komnavn2=B213)*(komaar2=D213),0),9))","v":""},{"$f":"IF(B213=\"\",\"\",INDEX(Data_kom2,MATCH(1,(komnavn2=B213)*(komaar2=D213),0),10))","v":""},{"$f":"IF(B213=\"\",\"\",INDEX(Data_kom2,MATCH(1,(komnavn2=B213)*(komaar2=D213),0),11))","v":""},{"$f":"IF(B213=\"\",\"\",INDEX(Data_kom2,MATCH(1,(komnavn2=B213)*(komaar2=D213),0),12))","v":""},{"$f":"IF(B213=\"\",\"\",INDEX(Data_kom2,MATCH(1,(komnavn2=B213)*(komaar2=D213),0),13))","v":""},{"$f":"IF(B213=\"\",\"\",INDEX(Data_kom2,MATCH(1,(komnavn2=B213)*(komaar2=D213),0),14))","v":""},{"$f":"IF(B213=\"\",\"\",INDEX(Data_kom2,MATCH(1,(komnavn2=B213)*(komaar2=D213),0),15))","v":""},{"$f":"IF(B213=\"\",\"\",INDEX(Data_kom2,MATCH(1,(komnavn2=B213)*(komaar2=D213),0),16))","v":""},{"$f":"IF(B213=\"\",\"\",INDEX(Data_kom2,MATCH(1,(komnavn2=B213)*(komaar2=D213),0),17))","v":""},{"$f":"IF(B213=\"\",\"\",INDEX(Data_kom2,MATCH(1,(komnavn2=B213)*(komaar2=D213),0),18))","v":""},null,null,null,null,null,null,null,null,null,null,null,0,4]
[null,null,null,null,{"$f":"IF(B214=\"\",\"\",INDEX(Data_kom2,MATCH(1,(komnavn2=B214)*(komaar2=D214),0),4))","v":""},{"$f":"IF(B214=\"\",\"\",INDEX(Data_kom2,MATCH(1,(komnavn2=B214)*(komaar2=D214),0),5))","v":""},{"$f":"IF(B214=\"\",\"\",INDEX(Data_kom2,MATCH(1,(komnavn2=B214)*(komaar2=D214),0),6))","v":""},{"$f":"IF(B214=\"\",\"\",INDEX(Data_kom2,MATCH(1,(komnavn2=B214)*(komaar2=D214),0),7))","v":""},{"$f":"IF(B214=\"\",\"\",INDEX(Data_kom2,MATCH(1,(komnavn2=B214)*(komaar2=D214),0),8))","v":""},{"$f":"IF(B214=\"\",\"\",INDEX(Data_kom2,MATCH(1,(komnavn2=B214)*(komaar2=D214),0),9))","v":""},{"$f":"IF(B214=\"\",\"\",INDEX(Data_kom2,MATCH(1,(komnavn2=B214)*(komaar2=D214),0),10))","v":""},{"$f":"IF(B214=\"\",\"\",INDEX(Data_kom2,MATCH(1,(komnavn2=B214)*(komaar2=D214),0),11))","v":""},{"$f":"IF(B214=\"\",\"\",INDEX(Data_kom2,MATCH(1,(komnavn2=B214)*(komaar2=D214),0),12))","v":""},{"$f":"IF(B214=\"\",\"\",INDEX(Data_kom2,MATCH(1,(komnavn2=B214)*(komaar2=D214),0),13))","v":""},{"$f":"IF(B214=\"\",\"\",INDEX(Data_kom2,MATCH(1,(komnavn2=B214)*(komaar2=D214),0),14))","v":""},{"$f":"IF(B214=\"\",\"\",INDEX(Data_kom2,MATCH(1,(komnavn2=B214)*(komaar2=D214),0),15))","v":""},{"$f":"IF(B214=\"\",\"\",INDEX(Data_kom2,MATCH(1,(komnavn2=B214)*(komaar2=D214),0),16))","v":""},{"$f":"IF(B214=\"\",\"\",INDEX(Data_kom2,MATCH(1,(komnavn2=B214)*(komaar2=D214),0),17))","v":""},{"$f":"IF(B214=\"\",\"\",INDEX(Data_kom2,MATCH(1,(komnavn2=B214)*(komaar2=D214),0),18))","v":""},null,null,null,null,16,0,16,null,16,null,null,24,96]
[null,null,null,null,null,null,null,null,null,null,null,null,null,null,null,null,null,null,null,null,null,null,4,35,0,35,4,35,null,null,66,209]
[null,null,null,null,null,null,null,null,null,null,null,null,null,null,null,null,null,null,null,null,null,null,null,29,0,29,null,29,null,null,83,302]
[null,null,null,null,null,null,null,null,null,null,null,null,null,null,null,null,null,null,null,null,null,null,20,142,4,142,16,142,23,594,121,598]
[null,null,null,null,null,null,null,null,null,null,null,null,null,null,null,null,null,null,null,null,null,null,6,43,null,43,null,43,null,null,103,243]
[null,null,null,null,null,null,null,null,null,null,null,null,null,null,null,null,null,null,null,null,null,null,626,3525,63,3525,563,3525,775,23201,5247,23726]
[null,null,null,null,null,null,null,null,null,null,null,null,null,null,null,null,null,null,null,null,null,null,47,230,5,230,42,230,57,1942,424,1985]
[null,null,null,null,null,null,null,null,null,null,null,null,null,null,null,null,null,null,null,null,null,null,15,64,3,64,12,64,13,170,71,176]
[null,null,null,null,null,null,null,null,null,null,null,null,null,null,null,null,null,null,null,null,null,null,7,36,0,36,7,36,null,null,71,346]
[null,null,null,null,null,null,null,null,null,null,null,null,null,null,null,null,null,null,null,null,null,null,6,34,0,34,6,34,null,null,38,133]
[null,null,null,null,null,null,null,null,null,null,null,null,null,null,null,null,null,null,null,null,null,null,null,null,null,null,null,null,null,null,9,29]
[null,null,null,null,null,null,null,null,null,null,null,null,null,null,null,null,null,null,null,null,null,null,7,29,null,29,null,29,null,null,46,114]
[null,null,null,null,null,null,null,null,null,null,null,null,null,null,null,null,null,null,null,null,null,null,4,31,0,31,4,31,7,270,55,277]
[null,null,null,null,null,null,null,null,null,null,null,null,null,null,null,null,null,null,null,null,null,null,3,8,0,8,3,8,null,null,8,54]
[null,null,null,null,null,null,null,null,null,null,null,null,null,null,null,null,null,null,null,null,null,null,5,27,null,27,null,27,7,105,17,109]
[null,null,null,null,null,null,null,null,null,null,null,null,null,null,null,null,null,null,null,null,null,null,4,30,0,30,4,30,4,127,35,131]
[null,null,null,null,null,null,null,null,null,null,null,null,null,null,null,null,null,null,null,null,null,null,6,27,null,27,null,27,null,null,40,242]
[null,null,null,null,null,null,null,null,null,null,null,null,null,null,null,null,null,null,null,null,null,null,9,46,null,46,null,46,13,207,85,211]
[null,null,null,null,null,null,null,null,null,null,null,null,null,null,null,null,null,null,null,null,null,null,3,17,0,17,3,17,null,null,41,159]
[null,null,null,null,null,null,null,null,null,null,null,null,null,null,null,null,null,null,null,null,null,null,4,13,0,13,4,13,null,null,19,154]
[null,null,null,null,null,null,null,null,null,null,null,null,null,null,null,null,null,null,null,null,null,null,3,39,0,39,3,39,null,null,52,147]
[null,null,null,null,null,null,null,null,null,null,null,null,null,null,null,null,null,null,null,null,null,null,0,8,0,8,0,8,null,null,35,109]
[null,null,null,null,null,null,null,null,null,null,null,null,null,null,null,null,null,null,null,null,null,null,3,7,0,7,3,7,null,null,13,51]
[null,null,null,null,null,null,null,null,null,null,null,null,null,null,null,null,null,null,null,null,null,null,3,16,null,16,null,16,null,null,25,110]
[null,null,null,null,null,null,null,null,null,null,null,null,null,null,null,null,null,null,null,null,null,null,5,15,null,15,null,15,3,53,20,56]
[null,null,null,null,null,null,null,null,null,null,null,null,null,null,null,null,null,null,null,null,null,null,null,17,0,17,null,17,null,null,49,199]
[null,null,null,null,null,null,null,null,null,null,null,null,null,null,null,null,null,null,null,null,null,null,5,39,0,39,5,39,8,290,74,297]
[null,null,null,null,null,null,null,null,null,null,null,null,null,null,null,null,null,null,null,null,null,null,7,22,0,22,7,22,5,192,38,195]
[null,null,null,null,null,null,null,null,null,null,null,null,null,null,null,null,null,null,null,null,null,null,0,7,0,7,0,7,null,null,9,48]
[null,null,null,null,null,null,null,null,null,null,null,null,null,null,null,null,null,null,null,null,null,null,3,29,0,29,3,29,null,null,20,129]
[null,null,null,null,null,null,null,null,null,null,null,null,null,null,null,null,null,null,null,null,null,null,null,18,0,18,null,18,5,196,28,200]
[null,null,null,null,null,null,null,null,null,null,null,null,null,null,null,null,null,null,null,null,null,null,3,18,0,18,3,18,9,210,44,216]
[null,null,null,null,null,null,null,null,null,null,null,null,null,null,null,null,null,null,null,null,null,null,10,31,0,31,10,31,13,193,46,207]
[null,null,null,null,null,null,null,null,null,null,null,null,null,null,null,null,null,null,null,null,null,null,9,29,0,29,9,29,null,null,50,206]
[null,null,null,null,null,null,null,null,null,null,null,null,null,null,null,null,null,null,null,null,null,null,9,34,0,34,9,34,null,null,27,134]
[null,null,null,null,null,null,null,null,null,null,null,null,null,null,null,null,null,null,null,null,null,null,12,62,0,62,12,62,10,280,108,286]
[null,null,null,null,null,null,null,null,null,null,null,null,null,null,null,null,null,null,null,null,null,null,3,13,0,13,3,13,null,null,7,61]
[null,null,null,null,null,null,null,null,null,null,null,null,null,null,null,null,null,null,null,null,null,null,null,24,0,24,null,24,6,201,34,210]
[null,null,null,null,null,null,null,null,null,null,null,null,null,null,null,null,null,null,null,null,null,null,6,29,0,29,6,29,5,269,39,272]
[null,null,null,null,null,null,null,null,null,null,null,null,null,null,null,null,null,null,null,null,null,null,11,54,0,54,11,54,12,279,60,284]
[null,null,null,null,null,null,null,null,null,null,null,null,null,null,null,null,null,null,null,null,null,null,3,25,null,25,null,25,null,null,42,173]
[null,null,null,null,null,null,null,null,null,null,null,null,null,null,null,null,null,null,null,null,null,null,18,55,3,55,15,55,null,null,50,179]
[null,null,null,null,null,null,null,null,null,null,null,null,null,null,null,null,null,null,null,null,null,null,3,26,0,26,3,26,8,160,34,165]
[null,null,null,null,null,null,null,null,null,null,null,null,null,null,null,null,null,null,null,null,null,null,7,46,null,46,null,46,13,265,126,274]
[null,null,null,null,null,null,null,null,null,null,null,null,null,null,null,null,null,null,null,null,null,null,4,21,0,21,4,21,null,null,20,84]
[null,null,null,null,null,null,null,null,null,null,null,null,null,null,null,null,null,null,null,null,null,null,4,20,null,20,null,20,7,182,29,197]
[null,null,null,null,null,null,null,null,null,null,null,null,null,null,null,null,null,null,null,null,null,null,5,14,0,14,5,14,null,null,34,111]
[null,null,null,null,null,null,null,null,null,null,null,null,null,null,null,null,null,null,null,null,null,null,13,41,3,41,10,41,null,null,41,159]
[null,null,null,null,null,null,null,null,null,null,null,null,null,null,null,null,null,null,null,null,null,null,9,77,null,77,null,77,15,258,103,268]
[null,null,null,null,null,null,null,null,null,null,null,null,null,null,null,null,null,null,null,null,null,null,10,66,0,66,10,66,null,null,63,225]
[null,null,null,null,null,null,null,null,null,null,null,null,null,null,null,null,null,null,null,null,null,null,7,44,0,44,7,44,9,85,32,89]
[null,null,null,null,null,null,null,null,null,null,null,null,null,null,null,null,null,null,null,null,null,null,4,20,0,20,4,20,null,null,39,156]
[null,null,null,null,null,null,null,null,null,null,null,null,null,null,null,null,null,null,null,null,null,null,5,23,0,23,5,23,null,null,13,218]
[null,null,null,null,null,null,null,null,null,null,null,null,null,null,null,null,null,null,null,null,null,null,3,12,0,12,3,12,4,198,41,202]
[null,null,null,null,null,null,null,null,null,null,null,null,null,null,null,null,null,null,null,null,null,null,null,34,0,34,null,34,10,117,46,125]
[null,null,null,null,null,null,null,null,null,null,null,null,null,null,null,null,null,null,null,null,null,null,null,17,0,17,null,17,null,null,null,44]
[null,null,null,null,null,null,null,null,null,null,null,null,null,null,null,null,null,null,null,null,null,null,4,15,0,15,4,15,null,null,50,115]
[null,null,null,null,null,null,null,null,null,null,null,null,null,null,null,null,null,null,null,null,null,null,22,149,0,149,22,149,null,null,147,815]
[null,null,null,null,null,null,null,null,null,null,null,null,null,null,null,null,null,null,null,null,null,null,7,36,0,36,7,36,null,null,52,411]
[null,null,null,null,null,null,null,null,null,null,null,null,null,null,null,null,null,null,null,null,null,null,null,12,0,12,null,12,6,76,29,81]
[null,null,null,null,null,null,null,null,null,null,null,null,null,null,null,null,null,null,null,null,null,null,null,20,0,20,null,20,null,null,12,52]
[null,null,null,null,null,null,null,null,null,null,null,null,null,null,null,null,null,null,null,null,null,null,null,3,0,3,null,3,null,null,6,13]
[null,null,null,null,null,null,null,null,null,null,null,null,null,null,null,null,null,null,null,null,null,null,10,30,0,30,10,30,9,225,79,228]
[null,null,null,null,null,null,null,null,null,null,null,null,null,null,null,null,null,null,null,null,null,null,3,10,0,10,3,10,null,null,39,143]
[null,null,null,null,null,null,null,null,null,null,null,null,null,null,null,null,null,null,null,null,null,null,null,25,0,25,null,25,26,434,148,451]
[null,null,null,null,null,null,null,null,null,null,null,null,null,null,null,null,null,null,null,null,null,null,5,18,null,18,null,18,7,154,39,158]
[null,null,null,null,null,null,null,null,null,null,null,null,null,null,null,null,null,null,null,null,null,null,37,152,null,152,null,152,27,948,95,960]
[null,null,null,null,null,null,null,null,null,null,null,null,null,null,null,null,null,null,null,null,null,null,null,3,0,3,null,3,0,4,0,4]
[null,null,null,null,null,null,null,null,null,null,null,null,null,null,null,null,null,null,null,null,null,null,3,19,null,19,null,19,10,470,117,473]
[null,null,null,null,null,null,null,null,null,null,null,null,null,null,null,null,null,null,null,null,null,null,7,39,null,39,null,39,5,223,98,223]
[null,null,null,null,null,null,null,null,null,null,null,null,null,null,null,null,null,null,null,null,null,null,11,45,0,45,11,45,null,null,74,314]
[null,null,null,null,null,null,null,null,null,null,null,null,null,null,null,null,null,null,null,null,null,null,4,16,0,16,4,16,null,null,43,235]
[null,null,null,null,null,null,null,null,null,null,null,null,null,null,null,null,null,null,null,null,null,null,13,55,4,55,9,55,null,null,127,489]
[null,null,null,null,null,null,null,null,null,null,null,null,null,null,null,null,null,null,null,null,null,null,10,35,0,35,10,35,null,null,122,333]
[null,null,null,null,null,null,null,null,null,null,null,null,null,null,null,null,null,null,null,null,null,null,13,60,3,60,10,60,18,537,85,544]
[null,null,null,null,null,null,null,null,null,null,null,null,null,null,null,null,null,null,null,null,null,null,18,45,null,45,null,45,11,341,65,352]
[null,null,null,null,null,null,null,null,null,null,null,null,null,null,null,null,null,null,null,null,null,null,8,31,null,31,null,31,5,284,75,284]
[null,null,null,null,null,null,null,null,null,null,null,null,null,null,null,null,null,null,null,null,null,null,5,15,0,15,5,15,null,null,15,74]
[null,null,null,null,null,null,null,null,null,null,null,null,null,null,null,null,null,null,null,null,null,null,4,11,null,11,null,11,null,null,10,79]
[null,null,null,null,null,null,null,null,null,null,null,null,null,null,null,null,null,null,null,null,null,null,3,11,null,11,null,11,8,322,55,326]
[null,null,null,null,null,null,null,null,null,null,null,null,null,null,null,null,null,null,null,null,null,null,8,50,0,50,8,50,null,null,99,269]
[null,null,null,null,null,null,null,null,null,null,null,null,null,null,null,null,null,null,null,null,null,null,7,41,0,41,7,41,null,null,25,129]
[null,null,null,null,null,null,null,null,null,null,null,null,null,null,null,null,null,null,null,null,null,null,null,6,0,6,null,6,null,null,14,124]
[null,null,null,null,null,null,null,null,null,null,null,null,null,null,null,null,null,null,null,null,null,null,12,42,null,42,null,42,null,null,109,373]
[null,null,null,null,null,null,null,null,null,null,null,null,null,null,null,null,null,null,null,null,null,null,7,33,null,33,null,33,null,null,53,234]
[null,null,null,null,null,null,null,null,null,null,null,null,null,null,null,null,null,null,null,null,null,null,null,null,null,null,null,null,null,null,5,23]
[null,null,null,null,null,null,null,null,null,null,null,null,null,null,null,null,null,null,null,null,null,null,5,19,null,19,null,19,null,null,58,196]
[null,null,null,null,null,null,null,null,null,null,null,null,null,null,null,null,null,null,null,null,null,null,31,189,3,189,28,189,52,1119,301,1152]
[null,null,null,null,null,null,null,null,null,null,null,null,null,null,null,null,null,null,null,null,null,null,0,15,0,15,0,15,null,null,10,40]
[null,null,null,null,null,null,null,null,null,null,null,null,null,null,null,null,null,null,null,null,null,null,4,34,0,34,4,34,null,null,60,315]
[null,null,null,null,null,null,null,null,null,null,null,null,null,null,null,null,null,null,null,null,null,null,5,34,null,34,null,34,null,null,59,314]
[null,null,null,null,null,null,null,null,null,null,null,null,null,null,null,null,null,null,null,null,null,null,5,16,null,16,null,16,null,null,20,119]
[null,null,null,null,null,null,null,null,null,null,null,null,null,null,null,null,null,null,null,null,null,null,7,26,3,26,4,26,null,null,110,212]
[null,null,null,null,null,null,null,null,null,null,null,null,null,null,null,null,null,null,null,null,null,null,7,25,null,25,null,25,null,null,93,282]
[null,null,null,null,null,null,null,null,null,null,null,null,null,null,null,null,null,null,null,null,null,null,14,44,4,44,10,44,null,null,261,527]
[null,null,null,null,null,null,null,null,null,null,null,null,null,null,null,null,null,null,null,null,null,null,4,28,null,28,null,28,null,null,37,155]
[null,null,null,null,null,null,null,null,null,null,null,null,null,null,null,null,null,null,null,null,null,null,4,32,0,32,4,32,null,null,93,248]
[null,null,null,null,null,null,null,null,null,null,null,null,null,null,null,null,null,null,null,null,null,null,6,34,0,34,6,34,null,null,51,268]
[null,null,null,null,null,null,null,null,null,null,null,null,null,null,null,null,null,null,null,null,null,null,0,0,0,0,0,0,null,null,null,4]
[null,null,null,null,null,null,null,null,null,null,null,null,null,null,null,null,null,null,null,null,null,null,4,14,0,14,4,14,null,null,8,90]
[null,null,null,null,null,null,null,null,null,null,null,null,null,null,null,null,null,null,null,null,null,null,3,34,0,34,3,34,null,null,73,226]
[null,null,null,null,null,null,null,null,null,null,null,null,null,null,null,null,null,null,null,null,null,null,5,29,0,29,5,29,null,null,60,273]
[null,null,null,null,null,null,null,null,null,null,null,null,null,null,null,null,null,null,null,null,null,null,19,148,4,148,15,148,24,736,166,744]
[null,null,null,null,null,null,null,null,null,null,null,null,null,null,null,null,null,null,null,null,null,null,6,42,null,42,null,42,8,181,55,181]
[null,null,null,null,null,null,null,null,null,null,null,null,null,null,null,null,null,null,null,null,null,null,673,3438,75,3438,598,3438,819,23373,5854,23861]
[null,null,null,null,null,null,null,null,null,null,null,null,null,null,null,null,null,null,null,null,null,null,46,233,9,233,37,233,59,2072,516,2101]
[null,null,null,null,null,null,null,null,null,null,null,null,null,null,null,null,null,null,null,null,null,null,5,62,null,62,null,62,null,null,33,157]
[null,null,null,null,null,null,null,null,null,null,null,null,null,null,null,null,null,null,null,null,null,null,5,36,0,36,5,36,null,null,63,310]
[null,null,null,null,null,null,null,null,null,null,null,null,null,null,null,null,null,null,null,null,null,null,6,39,0,39,6,39,null,null,34,121]
[null,null,null,null,null,null,null,null,null,null,null,null,null,null,null,null,null,null,null,null,null,null,null,null,null,null,null,null,null,null,8,29]
[null,null,null,null,null,null,null,null,null,null,null,null,null,null,null,null,null,null,null,null,null,null,4,30,0,30,4,30,null,null,21,110]
[null,null,null,null,null,null,null,null,null,null,null,null,null,null,null,null,null,null,null,null,null,null,10,35,null,35,null,35,8,270,61,275]
[null,null,null,null,null,null,null,null,null,null,null,null,null,null,null,null,null,null,null,null,null,null,null,8,0,8,null,8,0,62,17,65]
[null,null,null,null,null,null,null,null,null,null,null,null,null,null,null,null,null,null,null,null,null,null,9,27,0,27,9,27,null,null,15,94]
[null,null,null,null,null,null,null,null,null,null,null,null,null,null,null,null,null,null,null,null,null,null,5,29,null,29,null,29,4,153,18,156]
[null,null,null,null,null,null,null,null,null,null,null,null,null,null,null,null,null,null,null,null,null,null,7,25,null,25,null,25,null,null,45,276]
[null,null,null,null,null,null,null,null,null,null,null,null,null,null,null,null,null,null,null,null,null,null,9,64,0,64,9,64,5,197,40,201]
[null,null,null,null,null,null,null,null,null,null,null,null,null,null,null,null,null,null,null,null,null,null,3,19,null,19,null,19,null,null,30,155]
[null,null,null,null,null,null,null,null,null,null,null,null,null,null,null,null,null,null,null,null,null,null,null,11,null,11,0,11,null,null,26,163]
[null,null,null,null,null,null,null,null,null,null,null,null,null,null,null,null,null,null,null,null,null,null,9,38,null,38,null,38,6,122,24,122]
[null,null,null,null,null,null,null,null,null,null,null,null,null,null,null,null,null,null,null,null,null,null,null,9,0,9,null,9,null,null,32,101]
[null,null,null,null,null,null,null,null,null,null,null,null,null,null,null,null,null,null,null,null,null,null,null,7,0,7,null,7,null,null,18,49]
[null,null,null,null,null,null,null,null,null,null,null,null,null,null,null,null,null,null,null,null,null,null,3,16,0,16,3,16,null,null,22,128]
[null,null,null,null,null,null,null,null,null,null,null,null,null,null,null,null,null,null,null,null,null,null,null,11,0,11,null,11,null,null,9,48]
[null,null,null,null,null,null,null,null,null,null,null,null,null,null,null,null,null,null,null,null,null,null,6,20,0,20,6,20,7,184,42,184]
[null,null,null,null,null,null,null,null,null,null,null,null,null,null,null,null,null,null,null,null,null,null,5,35,0,35,5,35,10,287,69,292]
[null,null,null,null,null,null,null,null,null,null,null,null,null,null,null,null,null,null,null,null,null,null,3,22,0,22,3,22,null,null,38,219]
[null,null,null,null,null,null,null,null,null,null,null,null,null,null,null,null,null,null,null,null,null,null,null,9,0,9,null,9,null,null,12,38]
[null,null,null,null,null,null,null,null,null,null,null,null,null,null,null,null,null,null,null,null,null,null,3,27,0,27,3,27,null,null,48,209]
[null,null,null,null,null,null,null,null,null,null,null,null,null,null,null,null,null,null,null,null,null,null,5,22,null,22,null,22,5,221,42,221]
[null,null,null,null,null,null,null,null,null,null,null,null,null,null,null,null,null,null,null,null,null,null,null,15,0,15,null,15,10,184,49,190]
[null,null,null,null,null,null,null,null,null,null,null,null,null,null,null,null,null,null,null,null,null,null,5,28,null,28,null,28,7,193,46,200]
[null,null,null,null,null,null,null,null,null,null,null,null,null,null,null,null,null,null,null,null,null,null,5,29,null,29,null,29,10,222,68,226]
[null,null,null,null,null,null,null,null,null,null,null,null,null,null,null,null,null,null,null,null,null,null,6,33,0,33,6,33,null,null,34,155]
[null,null,null,null,null,null,null,null,null,null,null,null,null,null,null,null,null,null,null,null,null,null,14,64,0,64,14,64,null,null,99,283]
[null,null,null,null,null,null,null,null,null,null,null,null,null,null,null,null,null,null,null,null,null,null,3,13,0,13,3,13,null,null,11,63]
[null,null,null,null,null,null,null,null,null,null,null,null,null,null,null,null,null,null,null,null,null,null,7,29,0,29,7,29,7,233,67,239]
[null,null,null,null,null,null,null,null,null,null,null,null,null,null,null,null,null,null,null,null,null,null,10,24,0,24,10,24,5,267,38,270]
[null,null,null,null,null,null,null,null,null,null,null,null,null,null,null,null,null,null,null,null,null,null,10,55,null,55,null,55,13,301,68,306]
[null,null,null,null,null,null,null,null,null,null,null,null,null,null,null,null,null,null,null,null,null,null,9,28,null,28,null,28,null,null,29,162]
[null,null,null,null,null,null,null,null,null,null,null,null,null,null,null,null,null,null,null,null,null,null,3,53,0,53,3,53,16,170,45,180]
[null,null,null,null,null,null,null,null,null,null,null,null,null,null,null,null,null,null,null,null,null,null,8,36,null,36,null,36,null,null,51,166]
[null,null,null,null,null,null,null,null,null,null,null,null,null,null,null,null,null,null,null,null,null,null,11,48,null,48,null,48,17,202,59,210]
[null,null,null,null,null,null,null,null,null,null,null,null,null,null,null,null,null,null,null,null,null,null,null,24,0,24,null,24,5,97,32,100]
[null,null,null,null,null,null,null,null,null,null,null,null,null,null,null,null,null,null,null,null,null,null,7,19,0,19,7,19,null,null,35,213]
[null,null,null,null,null,null,null,null,null,null,null,null,null,null,null,null,null,null,null,null,null,null,null,12,0,12,null,12,null,null,12,82]
[null,null,null,null,null,null,null,null,null,null,null,null,null,null,null,null,null,null,null,null,null,null,6,38,0,38,6,38,null,null,76,307]
[null,null,null,null,null,null,null,null,null,null,null,null,null,null,null,null,null,null,null,null,null,null,11,79,null,79,null,79,15,280,54,291]
[null,null,null,null,null,null,null,null,null,null,null,null,null,null,null,null,null,null,null,null,null,null,13,67,4,67,9,67,null,null,50,190]
[null,null,null,null,null,null,null,null,null,null,null,null,null,null,null,null,null,null,null,null,null,null,5,42,0,42,5,42,6,89,30,94]
[null,null,null,null,null,null,null,null,null,null,null,null,null,null,null,null,null,null,null,null,null,null,null,18,null,18,null,18,null,null,23,143]
[null,null,null,null,null,null,null,null,null,null,null,null,null,null,null,null,null,null,null,null,null,null,6,23,null,23,null,23,null,null,30,245]
[null,null,null,null,null,null,null,null,null,null,null,null,null,null,null,null,null,null,null,null,null,null,0,10,0,10,0,10,6,182,39,185]
[null,null,null,null,null,null,null,null,null,null,null,null,null,null,null,null,null,null,null,null,null,null,3,37,0,37,3,37,null,null,26,180]
[null,null,null,null,null,null,null,null,null,null,null,null,null,null,null,null,null,null,null,null,null,null,null,18,0,18,null,18,null,null,4,53]
[null,null,null,null,null,null,null,null,null,null,null,null,null,null,null,null,null,null,null,null,null,null,3,17,0,17,3,17,6,91,25,91]
[null,null,null,null,null,null,null,null,null,null,null,null,null,null,null,null,null,null,null,null,null,null,23,168,4,168,19,168,18,928,216,933]
[null,null,null,null,null,null,null,null,null,null,null,null,null,null,null,null,null,null,null,null,null,null,7,34,0,34,7,34,null,null,81,418]
[null,null,null,null,null,null,null,null,null,null,null,null,null,null,null,null,null,null,null,null,null,null,3,14,null,14,null,14,5,52,18,57]
[null,null,null,null,null,null,null,null,null,null,null,null,null,null,null,null,null,null,null,null,null,null,4,19,0,19,4,19,null,null,13,59]
[null,null,null,null,null,null,null,null,null,null,null,null,null,null,null,null,null,null,null,null,null,null,null,null,null,null,null,null,0,14,7,14]
[null,null,null,null,null,null,null,null,null,null,null,null,null,null,null,null,null,null,null,null,null,null,7,25,0,25,7,25,10,193,55,197]
[null,null,null,null,null,null,null,null,null,null,null,null,null,null,null,null,null,null,null,null,null,null,null,10,0,10,null,10,null,null,45,156]
[null,null,null,null,null,null,null,null,null,null,null,null,null,null,null,null,null,null,null,null,null,null,10,30,null,30,null,30,19,307,63,328]
[null,null,null,null,null,null,null,null,null,null,null,null,null,null,null,null,null,null,null,null,null,null,5,14,0,14,5,14,null,null,42,153]
[null,null,null,null,null,null,null,null,null,null,null,null,null,null,null,null,null,null,null,null,null,null,20,130,null,130,null,130,null,null,92,961]
[null,null,null,null,null,null,null,null,null,null,null,null,null,null,null,null,null,null,null,null,null,null,null,null,null,null,null,null,0,5,null,5]
[null,null,null,null,null,null,null,null,null,null,null,null,null,null,null,null,null,null,null,null,null,null,6,18,0,18,6,18,null,null,133,444]
[null,null,null,null,null,null,null,null,null,null,null,null,null,null,null,null,null,null,null,null,null,null,6,35,null,35,null,35,null,null,46,166]
[null,null,null,null,null,null,null,null,null,null,null,null,null,null,null,null,null,null,null,null,null,null,6,36,null,36,null,36,null,null,70,309]
[null,null,null,null,null,null,null,null,null,null,null,null,null,null,null,null,null,null,null,null,null,null,null,17,0,17,null,17,null,null,42,260]
[null,null,null,null,null,null,null,null,null,null,null,null,null,null,null,null,null,null,null,null,null,null,11,55,null,55,null,55,null,null,89,441]
[null,null,null,null,null,null,null,null,null,null,null,null,null,null,null,null,null,null,null,null,null,null,11,38,4,38,7,38,null,null,109,358]
[null,null,null,null,null,null,null,null,null,null,null,null,null,null,null,null,null,null,null,null,null,null,24,65,8,65,16,65,12,515,102,520]
[null,null,null,null,null,null,null,null,null,null,null,null,null,null,null,null,null,null,null,null,null,null,10,34,5,34,5,34,14,364,44,369]
[null,null,null,null,null,null,null,null,null,null,null,null,null,null,null,null,null,null,null,null,null,null,6,29,0,29,6,29,null,null,87,301]
[null,null,null,null,null,null,null,null,null,null,null,null,null,null,null,null,null,null,null,null,null,null,null,11,null,11,0,11,null,null,8,73]
[null,null,null,null,null,null,null,null,null,null,null,null,null,null,null,null,null,null,null,null,null,null,6,12,0,12,6,12,null,null,21,83]
[null,null,null,null,null,null,null,null,null,null,null,null,null,null,null,null,null,null,null,null,null,null,null,12,0,12,null,12,9,368,78,373]
[null,null,null,null,null,null,null,null,null,null,null,null,null,null,null,null,null,null,null,null,null,null,5,47,null,47,null,47,null,null,31,211]
[null,null,null,null,null,null,null,null,null,null,null,null,null,null,null,null,null,null,null,null,null,null,5,42,0,42,5,42,null,null,14,137]
[null,null,null,null,null,null,null,null,null,null,null,null,null,null,null,null,null,null,null,null,null,null,null,7,0,7,null,7,null,null,24,128]
[null,null,null,null,null,null,null,null,null,null,null,null,null,null,null,null,null,null,null,null,null,null,8,33,0,33,8,33,14,344,121,349]
[null,null,null,null,null,null,null,null,null,null,null,null,null,null,null,null,null,null,null,null,null,null,5,28,0,28,5,28,null,null,90,269]
[null,null,null,null,null,null,null,null,null,null,null,null,null,null,null,null,null,null,null,null,null,null,null,null,null,null,null,null,5,20,null,23]
[null,null,null,null,null,null,null,null,null,null,null,null,null,null,null,null,null,null,null,null,null,null,4,15,0,15,4,15,null,null,55,201]
[null,null,null,null,null,null,null,null,null,null,null,null,null,null,null,null,null,null,null,null,null,null,36,203,6,203,30,203,null,null,314,1145]
[null,null,null,null,null,null,null,null,null,null,null,null,null,null,null,null,null,null,null,null,null,null,6,16,null,16,null,16,null,null,13,50]
[null,null,null,null,null,null,null,null,null,null,null,null,null,null,null,null,null,null,null,null,null,null,8,33,0,33,8,33,null,null,53,312]
[null,null,null,null,null,null,null,null,null,null,null,null,null,null,null,null,null,null,null,null,null,null,5,37,0,37,5,37,6,284,53,287]
[null,null,null,null,null,null,null,null,null,null,null,null,null,null,null,null,null,null,null,null,null,null,3,12,null,12,null,12,4,133,38,133]
[null,null,null,null,null,null,null,null,null,null,null,null,null,null,null,null,null,null,null,null,null,null,null,28,0,28,null,28,null,null,28,169]
[null,null,null,null,null,null,null,null,null,null,null,null,null,null,null,null,null,null,null,null,null,null,null,21,0,21,null,21,null,null,92,271]
[null,null,null,null,null,null,null,null,null,null,null,null,null,null,null,null,null,null,null,null,null,null,5,37,null,37,null,37,6,321,104,324]
[null,null,null,null,null,null,null,null,null,null,null,null,null,null,null,null,null,null,null,null,null,null,null,29,0,29,null,29,null,null,40,167]
[null,null,null,null,null,null,null,null,null,null,null,null,null,null,null,null,null,null,null,null,null,null,6,30,null,30,null,30,null,null,39,189]
[null,null,null,null,null,null,null,null,null,null,null,null,null,null,null,null,null,null,null,null,null,null,4,29,0,29,4,29,null,null,48,266]
[null,null,null,null,null,null,null,null,null,null,null,null,null,null,null,null,null,null,null,null,null,null,null,null,null,null,null,null,0,6,null,6]
[null,null,null,null,null,null,null,null,null,null,null,null,null,null,null,null,null,null,null,null,null,null,null,10,0,10,null,10,null,null,16,111]
[null,null,null,null,null,null,null,null,null,null,null,null,null,null,null,null,null,null,null,null,null,null,4,42,0,42,4,42,null,null,72,212]
[null,null,null,null,null,null,null,null,null,null,null,null,null,null,null,null,null,null,null,null,null,null,5,28,0,28,5,28,null,null,74,261]
[null,null,null,null,null,null,null,null,null,null,null,null,null,null,null,null,null,null,null,null,null,null,30,156,null,156,null,156,37,777,179,786]
[null,null,null,null,null,null,null,null,null,null,null,null,null,null,null,null,null,null,null,null,null,null,10,43,0,43,10,43,7,228,54,231]
[null,null,null,null,null,null,null,null,null,null,null,null,null,null,null,null,null,null,null,null,null,null,634,3434,76,3434,558,3434,823,23437,5403,23864]
[null,null,null,null,null,null,null,null,null,null,null,null,null,null,null,null,null,null,null,null,null,null,50,224,4,224,46,224,59,2113,501,2146]
[null,null,null,null,null,null,null,null,null,null,null,null,null,null,null,null,null,null,null,null,null,null,11,65,null,65,null,65,null,null,50,140]
[null,null,null,null,null,null,null,null,null,null,null,null,null,null,null,null,null,null,null,null,null,null,6,38,0,38,6,38,5,285,73,289]
[null,null,null,null,null,null,null,null,null,null,null,null,null,null,null,null,null,null,null,null,null,null,8,40,null,40,null,40,null,null,28,99]
[null,null,null,null,null,null,null,null,null,null,null,null,null,null,null,null,null,null,null,null,null,null,null,null,null,null,null,null,null,null,7,35]
[null,null,null,null,null,null,null,null,null,null,null,null,null,null,null,null,null,null,null,null,null,null,12,43,null,43,null,43,null,null,37,133]
[null,null,null,null,null,null,null,null,null,null,null,null,null,null,null,null,null,null,null,null,null,null,4,35,0,35,4,35,8,265,45,269]
[null,null,null,null,null,null,null,null,null,null,null,null,null,null,null,null,null,null,null,null,null,null,null,10,0,10,null,10,null,null,7,63]
[null,null,null,null,null,null,null,null,null,null,null,null,null,null,null,null,null,null,null,null,null,null,5,22,0,22,5,22,null,null,10,88]
[null,null,null,null,null,null,null,null,null,null,null,null,null,null,null,null,null,null,null,null,null,null,4,29,0,29,4,29,7,178,63,182]
[null,null,null,null,null,null,null,null,null,null,null,null,null,null,null,null,null,null,null,null,null,null,3,21,0,21,3,21,null,null,91,283]
[null,null,null,null,null,null,null,null,null,null,null,null,null,null,null,null,null,null,null,null,null,null,10,57,0,57,10,57,6,187,58,193]
[null,null,null,null,null,null,null,null,null,null,null,null,null,null,null,null,null,null,null,null,null,null,8,24,0,24,8,24,null,null,34,162]
[null,null,null,null,null,null,null,null,null,null,null,null,null,null,null,null,null,null,null,null,null,null,5,14,0,14,5,14,10,188,26,191]
[null,null,null,null,null,null,null,null,null,null,null,null,null,null,null,null,null,null,null,null,null,null,3,33,null,33,null,33,null,null,40,146]
[null,null,null,null,null,null,null,null,null,null,null,null,null,null,null,null,null,null,null,null,null,null,4,11,null,11,null,11,8,95,25,98]
[null,null,null,null,null,null,null,null,null,null,null,null,null,null,null,null,null,null,null,null,null,null,null,6,0,6,null,6,null,null,15,43]
[null,null,null,null,null,null,null,null,null,null,null,null,null,null,null,null,null,null,null,null,null,null,8,17,null,17,null,17,null,null,22,123]
[null,null,null,null,null,null,null,null,null,null,null,null,null,null,null,null,null,null,null,null,null,null,null,10,null,10,null,10,null,null,15,52]
[null,null,null,null,null,null,null,null,null,null,null,null,null,null,null,null,null,null,null,null,null,null,3,18,0,18,3,18,7,175,26,178]
[null,null,null,null,null,null,null,null,null,null,null,null,null,null,null,null,null,null,null,null,null,null,6,38,0,38,6,38,5,269,88,274]
[null,null,null,null,null,null,null,null,null,null,null,null,null,null,null,null,null,null,null,null,null,null,3,25,0,25,3,25,null,null,30,216]
[null,null,null,null,null,null,null,null,null,null,null,null,null,null,null,null,null,null,null,null,null,null,3,9,0,9,3,9,3,35,5,39]
[null,null,null,null,null,null,null,null,null,null,null,null,null,null,null,null,null,null,null,null,null,null,3,27,0,27,3,27,null,null,58,217]
[null,null,null,null,null,null,null,null,null,null,null,null,null,null,null,null,null,null,null,null,null,null,5,20,null,20,null,20,4,223,32,223]
[null,null,null,null,null,null,null,null,null,null,null,null,null,null,null,null,null,null,null,null,null,null,3,15,0,15,3,15,9,161,28,170]
[null,null,null,null,null,null,null,null,null,null,null,null,null,null,null,null,null,null,null,null,null,null,5,25,null,25,null,25,null,null,42,214]
[null,null,null,null,null,null,null,null,null,null,null,null,null,null,null,null,null,null,null,null,null,null,10,36,null,36,null,36,null,null,49,241]
[null,null,null,null,null,null,null,null,null,null,null,null,null,null,null,null,null,null,null,null,null,null,9,40,null,40,null,40,null,null,40,150]
[null,null,null,null,null,null,null,null,null,null,null,null,null,null,null,null,null,null,null,null,null,null,12,58,null,58,null,58,null,null,102,277]
[null,null,null,null,null,null,null,null,null,null,null,null,null,null,null,null,null,null,null,null,null,null,null,9,0,9,null,9,null,null,11,57]
[null,null,null,null,null,null,null,null,null,null,null,null,null,null,null,null,null,null,null,null,null,null,3,31,3,31,0,31,null,null,28,226]
[null,null,null,null,null,null,null,null,null,null,null,null,null,null,null,null,null,null,null,null,null,null,0,16,0,16,0,16,6,264,36,268]
[null,null,null,null,null,null,null,null,null,null,null,null,null,null,null,null,null,null,null,null,null,null,7,52,0,52,7,52,13,281,47,287]
[null,null,null,null,null,null,null,null,null,null,null,null,null,null,null,null,null,null,null,null,null,null,null,23,0,23,null,23,null,null,56,163]
[null,null,null,null,null,null,null,null,null,null,null,null,null,null,null,null,null,null,null,null,null,null,11,64,null,64,null,64,null,null,34,173]
[null,null,null,null,null,null,null,null,null,null,null,null,null,null,null,null,null,null,null,null,null,null,5,34,0,34,5,34,null,null,37,146]
[null,null,null,null,null,null,null,null,null,null,null,null,null,null,null,null,null,null,null,null,null,null,10,48,null,48,null,48,10,234,81,237]
[null,null,null,null,null,null,null,null,null,null,null,null,null,null,null,null,null,null,null,null,null,null,null,24,0,24,null,24,null,null,23,96]
[null,null,null,null,null,null,null,null,null,null,null,null,null,null,null,null,null,null,null,null,null,null,4,16,0,16,4,16,null,null,33,219]
[null,null,null,null,null,null,null,null,null,null,null,null,null,null,null,null,null,null,null,null,null,null,null,10,0,10,null,10,null,null,23,79]
[null,null,null,null,null,null,null,null,null,null,null,null,null,null,null,null,null,null,null,null,null,null,4,38,0,38,4,38,null,null,87,303]
[null,null,null,null,null,null,null,null,null,null,null,null,null,null,null,null,null,null,null,null,null,null,7,77,0,77,7,77,12,280,89,293]
[null,null,null,null,null,null,null,null,null,null,null,null,null,null,null,null,null,null,null,null,null,null,10,67,null,67,null,67,null,null,47,155]
[null,null,null,null,null,null,null,null,null,null,null,null,null,null,null,null,null,null,null,null,null,null,4,43,0,43,4,43,10,117,53,122]
[null,null,null,null,null,null,null,null,null,null,null,null,null,null,null,null,null,null,null,null,null,null,4,27,0,27,4,27,null,null,36,167]
[null,null,null,null,null,null,null,null,null,null,null,null,null,null,null,null,null,null,null,null,null,null,8,24,0,24,8,24,5,254,69,254]
[null,null,null,null,null,null,null,null,null,null,null,null,null,null,null,null,null,null,null,null,null,null,null,11,0,11,null,11,3,182,38,186]
[null,null,null,null,null,null,null,null,null,null,null,null,null,null,null,null,null,null,null,null,null,null,9,40,0,40,9,40,null,null,65,191]
[null,null,null,null,null,null,null,null,null,null,null,null,null,null,null,null,null,null,null,null,null,null,5,22,null,22,null,22,null,null,null,52]
[null,null,null,null,null,null,null,null,null,null,null,null,null,null,null,null,null,null,null,null,null,null,11,20,0,20,11,20,null,null,26,81]
[null,null,null,null,null,null,null,null,null,null,null,null,null,null,null,null,null,null,null,null,null,null,39,160,8,160,31,160,null,null,170,917]
[null,null,null,null,null,null,null,null,null,null,null,null,null,null,null,null,null,null,null,null,null,null,5,35,0,35,5,35,null,null,69,409]
[null,null,null,null,null,null,null,null,null,null,null,null,null,null,null,null,null,null,null,null,null,null,null,14,0,14,null,14,5,56,18,59]
[null,null,null,null,null,null,null,null,null,null,null,null,null,null,null,null,null,null,null,null,null,null,null,16,0,16,null,16,7,70,16,74]
[null,null,null,null,null,null,null,null,null,null,null,null,null,null,null,null,null,null,null,null,null,null,null,null,null,null,null,null,null,null,6,11]
[null,null,null,null,null,null,null,null,null,null,null,null,null,null,null,null,null,null,null,null,null,null,7,29,3,29,4,29,12,206,83,210]
[null,null,null,null,null,null,null,null,null,null,null,null,null,null,null,null,null,null,null,null,null,null,5,15,0,15,5,15,null,null,45,143]
[null,null,null,null,null,null,null,null,null,null,null,null,null,null,null,null,null,null,null,null,null,null,7,25,null,25,null,25,null,null,57,344]
[null,null,null,null,null,null,null,null,null,null,null,null,null,null,null,null,null,null,null,null,null,null,3,15,0,15,3,15,null,null,27,147]
[null,null,null,null,null,null,null,null,null,null,null,null,null,null,null,null,null,null,null,null,null,null,18,125,null,125,null,125,25,981,116,986]
[null,null,null,null,null,null,null,null,null,null,null,null,null,null,null,null,null,null,null,null,null,null,null,null,null,null,null,null,0,7,null,7]
[null,null,null,null,null,null,null,null,null,null,null,null,null,null,null,null,null,null,null,null,null,null,null,16,0,16,null,16,null,null,101,424]
[null,null,null,null,null,null,null,null,null,null,null,null,null,null,null,null,null,null,null,null,null,null,6,37,0,37,6,37,null,null,50,159]
[null,null,null,null,null,null,null,null,null,null,null,null,null,null,null,null,null,null,null,null,null,null,9,30,null,30,null,30,null,null,73,302]
[null,null,null,null,null,null,null,null,null,null,null,null,null,null,null,null,null,null,null,null,null,null,5,19,0,19,5,19,null,null,121,283]
[null,null,null,null,null,null,null,null,null,null,null,null,null,null,null,null,null,null,null,null,null,null,13,57,3,57,10,57,null,null,120,450]
[null,null,null,null,null,null,null,null,null,null,null,null,null,null,null,null,null,null,null,null,null,null,12,31,null,31,null,31,null,null,113,351]
[null,null,null,null,null,null,null,null,null,null,null,null,null,null,null,null,null,null,null,null,null,null,15,49,null,49,null,49,null,null,103,515]
[null,null,null,null,null,null,null,null,null,null,null,null,null,null,null,null,null,null,null,null,null,null,10,31,4,31,6,31,9,392,167,399]
[null,null,null,null,null,null,null,null,null,null,null,null,null,null,null,null,null,null,null,null,null,null,null,26,0,26,null,26,3,305,95,308]
[null,null,null,null,null,null,null,null,null,null,null,null,null,null,null,null,null,null,null,null,null,null,3,11,0,11,3,11,null,null,23,73]
[null,null,null,null,null,null,null,null,null,null,null,null,null,null,null,null,null,null,null,null,null,null,0,7,0,7,0,7,null,null,12,96]
[null,null,null,null,null,null,null,null,null,null,null,null,null,null,null,null,null,null,null,null,null,null,3,11,0,11,3,11,9,367,91,376]
[null,null,null,null,null,null,null,null,null,null,null,null,null,null,null,null,null,null,null,null,null,null,11,47,null,47,null,47,null,null,70,231]
[null,null,null,null,null,null,null,null,null,null,null,null,null,null,null,null,null,null,null,null,null,null,8,39,0,39,8,39,null,null,39,140]
[null,null,null,null,null,null,null,null,null,null,null,null,null,null,null,null,null,null,null,null,null,null,null,8,0,8,null,8,null,null,17,125]
[null,null,null,null,null,null,null,null,null,null,null,null,null,null,null,null,null,null,null,null,null,null,8,29,null,29,null,29,8,293,99,300]
[null,null,null,null,null,null,null,null,null,null,null,null,null,null,null,null,null,null,null,null,null,null,4,24,0,24,4,24,4,264,59,267]
[null,null,null,null,null,null,null,null,null,null,null,null,null,null,null,null,null,null,null,null,null,null,null,null,null,null,null,null,3,18,9,21]
[null,null,null,null,null,null,null,null,null,null,null,null,null,null,null,null,null,null,null,null,null,null,null,14,0,14,null,14,null,null,59,184]
[null,null,null,null,null,null,null,null,null,null,null,null,null,null,null,null,null,null,null,null,null,null,35,191,0,191,35,191,null,null,298,1132]
[null,null,null,null,null,null,null,null,null,null,null,null,null,null,null,null,null,null,null,null,null,null,3,12,0,12,3,12,6,60,17,63]
[null,null,null,null,null,null,null,null,null,null,null,null,null,null,null,null,null,null,null,null,null,null,3,30,0,30,3,30,null,null,83,311]
[null,null,null,null,null,null,null,null,null,null,null,null,null,null,null,null,null,null,null,null,null,null,5,45,0,45,5,45,null,null,50,278]
[null,null,null,null,null,null,null,null,null,null,null,null,null,null,null,null,null,null,null,null,null,null,null,10,0,10,null,10,null,null,30,104]
[null,null,null,null,null,null,null,null,null,null,null,null,null,null,null,null,null,null,null,null,null,null,5,32,0,32,5,32,null,null,56,188]
[null,null,null,null,null,null,null,null,null,null,null,null,null,null,null,null,null,null,null,null,null,null,null,23,0,23,null,23,null,null,67,236]
[null,null,null,null,null,null,null,null,null,null,null,null,null,null,null,null,null,null,null,null,null,null,5,38,null,38,null,38,null,null,86,318]
[null,null,null,null,null,null,null,null,null,null,null,null,null,null,null,null,null,null,null,null,null,null,6,29,0,29,6,29,null,null,42,174]
[null,null,null,null,null,null,null,null,null,null,null,null,null,null,null,null,null,null,null,null,null,null,10,30,3,30,7,30,8,233,69,236]
[null,null,null,null,null,null,null,null,null,null,null,null,null,null,null,null,null,null,null,null,null,null,5,27,null,27,null,27,null,null,72,272]
[null,null,null,null,null,null,null,null,null,null,null,null,null,null,null,null,null,null,null,null,null,null,null,null,null,null,null,null,0,4,0,4]
[null,null,null,null,null,null,null,null,null,null,null,null,null,null,null,null,null,null,null,null,null,null,null,9,0,9,null,9,null,null,36,106]
[null,null,null,null,null,null,null,null,null,null,null,null,null,null,null,null,null,null,null,null,null,null,8,43,null,43,null,43,8,231,72,235]
[null,null,null,null,null,null,null,null,null,null,null,null,null,null,null,null,null,null,null,null,null,null,6,29,0,29,6,29,7,236,51,236]
[null,null,null,null,null,null,null,null,null,null,null,null,null,null,null,null,null,null,null,null,null,null,30,160,8,160,22,160,29,818,194,832]
[null,null,null,null,null,null,null,null,null,null,null,null,null,null,null,null,null,null,null,null,null,null,6,39,null,39,null,39,null,null,68,232]
[null,null,null,null,null,null,null,null,null,null,null,null,null,null,null,null,null,null,null,null,null,null,653,3381,72,3381,581,3381,809,23510,5889,23957]
[null,null,null,null,null,null,null,null,null,null,null,null,null,null,null,null,null,null,null,null,null,null,60,226,10,226,50,226,56,2196,553,2233]
[null,null,null,null,null,null,null,null,null,null,null,null,null,null,null,null,null,null,null,null,null,null,9,69,null,69,null,69,null,null,25,135]
[null,null,null,null,null,null,null,null,null,null,null,null,null,null,null,null,null,null,null,null,null,null,12,39,0,39,12,39,null,null,45,297]
[null,null,null,null,null,null,null,null,null,null,null,null,null,null,null,null,null,null,null,null,null,null,8,40,0,40,8,40,null,null,25,96]
[null,null,null,null,null,null,null,null,null,null,null,null,null,null,null,null,null,null,null,null,null,null,null,null,null,null,null,null,null,null,11,38]
[null,null,null,null,null,null,null,null,null,null,null,null,null,null,null,null,null,null,null,null,null,null,13,51,null,51,null,51,null,null,24,153]
[null,null,null,null,null,null,null,null,null,null,null,null,null,null,null,null,null,null,null,null,null,null,8,39,0,39,8,39,8,262,44,268]
[null,null,null,null,null,null,null,null,null,null,null,null,null,null,null,null,null,null,null,null,null,null,3,10,0,10,3,10,null,null,15,56]
[null,null,null,null,null,null,null,null,null,null,null,null,null,null,null,null,null,null,null,null,null,null,null,22,0,22,null,22,null,null,8,82]
[null,null,null,null,null,null,null,null,null,null,null,null,null,null,null,null,null,null,null,null,null,null,3,30,0,30,3,30,7,164,38,168]
[null,null,null,null,null,null,null,null,null,null,null,null,null,null,null,null,null,null,null,null,null,null,6,24,null,24,null,24,null,null,74,245]
[null,null,null,null,null,null,null,null,null,null,null,null,null,null,null,null,null,null,null,null,null,null,11,52,null,52,null,52,8,214,51,218]
[null,null,null,null,null,null,null,null,null,null,null,null,null,null,null,null,null,null,null,null,null,null,7,33,0,33,7,33,null,null,25,158]
[null,null,null,null,null,null,null,null,null,null,null,null,null,null,null,null,null,null,null,null,null,null,null,12,0,12,null,12,9,182,40,185]
[null,null,null,null,null,null,null,null,null,null,null,null,null,null,null,null,null,null,null,null,null,null,5,35,0,35,5,35,null,null,36,135]
[null,null,null,null,null,null,null,null,null,null,null,null,null,null,null,null,null,null,null,null,null,null,4,12,0,12,4,12,null,null,34,108]
[null,null,null,null,null,null,null,null,null,null,null,null,null,null,null,null,null,null,null,null,null,null,null,5,0,5,null,5,null,null,6,40]
[null,null,null,null,null,null,null,null,null,null,null,null,null,null,null,null,null,null,null,null,null,null,null,9,0,9,null,9,null,null,23,155]
[null,null,null,null,null,null,null,null,null,null,null,null,null,null,null,null,null,null,null,null,null,null,null,9,0,9,null,9,null,null,12,54]
[null,null,null,null,null,null,null,null,null,null,null,null,null,null,null,null,null,null,null,null,null,null,3,22,0,22,3,22,11,178,41,182]
[null,null,null,null,null,null,null,null,null,null,null,null,null,null,null,null,null,null,null,null,null,null,3,37,0,37,3,37,5,253,78,258]
[null,null,null,null,null,null,null,null,null,null,null,null,null,null,null,null,null,null,null,null,null,null,4,28,0,28,4,28,3,240,52,244]
[null,null,null,null,null,null,null,null,null,null,null,null,null,null,null,null,null,null,null,null,null,null,3,6,0,6,3,6,null,null,13,41]
[null,null,null,null,null,null,null,null,null,null,null,null,null,null,null,null,null,null,null,null,null,null,5,28,null,28,null,28,null,null,37,200]
[null,null,null,null,null,null,null,null,null,null,null,null,null,null,null,null,null,null,null,null,null,null,7,19,null,19,null,19,4,210,30,210]
[null,null,null,null,null,null,null,null,null,null,null,null,null,null,null,null,null,null,null,null,null,null,6,18,0,18,6,18,10,155,23,164]
[null,null,null,null,null,null,null,null,null,null,null,null,null,null,null,null,null,null,null,null,null,null,9,29,null,29,null,29,8,210,42,221]
[null,null,null,null,null,null,null,null,null,null,null,null,null,null,null,null,null,null,null,null,null,null,9,35,0,35,9,35,null,null,78,258]
[null,null,null,null,null,null,null,null,null,null,null,null,null,null,null,null,null,null,null,null,null,null,7,40,null,40,null,40,null,null,27,163]
[null,null,null,null,null,null,null,null,null,null,null,null,null,null,null,null,null,null,null,null,null,null,16,64,0,64,16,64,13,237,78,245]
[null,null,null,null,null,null,null,null,null,null,null,null,null,null,null,null,null,null,null,null,null,null,null,11,0,11,null,11,null,null,5,61]
[null,null,null,null,null,null,null,null,null,null,null,null,null,null,null,null,null,null,null,null,null,null,3,31,0,31,3,31,null,null,85,242]
[null,null,null,null,null,null,null,null,null,null,null,null,null,null,null,null,null,null,null,null,null,null,3,19,0,19,3,19,11,251,43,255]
[null,null,null,null,null,null,null,null,null,null,null,null,null,null,null,null,null,null,null,null,null,null,12,56,0,56,12,56,15,272,70,278]
[null,null,null,null,null,null,null,null,null,null,null,null,null,null,null,null,null,null,null,null,null,null,4,26,0,26,4,26,null,null,46,213]
[null,null,null,null,null,null,null,null,null,null,null,null,null,null,null,null,null,null,null,null,null,null,12,61,0,61,12,61,9,176,32,180]
[null,null,null,null,null,null,null,null,null,null,null,null,null,null,null,null,null,null,null,null,null,null,6,38,0,38,6,38,5,170,42,170]
[null,null,null,null,null,null,null,null,null,null,null,null,null,null,null,null,null,null,null,null,null,null,6,49,null,49,null,49,18,244,36,247]
[null,null,null,null,null,null,null,null,null,null,null,null,null,null,null,null,null,null,null,null,null,null,4,23,0,23,4,23,null,null,24,114]
[null,null,null,null,null,null,null,null,null,null,null,null,null,null,null,null,null,null,null,null,null,null,4,16,0,16,4,16,null,null,27,228]
[null,null,null,null,null,null,null,null,null,null,null,null,null,null,null,null,null,null,null,null,null,null,null,10,0,10,null,10,null,null,10,71]
[null,null,null,null,null,null,null,null,null,null,null,null,null,null,null,null,null,null,null,null,null,null,6,43,0,43,6,43,20,288,60,300]
[null,null,null,null,null,null,null,null,null,null,null,null,null,null,null,null,null,null,null,null,null,null,13,89,null,89,null,89,null,null,47,261]
[null,null,null,null,null,null,null,null,null,null,null,null,null,null,null,null,null,null,null,null,null,null,15,69,null,69,null,69,10,117,18,129]
[null,null,null,null,null,null,null,null,null,null,null,null,null,null,null,null,null,null,null,null,null,null,16,57,null,57,null,57,null,null,49,103]
[null,null,null,null,null,null,null,null,null,null,null,null,null,null,null,null,null,null,null,null,null,null,7,30,null,30,null,30,null,null,28,181]
[null,null,null,null,null,null,null,null,null,null,null,null,null,null,null,null,null,null,null,null,null,null,4,20,null,20,null,20,null,null,47,210]
[null,null,null,null,null,null,null,null,null,null,null,null,null,null,null,null,null,null,null,null,null,null,3,15,0,15,3,15,6,202,56,205]
[null,null,null,null,null,null,null,null,null,null,null,null,null,null,null,null,null,null,null,null,null,null,8,39,null,39,null,39,null,null,47,205]
[null,null,null,null,null,null,null,null,null,null,null,null,null,null,null,null,null,null,null,null,null,null,6,19,null,19,null,19,null,null,6,64]
[null,null,null,null,null,null,null,null,null,null,null,null,null,null,null,null,null,null,null,null,null,null,null,20,0,20,null,20,null,null,14,99]
[null,null,null,null,null,null,null,null,null,null,null,null,null,null,null,null,null,null,null,null,null,null,27,149,null,149,null,149,null,null,238,959]
[null,null,null,null,null,null,null,null,null,null,null,null,null,null,null,null,null,null,null,null,null,null,13,44,null,44,null,44,null,null,77,395]
[null,null,null,null,null,null,null,null,null,null,null,null,null,null,null,null,null,null,null,null,null,null,6,17,null,17,null,17,8,77,17,82]
[null,null,null,null,null,null,null,null,null,null,null,null,null,null,null,null,null,null,null,null,null,null,0,16,0,16,0,16,5,52,17,56]
[null,null,null,null,null,null,null,null,null,null,null,null,null,null,null,null,null,null,null,null,null,null,null,null,null,null,null,null,null,null,null,10]
[null,null,null,null,null,null,null,null,null,null,null,null,null,null,null,null,null,null,null,null,null,null,8,29,4,29,4,29,8,182,76,187]
[null,null,null,null,null,null,null,null,null,null,null,null,null,null,null,null,null,null,null,null,null,null,5,18,0,18,5,18,null,null,35,149]
[null,null,null,null,null,null,null,null,null,null,null,null,null,null,null,null,null,null,null,null,null,null,null,21,0,21,null,21,null,null,64,341]
[null,null,null,null,null,null,null,null,null,null,null,null,null,null,null,null,null,null,null,null,null,null,6,22,null,22,null,22,null,null,36,204]
[null,null,null,null,null,null,null,null,null,null,null,null,null,null,null,null,null,null,null,null,null,null,21,123,null,123,null,123,null,null,117,980]
[null,null,null,null,null,null,null,null,null,null,null,null,null,null,null,null,null,null,null,null,null,null,null,null,null,null,null,null,null,null,null,10]
[null,null,null,null,null,null,null,null,null,null,null,null,null,null,null,null,null,null,null,null,null,null,null,16,0,16,null,16,null,null,134,431]
[null,null,null,null,null,null,null,null,null,null,null,null,null,null,null,null,null,null,null,null,null,null,6,32,0,32,6,32,null,null,44,154]
[null,null,null,null,null,null,null,null,null,null,null,null,null,null,null,null,null,null,null,null,null,null,8,28,null,28,null,28,null,null,76,324]
[null,null,null,null,null,null,null,null,null,null,null,null,null,null,null,null,null,null,null,null,null,null,5,19,0,19,5,19,null,null,51,265]
[null,null,null,null,null,null,null,null,null,null,null,null,null,null,null,null,null,null,null,null,null,null,13,55,0,55,13,55,null,null,107,426]
[null,null,null,null,null,null,null,null,null,null,null,null,null,null,null,null,null,null,null,null,null,null,4,27,null,27,null,27,null,null,109,333]
[null,null,null,null,null,null,null,null,null,null,null,null,null,null,null,null,null,null,null,null,null,null,12,43,4,43,8,43,null,null,105,525]
[null,null,null,null,null,null,null,null,null,null,null,null,null,null,null,null,null,null,null,null,null,null,9,23,null,23,null,23,12,294,70,302]
[null,null,null,null,null,null,null,null,null,null,null,null,null,null,null,null,null,null,null,null,null,null,6,29,null,29,null,29,null,null,83,285]
[null,null,null,null,null,null,null,null,null,null,null,null,null,null,null,null,null,null,null,null,null,null,null,10,null,10,null,10,null,null,12,74]
[null,null,null,null,null,null,null,null,null,null,null,null,null,null,null,null,null,null,null,null,null,null,3,7,null,7,null,7,0,98,38,101]
[null,null,null,null,null,null,null,null,null,null,null,null,null,null,null,null,null,null,null,null,null,null,3,10,0,10,3,10,4,362,206,367]
[null,null,null,null,null,null,null,null,null,null,null,null,null,null,null,null,null,null,null,null,null,null,null,41,0,41,null,41,null,null,22,230]
[null,null,null,null,null,null,null,null,null,null,null,null,null,null,null,null,null,null,null,null,null,null,9,38,null,38,null,38,null,null,22,122]
[null,null,null,null,null,null,null,null,null,null,null,null,null,null,null,null,null,null,null,null,null,null,null,7,0,7,null,7,null,null,22,129]
[null,null,null,null,null,null,null,null,null,null,null,null,null,null,null,null,null,null,null,null,null,null,7,31,null,31,null,31,11,309,75,315]
[null,null,null,null,null,null,null,null,null,null,null,null,null,null,null,null,null,null,null,null,null,null,6,22,0,22,6,22,null,null,79,334]
[null,null,null,null,null,null,null,null,null,null,null,null,null,null,null,null,null,null,null,null,null,null,null,null,null,null,null,null,4,10,null,13]
[null,null,null,null,null,null,null,null,null,null,null,null,null,null,null,null,null,null,null,null,null,null,5,17,0,17,5,17,null,null,39,195]
[null,null,null,null,null,null,null,null,null,null,null,null,null,null,null,null,null,null,null,null,null,null,35,190,5,190,30,190,null,null,269,1080]
[null,null,null,null,null,null,null,null,null,null,null,null,null,null,null,null,null,null,null,null,null,null,3,17,0,17,3,17,null,null,6,58]
[null,null,null,null,null,null,null,null,null,null,null,null,null,null,null,null,null,null,null,null,null,null,null,32,0,32,null,32,10,274,50,277]
[null,null,null,null,null,null,null,null,null,null,null,null,null,null,null,null,null,null,null,null,null,null,5,62,0,62,5,62,null,null,28,278]
[null,null,null,null,null,null,null,null,null,null,null,null,null,null,null,null,null,null,null,null,null,null,null,10,null,10,null,10,null,null,27,96]
[null,null,null,null,null,null,null,null,null,null,null,null,null,null,null,null,null,null,null,null,null,null,6,31,0,31,6,31,null,null,32,190]
[null,null,null,null,null,null,null,null,null,null,null,null,null,null,null,null,null,null,null,null,null,null,4,29,null,29,null,29,8,234,81,240]
[null,null,null,null,null,null,null,null,null,null,null,null,null,null,null,null,null,null,null,null,null,null,10,41,0,41,10,41,12,333,99,338]
[null,null,null,null,null,null,null,null,null,null,null,null,null,null,null,null,null,null,null,null,null,null,3,28,0,28,3,28,null,null,47,174]
[null,null,null,null,null,null,null,null,null,null,null,null,null,null,null,null,null,null,null,null,null,null,6,27,null,27,null,27,null,null,47,267]
[null,null,null,null,null,null,null,null,null,null,null,null,null,null,null,null,null,null,null,null,null,null,3,26,0,26,3,26,null,null,56,258]
[null,null,null,null,null,null,null,null,null,null,null,null,null,null,null,null,null,null,null,null,null,null,null,null,null,null,null,null,0,7,0,7]
[null,null,null,null,null,null,null,null,null,null,null,null,null,null,null,null,null,null,null,null,null,null,null,11,0,11,null,11,null,null,14,89]
[null,null,null,null,null,null,null,null,null,null,null,null,null,null,null,null,null,null,null,null,null,null,10,45,0,45,10,45,null,null,127,258]
[null,null,null,null,null,null,null,null,null,null,null,null,null,null,null,null,null,null,null,null,null,null,5,31,0,31,5,31,null,null,81,222]
[null,null,null,null,null,null,null,null,null,null,null,null,null,null,null,null,null,null,null,null,null,null,30,150,5,150,25,150,null,null,248,823]
[null,null,null,null,null,null,null,null,null,null,null,null,null,null,null,null,null,null,null,null,null,null,17,47,null,47,null,47,null,null,55,206]
[null,null,null,null,null,null,null,null,null,null,null,null,null,null,null,null,null,null,null,null,null,null,697,3463,80,3463,617,3463,767,23564,5622,23985]
[null,null,null,null,null,null,null,null,null,null,null,null,null,null,null,null,null,null,null,null,null,null,51,214,6,214,45,214,69,2288,517,2324]
[null,null,null,null,null,null,null,null,null,null,null,null,null,null,null,null,null,null,null,null,null,null,14,64,0,64,14,64,null,null,42,134]
[null,null,null,null,null,null,null,null,null,null,null,null,null,null,null,null,null,null,null,null,null,null,9,32,null,32,null,32,10,326,57,329]
[null,null,null,null,null,null,null,null,null,null,null,null,null,null,null,null,null,null,null,null,null,null,8,39,0,39,8,39,null,null,13,86]
[null,null,null,null,null,null,null,null,null,null,null,null,null,null,null,null,null,null,null,null,null,null,null,null,null,null,null,null,null,null,6,36]
[null,null,null,null,null,null,null,null,null,null,null,null,null,null,null,null,null,null,null,null,null,null,9,41,3,41,6,41,null,null,21,170]
[null,null,null,null,null,null,null,null,null,null,null,null,null,null,null,null,null,null,null,null,null,null,4,34,0,34,4,34,9,273,177,279]
[null,null,null,null,null,null,null,null,null,null,null,null,null,null,null,null,null,null,null,null,null,null,null,8,0,8,null,8,null,null,7,41]
[null,null,null,null,null,null,null,null,null,null,null,null,null,null,null,null,null,null,null,null,null,null,8,24,0,24,8,24,null,null,12,78]
[null,null,null,null,null,null,null,null,null,null,null,null,null,null,null,null,null,null,null,null,null,null,4,30,0,30,4,30,11,152,63,158]
[null,null,null,null,null,null,null,null,null,null,null,null,null,null,null,null,null,null,null,null,null,null,5,25,0,25,5,25,null,null,53,225]
[null,null,null,null,null,null,null,null,null,null,null,null,null,null,null,null,null,null,null,null,null,null,6,47,0,47,6,47,9,224,77,228]
[null,null,null,null,null,null,null,null,null,null,null,null,null,null,null,null,null,null,null,null,null,null,6,32,0,32,6,32,null,null,31,152]
[null,null,null,null,null,null,null,null,null,null,null,null,null,null,null,null,null,null,null,null,null,null,null,17,0,17,null,17,null,null,40,163]
[null,null,null,null,null,null,null,null,null,null,null,null,null,null,null,null,null,null,null,null,null,null,6,35,0,35,6,35,null,null,31,137]
[null,null,null,null,null,null,null,null,null,null,null,null,null,null,null,null,null,null,null,null,null,null,3,10,0,10,3,10,null,null,27,104]
[null,null,null,null,null,null,null,null,null,null,null,null,null,null,null,null,null,null,null,null,null,null,null,5,0,5,null,5,null,null,9,41]
[null,null,null,null,null,null,null,null,null,null,null,null,null,null,null,null,null,null,null,null,null,null,5,9,0,9,5,9,null,null,37,151]
[null,null,null,null,null,null,null,null,null,null,null,null,null,null,null,null,null,null,null,null,null,null,null,11,0,11,null,11,null,null,3,53]
[null,null,null,null,null,null,null,null,null,null,null,null,null,null,null,null,null,null,null,null,null,null,6,25,0,25,6,25,7,161,30,165]
[null,null,null,null,null,null,null,null,null,null,null,null,null,null,null,null,null,null,null,null,null,null,3,35,0,35,3,35,7,235,53,239]
[null,null,null,null,null,null,null,null,null,null,null,null,null,null,null,null,null,null,null,null,null,null,5,25,0,25,5,25,null,null,50,237]
[null,null,null,null,null,null,null,null,null,null,null,null,null,null,null,null,null,null,null,null,null,null,null,8,0,8,null,8,null,null,6,34]
[null,null,null,null,null,null,null,null,null,null,null,null,null,null,null,null,null,null,null,null,null,null,null,28,0,28,null,28,null,null,43,194]
[null,null,null,null,null,null,null,null,null,null,null,null,null,null,null,null,null,null,null,null,null,null,3,15,0,15,3,15,5,212,39,212]
[null,null,null,null,null,null,null,null,null,null,null,null,null,null,null,null,null,null,null,null,null,null,3,19,null,19,null,19,11,185,48,196]
[null,null,null,null,null,null,null,null,null,null,null,null,null,null,null,null,null,null,null,null,null,null,5,27,null,27,null,27,8,234,63,241]
[null,null,null,null,null,null,null,null,null,null,null,null,null,null,null,null,null,null,null,null,null,null,8,37,0,37,8,37,null,null,65,260]
[null,null,null,null,null,null,null,null,null,null,null,null,null,null,null,null,null,null,null,null,null,null,4,43,null,43,null,43,null,null,40,185]
[null,null,null,null,null,null,null,null,null,null,null,null,null,null,null,null,null,null,null,null,null,null,14,61,null,61,null,61,10,247,81,253]
[null,null,null,null,null,null,null,null,null,null,null,null,null,null,null,null,null,null,null,null,null,null,7,14,0,14,7,14,null,null,15,60]
[null,null,null,null,null,null,null,null,null,null,null,null,null,null,null,null,null,null,null,null,null,null,5,29,0,29,5,29,9,205,31,212]
[null,null,null,null,null,null,null,null,null,null,null,null,null,null,null,null,null,null,null,null,null,null,4,24,null,24,null,24,11,235,35,238]
[null,null,null,null,null,null,null,null,null,null,null,null,null,null,null,null,null,null,null,null,null,null,15,53,null,53,null,53,7,249,69,256]
[null,null,null,null,null,null,null,null,null,null,null,null,null,null,null,null,null,null,null,null,null,null,3,28,0,28,3,28,5,215,65,223]
[null,null,null,null,null,null,null,null,null,null,null,null,null,null,null,null,null,null,null,null,null,null,14,57,null,57,null,57,null,null,78,202]
[null,null,null,null,null,null,null,null,null,null,null,null,null,null,null,null,null,null,null,null,null,null,5,39,0,39,5,39,null,null,48,168]
[null,null,null,null,null,null,null,null,null,null,null,null,null,null,null,null,null,null,null,null,null,null,11,64,null,64,null,64,null,null,149,331]
[null,null,null,null,null,null,null,null,null,null,null,null,null,null,null,null,null,null,null,null,null,null,4,22,0,22,4,22,null,null,34,128]
[null,null,null,null,null,null,null,null,null,null,null,null,null,null,null,null,null,null,null,null,null,null,5,13,null,13,null,13,null,null,42,250]
[null,null,null,null,null,null,null,null,null,null,null,null,null,null,null,null,null,null,null,null,null,null,null,10,0,10,null,10,3,74,31,77]
[null,null,null,null,null,null,null,null,null,null,null,null,null,null,null,null,null,null,null,null,null,null,11,46,0,46,11,46,null,null,110,320]
[null,null,null,null,null,null,null,null,null,null,null,null,null,null,null,null,null,null,null,null,null,null,17,100,3,100,14,100,null,null,74,273]
[null,null,null,null,null,null,null,null,null,null,null,null,null,null,null,null,null,null,null,null,null,null,13,72,5,72,8,72,null,null,67,236]
[null,null,null,null,null,null,null,null,null,null,null,null,null,null,null,null,null,null,null,null,null,null,7,51,0,51,7,51,null,null,52,96]
[null,null,null,null,null,null,null,null,null,null,null,null,null,null,null,null,null,null,null,null,null,null,8,31,null,31,null,31,null,null,33,179]
[null,null,null,null,null,null,null,null,null,null,null,null,null,null,null,null,null,null,null,null,null,null,null,20,0,20,null,20,null,null,47,186]
[null,null,null,null,null,null,null,null,null,null,null,null,null,null,null,null,null,null,null,null,null,null,null,14,0,14,null,14,null,null,60,180]
[null,null,null,null,null,null,null,null,null,null,null,null,null,null,null,null,null,null,null,null,null,null,11,36,null,36,null,36,15,180,79,189]
[null,null,null,null,null,null,null,null,null,null,null,null,null,null,null,null,null,null,null,null,null,null,5,20,null,20,null,20,4,61,12,61]
[null,null,null,null,null,null,null,null,null,null,null,null,null,null,null,null,null,null,null,null,null,null,8,22,null,22,null,22,null,null,37,116]
[null,null,null,null,null,null,null,null,null,null,null,null,null,null,null,null,null,null,null,null,null,null,23,155,null,155,null,155,29,896,272,901]
[null,null,null,null,null,null,null,null,null,null,null,null,null,null,null,null,null,null,null,null,null,null,4,39,null,39,null,39,9,389,206,392]
[null,null,null,null,null,null,null,null,null,null,null,null,null,null,null,null,null,null,null,null,null,null,null,14,0,14,null,14,null,null,35,101]
[null,null,null,null,null,null,null,null,null,null,null,null,null,null,null,null,null,null,null,null,null,null,3,18,null,18,null,18,null,null,10,35]
[null,null,null,null,null,null,null,null,null,null,null,null,null,null,null,null,null,null,null,null,null,null,null,null,null,null,null,null,0,12,3,12]
[null,null,null,null,null,null,null,null,null,null,null,null,null,null,null,null,null,null,null,null,null,null,null,26,0,26,null,26,null,null,67,185]
[null,null,null,null,null,null,null,null,null,null,null,null,null,null,null,null,null,null,null,null,null,null,5,15,0,15,5,15,null,null,41,161]
[null,null,null,null,null,null,null,null,null,null,null,null,null,null,null,null,null,null,null,null,null,null,7,22,0,22,7,22,null,null,65,329]
[null,null,null,null,null,null,null,null,null,null,null,null,null,null,null,null,null,null,null,null,null,null,3,21,0,21,3,21,null,null,42,221]
[null,null,null,null,null,null,null,null,null,null,null,null,null,null,null,null,null,null,null,null,null,null,20,126,null,126,null,126,null,null,85,951]
[null,null,null,null,null,null,null,null,null,null,null,null,null,null,null,null,null,null,null,null,null,null,null,null,null,null,null,null,null,null,null,10]
[null,null,null,null,null,null,null,null,null,null,null,null,null,null,null,null,null,null,null,null,null,null,4,17,0,17,4,17,null,null,90,416]
[null,null,null,null,null,null,null,null,null,null,null,null,null,null,null,null,null,null,null,null,null,null,4,33,0,33,4,33,null,null,61,166]
[null,null,null,null,null,null,null,null,null,null,null,null,null,null,null,null,null,null,null,null,null,null,5,28,null,28,null,28,null,null,78,338]
[null,null,null,null,null,null,null,null,null,null,null,null,null,null,null,null,null,null,null,null,null,null,4,14,null,14,null,14,12,294,102,298]
[null,null,null,null,null,null,null,null,null,null,null,null,null,null,null,null,null,null,null,null,null,null,15,57,null,57,null,57,null,null,100,429]
[null,null,null,null,null,null,null,null,null,null,null,null,null,null,null,null,null,null,null,null,null,null,6,28,null,28,null,28,null,null,99,316]
[null,null,null,null,null,null,null,null,null,null,null,null,null,null,null,null,null,null,null,null,null,null,11,38,3,38,8,38,null,null,100,556]
[null,null,null,null,null,null,null,null,null,null,null,null,null,null,null,null,null,null,null,null,null,null,6,16,0,16,6,16,8,323,123,331]
[null,null,null,null,null,null,null,null,null,null,null,null,null,null,null,null,null,null,null,null,null,null,5,26,0,26,5,26,7,285,108,285]
[null,null,null,null,null,null,null,null,null,null,null,null,null,null,null,null,null,null,null,null,null,null,null,8,0,8,null,8,null,null,37,68]
[null,null,null,null,null,null,null,null,null,null,null,null,null,null,null,null,null,null,null,null,null,null,null,6,0,6,null,6,null,null,26,95]
[null,null,null,null,null,null,null,null,null,null,null,null,null,null,null,null,null,null,null,null,null,null,null,8,0,8,null,8,null,null,66,216]
[null,null,null,null,null,null,null,null,null,null,null,null,null,null,null,null,null,null,null,null,null,null,9,46,0,46,9,46,null,null,81,262]
[null,null,null,null,null,null,null,null,null,null,null,null,null,null,null,null,null,null,null,null,null,null,7,36,0,36,7,36,null,null,29,130]
[null,null,null,null,null,null,null,null,null,null,null,null,null,null,null,null,null,null,null,null,null,null,null,8,0,8,null,8,null,null,18,130]
[null,null,null,null,null,null,null,null,null,null,null,null,null,null,null,null,null,null,null,null,null,null,4,29,0,29,4,29,10,338,79,346]
[null,null,null,null,null,null,null,null,null,null,null,null,null,null,null,null,null,null,null,null,null,null,4,16,0,16,4,16,null,null,83,361]
[null,null,null,null,null,null,null,null,null,null,null,null,null,null,null,null,null,null,null,null,null,null,null,null,null,null,null,null,null,null,3,11]
[null,null,null,null,null,null,null,null,null,null,null,null,null,null,null,null,null,null,null,null,null,null,0,12,0,12,0,12,null,null,59,213]
[null,null,null,null,null,null,null,null,null,null,null,null,null,null,null,null,null,null,null,null,null,null,37,180,null,180,null,180,null,null,300,1164]
[null,null,null,null,null,null,null,null,null,null,null,null,null,null,null,null,null,null,null,null,null,null,null,19,0,19,null,19,null,null,7,73]
[null,null,null,null,null,null,null,null,null,null,null,null,null,null,null,null,null,null,null,null,null,null,6,39,0,39,6,39,null,null,57,276]
[null,null,null,null,null,null,null,null,null,null,null,null,null,null,null,null,null,null,null,null,null,null,10,61,0,61,10,61,null,null,51,293]
[null,null,null,null,null,null,null,null,null,null,null,null,null,null,null,null,null,null,null,null,null,null,3,8,0,8,3,8,null,null,28,74]
[null,null,null,null,null,null,null,null,null,null,null,null,null,null,null,null,null,null,null,null,null,null,8,26,0,26,8,26,null,null,77,234]
[null,null,null,null,null,null,null,null,null,null,null,null,null,null,null,null,null,null,null,null,null,null,3,28,null,28,null,28,null,null,51,214]
[null,null,null,null,null,null,null,null,null,null,null,null,null,null,null,null,null,null,null,null,null,null,5,38,0,38,5,38,17,310,96,314]
[null,null,null,null,null,null,null,null,null,null,null,null,null,null,null,null,null,null,null,null,null,null,5,29,null,29,null,29,null,null,47,169]
[null,null,null,null,null,null,null,null,null,null,null,null,null,null,null,null,null,null,null,null,null,null,8,31,0,31,8,31,null,null,103,306]
[null,null,null,null,null,null,null,null,null,null,null,null,null,null,null,null,null,null,null,null,null,null,null,28,0,28,null,28,null,null,73,258]
[null,null,null,null,null,null,null,null,null,null,null,null,null,null,null,null,null,null,null,null,null,null,0,3,0,3,0,3,0,7,null,7]
[null,null,null,null,null,null,null,null,null,null,null,null,null,null,null,null,null,null,null,null,null,null,null,10,0,10,null,10,null,null,29,91]
[null,null,null,null,null,null,null,null,null,null,null,null,null,null,null,null,null,null,null,null,null,null,6,39,0,39,6,39,null,null,86,195]
[null,null,null,null,null,null,null,null,null,null,null,null,null,null,null,null,null,null,null,null,null,null,4,28,0,28,4,28,null,null,54,196]
[null,null,null,null,null,null,null,null,null,null,null,null,null,null,null,null,null,null,null,null,null,null,22,140,4,140,18,140,null,null,206,820]
[null,null,null,null,null,null,null,null,null,null,null,null,null,null,null,null,null,null,null,null,null,null,6,33,0,33,6,33,11,242,44,242]
[null,null,null,null,null,null,null,null,null,null,null,null,null,null,null,null,null,null,null,null,null,null,645,3375,59,3375,586,3375,777,23890,6393,24277]
[null,null,null,null,null,null,null,null,null,null,null,null,null,null,null,null,null,null,null,null,null,null,48,217,9,217,39,217,59,2355,629,2384]
[null,null,null,null,null,null,null,null,null,null,null,null,null,null,null,null,null,null,null,null,null,null,17,60,null,60,null,60,4,139,23,139]
[null,null,null,null,null,null,null,null,null,null,null,null,null,null,null,null,null,null,null,null,null,null,3,32,0,32,3,32,7,335,61,338]
[null,null,null,null,null,null,null,null,null,null,null,null,null,null,null,null,null,null,null,null,null,null,13,39,0,39,13,39,null,null,19,85]
[null,null,null,null,null,null,null,null,null,null,null,null,null,null,null,null,null,null,null,null,null,null,null,6,0,6,null,6,null,null,4,40]
[null,null,null,null,null,null,null,null,null,null,null,null,null,null,null,null,null,null,null,null,null,null,6,41,0,41,6,41,null,null,29,199]
[null,null,null,null,null,null,null,null,null,null,null,null,null,null,null,null,null,null,null,null,null,null,10,35,null,35,null,35,3,267,87,273]
[null,null,null,null,null,null,null,null,null,null,null,null,null,null,null,null,null,null,null,null,null,null,3,9,null,9,null,9,0,51,7,51]
[null,null,null,null,null,null,null,null,null,null,null,null,null,null,null,null,null,null,null,null,null,null,null,23,0,23,null,23,null,null,16,149]
[null,null,null,null,null,null,null,null,null,null,null,null,null,null,null,null,null,null,null,null,null,null,3,31,0,31,3,31,null,null,25,128]
[null,null,null,null,null,null,null,null,null,null,null,null,null,null,null,null,null,null,null,null,null,null,6,28,null,28,null,28,null,null,69,211]
[null,null,null,null,null,null,null,null,null,null,null,null,null,null,null,null,null,null,null,null,null,null,7,48,0,48,7,48,null,null,47,211]
[null,null,null,null,null,null,null,null,null,null,null,null,null,null,null,null,null,null,null,null,null,null,7,36,0,36,7,36,null,null,25,149]
[null,null,null,null,null,null,null,null,null,null,null,null,null,null,null,null,null,null,null,null,null,null,null,18,0,18,null,18,null,null,30,155]
[null,null,null,null,null,null,null,null,null,null,null,null,null,null,null,null,null,null,null,null,null,null,7,34,null,34,null,34,null,null,33,128]
[null,null,null,null,null,null,null,null,null,null,null,null,null,null,null,null,null,null,null,null,null,null,3,10,null,10,null,10,null,null,27,122]
[null,null,null,null,null,null,null,null,null,null,null,null,null,null,null,null,null,null,null,null,null,null,null,4,0,4,null,4,3,46,15,46]
[null,null,null,null,null,null,null,null,null,null,null,null,null,null,null,null,null,null,null,null,null,null,null,8,0,8,null,8,null,null,25,155]
[null,null,null,null,null,null,null,null,null,null,null,null,null,null,null,null,null,null,null,null,null,null,null,12,0,12,null,12,null,null,11,63]
[null,null,null,null,null,null,null,null,null,null,null,null,null,null,null,null,null,null,null,null,null,null,8,31,null,31,null,31,null,null,19,153]
[null,null,null,null,null,null,null,null,null,null,null,null,null,null,null,null,null,null,null,null,null,null,0,32,0,32,0,32,3,255,70,262]
[null,null,null,null,null,null,null,null,null,null,null,null,null,null,null,null,null,null,null,null,null,null,6,22,0,22,6,22,null,null,53,243]
[null,null,null,null,null,null,null,null,null,null,null,null,null,null,null,null,null,null,null,null,null,null,null,7,0,7,null,7,null,null,6,34]
[null,null,null,null,null,null,null,null,null,null,null,null,null,null,null,null,null,null,null,null,null,null,5,29,null,29,null,29,null,null,70,195]
[null,null,null,null,null,null,null,null,null,null,null,null,null,null,null,null,null,null,null,null,null,null,6,17,0,17,6,17,null,null,39,201]
[null,null,null,null,null,null,null,null,null,null,null,null,null,null,null,null,null,null,null,null,null,null,4,21,0,21,4,21,null,null,27,195]
[null,null,null,null,null,null,null,null,null,null,null,null,null,null,null,null,null,null,null,null,null,null,8,31,0,31,8,31,6,221,67,225]
[null,null,null,null,null,null,null,null,null,null,null,null,null,null,null,null,null,null,null,null,null,null,6,37,null,37,null,37,null,null,79,280]
[null,null,null,null,null,null,null,null,null,null,null,null,null,null,null,null,null,null,null,null,null,null,10,55,null,55,null,55,12,182,40,188]
[null,null,null,null,null,null,null,null,null,null,null,null,null,null,null,null,null,null,null,null,null,null,13,54,0,54,13,54,null,null,69,242]
[null,null,null,null,null,null,null,null,null,null,null,null,null,null,null,null,null,null,null,null,null,null,null,8,0,8,null,8,null,null,8,54]
[null,null,null,null,null,null,null,null,null,null,null,null,null,null,null,null,null,null,null,null,null,null,3,26,0,26,3,26,8,199,24,206]
[null,null,null,null,null,null,null,null,null,null,null,null,null,null,null,null,null,null,null,null,null,null,3,24,0,24,3,24,4,224,43,227]
[null,null,null,null,null,null,null,null,null,null,null,null,null,null,null,null,null,null,null,null,null,null,6,50,0,50,6,50,7,256,70,260]
[null,null,null,null,null,null,null,null,null,null,null,null,null,null,null,null,null,null,null,null,null,null,6,30,0,30,6,30,4,212,39,217]
[null,null,null,null,null,null,null,null,null,null,null,null,null,null,null,null,null,null,null,null,null,null,12,56,null,56,null,56,null,null,61,186]
[null,null,null,null,null,null,null,null,null,null,null,null,null,null,null,null,null,null,null,null,null,null,11,45,0,45,11,45,null,null,41,152]
[null,null,null,null,null,null,null,null,null,null,null,null,null,null,null,null,null,null,null,null,null,null,14,64,3,64,11,64,null,null,63,281]
[null,null,null,null,null,null,null,null,null,null,null,null,null,null,null,null,null,null,null,null,null,null,4,19,0,19,4,19,null,null,27,120]
[null,null,null,null,null,null,null,null,null,null,null,null,null,null,null,null,null,null,null,null,null,null,3,8,0,8,3,8,6,268,53,274]
[null,null,null,null,null,null,null,null,null,null,null,null,null,null,null,null,null,null,null,null,null,null,4,9,0,9,4,9,3,60,7,63]
[null,null,null,null,null,null,null,null,null,null,null,null,null,null,null,null,null,null,null,null,null,null,9,41,null,41,null,41,null,null,91,267]
[null,null,null,null,null,null,null,null,null,null,null,null,null,null,null,null,null,null,null,null,null,null,19,97,3,97,16,97,null,null,62,268]
[null,null,null,null,null,null,null,null,null,null,null,null,null,null,null,null,null,null,null,null,null,null,14,79,null,79,null,79,null,null,67,261]
[null,null,null,null,null,null,null,null,null,null,null,null,null,null,null,null,null,null,null,null,null,null,9,58,null,58,null,58,null,null,44,72]
[null,null,null,null,null,null,null,null,null,null,null,null,null,null,null,null,null,null,null,null,null,null,8,32,null,32,null,32,null,null,25,175]
[null,null,null,null,null,null,null,null,null,null,null,null,null,null,null,null,null,null,null,null,null,null,4,20,0,20,4,20,null,null,45,179]
[null,null,null,null,null,null,null,null,null,null,null,null,null,null,null,null,null,null,null,null,null,null,3,14,0,14,3,14,null,null,39,155]
[null,null,null,null,null,null,null,null,null,null,null,null,null,null,null,null,null,null,null,null,null,null,8,30,null,30,null,30,10,166,48,179]
[null,null,null,null,null,null,null,null,null,null,null,null,null,null,null,null,null,null,null,null,null,null,3,16,0,16,3,16,null,null,9,58]
[null,null,null,null,null,null,null,null,null,null,null,null,null,null,null,null,null,null,null,null,null,null,null,24,0,24,null,24,null,null,21,98]
[null,null,null,null,null,null,null,null,null,null,null,null,null,null,null,null,null,null,null,null,null,null,30,165,10,165,20,165,null,null,331,787]
[null,null,null,null,null,null,null,null,null,null,null,null,null,null,null,null,null,null,null,null,null,null,5,45,null,45,null,45,null,null,42,245]
[null,null,null,null,null,null,null,null,null,null,null,null,null,null,null,null,null,null,null,null,null,null,null,16,null,16,null,16,null,null,15,80]
[null,null,null,null,null,null,null,null,null,null,null,null,null,null,null,null,null,null,null,null,null,null,5,17,null,17,null,17,3,67,17,70]
[null,null,null,null,null,null,null,null,null,null,null,null,null,null,null,null,null,null,null,null,null,null,null,null,null,null,null,null,0,10,null,10]
[null,null,null,null,null,null,null,null,null,null,null,null,null,null,null,null,null,null,null,null,null,null,6,31,0,31,6,31,null,null,79,226]
[null,null,null,null,null,null,null,null,null,null,null,null,null,null,null,null,null,null,null,null,null,null,5,16,0,16,5,16,null,null,44,167]
[null,null,null,null,null,null,null,null,null,null,null,null,null,null,null,null,null,null,null,null,null,null,3,22,0,22,3,22,null,null,81,328]
[null,null,null,null,null,null,null,null,null,null,null,null,null,null,null,null,null,null,null,null,null,null,9,22,3,22,6,22,null,null,38,222]
[null,null,null,null,null,null,null,null,null,null,null,null,null,null,null,null,null,null,null,null,null,null,17,123,0,123,17,123,null,null,90,960]
[null,null,null,null,null,null,null,null,null,null,null,null,null,null,null,null,null,null,null,null,null,null,null,null,null,null,null,null,null,null,null,7]
[null,null,null,null,null,null,null,null,null,null,null,null,null,null,null,null,null,null,null,null,null,null,6,15,0,15,6,15,3,426,109,426]
[null,null,null,null,null,null,null,null,null,null,null,null,null,null,null,null,null,null,null,null,null,null,9,30,0,30,9,30,null,null,40,128]
[null,null,null,null,null,null,null,null,null,null,null,null,null,null,null,null,null,null,null,null,null,null,8,31,null,31,null,31,null,null,89,342]
[null,null,null,null,null,null,null,null,null,null,null,null,null,null,null,null,null,null,null,null,null,null,null,13,null,13,null,13,null,null,48,265]
[null,null,null,null,null,null,null,null,null,null,null,null,null,null,null,null,null,null,null,null,null,null,16,52,3,52,13,52,null,null,111,456]
[null,null,null,null,null,null,null,null,null,null,null,null,null,null,null,null,null,null,null,null,null,null,7,30,null,30,null,30,null,null,89,305]
[null,null,null,null,null,null,null,null,null,null,null,null,null,null,null,null,null,null,null,null,null,null,8,39,3,39,5,39,null,null,155,566]
[null,null,null,null,null,null,null,null,null,null,null,null,null,null,null,null,null,null,null,null,null,null,4,16,0,16,4,16,null,null,90,293]
[null,null,null,null,null,null,null,null,null,null,null,null,null,null,null,null,null,null,null,null,null,null,8,32,null,32,null,32,null,null,89,279]
[null,null,null,null,null,null,null,null,null,null,null,null,null,null,null,null,null,null,null,null,null,null,null,8,0,8,null,8,null,null,16,39]
[null,null,null,null,null,null,null,null,null,null,null,null,null,null,null,null,null,null,null,null,null,null,null,10,0,10,null,10,5,110,26,110]
[null,null,null,null,null,null,null,null,null,null,null,null,null,null,null,null,null,null,null,null,null,null,4,12,0,12,4,12,null,null,27,234]
[null,null,null,null,null,null,null,null,null,null,null,null,null,null,null,null,null,null,null,null,null,null,4,42,0,42,4,42,null,null,29,234]
[null,null,null,null,null,null,null,null,null,null,null,null,null,null,null,null,null,null,null,null,null,null,10,36,3,36,7,36,null,null,27,121]
[null,null,null,null,null,null,null,null,null,null,null,null,null,null,null,null,null,null,null,null,null,null,null,10,0,10,null,10,null,null,24,123]
[null,null,null,null,null,null,null,null,null,null,null,null,null,null,null,null,null,null,null,null,null,null,8,30,0,30,8,30,8,354,106,358]
[null,null,null,null,null,null,null,null,null,null,null,null,null,null,null,null,null,null,null,null,null,null,null,14,0,14,null,14,null,null,108,402]
[null,null,null,null,null,null,null,null,null,null,null,null,null,null,null,null,null,null,null,null,null,null,null,null,null,null,null,null,null,null,5,10]
[null,null,null,null,null,null,null,null,null,null,null,null,null,null,null,null,null,null,null,null,null,null,3,16,0,16,3,16,null,null,37,198]
[null,null,null,null,null,null,null,null,null,null,null,null,null,null,null,null,null,null,null,null,null,null,28,168,null,168,null,168,31,1190,310,1202]
[null,null,null,null,null,null,null,null,null,null,null,null,null,null,null,null,null,null,null,null,null,null,7,21,null,21,null,21,null,null,20,123]
[null,null,null,null,null,null,null,null,null,null,null,null,null,null,null,null,null,null,null,null,null,null,5,36,0,36,5,36,3,267,45,267]
[null,null,null,null,null,null,null,null,null,null,null,null,null,null,null,null,null,null,null,null,null,null,13,55,null,55,null,55,null,null,42,260]
[null,null,null,null,null,null,null,null,null,null,null,null,null,null,null,null,null,null,null,null,null,null,null,5,0,5,null,5,null,null,22,82]
[null,null,null,null,null,null,null,null,null,null,null,null,null,null,null,null,null,null,null,null,null,null,4,21,0,21,4,21,null,null,31,176]
[null,null,null,null,null,null,null,null,null,null,null,null,null,null,null,null,null,null,null,null,null,null,5,31,0,31,5,31,null,null,59,234]
[null,null,null,null,null,null,null,null,null,null,null,null,null,null,null,null,null,null,null,null,null,null,14,43,null,43,null,43,null,null,66,303]
[null,null,null,null,null,null,null,null,null,null,null,null,null,null,null,null,null,null,null,null,null,null,5,28,0,28,5,28,null,null,52,174]
[null,null,null,null,null,null,null,null,null,null,null,null,null,null,null,null,null,null,null,null,null,null,3,31,null,31,null,31,null,null,56,280]
[null,null,null,null,null,null,null,null,null,null,null,null,null,null,null,null,null,null,null,null,null,null,5,34,null,34,null,34,null,null,112,248]
[null,null,null,null,null,null,null,null,null,null,null,null,null,null,null,null,null,null,null,null,null,null,0,3,0,3,0,3,0,4,0,4]
[null,null,null,null,null,null,null,null,null,null,null,null,null,null,null,null,null,null,null,null,null,null,null,11,0,11,null,11,null,null,17,79]
[null,null,null,null,null,null,null,null,null,null,null,null,null,null,null,null,null,null,null,null,null,null,4,37,0,37,4,37,null,null,55,159]
[null,null,null,null,null,null,null,null,null,null,null,null,null,null,null,null,null,null,null,null,null,null,3,31,0,31,3,31,4,183,46,186]
[null,null,null,null,null,null,null,null,null,null,null,null,null,null,null,null,null,null,null,null,null,null,29,133,null,133,null,133,null,null,193,828]
[null,null,null,null,null,null,null,null,null,null,null,null,null,null,null,null,null,null,null,null,null,null,6,37,null,37,null,37,9,248,67,248]
[null,null,null,null,null,null,null,null,null,null,null,null,null,null,null,null,null,null,null,null,null,null,675,3401,77,3401,598,3401,717,23501,5767,23840]
[null,null,null,null,null,null,null,null,null,null,null,null,null,null,null,null,null,null,null,null,null,null,50,204,4,204,46,204,46,2321,623,2355]
[null,null,null,null,null,null,null,null,null,null,null,null,null,null,null,null,null,null,null,null,null,null,10,54,0,54,10,54,null,null,58,147]
[null,null,null,null,null,null,null,null,null,null,null,null,null,null,null,null,null,null,null,null,null,null,5,36,0,36,5,36,null,null,63,346]
[null,null,null,null,null,null,null,null,null,null,null,null,null,null,null,null,null,null,null,null,null,null,5,31,0,31,5,31,null,null,14,80]
[null,null,null,null,null,null,null,null,null,null,null,null,null,null,null,null,null,null,null,null,null,null,0,7,0,7,0,7,null,null,18,56]
[null,null,null,null,null,null,null,null,null,null,null,null,null,null,null,null,null,null,null,null,null,null,4,38,0,38,4,38,null,null,76,209]
[null,null,null,null,null,null,null,null,null,null,null,null,null,null,null,null,null,null,null,null,null,null,5,30,null,30,null,30,null,null,53,256]
[null,null,null,null,null,null,null,null,null,null,null,null,null,null,null,null,null,null,null,null,null,null,null,6,0,6,null,6,null,null,10,50]
[null,null,null,null,null,null,null,null,null,null,null,null,null,null,null,null,null,null,null,null,null,null,6,28,null,28,null,28,null,null,19,164]
[null,null,null,null,null,null,null,null,null,null,null,null,null,null,null,null,null,null,null,null,null,null,3,29,0,29,3,29,4,114,46,121]
[null,null,null,null,null,null,null,null,null,null,null,null,null,null,null,null,null,null,null,null,null,null,6,27,0,27,6,27,null,null,59,201]
[null,null,null,null,null,null,null,null,null,null,null,null,null,null,null,null,null,null,null,null,null,null,null,41,0,41,null,41,null,null,51,212]
[null,null,null,null,null,null,null,null,null,null,null,null,null,null,null,null,null,null,null,null,null,null,9,32,null,32,null,32,null,null,46,157]
[null,null,null,null,null,null,null,null,null,null,null,null,null,null,null,null,null,null,null,null,null,null,4,21,null,21,null,21,null,null,34,155]
[null,null,null,null,null,null,null,null,null,null,null,null,null,null,null,null,null,null,null,null,null,null,4,29,null,29,null,29,null,null,34,134]
[null,null,null,null,null,null,null,null,null,null,null,null,null,null,null,null,null,null,null,null,null,null,0,10,0,10,0,10,null,null,50,128]
[null,null,null,null,null,null,null,null,null,null,null,null,null,null,null,null,null,null,null,null,null,null,0,4,0,4,0,4,0,39,9,39]
[null,null,null,null,null,null,null,null,null,null,null,null,null,null,null,null,null,null,null,null,null,null,3,9,null,9,null,9,null,null,45,179]
[null,null,null,null,null,null,null,null,null,null,null,null,null,null,null,null,null,null,null,null,null,null,null,14,0,14,null,14,null,null,11,72]
[null,null,null,null,null,null,null,null,null,null,null,null,null,null,null,null,null,null,null,null,null,null,6,24,0,24,6,24,null,null,25,161]
[null,null,null,null,null,null,null,null,null,null,null,null,null,null,null,null,null,null,null,null,null,null,5,34,0,34,5,34,null,null,57,250]
[null,null,null,null,null,null,null,null,null,null,null,null,null,null,null,null,null,null,null,null,null,null,5,24,null,24,null,24,4,232,32,236]
[null,null,null,null,null,null,null,null,null,null,null,null,null,null,null,null,null,null,null,null,null,null,null,12,null,12,0,12,null,null,7,37]
[null,null,null,null,null,null,null,null,null,null,null,null,null,null,null,null,null,null,null,null,null,null,3,27,null,27,null,27,null,null,48,158]
[null,null,null,null,null,null,null,null,null,null,null,null,null,null,null,null,null,null,null,null,null,null,4,13,null,13,null,13,null,null,61,194]
[null,null,null,null,null,null,null,null,null,null,null,null,null,null,null,null,null,null,null,null,null,null,4,20,0,20,4,20,null,null,47,239]
[null,null,null,null,null,null,null,null,null,null,null,null,null,null,null,null,null,null,null,null,null,null,7,30,null,30,null,30,null,null,42,210]
[null,null,null,null,null,null,null,null,null,null,null,null,null,null,null,null,null,null,null,null,null,null,7,37,0,37,7,37,null,null,92,275]
[null,null,null,null,null,null,null,null,null,null,null,null,null,null,null,null,null,null,null,null,null,null,9,48,0,48,9,48,null,null,51,191]
[null,null,null,null,null,null,null,null,null,null,null,null,null,null,null,null,null,null,null,null,null,null,12,47,0,47,12,47,null,null,69,290]
[null,null,null,null,null,null,null,null,null,null,null,null,null,null,null,null,null,null,null,null,null,null,0,8,0,8,0,8,null,null,15,55]
[null,null,null,null,null,null,null,null,null,null,null,null,null,null,null,null,null,null,null,null,null,null,4,26,0,26,4,26,7,221,37,228]
[null,null,null,null,null,null,null,null,null,null,null,null,null,null,null,null,null,null,null,null,null,null,null,23,0,23,null,23,null,null,43,202]
[null,null,null,null,null,null,null,null,null,null,null,null,null,null,null,null,null,null,null,null,null,null,10,50,null,50,null,50,null,null,64,278]
[null,null,null,null,null,null,null,null,null,null,null,null,null,null,null,null,null,null,null,null,null,null,null,31,null,31,null,31,12,228,47,231]
[null,null,null,null,null,null,null,null,null,null,null,null,null,null,null,null,null,null,null,null,null,null,11,57,0,57,11,57,null,null,57,175]
[null,null,null,null,null,null,null,null,null,null,null,null,null,null,null,null,null,null,null,null,null,null,9,40,0,40,9,40,null,null,61,139]
[null,null,null,null,null,null,null,null,null,null,null,null,null,null,null,null,null,null,null,null,null,null,9,62,0,62,9,62,12,318,104,327]
[null,null,null,null,null,null,null,null,null,null,null,null,null,null,null,null,null,null,null,null,null,null,0,16,0,16,0,16,null,null,38,133]
[null,null,null,null,null,null,null,null,null,null,null,null,null,null,null,null,null,null,null,null,null,null,null,11,0,11,null,11,null,null,63,258]
[null,null,null,null,null,null,null,null,null,null,null,null,null,null,null,null,null,null,null,null,null,null,null,11,0,11,null,11,3,71,11,74]
[null,null,null,null,null,null,null,null,null,null,null,null,null,null,null,null,null,null,null,null,null,null,4,34,null,34,null,34,null,null,92,236]
[null,null,null,null,null,null,null,null,null,null,null,null,null,null,null,null,null,null,null,null,null,null,12,93,null,93,null,93,null,null,50,257]
[null,null,null,null,null,null,null,null,null,null,null,null,null,null,null,null,null,null,null,null,null,null,9,79,null,79,null,79,null,null,79,294]
[null,null,null,null,null,null,null,null,null,null,null,null,null,null,null,null,null,null,null,null,null,null,5,59,0,59,5,59,null,null,22,60]
[null,null,null,null,null,null,null,null,null,null,null,null,null,null,null,null,null,null,null,null,null,null,8,31,0,31,8,31,null,null,29,172]
[null,null,null,null,null,null,null,null,null,null,null,null,null,null,null,null,null,null,null,null,null,null,5,18,null,18,null,18,null,null,62,166]
[null,null,null,null,null,null,null,null,null,null,null,null,null,null,null,null,null,null,null,null,null,null,null,14,0,14,null,14,5,154,32,154]
[null,null,null,null,null,null,null,null,null,null,null,null,null,null,null,null,null,null,null,null,null,null,5,30,null,30,null,30,null,null,54,164]
[null,null,null,null,null,null,null,null,null,null,null,null,null,null,null,null,null,null,null,null,null,null,3,15,0,15,3,15,null,null,11,61]
[null,null,null,null,null,null,null,null,null,null,null,null,null,null,null,null,null,null,null,null,null,null,4,26,null,26,null,26,null,null,42,110]
[null,null,null,null,null,null,null,null,null,null,null,null,null,null,null,null,null,null,null,null,null,null,34,158,null,158,null,158,null,null,131,608]
[null,null,null,null,null,null,null,null,null,null,null,null,null,null,null,null,null,null,null,null,null,null,11,44,null,44,null,44,16,295,110,299]
[null,null,null,null,null,null,null,null,null,null,null,null,null,null,null,null,null,null,null,null,null,null,3,15,null,15,null,15,8,105,35,109]
[null,null,null,null,null,null,null,null,null,null,null,null,null,null,null,null,null,null,null,null,null,null,3,15,null,15,null,15,null,null,24,67]
[null,null,null,null,null,null,null,null,null,null,null,null,null,null,null,null,null,null,null,null,null,null,null,null,null,null,null,null,null,null,5,15]
[null,null,null,null,null,null,null,null,null,null,null,null,null,null,null,null,null,null,null,null,null,null,7,30,0,30,7,30,null,null,93,223]
[null,null,null,null,null,null,null,null,null,null,null,null,null,null,null,null,null,null,null,null,null,null,4,21,0,21,4,21,5,157,36,157]
[null,null,null,null,null,null,null,null,null,null,null,null,null,null,null,null,null,null,null,null,null,null,5,28,0,28,5,28,null,null,52,321]
[null,null,null,null,null,null,null,null,null,null,null,null,null,null,null,null,null,null,null,null,null,null,7,17,null,17,null,17,null,null,43,235]
[null,null,null,null,null,null,null,null,null,null,null,null,null,null,null,null,null,null,null,null,null,null,11,129,null,129,null,129,null,null,447,952]
[null,null,null,null,null,null,null,null,null,null,null,null,null,null,null,null,null,null,null,null,null,null,null,null,null,null,null,null,null,null,null,6]
[null,null,null,null,null,null,null,null,null,null,null,null,null,null,null,null,null,null,null,null,null,null,3,13,0,13,3,13,5,442,118,442]
[null,null,null,null,null,null,null,null,null,null,null,null,null,null,null,null,null,null,null,null,null,null,4,23,0,23,4,23,null,null,34,130]
[null,null,null,null,null,null,null,null,null,null,null,null,null,null,null,null,null,null,null,null,null,null,10,30,0,30,10,30,15,323,74,326]
[null,null,null,null,null,null,null,null,null,null,null,null,null,null,null,null,null,null,null,null,null,null,3,15,0,15,3,15,null,null,101,282]
[null,null,null,null,null,null,null,null,null,null,null,null,null,null,null,null,null,null,null,null,null,null,13,52,0,52,13,52,12,438,102,441]
[null,null,null,null,null,null,null,null,null,null,null,null,null,null,null,null,null,null,null,null,null,null,8,31,null,31,null,31,null,null,92,307]
[null,null,null,null,null,null,null,null,null,null,null,null,null,null,null,null,null,null,null,null,null,null,14,45,3,45,11,45,18,543,269,547]
[null,null,null,null,null,null,null,null,null,null,null,null,null,null,null,null,null,null,null,null,null,null,4,16,0,16,4,16,8,284,89,288]
[null,null,null,null,null,null,null,null,null,null,null,null,null,null,null,null,null,null,null,null,null,null,8,28,3,28,5,28,null,null,89,286]
[null,null,null,null,null,null,null,null,null,null,null,null,null,null,null,null,null,null,null,null,null,null,3,9,null,9,null,9,null,null,4,34]
[null,null,null,null,null,null,null,null,null,null,null,null,null,null,null,null,null,null,null,null,null,null,3,10,0,10,3,10,3,107,26,107]
[null,null,null,null,null,null,null,null,null,null,null,null,null,null,null,null,null,null,null,null,null,null,0,11,0,11,0,11,null,null,71,314]
[null,null,null,null,null,null,null,null,null,null,null,null,null,null,null,null,null,null,null,null,null,null,13,41,null,41,null,41,null,null,82,253]
[null,null,null,null,null,null,null,null,null,null,null,null,null,null,null,null,null,null,null,null,null,null,null,33,null,33,null,33,null,null,18,120]
[null,null,null,null,null,null,null,null,null,null,null,null,null,null,null,null,null,null,null,null,null,null,null,9,0,9,null,9,3,133,58,133]
[null,null,null,null,null,null,null,null,null,null,null,null,null,null,null,null,null,null,null,null,null,null,3,25,0,25,3,25,12,383,102,388]
[null,null,null,null,null,null,null,null,null,null,null,null,null,null,null,null,null,null,null,null,null,null,3,21,0,21,3,21,null,null,124,473]
[null,null,null,null,null,null,null,null,null,null,null,null,null,null,null,null,null,null,null,null,null,null,null,null,null,null,null,null,null,null,5,13]
[null,null,null,null,null,null,null,null,null,null,null,null,null,null,null,null,null,null,null,null,null,null,4,18,0,18,4,18,null,null,48,193]
[null,null,null,null,null,null,null,null,null,null,null,null,null,null,null,null,null,null,null,null,null,null,25,174,0,174,25,174,24,1293,376,1303]
[null,null,null,null,null,null,null,null,null,null,null,null,null,null,null,null,null,null,null,null,null,null,5,15,null,15,null,15,3,189,46,192]
[null,null,null,null,null,null,null,null,null,null,null,null,null,null,null,null,null,null,null,null,null,null,7,37,null,37,null,37,null,null,141,289]
[null,null,null,null,null,null,null,null,null,null,null,null,null,null,null,null,null,null,null,null,null,null,13,48,null,48,null,48,null,null,58,247]
[null,null,null,null,null,null,null,null,null,null,null,null,null,null,null,null,null,null,null,null,null,null,4,8,null,8,null,8,5,79,17,79]
[null,null,null,null,null,null,null,null,null,null,null,null,null,null,null,null,null,null,null,null,null,null,null,19,0,19,null,19,null,null,78,197]
[null,null,null,null,null,null,null,null,null,null,null,null,null,null,null,null,null,null,null,null,null,null,4,27,null,27,null,27,null,null,54,208]
[null,null,null,null,null,null,null,null,null,null,null,null,null,null,null,null,null,null,null,null,null,null,5,31,0,31,5,31,15,356,215,364]
[null,null,null,null,null,null,null,null,null,null,null,null,null,null,null,null,null,null,null,null,null,null,8,27,null,27,null,27,null,null,43,163]
[null,null,null,null,null,null,null,null,null,null,null,null,null,null,null,null,null,null,null,null,null,null,5,43,null,43,null,43,null,null,60,312]
[null,null,null,null,null,null,null,null,null,null,null,null,null,null,null,null,null,null,null,null,null,null,5,32,0,32,5,32,6,200,65,204]
[null,null,null,null,null,null,null,null,null,null,null,null,null,null,null,null,null,null,null,null,null,null,0,3,0,3,0,3,null,null,null,6]
[null,null,null,null,null,null,null,null,null,null,null,null,null,null,null,null,null,null,null,null,null,null,null,10,0,10,null,10,4,94,40,94]
[null,null,null,null,null,null,null,null,null,null,null,null,null,null,null,null,null,null,null,null,null,null,8,34,null,34,null,34,7,193,65,198]
[null,null,null,null,null,null,null,null,null,null,null,null,null,null,null,null,null,null,null,null,null,null,7,36,0,36,7,36,null,null,31,199]
[null,null,null,null,null,null,null,null,null,null,null,null,null,null,null,null,null,null,null,null,null,null,22,122,null,122,null,122,22,911,169,911]
[null,null,null,null,null,null,null,null,null,null,null,null,null,null,null,null,null,null,null,null,null,null,6,40,null,40,null,40,null,null,68,242]
[null,null,null,null,null,null,null,null,null,null,null,null,null,null,null,null,null,null,null,null,null,null,602,3298,60,3298,542,3298,680,24022,6875,24353]
[null,null,null,null,null,null,null,null,null,null,null,null,null,null,null,null,null,null,null,null,null,null,72,193,7,193,65,193,46,2221,628,2239]
[null,null,null,null,null,null,null,null,null,null,null,null,null,null,null,null,null,null,null,null,null,null,12,54,null,54,null,54,null,null,31,165]
[null,null,null,null,null,null,null,null,null,null,null,null,null,null,null,null,null,null,null,null,null,null,3,33,null,33,null,33,null,null,58,337]
[null,null,null,null,null,null,null,null,null,null,null,null,null,null,null,null,null,null,null,null,null,null,6,33,0,33,6,33,null,null,20,87]
[null,null,null,null,null,null,null,null,null,null,null,null,null,null,null,null,null,null,null,null,null,null,null,8,0,8,null,8,0,45,18,45]
[null,null,null,null,null,null,null,null,null,null,null,null,null,null,null,null,null,null,null,null,null,null,6,40,0,40,6,40,null,null,24,175]
[null,null,null,null,null,null,null,null,null,null,null,null,null,null,null,null,null,null,null,null,null,null,8,26,null,26,null,26,null,null,33,288]
[null,null,null,null,null,null,null,null,null,null,null,null,null,null,null,null,null,null,null,null,null,null,null,5,0,5,null,5,null,null,18,61]
[null,null,null,null,null,null,null,null,null,null,null,null,null,null,null,null,null,null,null,null,null,null,5,22,0,22,5,22,null,null,39,172]
[null,null,null,null,null,null,null,null,null,null,null,null,null,null,null,null,null,null,null,null,null,null,3,28,0,28,3,28,6,98,23,102]
[null,null,null,null,null,null,null,null,null,null,null,null,null,null,null,null,null,null,null,null,null,null,4,28,0,28,4,28,null,null,50,213]
[null,null,null,null,null,null,null,null,null,null,null,null,null,null,null,null,null,null,null,null,null,null,7,40,null,40,null,40,null,null,51,234]
[null,null,null,null,null,null,null,null,null,null,null,null,null,null,null,null,null,null,null,null,null,null,9,28,null,28,null,28,6,130,24,135]
[null,null,null,null,null,null,null,null,null,null,null,null,null,null,null,null,null,null,null,null,null,null,6,20,null,20,null,20,6,161,31,161]
[null,null,null,null,null,null,null,null,null,null,null,null,null,null,null,null,null,null,null,null,null,null,4,25,0,25,4,25,0,148,27,148]
[null,null,null,null,null,null,null,null,null,null,null,null,null,null,null,null,null,null,null,null,null,null,5,13,null,13,null,13,null,null,23,120]
[null,null,null,null,null,null,null,null,null,null,null,null,null,null,null,null,null,null,null,null,null,null,0,4,0,4,0,4,null,null,10,37]
[null,null,null,null,null,null,null,null,null,null,null,null,null,null,null,null,null,null,null,null,null,null,null,7,0,7,null,7,null,null,34,197]
[null,null,null,null,null,null,null,null,null,null,null,null,null,null,null,null,null,null,null,null,null,null,3,14,null,14,null,14,0,78,22,78]
[null,null,null,null,null,null,null,null,null,null,null,null,null,null,null,null,null,null,null,null,null,null,7,22,0,22,7,22,null,null,28,152]
[null,null,null,null,null,null,null,null,null,null,null,null,null,null,null,null,null,null,null,null,null,null,4,33,null,33,null,33,null,null,45,266]
[null,null,null,null,null,null,null,null,null,null,null,null,null,null,null,null,null,null,null,null,null,null,3,21,null,21,null,21,null,null,46,246]
[null,null,null,null,null,null,null,null,null,null,null,null,null,null,null,null,null,null,null,null,null,null,null,13,0,13,null,13,null,null,8,38]
[null,null,null,null,null,null,null,null,null,null,null,null,null,null,null,null,null,null,null,null,null,null,5,29,0,29,5,29,null,null,37,149]
[null,null,null,null,null,null,null,null,null,null,null,null,null,null,null,null,null,null,null,null,null,null,null,10,null,10,null,10,5,157,31,160]
[null,null,null,null,null,null,null,null,null,null,null,null,null,null,null,null,null,null,null,null,null,null,null,20,0,20,null,20,5,256,69,262]
[null,null,null,null,null,null,null,null,null,null,null,null,null,null,null,null,null,null,null,null,null,null,5,32,null,32,null,32,null,null,59,214]
[null,null,null,null,null,null,null,null,null,null,null,null,null,null,null,null,null,null,null,null,null,null,8,34,null,34,null,34,null,null,78,237]
[null,null,null,null,null,null,null,null,null,null,null,null,null,null,null,null,null,null,null,null,null,null,8,41,0,41,8,41,7,167,39,170]
[null,null,null,null,null,null,null,null,null,null,null,null,null,null,null,null,null,null,null,null,null,null,11,39,0,39,11,39,null,null,83,342]
[null,null,null,null,null,null,null,null,null,null,null,null,null,null,null,null,null,null,null,null,null,null,0,9,0,9,0,9,null,null,7,49]
[null,null,null,null,null,null,null,null,null,null,null,null,null,null,null,null,null,null,null,null,null,null,4,23,0,23,4,23,null,null,113,265]
[null,null,null,null,null,null,null,null,null,null,null,null,null,null,null,null,null,null,null,null,null,null,null,28,0,28,null,28,null,null,45,199]
[null,null,null,null,null,null,null,null,null,null,null,null,null,null,null,null,null,null,null,null,null,null,10,43,null,43,null,43,null,null,88,275]
[null,null,null,null,null,null,null,null,null,null,null,null,null,null,null,null,null,null,null,null,null,null,11,41,null,41,null,41,null,null,34,240]
[null,null,null,null,null,null,null,null,null,null,null,null,null,null,null,null,null,null,null,null,null,null,17,61,null,61,null,61,8,153,39,156]
[null,null,null,null,null,null,null,null,null,null,null,null,null,null,null,null,null,null,null,null,null,null,9,42,null,42,null,42,null,null,39,120]
[null,null,null,null,null,null,null,null,null,null,null,null,null,null,null,null,null,null,null,null,null,null,11,70,null,70,null,70,null,null,104,341]
[null,null,null,null,null,null,null,null,null,null,null,null,null,null,null,null,null,null,null,null,null,null,3,20,null,20,null,20,7,122,23,125]
[null,null,null,null,null,null,null,null,null,null,null,null,null,null,null,null,null,null,null,null,null,null,3,10,0,10,3,10,null,null,87,284]
[null,null,null,null,null,null,null,null,null,null,null,null,null,null,null,null,null,null,null,null,null,null,0,13,0,13,0,13,null,null,23,105]
[null,null,null,null,null,null,null,null,null,null,null,null,null,null,null,null,null,null,null,null,null,null,6,34,0,34,6,34,null,null,61,251]
[null,null,null,null,null,null,null,null,null,null,null,null,null,null,null,null,null,null,null,null,null,null,5,90,null,90,null,90,19,300,48,313]
[null,null,null,null,null,null,null,null,null,null,null,null,null,null,null,null,null,null,null,null,null,null,15,82,5,82,10,82,null,null,78,293]
[null,null,null,null,null,null,null,null,null,null,null,null,null,null,null,null,null,null,null,null,null,null,6,62,null,62,null,62,null,null,29,92]
[null,null,null,null,null,null,null,null,null,null,null,null,null,null,null,null,null,null,null,null,null,null,5,28,0,28,5,28,null,null,25,158]
[null,null,null,null,null,null,null,null,null,null,null,null,null,null,null,null,null,null,null,null,null,null,5,17,0,17,5,17,null,null,47,177]
[null,null,null,null,null,null,null,null,null,null,null,null,null,null,null,null,null,null,null,null,null,null,3,22,0,22,3,22,null,null,54,181]
[null,null,null,null,null,null,null,null,null,null,null,null,null,null,null,null,null,null,null,null,null,null,6,37,0,37,6,37,8,208,33,213]
[null,null,null,null,null,null,null,null,null,null,null,null,null,null,null,null,null,null,null,null,null,null,null,13,null,13,null,13,null,null,11,88]
[null,null,null,null,null,null,null,null,null,null,null,null,null,null,null,null,null,null,null,null,null,null,5,23,0,23,5,23,null,null,20,96]
[null,null,null,null,null,null,null,null,null,null,null,null,null,null,null,null,null,null,null,null,null,null,20,160,null,160,null,160,34,1109,245,1121]
[null,null,null,null,null,null,null,null,null,null,null,null,null,null,null,null,null,null,null,null,null,null,9,44,4,44,5,44,null,null,68,248]
[null,null,null,null,null,null,null,null,null,null,null,null,null,null,null,null,null,null,null,null,null,null,4,19,0,19,4,19,null,null,27,128]
[null,null,null,null,null,null,null,null,null,null,null,null,null,null,null,null,null,null,null,null,null,null,0,15,0,15,0,15,0,61,10,61]
[null,null,null,null,null,null,null,null,null,null,null,null,null,null,null,null,null,null,null,null,null,null,0,3,0,3,0,3,0,10,3,10]
[null,null,null,null,null,null,null,null,null,null,null,null,null,null,null,null,null,null,null,null,null,null,5,31,null,31,null,31,null,null,85,182]
[null,null,null,null,null,null,null,null,null,null,null,null,null,null,null,null,null,null,null,null,null,null,8,21,null,21,null,21,null,null,34,160]
[null,null,null,null,null,null,null,null,null,null,null,null,null,null,null,null,null,null,null,null,null,null,8,26,null,26,null,26,null,null,98,326]
[null,null,null,null,null,null,null,null,null,null,null,null,null,null,null,null,null,null,null,null,null,null,0,11,0,11,0,11,null,null,50,232]
[null,null,null,null,null,null,null,null,null,null,null,null,null,null,null,null,null,null,null,null,null,null,25,140,4,140,21,140,null,null,112,570]
[null,null,null,null,null,null,null,null,null,null,null,null,null,null,null,null,null,null,null,null,null,null,null,null,null,null,null,null,null,null,null,7]
[null,null,null,null,null,null,null,null,null,null,null,null,null,null,null,null,null,null,null,null,null,null,null,12,0,12,null,12,6,457,142,457]
[null,null,null,null,null,null,null,null,null,null,null,null,null,null,null,null,null,null,null,null,null,null,null,23,0,23,null,23,null,null,46,109]
[null,null,null,null,null,null,null,null,null,null,null,null,null,null,null,null,null,null,null,null,null,null,6,29,null,29,null,29,null,null,74,322]
[null,null,null,null,null,null,null,null,null,null,null,null,null,null,null,null,null,null,null,null,null,null,5,16,null,16,null,16,8,260,55,264]
[null,null,null,null,null,null,null,null,null,null,null,null,null,null,null,null,null,null,null,null,null,null,13,54,0,54,13,54,null,null,117,455]
[null,null,null,null,null,null,null,null,null,null,null,null,null,null,null,null,null,null,null,null,null,null,5,25,0,25,5,25,11,315,92,315]
[null,null,null,null,null,null,null,null,null,null,null,null,null,null,null,null,null,null,null,null,null,null,16,46,4,46,12,46,17,405,131,409]
[null,null,null,null,null,null,null,null,null,null,null,null,null,null,null,null,null,null,null,null,null,null,7,19,0,19,7,19,null,null,84,294]
[null,null,null,null,null,null,null,null,null,null,null,null,null,null,null,null,null,null,null,null,null,null,4,27,0,27,4,27,null,null,96,279]
[null,null,null,null,null,null,null,null,null,null,null,null,null,null,null,null,null,null,null,null,null,null,null,6,null,6,0,6,null,null,20,81]
[null,null,null,null,null,null,null,null,null,null,null,null,null,null,null,null,null,null,null,null,null,null,3,8,0,8,3,8,3,110,28,110]
[null,null,null,null,null,null,null,null,null,null,null,null,null,null,null,null,null,null,null,null,null,null,3,13,0,13,3,13,null,null,49,320]
[null,null,null,null,null,null,null,null,null,null,null,null,null,null,null,null,null,null,null,null,null,null,6,38,0,38,6,38,null,null,41,241]
[null,null,null,null,null,null,null,null,null,null,null,null,null,null,null,null,null,null,null,null,null,null,7,33,null,33,null,33,null,null,20,138]
[null,null,null,null,null,null,null,null,null,null,null,null,null,null,null,null,null,null,null,null,null,null,null,13,0,13,null,13,4,98,22,98]
[null,null,null,null,null,null,null,null,null,null,null,null,null,null,null,null,null,null,null,null,null,null,3,30,0,30,3,30,null,null,118,375]
[null,null,null,null,null,null,null,null,null,null,null,null,null,null,null,null,null,null,null,null,null,null,4,20,0,20,4,20,null,null,131,477]
[null,null,null,null,null,null,null,null,null,null,null,null,null,null,null,null,null,null,null,null,null,null,null,null,null,null,null,null,null,null,5,12]
[null,null,null,null,null,null,null,null,null,null,null,null,null,null,null,null,null,null,null,null,null,null,null,18,0,18,null,18,null,null,34,180]
[null,null,null,null,null,null,null,null,null,null,null,null,null,null,null,null,null,null,null,null,null,null,31,178,0,178,31,178,23,1292,374,1297]
[null,null,null,null,null,null,null,null,null,null,null,null,null,null,null,null,null,null,null,null,null,null,null,10,0,10,null,10,null,null,20,143]
[null,null,null,null,null,null,null,null,null,null,null,null,null,null,null,null,null,null,null,null,null,null,6,36,0,36,6,36,null,null,22,213]
[null,null,null,null,null,null,null,null,null,null,null,null,null,null,null,null,null,null,null,null,null,null,12,44,0,44,12,44,null,null,84,247]
[null,null,null,null,null,null,null,null,null,null,null,null,null,null,null,null,null,null,null,null,null,null,null,5,0,5,null,5,null,null,12,82]
[null,null,null,null,null,null,null,null,null,null,null,null,null,null,null,null,null,null,null,null,null,null,4,21,0,21,4,21,null,null,35,148]
[null,null,null,null,null,null,null,null,null,null,null,null,null,null,null,null,null,null,null,null,null,null,3,25,0,25,3,25,null,null,50,213]
[null,null,null,null,null,null,null,null,null,null,null,null,null,null,null,null,null,null,null,null,null,null,5,33,0,33,5,33,null,null,67,258]
[null,null,null,null,null,null,null,null,null,null,null,null,null,null,null,null,null,null,null,null,null,null,5,20,0,20,5,20,null,null,52,170]
[null,null,null,null,null,null,null,null,null,null,null,null,null,null,null,null,null,null,null,null,null,null,10,45,3,45,7,45,null,null,87,326]
[null,null,null,null,null,null,null,null,null,null,null,null,null,null,null,null,null,null,null,null,null,null,9,31,null,31,null,31,9,190,62,196]
[null,null,null,null,null,null,null,null,null,null,null,null,null,null,null,null,null,null,null,null,null,null,null,3,0,3,null,3,null,null,null,4]
[null,null,null,null,null,null,null,null,null,null,null,null,null,null,null,null,null,null,null,null,null,null,null,12,0,12,null,12,0,80,18,80]
[null,null,null,null,null,null,null,null,null,null,null,null,null,null,null,null,null,null,null,null,null,null,4,29,null,29,null,29,8,166,37,170]
[null,null,null,null,null,null,null,null,null,null,null,null,null,null,null,null,null,null,null,null,null,null,10,36,0,36,10,36,null,null,59,199]
[null,null,null,null,null,null,null,null,null,null,null,null,null,null,null,null,null,null,null,null,null,null,22,126,null,126,null,126,26,949,238,949]
[null,null,null,null,null,null,null,null,null,null,null,null,null,null,null,null,null,null,null,null,null,null,12,37,null,37,null,37,6,231,55,231]
[null,null,null,null,null,null,null,null,null,null,null,null,null,null,null,null,null,null,null,null,null,null,652,3276,74,3276,578,3276,728,23863,6008,24158]
[null,null,null,null,null,null,null,null,null,null,null,null,null,null,null,null,null,null,null,null,null,null,31,160,3,160,28,160,49,2130,457,2155]
[null,null,null,null,null,null,null,null,null,null,null,null,null,null,null,null,null,null,null,null,null,null,8,47,null,47,null,47,null,null,39,182]
[null,null,null,null,null,null,null,null,null,null,null,null,null,null,null,null,null,null,null,null,null,null,6,32,0,32,6,32,null,null,74,353]
[null,null,null,null,null,null,null,null,null,null,null,null,null,null,null,null,null,null,null,null,null,null,7,32,0,32,7,32,null,null,26,108]
[null,null,null,null,null,null,null,null,null,null,null,null,null,null,null,null,null,null,null,null,null,null,null,7,0,7,null,7,null,null,9,39]
[null,null,null,null,null,null,null,null,null,null,null,null,null,null,null,null,null,null,null,null,null,null,11,39,3,39,8,39,null,null,40,199]
[null,null,null,null,null,null,null,null,null,null,null,null,null,null,null,null,null,null,null,null,null,null,3,22,null,22,null,22,null,null,50,354]
[null,null,null,null,null,null,null,null,null,null,null,null,null,null,null,null,null,null,null,null,null,null,null,3,0,3,null,3,null,null,17,69]
[null,null,null,null,null,null,null,null,null,null,null,null,null,null,null,null,null,null,null,null,null,null,null,20,null,20,0,20,null,null,35,158]
[null,null,null,null,null,null,null,null,null,null,null,null,null,null,null,null,null,null,null,null,null,null,null,30,0,30,null,30,5,124,23,128]
[null,null,null,null,null,null,null,null,null,null,null,null,null,null,null,null,null,null,null,null,null,null,6,34,0,34,6,34,6,240,54,240]
[null,null,null,null,null,null,null,null,null,null,null,null,null,null,null,null,null,null,null,null,null,null,null,39,0,39,null,39,8,254,47,257]
[null,null,null,null,null,null,null,null,null,null,null,null,null,null,null,null,null,null,null,null,null,null,3,24,0,24,3,24,null,null,18,152]
[null,null,null,null,null,null,null,null,null,null,null,null,null,null,null,null,null,null,null,null,null,null,5,19,0,19,5,19,6,164,22,168]
[null,null,null,null,null,null,null,null,null,null,null,null,null,null,null,null,null,null,null,null,null,null,4,23,null,23,null,23,0,145,24,145]
[null,null,null,null,null,null,null,null,null,null,null,null,null,null,null,null,null,null,null,null,null,null,null,8,0,8,null,8,null,null,27,138]
[null,null,null,null,null,null,null,null,null,null,null,null,null,null,null,null,null,null,null,null,null,null,null,5,0,5,null,5,0,38,9,38]
[null,null,null,null,null,null,null,null,null,null,null,null,null,null,null,null,null,null,null,null,null,null,null,9,0,9,null,9,null,null,70,206]
[null,null,null,null,null,null,null,null,null,null,null,null,null,null,null,null,null,null,null,null,null,null,3,15,0,15,3,15,null,null,19,77]
[null,null,null,null,null,null,null,null,null,null,null,null,null,null,null,null,null,null,null,null,null,null,6,22,null,22,null,22,4,143,30,146]
[null,null,null,null,null,null,null,null,null,null,null,null,null,null,null,null,null,null,null,null,null,null,4,33,0,33,4,33,null,null,46,277]
[null,null,null,null,null,null,null,null,null,null,null,null,null,null,null,null,null,null,null,null,null,null,4,25,null,25,null,25,14,249,41,254]
[null,null,null,null,null,null,null,null,null,null,null,null,null,null,null,null,null,null,null,null,null,null,3,13,0,13,3,13,null,null,null,33]
[null,null,null,null,null,null,null,null,null,null,null,null,null,null,null,null,null,null,null,null,null,null,7,27,0,27,7,27,null,null,28,152]
[null,null,null,null,null,null,null,null,null,null,null,null,null,null,null,null,null,null,null,null,null,null,null,11,0,11,null,11,5,174,41,178]
[null,null,null,null,null,null,null,null,null,null,null,null,null,null,null,null,null,null,null,null,null,null,6,24,null,24,null,24,8,238,56,241]
[null,null,null,null,null,null,null,null,null,null,null,null,null,null,null,null,null,null,null,null,null,null,4,34,0,34,4,34,null,null,43,203]
[null,null,null,null,null,null,null,null,null,null,null,null,null,null,null,null,null,null,null,null,null,null,6,31,0,31,6,31,11,252,57,256]
[null,null,null,null,null,null,null,null,null,null,null,null,null,null,null,null,null,null,null,null,null,null,7,40,0,40,7,40,10,173,29,178]
[null,null,null,null,null,null,null,null,null,null,null,null,null,null,null,null,null,null,null,null,null,null,12,34,null,34,null,34,null,null,71,368]
[null,null,null,null,null,null,null,null,null,null,null,null,null,null,null,null,null,null,null,null,null,null,null,14,0,14,null,14,null,null,15,68]
[null,null,null,null,null,null,null,null,null,null,null,null,null,null,null,null,null,null,null,null,null,null,null,23,0,23,null,23,null,null,46,180]
[null,null,null,null,null,null,null,null,null,null,null,null,null,null,null,null,null,null,null,null,null,null,3,31,null,31,null,31,null,null,52,179]
[null,null,null,null,null,null,null,null,null,null,null,null,null,null,null,null,null,null,null,null,null,null,6,42,0,42,6,42,null,null,59,263]
[null,null,null,null,null,null,null,null,null,null,null,null,null,null,null,null,null,null,null,null,null,null,6,38,null,38,null,38,6,287,78,292]
[null,null,null,null,null,null,null,null,null,null,null,null,null,null,null,null,null,null,null,null,null,null,12,52,3,52,9,52,9,167,46,170]
[null,null,null,null,null,null,null,null,null,null,null,null,null,null,null,null,null,null,null,null,null,null,4,39,0,39,4,39,3,120,43,124]
[null,null,null,null,null,null,null,null,null,null,null,null,null,null,null,null,null,null,null,null,null,null,9,70,0,70,9,70,15,359,66,368]
[null,null,null,null,null,null,null,null,null,null,null,null,null,null,null,null,null,null,null,null,null,null,6,20,0,20,6,20,null,null,72,130]
[null,null,null,null,null,null,null,null,null,null,null,null,null,null,null,null,null,null,null,null,null,null,null,8,null,8,null,8,null,null,80,278]
[null,null,null,null,null,null,null,null,null,null,null,null,null,null,null,null,null,null,null,null,null,null,4,18,null,18,null,18,null,null,30,116]
[null,null,null,null,null,null,null,null,null,null,null,null,null,null,null,null,null,null,null,null,null,null,3,41,0,41,3,41,null,null,64,277]
[null,null,null,null,null,null,null,null,null,null,null,null,null,null,null,null,null,null,null,null,null,null,13,106,0,106,13,106,null,null,50,332]
[null,null,null,null,null,null,null,null,null,null,null,null,null,null,null,null,null,null,null,null,null,null,9,83,0,83,9,83,10,302,52,312]
[null,null,null,null,null,null,null,null,null,null,null,null,null,null,null,null,null,null,null,null,null,null,8,66,0,66,8,66,8,135,31,142]
[null,null,null,null,null,null,null,null,null,null,null,null,null,null,null,null,null,null,null,null,null,null,3,27,0,27,3,27,null,null,26,161]
[null,null,null,null,null,null,null,null,null,null,null,null,null,null,null,null,null,null,null,null,null,null,null,15,0,15,null,15,4,179,42,179]
[null,null,null,null,null,null,null,null,null,null,null,null,null,null,null,null,null,null,null,null,null,null,null,21,0,21,null,21,null,null,46,179]
[null,null,null,null,null,null,null,null,null,null,null,null,null,null,null,null,null,null,null,null,null,null,7,36,3,36,4,36,null,null,76,252]
[null,null,null,null,null,null,null,null,null,null,null,null,null,null,null,null,null,null,null,null,null,null,null,12,null,12,0,12,null,null,24,89]
[null,null,null,null,null,null,null,null,null,null,null,null,null,null,null,null,null,null,null,null,null,null,null,20,0,20,null,20,null,null,43,124]
[null,null,null,null,null,null,null,null,null,null,null,null,null,null,null,null,null,null,null,null,null,null,26,169,3,169,23,169,null,null,240,1163]
[null,null,null,null,null,null,null,null,null,null,null,null,null,null,null,null,null,null,null,null,null,null,5,42,null,42,null,42,null,null,67,270]
[null,null,null,null,null,null,null,null,null,null,null,null,null,null,null,null,null,null,null,null,null,null,null,22,0,22,null,22,null,null,38,159]
[null,null,null,null,null,null,null,null,null,null,null,null,null,null,null,null,null,null,null,null,null,null,7,17,null,17,null,17,null,null,23,68]
[null,null,null,null,null,null,null,null,null,null,null,null,null,null,null,null,null,null,null,null,null,null,0,3,0,3,0,3,null,null,6,11]
[null,null,null,null,null,null,null,null,null,null,null,null,null,null,null,null,null,null,null,null,null,null,9,30,null,30,null,30,null,null,70,168]
[null,null,null,null,null,null,null,null,null,null,null,null,null,null,null,null,null,null,null,null,null,null,4,18,0,18,4,18,null,null,52,187]
[null,null,null,null,null,null,null,null,null,null,null,null,null,null,null,null,null,null,null,null,null,null,4,25,0,25,4,25,null,null,50,282]
[null,null,null,null,null,null,null,null,null,null,null,null,null,null,null,null,null,null,null,null,null,null,null,18,0,18,null,18,null,null,48,226]
[null,null,null,null,null,null,null,null,null,null,null,null,null,null,null,null,null,null,null,null,null,null,17,142,0,142,17,142,27,549,103,557]
[null,null,null,null,null,null,null,null,null,null,null,null,null,null,null,null,null,null,null,null,null,null,null,null,null,null,null,null,null,null,6,10]
[null,null,null,null,null,null,null,null,null,null,null,null,null,null,null,null,null,null,null,null,null,null,null,11,0,11,null,11,4,428,116,428]
[null,null,null,null,null,null,null,null,null,null,null,null,null,null,null,null,null,null,null,null,null,null,3,25,0,25,3,25,null,null,26,115]
[null,null,null,null,null,null,null,null,null,null,null,null,null,null,null,null,null,null,null,null,null,null,7,28,0,28,7,28,16,345,71,348]
[null,null,null,null,null,null,null,null,null,null,null,null,null,null,null,null,null,null,null,null,null,null,null,14,0,14,null,14,11,326,97,331]
[null,null,null,null,null,null,null,null,null,null,null,null,null,null,null,null,null,null,null,null,null,null,6,55,0,55,6,55,21,438,155,442]
[null,null,null,null,null,null,null,null,null,null,null,null,null,null,null,null,null,null,null,null,null,null,5,28,null,28,null,28,null,null,82,322]
[null,null,null,null,null,null,null,null,null,null,null,null,null,null,null,null,null,null,null,null,null,null,12,47,3,47,9,47,null,null,92,406]
[null,null,null,null,null,null,null,null,null,null,null,null,null,null,null,null,null,null,null,null,null,null,4,21,0,21,4,21,9,323,115,328]
[null,null,null,null,null,null,null,null,null,null,null,null,null,null,null,null,null,null,null,null,null,null,5,29,null,29,null,29,null,null,72,244]
[null,null,null,null,null,null,null,null,null,null,null,null,null,null,null,null,null,null,null,null,null,null,null,7,0,7,null,7,null,null,13,83]
[null,null,null,null,null,null,null,null,null,null,null,null,null,null,null,null,null,null,null,null,null,null,3,8,0,8,3,8,null,null,15,109]
[null,null,null,null,null,null,null,null,null,null,null,null,null,null,null,null,null,null,null,null,null,null,null,17,0,17,null,17,null,null,55,341]
[null,null,null,null,null,null,null,null,null,null,null,null,null,null,null,null,null,null,null,null,null,null,7,41,0,41,7,41,null,null,85,244]
[null,null,null,null,null,null,null,null,null,null,null,null,null,null,null,null,null,null,null,null,null,null,3,29,0,29,3,29,null,null,37,171]
[null,null,null,null,null,null,null,null,null,null,null,null,null,null,null,null,null,null,null,null,null,null,3,14,0,14,3,14,null,null,33,128]
[null,null,null,null,null,null,null,null,null,null,null,null,null,null,null,null,null,null,null,null,null,null,8,35,null,35,null,35,9,368,100,371]
[null,null,null,null,null,null,null,null,null,null,null,null,null,null,null,null,null,null,null,null,null,null,5,21,null,21,null,21,null,null,136,524]
[null,null,null,null,null,null,null,null,null,null,null,null,null,null,null,null,null,null,null,null,null,null,null,null,null,null,null,null,null,null,7,15]
[null,null,null,null,null,null,null,null,null,null,null,null,null,null,null,null,null,null,null,null,null,null,5,19,0,19,5,19,null,null,47,191]
[null,null,null,null,null,null,null,null,null,null,null,null,null,null,null,null,null,null,null,null,null,null,46,171,4,171,42,171,38,1296,318,1303]
[null,null,null,null,null,null,null,null,null,null,null,null,null,null,null,null,null,null,null,null,null,null,null,14,0,14,null,14,null,null,7,124]
[null,null,null,null,null,null,null,null,null,null,null,null,null,null,null,null,null,null,null,null,null,null,9,38,0,38,9,38,null,null,70,308]
[null,null,null,null,null,null,null,null,null,null,null,null,null,null,null,null,null,null,null,null,null,null,6,36,0,36,6,36,null,null,61,212]
[null,null,null,null,null,null,null,null,null,null,null,null,null,null,null,null,null,null,null,null,null,null,null,6,0,6,null,6,null,null,15,100]
[null,null,null,null,null,null,null,null,null,null,null,null,null,null,null,null,null,null,null,null,null,null,5,21,0,21,5,21,null,null,64,150]
[null,null,null,null,null,null,null,null,null,null,null,null,null,null,null,null,null,null,null,null,null,null,4,33,0,33,4,33,9,201,67,205]
[null,null,null,null,null,null,null,null,null,null,null,null,null,null,null,null,null,null,null,null,null,null,6,37,null,37,null,37,null,null,109,299]
[null,null,null,null,null,null,null,null,null,null,null,null,null,null,null,null,null,null,null,null,null,null,3,20,0,20,3,20,null,null,43,185]
[null,null,null,null,null,null,null,null,null,null,null,null,null,null,null,null,null,null,null,null,null,null,8,41,null,41,null,41,null,null,82,319]
[null,null,null,null,null,null,null,null,null,null,null,null,null,null,null,null,null,null,null,null,null,null,3,25,0,25,3,25,null,null,51,217]
[null,null,null,null,null,null,null,null,null,null,null,null,null,null,null,null,null,null,null,null,null,null,null,null,null,null,null,null,0,4,null,4]
[null,null,null,null,null,null,null,null,null,null,null,null,null,null,null,null,null,null,null,null,null,null,0,12,0,12,0,12,null,null,23,93]
[null,null,null,null,null,null,null,null,null,null,null,null,null,null,null,null,null,null,null,null,null,null,5,28,0,28,5,28,13,202,51,206]
[null,null,null,null,null,null,null,null,null,null,null,null,null,null,null,null,null,null,null,null,null,null,6,33,null,33,null,33,null,null,32,190]
[null,null,null,null,null,null,null,null,null,null,null,null,null,null,null,null,null,null,null,null,null,null,25,142,null,142,null,142,17,967,167,971]
[null,null,null,null,null,null,null,null,null,null,null,null,null,null,null,null,null,null,null,null,null,null,7,28,0,28,7,28,null,null,69,257]
[null,null,null,null,null,null,null,null,null,null,null,null,null,null,null,null,null,null,null,null,null,null,557,3268,50,3268,507,3268,756,24712,5834,25052]
[null,null,null,null,null,null,null,null,null,null,null,null,null,null,null,null,null,null,null,null,null,null,38,180,7,180,31,180,65,2121,575,2139]
[null,null,null,null,null,null,null,null,null,null,null,null,null,null,null,null,null,null,null,null,null,null,9,49,0,49,9,49,null,null,55,205]
[null,null,null,null,null,null,null,null,null,null,null,null,null,null,null,null,null,null,null,null,null,null,5,31,0,31,5,31,null,null,63,316]
[null,null,null,null,null,null,null,null,null,null,null,null,null,null,null,null,null,null,null,null,null,null,7,34,null,34,null,34,null,null,20,106]
[null,null,null,null,null,null,null,null,null,null,null,null,null,null,null,null,null,null,null,null,null,null,3,7,0,7,3,7,null,null,5,41]
[null,null,null,null,null,null,null,null,null,null,null,null,null,null,null,null,null,null,null,null,null,null,6,31,0,31,6,31,null,null,36,200]
[null,null,null,null,null,null,null,null,null,null,null,null,null,null,null,null,null,null,null,null,null,null,3,24,null,24,null,24,null,null,73,411]
[null,null,null,null,null,null,null,null,null,null,null,null,null,null,null,null,null,null,null,null,null,null,0,3,0,3,0,3,0,76,18,76]
[null,null,null,null,null,null,null,null,null,null,null,null,null,null,null,null,null,null,null,null,null,null,5,21,0,21,5,21,4,155,31,159]
[null,null,null,null,null,null,null,null,null,null,null,null,null,null,null,null,null,null,null,null,null,null,6,31,null,31,null,31,6,141,42,145]
[null,null,null,null,null,null,null,null,null,null,null,null,null,null,null,null,null,null,null,null,null,null,6,36,null,36,null,36,null,null,65,244]
[null,null,null,null,null,null,null,null,null,null,null,null,null,null,null,null,null,null,null,null,null,null,5,44,0,44,5,44,null,null,58,263]
[null,null,null,null,null,null,null,null,null,null,null,null,null,null,null,null,null,null,null,null,null,null,null,25,null,25,null,25,null,null,30,188]
[null,null,null,null,null,null,null,null,null,null,null,null,null,null,null,null,null,null,null,null,null,null,4,23,0,23,4,23,null,null,43,182]
[null,null,null,null,null,null,null,null,null,null,null,null,null,null,null,null,null,null,null,null,null,null,3,20,0,20,3,20,null,null,37,147]
[null,null,null,null,null,null,null,null,null,null,null,null,null,null,null,null,null,null,null,null,null,null,3,10,0,10,3,10,5,145,30,148]
[null,null,null,null,null,null,null,null,null,null,null,null,null,null,null,null,null,null,null,null,null,null,0,4,0,4,0,4,0,54,14,54]
[null,null,null,null,null,null,null,null,null,null,null,null,null,null,null,null,null,null,null,null,null,null,null,14,null,14,null,14,null,null,39,192]
[null,null,null,null,null,null,null,null,null,null,null,null,null,null,null,null,null,null,null,null,null,null,3,13,0,13,3,13,null,null,18,70]
[null,null,null,null,null,null,null,null,null,null,null,null,null,null,null,null,null,null,null,null,null,null,0,19,0,19,0,19,null,null,23,139]
[null,null,null,null,null,null,null,null,null,null,null,null,null,null,null,null,null,null,null,null,null,null,4,31,0,31,4,31,4,259,39,262]
[null,null,null,null,null,null,null,null,null,null,null,null,null,null,null,null,null,null,null,null,null,null,8,30,0,30,8,30,9,234,46,240]
[null,null,null,null,null,null,null,null,null,null,null,null,null,null,null,null,null,null,null,null,null,null,3,12,0,12,3,12,null,null,14,37]
[null,null,null,null,null,null,null,null,null,null,null,null,null,null,null,null,null,null,null,null,null,null,9,21,null,21,null,21,3,164,41,164]
[null,null,null,null,null,null,null,null,null,null,null,null,null,null,null,null,null,null,null,null,null,null,null,13,null,13,null,13,5,183,49,186]
[null,null,null,null,null,null,null,null,null,null,null,null,null,null,null,null,null,null,null,null,null,null,8,18,null,18,null,18,null,null,53,241]
[null,null,null,null,null,null,null,null,null,null,null,null,null,null,null,null,null,null,null,null,null,null,4,34,0,34,4,34,null,null,45,208]
[null,null,null,null,null,null,null,null,null,null,null,null,null,null,null,null,null,null,null,null,null,null,7,30,null,30,null,30,null,null,62,258]
[null,null,null,null,null,null,null,null,null,null,null,null,null,null,null,null,null,null,null,null,null,null,8,41,0,41,8,41,6,191,40,195]
[null,null,null,null,null,null,null,null,null,null,null,null,null,null,null,null,null,null,null,null,null,null,7,30,0,30,7,30,null,null,119,410]
[null,null,null,null,null,null,null,null,null,null,null,null,null,null,null,null,null,null,null,null,null,null,null,18,null,18,null,18,null,null,17,66]
[null,null,null,null,null,null,null,null,null,null,null,null,null,null,null,null,null,null,null,null,null,null,4,27,0,27,4,27,null,null,37,198]
[null,null,null,null,null,null,null,null,null,null,null,null,null,null,null,null,null,null,null,null,null,null,3,30,0,30,3,30,null,null,42,146]
[null,null,null,null,null,null,null,null,null,null,null,null,null,null,null,null,null,null,null,null,null,null,11,41,3,41,8,41,null,null,67,284]
[null,null,null,null,null,null,null,null,null,null,null,null,null,null,null,null,null,null,null,null,null,null,3,40,0,40,3,40,null,null,46,262]
[null,null,null,null,null,null,null,null,null,null,null,null,null,null,null,null,null,null,null,null,null,null,9,45,null,45,null,45,null,null,27,177]
[null,null,null,null,null,null,null,null,null,null,null,null,null,null,null,null,null,null,null,null,null,null,8,39,0,39,8,39,null,null,25,106]
[null,null,null,null,null,null,null,null,null,null,null,null,null,null,null,null,null,null,null,null,null,null,14,73,0,73,14,73,6,428,133,434]
[null,null,null,null,null,null,null,null,null,null,null,null,null,null,null,null,null,null,null,null,null,null,6,16,0,16,6,16,null,null,29,88]
[null,null,null,null,null,null,null,null,null,null,null,null,null,null,null,null,null,null,null,null,null,null,3,10,null,10,null,10,null,null,23,200]
[null,null,null,null,null,null,null,null,null,null,null,null,null,null,null,null,null,null,null,null,null,null,4,14,null,14,null,14,4,104,25,107]
[null,null,null,null,null,null,null,null,null,null,null,null,null,null,null,null,null,null,null,null,null,null,5,45,0,45,5,45,null,null,95,277]
[null,null,null,null,null,null,null,null,null,null,null,null,null,null,null,null,null,null,null,null,null,null,14,103,null,103,null,103,null,null,84,358]
[null,null,null,null,null,null,null,null,null,null,null,null,null,null,null,null,null,null,null,null,null,null,9,84,0,84,9,84,null,null,63,347]
[null,null,null,null,null,null,null,null,null,null,null,null,null,null,null,null,null,null,null,null,null,null,7,69,0,69,7,69,6,170,69,180]
[null,null,null,null,null,null,null,null,null,null,null,null,null,null,null,null,null,null,null,null,null,null,9,29,null,29,null,29,null,null,28,156]
[null,null,null,null,null,null,null,null,null,null,null,null,null,null,null,null,null,null,null,null,null,null,null,15,null,15,0,15,5,180,34,180]
[null,null,null,null,null,null,null,null,null,null,null,null,null,null,null,null,null,null,null,null,null,null,6,24,0,24,6,24,null,null,36,168]
[null,null,null,null,null,null,null,null,null,null,null,null,null,null,null,null,null,null,null,null,null,null,11,37,null,37,null,37,null,null,40,229]
[null,null,null,null,null,null,null,null,null,null,null,null,null,null,null,null,null,null,null,null,null,null,3,14,0,14,3,14,null,null,15,107]
[null,null,null,null,null,null,null,null,null,null,null,null,null,null,null,null,null,null,null,null,null,null,null,19,null,19,null,19,null,null,23,108]
[null,null,null,null,null,null,null,null,null,null,null,null,null,null,null,null,null,null,null,null,null,null,27,167,3,167,24,167,null,null,230,1221]
[null,null,null,null,null,null,null,null,null,null,null,null,null,null,null,null,null,null,null,null,null,null,8,41,null,41,null,41,17,261,48,264]
[null,null,null,null,null,null,null,null,null,null,null,null,null,null,null,null,null,null,null,null,null,null,null,29,null,29,null,29,null,null,41,171]
[null,null,null,null,null,null,null,null,null,null,null,null,null,null,null,null,null,null,null,null,null,null,3,13,null,13,null,13,3,60,9,60]
[null,null,null,null,null,null,null,null,null,null,null,null,null,null,null,null,null,null,null,null,null,null,null,6,null,6,0,6,null,null,3,6]
[null,null,null,null,null,null,null,null,null,null,null,null,null,null,null,null,null,null,null,null,null,null,5,26,null,26,null,26,null,null,61,161]
[null,null,null,null,null,null,null,null,null,null,null,null,null,null,null,null,null,null,null,null,null,null,null,19,0,19,null,19,null,null,65,173]
[null,null,null,null,null,null,null,null,null,null,null,null,null,null,null,null,null,null,null,null,null,null,3,27,null,27,null,27,null,null,63,293]
[null,null,null,null,null,null,null,null,null,null,null,null,null,null,null,null,null,null,null,null,null,null,4,21,0,21,4,21,6,248,50,251]
[null,null,null,null,null,null,null,null,null,null,null,null,null,null,null,null,null,null,null,null,null,null,24,154,null,154,null,154,null,null,126,585]
[null,null,null,null,null,null,null,null,null,null,null,null,null,null,null,null,null,null,null,null,null,null,null,null,null,null,null,null,null,null,null,5]
[null,null,null,null,null,null,null,null,null,null,null,null,null,null,null,null,null,null,null,null,null,null,null,13,null,13,0,13,5,442,148,442]
[null,null,null,null,null,null,null,null,null,null,null,null,null,null,null,null,null,null,null,null,null,null,6,29,0,29,6,29,null,null,50,163]
[null,null,null,null,null,null,null,null,null,null,null,null,null,null,null,null,null,null,null,null,null,null,4,28,null,28,null,28,null,null,78,332]
[null,null,null,null,null,null,null,null,null,null,null,null,null,null,null,null,null,null,null,null,null,null,5,16,0,16,5,16,null,null,95,335]
[null,null,null,null,null,null,null,null,null,null,null,null,null,null,null,null,null,null,null,null,null,null,16,68,6,68,10,68,18,373,123,382]
[null,null,null,null,null,null,null,null,null,null,null,null,null,null,null,null,null,null,null,null,null,null,12,32,null,32,null,32,null,null,108,350]
[null,null,null,null,null,null,null,null,null,null,null,null,null,null,null,null,null,null,null,null,null,null,13,48,4,48,9,48,null,null,140,429]
[null,null,null,null,null,null,null,null,null,null,null,null,null,null,null,null,null,null,null,null,null,null,7,22,0,22,7,22,12,290,82,294]
[null,null,null,null,null,null,null,null,null,null,null,null,null,null,null,null,null,null,null,null,null,null,7,30,null,30,null,30,null,null,62,239]
[null,null,null,null,null,null,null,null,null,null,null,null,null,null,null,null,null,null,null,null,null,null,0,7,0,7,0,7,null,null,18,78]
[null,null,null,null,null,null,null,null,null,null,null,null,null,null,null,null,null,null,null,null,null,null,4,7,null,7,null,7,null,null,35,120]
[null,null,null,null,null,null,null,null,null,null,null,null,null,null,null,null,null,null,null,null,null,null,0,15,0,15,0,15,null,null,40,338]
[null,null,null,null,null,null,null,null,null,null,null,null,null,null,null,null,null,null,null,null,null,null,5,36,null,36,null,36,null,null,31,188]
[null,null,null,null,null,null,null,null,null,null,null,null,null,null,null,null,null,null,null,null,null,null,3,35,0,35,3,35,null,null,41,169]
[null,null,null,null,null,null,null,null,null,null,null,null,null,null,null,null,null,null,null,null,null,null,3,11,null,11,null,11,null,null,33,116]
[null,null,null,null,null,null,null,null,null,null,null,null,null,null,null,null,null,null,null,null,null,null,8,35,null,35,null,35,13,363,100,366]
[null,null,null,null,null,null,null,null,null,null,null,null,null,null,null,null,null,null,null,null,null,null,null,18,null,18,null,18,null,null,161,559]
[null,null,null,null,null,null,null,null,null,null,null,null,null,null,null,null,null,null,null,null,null,null,null,null,null,null,null,null,0,9,null,9]
[null,null,null,null,null,null,null,null,null,null,null,null,null,null,null,null,null,null,null,null,null,null,4,18,0,18,4,18,null,null,50,182]
[null,null,null,null,null,null,null,null,null,null,null,null,null,null,null,null,null,null,null,null,null,null,28,173,0,173,28,173,22,1266,355,1270]
[null,null,null,null,null,null,null,null,null,null,null,null,null,null,null,null,null,null,null,null,null,null,5,15,null,15,null,15,null,null,3,118]
[null,null,null,null,null,null,null,null,null,null,null,null,null,null,null,null,null,null,null,null,null,null,4,33,0,33,4,33,null,null,77,290]
[null,null,null,null,null,null,null,null,null,null,null,null,null,null,null,null,null,null,null,null,null,null,4,33,0,33,4,33,3,186,44,186]
[null,null,null,null,null,null,null,null,null,null,null,null,null,null,null,null,null,null,null,null,null,null,null,5,null,5,0,5,null,null,26,110]
[null,null,null,null,null,null,null,null,null,null,null,null,null,null,null,null,null,null,null,null,null,null,3,19,0,19,3,19,null,null,28,126]
[null,null,null,null,null,null,null,null,null,null,null,null,null,null,null,null,null,null,null,null,null,null,4,31,0,31,4,31,null,null,53,178]
[null,null,null,null,null,null,null,null,null,null,null,null,null,null,null,null,null,null,null,null,null,null,9,38,0,38,9,38,7,290,109,299]
[null,null,null,null,null,null,null,null,null,null,null,null,null,null,null,null,null,null,null,null,null,null,5,22,null,22,null,22,null,null,57,171]
[null,null,null,null,null,null,null,null,null,null,null,null,null,null,null,null,null,null,null,null,null,null,8,42,null,42,null,42,null,null,84,297]
[null,null,null,null,null,null,null,null,null,null,null,null,null,null,null,null,null,null,null,null,null,null,5,29,0,29,5,29,null,null,74,214]
[null,null,null,null,null,null,null,null,null,null,null,null,null,null,null,null,null,null,null,null,null,null,null,null,null,null,null,null,0,3,0,3]
[null,null,null,null,null,null,null,null,null,null,null,null,null,null,null,null,null,null,null,null,null,null,null,16,0,16,null,16,0,90,19,90]
[null,null,null,null,null,null,null,null,null,null,null,null,null,null,null,null,null,null,null,null,null,null,9,32,0,32,9,32,null,null,45,198]
[null,null,null,null,null,null,null,null,null,null,null,null,null,null,null,null,null,null,null,null,null,null,null,29,null,29,null,29,null,null,51,185]
[null,null,null,null,null,null,null,null,null,null,null,null,null,null,null,null,null,null,null,null,null,null,18,136,null,136,null,136,38,1044,236,1052]
[null,null,null,null,null,null,null,null,null,null,null,null,null,null,null,null,null,null,null,null,null,null,4,33,0,33,4,33,null,null,90,254]
[null,null,null,null,null,null,null,null,null,null,null,null,null,null,null,null,null,null,null,null,null,null,594,3331,68,3331,526,3331,760,24805,6194,25126]
[null,null,null,null,null,null,null,null,null,null,null,null,null,null,null,null,null,null,null,null,null,null,43,201,5,201,38,201,56,2021,406,2042]
[null,null,null,null,null,null,null,null,null,null,null,null,null,null,null,null,null,null,null,null,null,null,10,48,0,48,10,48,null,null,51,212]
[null,null,null,null,null,null,null,null,null,null,null,null,null,null,null,null,null,null,null,null,null,null,null,29,0,29,null,29,null,null,48,310]
[null,null,null,null,null,null,null,null,null,null,null,null,null,null,null,null,null,null,null,null,null,null,9,35,0,35,9,35,null,null,29,126]
[null,null,null,null,null,null,null,null,null,null,null,null,null,null,null,null,null,null,null,null,null,null,null,5,0,5,null,5,null,null,3,43]
[null,null,null,null,null,null,null,null,null,null,null,null,null,null,null,null,null,null,null,null,null,null,5,26,0,26,5,26,5,206,35,209]
[null,null,null,null,null,null,null,null,null,null,null,null,null,null,null,null,null,null,null,null,null,null,3,26,0,26,3,26,null,null,70,438]
[null,null,null,null,null,null,null,null,null,null,null,null,null,null,null,null,null,null,null,null,null,null,null,4,null,4,null,4,4,98,18,98]
[null,null,null,null,null,null,null,null,null,null,null,null,null,null,null,null,null,null,null,null,null,null,null,19,0,19,null,19,null,null,33,167]
[null,null,null,null,null,null,null,null,null,null,null,null,null,null,null,null,null,null,null,null,null,null,7,28,0,28,7,28,null,null,30,130]
[null,null,null,null,null,null,null,null,null,null,null,null,null,null,null,null,null,null,null,null,null,null,11,41,null,41,null,41,null,null,54,235]
[null,null,null,null,null,null,null,null,null,null,null,null,null,null,null,null,null,null,null,null,null,null,9,43,null,43,null,43,null,null,55,261]
[null,null,null,null,null,null,null,null,null,null,null,null,null,null,null,null,null,null,null,null,null,null,6,29,0,29,6,29,null,null,36,211]
[null,null,null,null,null,null,null,null,null,null,null,null,null,null,null,null,null,null,null,null,null,null,4,23,0,23,4,23,null,null,25,175]
[null,null,null,null,null,null,null,null,null,null,null,null,null,null,null,null,null,null,null,null,null,null,3,22,null,22,null,22,3,144,29,144]
[null,null,null,null,null,null,null,null,null,null,null,null,null,null,null,null,null,null,null,null,null,null,null,10,0,10,null,10,null,null,94,144]
[null,null,null,null,null,null,null,null,null,null,null,null,null,null,null,null,null,null,null,null,null,null,null,4,0,4,null,4,3,54,9,54]
[null,null,null,null,null,null,null,null,null,null,null,null,null,null,null,null,null,null,null,null,null,null,null,15,0,15,null,15,null,null,61,206]
[null,null,null,null,null,null,null,null,null,null,null,null,null,null,null,null,null,null,null,null,null,null,0,11,0,11,0,11,null,null,19,81]
[null,null,null,null,null,null,null,null,null,null,null,null,null,null,null,null,null,null,null,null,null,null,4,22,0,22,4,22,null,null,51,137]
[null,null,null,null,null,null,null,null,null,null,null,null,null,null,null,null,null,null,null,null,null,null,6,32,0,32,6,32,null,null,27,251]
[null,null,null,null,null,null,null,null,null,null,null,null,null,null,null,null,null,null,null,null,null,null,7,35,0,35,7,35,null,null,29,226]
[null,null,null,null,null,null,null,null,null,null,null,null,null,null,null,null,null,null,null,null,null,null,null,11,0,11,null,11,null,null,5,34]
[null,null,null,null,null,null,null,null,null,null,null,null,null,null,null,null,null,null,null,null,null,null,null,13,null,13,null,13,null,null,24,161]
[null,null,null,null,null,null,null,null,null,null,null,null,null,null,null,null,null,null,null,null,null,null,null,16,0,16,null,16,null,null,40,175]
[null,null,null,null,null,null,null,null,null,null,null,null,null,null,null,null,null,null,null,null,null,null,4,13,0,13,4,13,null,null,60,266]
[null,null,null,null,null,null,null,null,null,null,null,null,null,null,null,null,null,null,null,null,null,null,9,36,0,36,9,36,9,237,37,240]
[null,null,null,null,null,null,null,null,null,null,null,null,null,null,null,null,null,null,null,null,null,null,9,28,0,28,9,28,null,null,55,290]
[null,null,null,null,null,null,null,null,null,null,null,null,null,null,null,null,null,null,null,null,null,null,7,40,null,40,null,40,null,null,47,228]
[null,null,null,null,null,null,null,null,null,null,null,null,null,null,null,null,null,null,null,null,null,null,10,34,null,34,null,34,null,null,108,416]
[null,null,null,null,null,null,null,null,null,null,null,null,null,null,null,null,null,null,null,null,null,null,4,19,0,19,4,19,null,null,8,68]
[null,null,null,null,null,null,null,null,null,null,null,null,null,null,null,null,null,null,null,null,null,null,0,30,0,30,0,30,null,null,69,246]
[null,null,null,null,null,null,null,null,null,null,null,null,null,null,null,null,null,null,null,null,null,null,4,31,0,31,4,31,null,null,38,130]
[null,null,null,null,null,null,null,null,null,null,null,null,null,null,null,null,null,null,null,null,null,null,7,39,0,39,7,39,8,314,78,317]
[null,null,null,null,null,null,null,null,null,null,null,null,null,null,null,null,null,null,null,null,null,null,6,52,null,52,null,52,10,307,52,311]
[null,null,null,null,null,null,null,null,null,null,null,null,null,null,null,null,null,null,null,null,null,null,7,41,null,41,null,41,null,null,46,217]
[null,null,null,null,null,null,null,null,null,null,null,null,null,null,null,null,null,null,null,null,null,null,6,33,0,33,6,33,null,null,33,125]
[null,null,null,null,null,null,null,null,null,null,null,null,null,null,null,null,null,null,null,null,null,null,11,69,3,69,8,69,14,431,81,435]
[null,null,null,null,null,null,null,null,null,null,null,null,null,null,null,null,null,null,null,null,null,null,null,13,0,13,null,13,null,null,23,95]
[null,null,null,null,null,null,null,null,null,null,null,null,null,null,null,null,null,null,null,null,null,null,null,13,0,13,null,13,null,null,30,189]
[null,null,null,null,null,null,null,null,null,null,null,null,null,null,null,null,null,null,null,null,null,null,3,16,0,16,3,16,null,null,29,115]
[null,null,null,null,null,null,null,null,null,null,null,null,null,null,null,null,null,null,null,null,null,null,8,52,null,52,null,52,null,null,56,251]
[null,null,null,null,null,null,null,null,null,null,null,null,null,null,null,null,null,null,null,null,null,null,22,111,4,111,18,111,null,null,83,338]
[null,null,null,null,null,null,null,null,null,null,null,null,null,null,null,null,null,null,null,null,null,null,12,87,null,87,null,87,17,349,68,360]
[null,null,null,null,null,null,null,null,null,null,null,null,null,null,null,null,null,null,null,null,null,null,10,76,0,76,10,76,null,null,56,166]
[null,null,null,null,null,null,null,null,null,null,null,null,null,null,null,null,null,null,null,null,null,null,5,30,0,30,5,30,11,157,26,160]
[null,null,null,null,null,null,null,null,null,null,null,null,null,null,null,null,null,null,null,null,null,null,null,14,0,14,null,14,9,185,40,185]
[null,null,null,null,null,null,null,null,null,null,null,null,null,null,null,null,null,null,null,null,null,null,4,22,0,22,4,22,null,null,39,154]
[null,null,null,null,null,null,null,null,null,null,null,null,null,null,null,null,null,null,null,null,null,null,null,30,0,30,null,30,null,null,75,242]
[null,null,null,null,null,null,null,null,null,null,null,null,null,null,null,null,null,null,null,null,null,null,3,13,0,13,3,13,null,null,23,121]
[null,null,null,null,null,null,null,null,null,null,null,null,null,null,null,null,null,null,null,null,null,null,6,20,0,20,6,20,3,125,45,125]
[null,null,null,null,null,null,null,null,null,null,null,null,null,null,null,null,null,null,null,null,null,null,24,170,3,170,21,170,35,1225,222,1253]
[null,null,null,null,null,null,null,null,null,null,null,null,null,null,null,null,null,null,null,null,null,null,5,44,null,44,null,44,5,298,70,305]
[null,null,null,null,null,null,null,null,null,null,null,null,null,null,null,null,null,null,null,null,null,null,3,31,0,31,3,31,null,null,51,178]
[null,null,null,null,null,null,null,null,null,null,null,null,null,null,null,null,null,null,null,null,null,null,null,14,null,14,null,14,3,64,5,64]
[null,null,null,null,null,null,null,null,null,null,null,null,null,null,null,null,null,null,null,null,null,null,0,5,0,5,0,5]
[null,null,null,null,null,null,null,null,null,null,null,null,null,null,null,null,null,null,null,null,null,null,4,26,0,26,4,26,null,null,55,179]
[null,null,null,null,null,null,null,null,null,null,null,null,null,null,null,null,null,null,null,null,null,null,4,20,0,20,4,20,null,null,47,160]
[null,null,null,null,null,null,null,null,null,null,null,null,null,null,null,null,null,null,null,null,null,null,6,31,0,31,6,31,null,null,55,290]
[null,null,null,null,null,null,null,null,null,null,null,null,null,null,null,null,null,null,null,null,null,null,4,22,null,22,null,22,null,null,58,248]
[null,null,null,null,null,null,null,null,null,null,null,null,null,null,null,null,null,null,null,null,null,null,32,152,3,152,29,152,null,null,153,620]
[]
[null,null,null,null,null,null,null,null,null,null,null,null,null,null,null,null,null,null,null,null,null,null,null,12,0,12,null,12,null,null,83,378]
[null,null,null,null,null,null,null,null,null,null,null,null,null,null,null,null,null,null,null,null,null,null,7,30,0,30,7,30,5,174,41,174]
[null,null,null,null,null,null,null,null,null,null,null,null,null,null,null,null,null,null,null,null,null,null,4,32,null,32,null,32,22,340,67,343]
[null,null,null,null,null,null,null,null,null,null,null,null,null,null,null,null,null,null,null,null,null,null,5,18,0,18,5,18,null,null,122,354]
[null,null,null,null,null,null,null,null,null,null,null,null,null,null,null,null,null,null,null,null,null,null,9,63,0,63,9,63,19,330,113,341]
[null,null,null,null,null,null,null,null,null,null,null,null,null,null,null,null,null,null,null,null,null,null,5,28,null,28,null,28,7,341,81,344]
[null,null,null,null,null,null,null,null,null,null,null,null,null,null,null,null,null,null,null,null,null,null,11,49,null,49,null,49,null,null,138,414]
[null,null,null,null,null,null,null,null,null,null,null,null,null,null,null,null,null,null,null,null,null,null,7,25,0,25,7,25,6,342,108,345]
[null,null,null,null,null,null,null,null,null,null,null,null,null,null,null,null,null,null,null,null,null,null,6,28,null,28,null,28,null,null,94,234]
[null,null,null,null,null,null,null,null,null,null,null,null,null,null,null,null,null,null,null,null,null,null,null,9,0,9,null,9,null,null,13,82]
[null,null,null,null,null,null,null,null,null,null,null,null,null,null,null,null,null,null,null,null,null,null,null,7,0,7,null,7,null,null,16,102]
[null,null,null,null,null,null,null,null,null,null,null,null,null,null,null,null,null,null,null,null,null,null,null,15,0,15,null,15,null,null,35,351]
[null,null,null,null,null,null,null,null,null,null,null,null,null,null,null,null,null,null,null,null,null,null,5,35,0,35,5,35,null,null,52,214]
[null,null,null,null,null,null,null,null,null,null,null,null,null,null,null,null,null,null,null,null,null,null,8,36,0,36,8,36,null,null,51,189]
[null,null,null,null,null,null,null,null,null,null,null,null,null,null,null,null,null,null,null,null,null,null,null,10,0,10,null,10,null,null,25,136]
[null,null,null,null,null,null,null,null,null,null,null,null,null,null,null,null,null,null,null,null,null,null,4,33,null,33,null,33,9,362,111,366]
[null,null,null,null,null,null,null,null,null,null,null,null,null,null,null,null,null,null,null,null,null,null,4,18,null,18,null,18,null,null,166,556]
[null,null,null,null,null,null,null,null,null,null,null,null,null,null,null,null,null,null,null,null,null,null,null,3,0,3,null,3,null,null,6,15]
[null,null,null,null,null,null,null,null,null,null,null,null,null,null,null,null,null,null,null,null,null,null,4,22,0,22,4,22,null,null,44,198]
[null,null,null,null,null,null,null,null,null,null,null,null,null,null,null,null,null,null,null,null,null,null,31,175,3,175,28,175,25,1248,332,1252]
[null,null,null,null,null,null,null,null,null,null,null,null,null,null,null,null,null,null,null,null,null,null,0,14,0,14,0,14,null,null,null,115]
[null,null,null,null,null,null,null,null,null,null,null,null,null,null,null,null,null,null,null,null,null,null,8,35,0,35,8,35,null,null,78,285]
[null,null,null,null,null,null,null,null,null,null,null,null,null,null,null,null,null,null,null,null,null,null,9,36,0,36,9,36,null,null,48,176]
[null,null,null,null,null,null,null,null,null,null,null,null,null,null,null,null,null,null,null,null,null,null,0,3,0,3,0,3,6,96,29,96]
[null,null,null,null,null,null,null,null,null,null,null,null,null,null,null,null,null,null,null,null,null,null,3,21,0,21,3,21,null,null,49,162]
[null,null,null,null,null,null,null,null,null,null,null,null,null,null,null,null,null,null,null,null,null,null,null,28,0,28,null,28,null,null,38,163]
[null,null,null,null,null,null,null,null,null,null,null,null,null,null,null,null,null,null,null,null,null,null,5,35,0,35,5,35,11,307,80,310]
[null,null,null,null,null,null,null,null,null,null,null,null,null,null,null,null,null,null,null,null,null,null,null,21,0,21,null,21,null,null,42,166]
[null,null,null,null,null,null,null,null,null,null,null,null,null,null,null,null,null,null,null,null,null,null,6,46,3,46,3,46,null,null,74,299]
[null,null,null,null,null,null,null,null,null,null,null,null,null,null,null,null,null,null,null,null,null,null,5,29,0,29,5,29,null,null,59,213]
[null,null,null,null,null,null,null,null,null,null,null,null,null,null,null,null,null,null,null,null,null,null,null,null,null,null,null,null,null,null,0,6]
[null,null,null,null,null,null,null,null,null,null,null,null,null,null,null,null,null,null,null,null,null,null,null,15,0,15,null,15,null,null,27,95]
[null,null,null,null,null,null,null,null,null,null,null,null,null,null,null,null,null,null,null,null,null,null,6,27,null,27,null,27,null,null,40,214]
[null,null,null,null,null,null,null,null,null,null,null,null,null,null,null,null,null,null,null,null,null,null,6,27,null,27,null,27,null,null,54,216]
[null,null,null,null,null,null,null,null,null,null,null,null,null,null,null,null,null,null,null,null,null,null,19,145,3,145,16,145,null,null,167,1067]
[null,null,null,null,null,null,null,null,null,null,null,null,null,null,null,null,null,null,null,null,null,null,4,34,0,34,4,34,6,252,71,252]
[null,null,null,null,null,null,null,null,null,null,null,null,null,null,null,null,null,null,null,null,null,null,584,3391,59,3391,525,3391,785,25258,5860,25586]
[null,null,null,null,null,null,null,null,null,null,null,null,null,null,null,null,null,null,null,null,null,null,56,219,9,219,47,219,null,null,589,2302]
[null,null,null,null,null,null,null,null,null,null,null,null,null,null,null,null,null,null,null,null,null,null,11,46,null,46,null,46,null,null,56,235]
[null,null,null,null,null,null,null,null,null,null,null,null,null,null,null,null,null,null,null,null,null,null,6,30,0,30,6,30,null,null,68,336]
[null,null,null,null,null,null,null,null,null,null,null,null,null,null,null,null,null,null,null,null,null,null,10,31,null,31,null,31,null,null,34,151]
[null,null,null,null,null,null,null,null,null,null,null,null,null,null,null,null,null,null,null,null,null,null,0,5,0,5,0,5,null,null,10,52]
[null,null,null,null,null,null,null,null,null,null,null,null,null,null,null,null,null,null,null,null,null,null,null,25,0,25,null,25,null,null,47,201]
[null,null,null,null,null,null,null,null,null,null,null,null,null,null,null,null,null,null,null,null,null,null,5,31,null,31,null,31,null,null,99,468]
[null,null,null,null,null,null,null,null,null,null,null,null,null,null,null,null,null,null,null,null,null,null,0,3,0,3,0,3,null,null,23,93]
[null,null,null,null,null,null,null,null,null,null,null,null,null,null,null,null,null,null,null,null,null,null,4,18,0,18,4,18,null,null,29,164]
[null,null,null,null,null,null,null,null,null,null,null,null,null,null,null,null,null,null,null,null,null,null,5,24,0,24,5,24,6,136,34,142]
[null,null,null,null,null,null,null,null,null,null,null,null,null,null,null,null,null,null,null,null,null,null,10,41,0,41,10,41,14,238,66,244]
[null,null,null,null,null,null,null,null,null,null,null,null,null,null,null,null,null,null,null,null,null,null,12,39,null,39,null,39,13,299,62,305]
[null,null,null,null,null,null,null,null,null,null,null,null,null,null,null,null,null,null,null,null,null,null,4,26,0,26,4,26,null,null,54,231]
[null,null,null,null,null,null,null,null,null,null,null,null,null,null,null,null,null,null,null,null,null,null,4,23,0,23,4,23,null,null,27,178]
[null,null,null,null,null,null,null,null,null,null,null,null,null,null,null,null,null,null,null,null,null,null,3,21,0,21,3,21,null,null,26,162]
[null,null,null,null,null,null,null,null,null,null,null,null,null,null,null,null,null,null,null,null,null,null,null,10,0,10,null,10,4,65,17,69]
[null,null,null,null,null,null,null,null,null,null,null,null,null,null,null,null,null,null,null,null,null,null,null,4,0,4,null,4,0,60,16,60]
[null,null,null,null,null,null,null,null,null,null,null,null,null,null,null,null,null,null,null,null,null,null,null,14,0,14,null,14,null,null,42,193]
[null,null,null,null,null,null,null,null,null,null,null,null,null,null,null,null,null,null,null,null,null,null,null,12,0,12,null,12,null,null,17,78]
[null,null,null,null,null,null,null,null,null,null,null,null,null,null,null,null,null,null,null,null,null,null,null,23,0,23,null,23,null,null,35,148]
[null,null,null,null,null,null,null,null,null,null,null,null,null,null,null,null,null,null,null,null,null,null,6,30,0,30,6,30,null,null,23,255]
[null,null,null,null,null,null,null,null,null,null,null,null,null,null,null,null,null,null,null,null,null,null,9,33,0,33,9,33,null,null,56,250]
[null,null,null,null,null,null,null,null,null,null,null,null,null,null,null,null,null,null,null,null,null,null,3,12,0,12,3,12,null,null,11,47]
[null,null,null,null,null,null,null,null,null,null,null,null,null,null,null,null,null,null,null,null,null,null,3,16,null,16,null,16,5,166,35,169]
[null,null,null,null,null,null,null,null,null,null,null,null,null,null,null,null,null,null,null,null,null,null,6,15,null,15,null,15,null,null,37,187]
[null,null,null,null,null,null,null,null,null,null,null,null,null,null,null,null,null,null,null,null,null,null,3,11,0,11,3,11,6,306,99,310]
[null,null,null,null,null,null,null,null,null,null,null,null,null,null,null,null,null,null,null,null,null,null,8,38,0,38,8,38,null,null,49,234]
[null,null,null,null,null,null,null,null,null,null,null,null,null,null,null,null,null,null,null,null,null,null,8,30,0,30,8,30,11,313,88,319]
[null,null,null,null,null,null,null,null,null,null,null,null,null,null,null,null,null,null,null,null,null,null,6,39,0,39,6,39,11,233,62,233]
[null,null,null,null,null,null,null,null,null,null,null,null,null,null,null,null,null,null,null,null,null,null,3,30,0,30,3,30,8,447,154,450]
[null,null,null,null,null,null,null,null,null,null,null,null,null,null,null,null,null,null,null,null,null,null,4,19,null,19,null,19,null,null,30,80]
[null,null,null,null,null,null,null,null,null,null,null,null,null,null,null,null,null,null,null,null,null,null,4,33,0,33,4,33,null,null,66,251]
[null,null,null,null,null,null,null,null,null,null,null,null,null,null,null,null,null,null,null,null,null,null,null,34,0,34,null,34,null,null,23,119]
[null,null,null,null,null,null,null,null,null,null,null,null,null,null,null,null,null,null,null,null,null,null,7,38,0,38,7,38,null,null,85,311]
[null,null,null,null,null,null,null,null,null,null,null,null,null,null,null,null,null,null,null,null,null,null,8,55,null,55,null,55,null,null,49,322]
[null,null,null,null,null,null,null,null,null,null,null,null,null,null,null,null,null,null,null,null,null,null,10,40,null,40,null,40,8,240,48,243]
[null,null,null,null,null,null,null,null,null,null,null,null,null,null,null,null,null,null,null,null,null,null,9,29,0,29,9,29,null,null,37,140]
[null,null,null,null,null,null,null,null,null,null,null,null,null,null,null,null,null,null,null,null,null,null,6,75,0,75,6,75,16,470,100,476]
[null,null,null,null,null,null,null,null,null,null,null,null,null,null,null,null,null,null,null,null,null,null,3,13,0,13,3,13,null,null,23,105]
[null,null,null,null,null,null,null,null,null,null,null,null,null,null,null,null,null,null,null,null,null,null,4,14,0,14,4,14,null,null,42,186]
[null,null,null,null,null,null,null,null,null,null,null,null,null,null,null,null,null,null,null,null,null,null,null,13,0,13,null,13,null,null,34,126]
[null,null,null,null,null,null,null,null,null,null,null,null,null,null,null,null,null,null,null,null,null,null,null,51,0,51,null,51,null,null,81,277]
[null,null,null,null,null,null,null,null,null,null,null,null,null,null,null,null,null,null,null,null,null,null,19,105,null,105,null,105,17,352,85,362]
[null,null,null,null,null,null,null,null,null,null,null,null,null,null,null,null,null,null,null,null,null,null,15,87,null,87,null,87,null,null,79,361]
[null,null,null,null,null,null,null,null,null,null,null,null,null,null,null,null,null,null,null,null,null,null,8,76,0,76,8,76,null,null,62,175]
[null,null,null,null,null,null,null,null,null,null,null,null,null,null,null,null,null,null,null,null,null,null,6,34,0,34,6,34,12,164,23,168]
[null,null,null,null,null,null,null,null,null,null,null,null,null,null,null,null,null,null,null,null,null,null,3,20,0,20,3,20,null,null,36,177]
[null,null,null,null,null,null,null,null,null,null,null,null,null,null,null,null,null,null,null,null,null,null,null,20,0,20,null,20,7,149,22,149]
[null,null,null,null,null,null,null,null,null,null,null,null,null,null,null,null,null,null,null,null,null,null,5,36,null,36,null,36,null,null,71,226]
[null,null,null,null,null,null,null,null,null,null,null,null,null,null,null,null,null,null,null,null,null,null,0,11,0,11,0,11,null,null,20,125]
[null,null,null,null,null,null,null,null,null,null,null,null,null,null,null,null,null,null,null,null,null,null,null,20,0,20,null,20,null,null,46,114]
[null,null,null,null,null,null,null,null,null,null,null,null,null,null,null,null,null,null,null,null,null,null,25,165,3,165,22,165,35,1275,284,1300]
[null,null,null,null,null,null,null,null,null,null,null,null,null,null,null,null,null,null,null,null,null,null,14,48,null,48,null,48,null,null,88,311]
[null,null,null,null,null,null,null,null,null,null,null,null,null,null,null,null,null,null,null,null,null,null,null,36,0,36,null,36,null,null,47,176]
[null,null,null,null,null,null,null,null,null,null,null,null,null,null,null,null,null,null,null,null,null,null,3,15,null,15,null,15,null,null,13,76]
[null,null,null,null,null,null,null,null,null,null,null,null,null,null,null,null,null,null,null,null,null,null,0,5,0,5,0,5,0,6,null,6]
[null,null,null,null,null,null,null,null,null,null,null,null,null,null,null,null,null,null,null,null,null,null,6,28,0,28,6,28,null,null,101,238]
[null,null,null,null,null,null,null,null,null,null,null,null,null,null,null,null,null,null,null,null,null,null,null,17,null,17,null,17,null,null,54,149]
[null,null,null,null,null,null,null,null,null,null,null,null,null,null,null,null,null,null,null,null,null,null,4,35,0,35,4,35,null,null,64,303]
[null,null,null,null,null,null,null,null,null,null,null,null,null,null,null,null,null,null,null,null,null,null,9,24,3,24,6,24,null,null,51,257]
[null,null,null,null,null,null,null,null,null,null,null,null,null,null,null,null,null,null,null,null,null,null,21,146,null,146,null,146,22,611,145,620]
[]
[null,null,null,null,null,null,null,null,null,null,null,null,null,null,null,null,null,null,null,null,null,null,null,10,0,10,null,10,null,null,115,413]
[null,null,null,null,null,null,null,null,null,null,null,null,null,null,null,null,null,null,null,null,null,null,5,27,0,27,5,27,null,null,51,183]
[null,null,null,null,null,null,null,null,null,null,null,null,null,null,null,null,null,null,null,null,null,null,11,38,null,38,null,38,19,337,73,345]
[null,null,null,null,null,null,null,null,null,null,null,null,null,null,null,null,null,null,null,null,null,null,4,18,0,18,4,18,null,null,90,312]
[null,null,null,null,null,null,null,null,null,null,null,null,null,null,null,null,null,null,null,null,null,null,20,71,null,71,null,71,19,359,131,369]
[null,null,null,null,null,null,null,null,null,null,null,null,null,null,null,null,null,null,null,null,null,null,6,30,0,30,6,30,8,351,117,354]
[null,null,null,null,null,null,null,null,null,null,null,null,null,null,null,null,null,null,null,null,null,null,16,55,0,55,16,55,13,350,127,355]
[null,null,null,null,null,null,null,null,null,null,null,null,null,null,null,null,null,null,null,null,null,null,4,23,0,23,4,23,5,346,103,350]
[null,null,null,null,null,null,null,null,null,null,null,null,null,null,null,null,null,null,null,null,null,null,4,29,0,29,4,29,null,null,57,210]
[null,null,null,null,null,null,null,null,null,null,null,null,null,null,null,null,null,null,null,null,null,null,3,10,0,10,3,10,3,85,19,85]
[null,null,null,null,null,null,null,null,null,null,null,null,null,null,null,null,null,null,null,null,null,null,null,6,0,6,null,6,null,null,20,120]
[null,null,null,null,null,null,null,null,null,null,null,null,null,null,null,null,null,null,null,null,null,null,null,18,0,18,null,18,null,null,47,374]
[null,null,null,null,null,null,null,null,null,null,null,null,null,null,null,null,null,null,null,null,null,null,5,37,0,37,5,37,null,null,41,210]
[null,null,null,null,null,null,null,null,null,null,null,null,null,null,null,null,null,null,null,null,null,null,10,40,0,40,10,40,6,180,33,183]
[null,null,null,null,null,null,null,null,null,null,null,null,null,null,null,null,null,null,null,null,null,null,5,14,0,14,5,14,null,null,45,150]
[null,null,null,null,null,null,null,null,null,null,null,null,null,null,null,null,null,null,null,null,null,null,9,40,0,40,9,40,10,337,117,342]
[null,null,null,null,null,null,null,null,null,null,null,null,null,null,null,null,null,null,null,null,null,null,4,37,0,37,4,37,7,530,169,530]
[null,null,null,null,null,null,null,null,null,null,null,null,null,null,null,null,null,null,null,null,null,null,0,4,0,4,0,4,0,16,5,16]
[null,null,null,null,null,null,null,null,null,null,null,null,null,null,null,null,null,null,null,null,null,null,6,21,0,21,6,21,null,null,46,207]
[null,null,null,null,null,null,null,null,null,null,null,null,null,null,null,null,null,null,null,null,null,null,39,175,null,175,null,175,19,1221,366,1224]
[null,null,null,null,null,null,null,null,null,null,null,null,null,null,null,null,null,null,null,null,null,null,6,18,null,18,null,18,null,null,0,113]
[null,null,null,null,null,null,null,null,null,null,null,null,null,null,null,null,null,null,null,null,null,null,7,27,0,27,7,27,null,null,65,258]
[null,null,null,null,null,null,null,null,null,null,null,null,null,null,null,null,null,null,null,null,null,null,5,32,0,32,5,32,null,null,71,175]
[null,null,null,null,null,null,null,null,null,null,null,null,null,null,null,null,null,null,null,null,null,null,null,4,0,4,null,4,null,null,17,74]
[null,null,null,null,null,null,null,null,null,null,null,null,null,null,null,null,null,null,null,null,null,null,6,23,0,23,6,23,null,null,34,153]
[null,null,null,null,null,null,null,null,null,null,null,null,null,null,null,null,null,null,null,null,null,null,7,32,0,32,7,32,null,null,48,208]
[null,null,null,null,null,null,null,null,null,null,null,null,null,null,null,null,null,null,null,null,null,null,8,45,null,45,null,45,8,372,124,379]
[null,null,null,null,null,null,null,null,null,null,null,null,null,null,null,null,null,null,null,null,null,null,3,24,0,24,3,24,4,165,46,165]
[null,null,null,null,null,null,null,null,null,null,null,null,null,null,null,null,null,null,null,null,null,null,6,44,0,44,6,44,null,null,59,274]
[null,null,null,null,null,null,null,null,null,null,null,null,null,null,null,null,null,null,null,null,null,null,6,27,0,27,6,27,null,null,62,195]
[null,null,null,null,null,null,null,null,null,null,null,null,null,null,null,null,null,null,null,null,null,null,null,null,null,null,null,null,0,3]
[null,null,null,null,null,null,null,null,null,null,null,null,null,null,null,null,null,null,null,null,null,null,null,13,null,13,0,13,null,null,33,109]
[null,null,null,null,null,null,null,null,null,null,null,null,null,null,null,null,null,null,null,null,null,null,4,27,0,27,4,27,null,null,47,217]
[null,null,null,null,null,null,null,null,null,null,null,null,null,null,null,null,null,null,null,null,null,null,3,27,0,27,3,27,6,197,57,200]
[null,null,null,null,null,null,null,null,null,null,null,null,null,null,null,null,null,null,null,null,null,null,23,152,0,152,23,152,28,1184,247,1196]
[null,null,null,null,null,null,null,null,null,null,null,null,null,null,null,null,null,null,null,null,null,null,5,38,0,38,5,38,3,259,90,259]
[null,null,null,null,null,null,null,null,null,null,null,null,null,null,null,null,null,null,null,null,null,null,646,3479,44,3479,602,3479,729,26198,6650,26506]
[null,null,null,null,null,null,null,null,null,null,null,null,null,null,null,null,null,null,null,null,null,null,53,217,null,217,null,217,72,2281,572,2307]
[null,null,null,null,null,null,null,null,null,null,null,null,null,null,null,null,null,null,null,null,null,null,6,38,0,38,6,38,7,234,65,241]
[null,null,null,null,null,null,null,null,null,null,null,null,null,null,null,null,null,null,null,null,null,null,7,34,0,34,7,34,null,null,45,342]
[null,null,null,null,null,null,null,null,null,null,null,null,null,null,null,null,null,null,null,null,null,null,4,26,0,26,4,26,null,null,33,151]
[null,null,null,null,null,null,null,null,null,null,null,null,null,null,null,null,null,null,null,null,null,null,null,7,0,7,null,7,0,57,10,57]
[null,null,null,null,null,null,null,null,null,null,null,null,null,null,null,null,null,null,null,null,null,null,6,27,null,27,null,27,null,null,35,215]
[null,null,null,null,null,null,null,null,null,null,null,null,null,null,null,null,null,null,null,null,null,null,3,31,0,31,3,31,null,null,53,452]
[null,null,null,null,null,null,null,null,null,null,null,null,null,null,null,null,null,null,null,null,null,null,0,4,0,4,0,4,null,null,16,94]
[null,null,null,null,null,null,null,null,null,null,null,null,null,null,null,null,null,null,null,null,null,null,null,16,0,16,null,16,null,null,41,169]
[null,null,null,null,null,null,null,null,null,null,null,null,null,null,null,null,null,null,null,null,null,null,4,20,0,20,4,20,null,null,40,150]
[null,null,null,null,null,null,null,null,null,null,null,null,null,null,null,null,null,null,null,null,null,null,6,41,null,41,null,41,5,224,61,230]
[null,null,null,null,null,null,null,null,null,null,null,null,null,null,null,null,null,null,null,null,null,null,5,30,0,30,5,30,15,313,79,321]
[null,null,null,null,null,null,null,null,null,null,null,null,null,null,null,null,null,null,null,null,null,null,8,26,0,26,8,26,null,null,43,216]
[null,null,null,null,null,null,null,null,null,null,null,null,null,null,null,null,null,null,null,null,null,null,4,20,0,20,4,20,null,null,46,194]
[null,null,null,null,null,null,null,null,null,null,null,null,null,null,null,null,null,null,null,null,null,null,3,21,0,21,3,21,4,169,31,169]
[null,null,null,null,null,null,null,null,null,null,null,null,null,null,null,null,null,null,null,null,null,null,0,10,0,10,0,10,6,72,9,76]
[null,null,null,null,null,null,null,null,null,null,null,null,null,null,null,null,null,null,null,null,null,null,0,3,0,3,0,3,null,null,17,60]
[null,null,null,null,null,null,null,null,null,null,null,null,null,null,null,null,null,null,null,null,null,null,null,14,0,14,null,14,null,null,68,195]
[null,null,null,null,null,null,null,null,null,null,null,null,null,null,null,null,null,null,null,null,null,null,null,12,null,12,null,12,null,null,31,108]
[null,null,null,null,null,null,null,null,null,null,null,null,null,null,null,null,null,null,null,null,null,null,4,23,null,23,null,23,null,null,59,187]
[null,null,null,null,null,null,null,null,null,null,null,null,null,null,null,null,null,null,null,null,null,null,5,26,0,26,5,26,null,null,51,268]
[null,null,null,null,null,null,null,null,null,null,null,null,null,null,null,null,null,null,null,null,null,null,5,33,0,33,5,33,null,null,41,235]
[null,null,null,null,null,null,null,null,null,null,null,null,null,null,null,null,null,null,null,null,null,null,4,12,0,12,4,12,null,null,8,46]
[null,null,null,null,null,null,null,null,null,null,null,null,null,null,null,null,null,null,null,null,null,null,3,15,0,15,3,15,null,null,32,162]
[null,null,null,null,null,null,null,null,null,null,null,null,null,null,null,null,null,null,null,null,null,null,5,12,0,12,5,12,null,null,48,201]
[null,null,null,null,null,null,null,null,null,null,null,null,null,null,null,null,null,null,null,null,null,null,3,17,0,17,3,17,null,null,77,281]
[null,null,null,null,null,null,null,null,null,null,null,null,null,null,null,null,null,null,null,null,null,null,8,35,0,35,8,35,null,null,59,229]
[null,null,null,null,null,null,null,null,null,null,null,null,null,null,null,null,null,null,null,null,null,null,3,26,0,26,3,26,null,null,74,320]
[null,null,null,null,null,null,null,null,null,null,null,null,null,null,null,null,null,null,null,null,null,null,6,45,0,45,6,45,null,null,43,204]
[null,null,null,null,null,null,null,null,null,null,null,null,null,null,null,null,null,null,null,null,null,null,9,35,null,35,null,35,null,null,125,434]
[null,null,null,null,null,null,null,null,null,null,null,null,null,null,null,null,null,null,null,null,null,null,4,17,0,17,4,17,null,null,21,55]
[null,null,null,null,null,null,null,null,null,null,null,null,null,null,null,null,null,null,null,null,null,null,6,40,0,40,6,40,null,null,70,255]
[null,null,null,null,null,null,null,null,null,null,null,null,null,null,null,null,null,null,null,null,null,null,5,38,0,38,5,38,null,null,32,116]
[null,null,null,null,null,null,null,null,null,null,null,null,null,null,null,null,null,null,null,null,null,null,3,35,0,35,3,35,null,null,63,314]
[null,null,null,null,null,null,null,null,null,null,null,null,null,null,null,null,null,null,null,null,null,null,11,56,null,56,null,56,null,null,41,309]
[null,null,null,null,null,null,null,null,null,null,null,null,null,null,null,null,null,null,null,null,null,null,6,34,null,34,null,34,null,null,61,258]
[null,null,null,null,null,null,null,null,null,null,null,null,null,null,null,null,null,null,null,null,null,null,5,28,0,28,5,28,8,158,42,158]
[null,null,null,null,null,null,null,null,null,null,null,null,null,null,null,null,null,null,null,null,null,null,12,80,0,80,12,80,18,483,89,494]
[null,null,null,null,null,null,null,null,null,null,null,null,null,null,null,null,null,null,null,null,null,null,null,10,0,10,null,10,null,null,27,111]
[null,null,null,null,null,null,null,null,null,null,null,null,null,null,null,null,null,null,null,null,null,null,null,14,0,14,null,14,5,194,93,197]
[null,null,null,null,null,null,null,null,null,null,null,null,null,null,null,null,null,null,null,null,null,null,null,14,0,14,null,14,0,127,42,130]
[null,null,null,null,null,null,null,null,null,null,null,null,null,null,null,null,null,null,null,null,null,null,7,56,0,56,7,56,null,null,93,272]
[null,null,null,null,null,null,null,null,null,null,null,null,null,null,null,null,null,null,null,null,null,null,17,108,4,108,13,108,null,null,107,367]
[null,null,null,null,null,null,null,null,null,null,null,null,null,null,null,null,null,null,null,null,null,null,14,81,0,81,14,81,null,null,76,371]
[null,null,null,null,null,null,null,null,null,null,null,null,null,null,null,null,null,null,null,null,null,null,11,75,null,75,null,75,null,null,59,187]
[null,null,null,null,null,null,null,null,null,null,null,null,null,null,null,null,null,null,null,null,null,null,3,38,0,38,3,38,null,null,21,180]
[null,null,null,null,null,null,null,null,null,null,null,null,null,null,null,null,null,null,null,null,null,null,3,23,null,23,null,23,null,null,40,205]
[null,null,null,null,null,null,null,null,null,null,null,null,null,null,null,null,null,null,null,null,null,null,4,20,0,20,4,20,null,null,47,181]
[null,null,null,null,null,null,null,null,null,null,null,null,null,null,null,null,null,null,null,null,null,null,5,40,0,40,5,40,9,211,58,215]
[null,null,null,null,null,null,null,null,null,null,null,null,null,null,null,null,null,null,null,null,null,null,4,16,0,16,4,16,null,null,24,125]
[null,null,null,null,null,null,null,null,null,null,null,null,null,null,null,null,null,null,null,null,null,null,null,21,0,21,null,21,null,null,34,105]
[null,null,null,null,null,null,null,null,null,null,null,null,null,null,null,null,null,null,null,null,null,null,14,163,null,163,null,163,42,1253,222,1278]
[null,null,null,null,null,null,null,null,null,null,null,null,null,null,null,null,null,null,null,null,null,null,5,46,0,46,5,46,null,null,88,313]
[null,null,null,null,null,null,null,null,null,null,null,null,null,null,null,null,null,null,null,null,null,null,8,42,3,42,5,42,null,null,67,200]
[null,null,null,null,null,null,null,null,null,null,null,null,null,null,null,null,null,null,null,null,null,null,null,13,0,13,null,13,null,null,16,83]
[null,null,null,null,null,null,null,null,null,null,null,null,null,null,null,null,null,null,null,null,null,null,null,5,0,5,null,5,null,null,3,8]
[null,null,null,null,null,null,null,null,null,null,null,null,null,null,null,null,null,null,null,null,null,null,5,24,0,24,5,24,null,null,113,231]
[null,null,null,null,null,null,null,null,null,null,null,null,null,null,null,null,null,null,null,null,null,null,3,17,0,17,3,17,null,null,29,125]
[null,null,null,null,null,null,null,null,null,null,null,null,null,null,null,null,null,null,null,null,null,null,4,40,0,40,4,40,14,350,76,353]
[null,null,null,null,null,null,null,null,null,null,null,null,null,null,null,null,null,null,null,null,null,null,5,17,0,17,5,17,null,null,55,244]
[null,null,null,null,null,null,null,null,null,null,null,null,null,null,null,null,null,null,null,null,null,null,16,141,null,141,null,141,32,631,131,637]
[null,null,null,null,null,null,null,null,null,null,null,null,null,null,null,null,null,null,null,null,null,null,0,0,0,0,0,0]
[null,null,null,null,null,null,null,null,null,null,null,null,null,null,null,null,null,null,null,null,null,null,null,15,0,15,null,15,null,null,113,377]
[null,null,null,null,null,null,null,null,null,null,null,null,null,null,null,null,null,null,null,null,null,null,7,30,0,30,7,30,null,null,49,190]
[null,null,null,null,null,null,null,null,null,null,null,null,null,null,null,null,null,null,null,null,null,null,10,33,0,33,10,33,14,362,111,374]
[null,null,null,null,null,null,null,null,null,null,null,null,null,null,null,null,null,null,null,null,null,null,null,19,null,19,0,19,10,315,79,320]
[null,null,null,null,null,null,null,null,null,null,null,null,null,null,null,null,null,null,null,null,null,null,9,60,3,60,6,60,17,318,126,333]
[null,null,null,null,null,null,null,null,null,null,null,null,null,null,null,null,null,null,null,null,null,null,4,27,null,27,null,27,null,null,91,339]
[null,null,null,null,null,null,null,null,null,null,null,null,null,null,null,null,null,null,null,null,null,null,9,52,0,52,9,52,null,null,82,377]
[null,null,null,null,null,null,null,null,null,null,null,null,null,null,null,null,null,null,null,null,null,null,7,25,0,25,7,25,null,null,176,381]
[null,null,null,null,null,null,null,null,null,null,null,null,null,null,null,null,null,null,null,null,null,null,5,27,0,27,5,27,null,null,43,207]
[null,null,null,null,null,null,null,null,null,null,null,null,null,null,null,null,null,null,null,null,null,null,null,10,0,10,null,10,null,null,15,80]
[null,null,null,null,null,null,null,null,null,null,null,null,null,null,null,null,null,null,null,null,null,null,null,9,0,9,null,9,null,null,32,120]
[null,null,null,null,null,null,null,null,null,null,null,null,null,null,null,null,null,null,null,null,null,null,5,21,0,21,5,21,null,null,207,383]
[null,null,null,null,null,null,null,null,null,null,null,null,null,null,null,null,null,null,null,null,null,null,4,39,0,39,4,39,null,null,28,226]
[null,null,null,null,null,null,null,null,null,null,null,null,null,null,null,null,null,null,null,null,null,null,4,39,0,39,4,39,null,null,40,188]
[null,null,null,null,null,null,null,null,null,null,null,null,null,null,null,null,null,null,null,null,null,null,null,13,0,13,null,13,null,null,39,133]
[null,null,null,null,null,null,null,null,null,null,null,null,null,null,null,null,null,null,null,null,null,null,8,48,0,48,8,48,12,328,87,331]
[null,null,null,null,null,null,null,null,null,null,null,null,null,null,null,null,null,null,null,null,null,null,7,44,null,44,null,44,null,null,128,531]
[null,null,null,null,null,null,null,null,null,null,null,null,null,null,null,null,null,null,null,null,null,null,null,5,0,5,null,5,0,17,3,17]
[null,null,null,null,null,null,null,null,null,null,null,null,null,null,null,null,null,null,null,null,null,null,4,19,0,19,4,19,null,null,53,212]
[null,null,null,null,null,null,null,null,null,null,null,null,null,null,null,null,null,null,null,null,null,null,22,161,4,161,18,161,34,1144,331,1147]
[null,null,null,null,null,null,null,null,null,null,null,null,null,null,null,null,null,null,null,null,null,null,4,15,0,15,4,15,null,null,10,116]
[null,null,null,null,null,null,null,null,null,null,null,null,null,null,null,null,null,null,null,null,null,null,0,25,0,25,0,25,null,null,67,279]
[null,null,null,null,null,null,null,null,null,null,null,null,null,null,null,null,null,null,null,null,null,null,5,32,null,32,null,32,null,null,29,117]
[null,null,null,null,null,null,null,null,null,null,null,null,null,null,null,null,null,null,null,null,null,null,0,5,0,5,0,5,null,null,15,62]
[null,null,null,null,null,null,null,null,null,null,null,null,null,null,null,null,null,null,null,null,null,null,4,20,null,20,null,20,null,null,58,202]
[null,null,null,null,null,null,null,null,null,null,null,null,null,null,null,null,null,null,null,null,null,null,null,31,0,31,null,31,4,241,55,245]
[null,null,null,null,null,null,null,null,null,null,null,null,null,null,null,null,null,null,null,null,null,null,12,46,null,46,null,46,12,390,113,395]
[null,null,null,null,null,null,null,null,null,null,null,null,null,null,null,null,null,null,null,null,null,null,null,24,0,24,null,24,null,null,51,172]
[null,null,null,null,null,null,null,null,null,null,null,null,null,null,null,null,null,null,null,null,null,null,8,51,0,51,8,51,null,null,63,289]
[null,null,null,null,null,null,null,null,null,null,null,null,null,null,null,null,null,null,null,null,null,null,5,23,0,23,5,23,null,null,54,205]
[null,null,null,null,null,null,null,null,null,null,null,null,null,null,null,null,null,null,null,null,null,null,0,0,0,0,0,0,0,4]
[null,null,null,null,null,null,null,null,null,null,null,null,null,null,null,null,null,null,null,null,null,null,null,13,0,13,null,13,null,null,45,113]
[null,null,null,null,null,null,null,null,null,null,null,null,null,null,null,null,null,null,null,null,null,null,3,27,0,27,3,27,null,null,73,238]
[null,null,null,null,null,null,null,null,null,null,null,null,null,null,null,null,null,null,null,null,null,null,5,31,0,31,5,31,null,null,45,199]
[null,null,null,null,null,null,null,null,null,null,null,null,null,null,null,null,null,null,null,null,null,null,28,155,3,155,25,155,20,1220,202,1225]
[null,null,null,null,null,null,null,null,null,null,null,null,null,null,null,null,null,null,null,null,null,null,13,38,0,38,13,38,null,null,99,283]
[null,null,null,null,null,null,null,null,null,null,null,null,null,null,null,null,null,null,null,null,null,null,562,3460,42,3460,520,3460,800,26475,6665,26802]
[null,null,null,null,null,null,null,null,null,null,null,null,null,null,null,null,null,null,null,null,null,null,48,243,6,243,42,243,64,2399,614,2419]
[null,null,null,null,null,null,null,null,null,null,null,null,null,null,null,null,null,null,null,null,null,null,3,40,0,40,3,40,null,null,61,216]
[null,null,null,null,null,null,null,null,null,null,null,null,null,null,null,null,null,null,null,null,null,null,3,33,0,33,3,33,null,null,62,356]
[null,null,null,null,null,null,null,null,null,null,null,null,null,null,null,null,null,null,null,null,null,null,7,34,3,34,4,34,null,null,35,145]
[null,null,null,null,null,null,null,null,null,null,null,null,null,null,null,null,null,null,null,null,null,null,null,6,0,6,null,6,null,null,14,64]
[null,null,null,null,null,null,null,null,null,null,null,null,null,null,null,null,null,null,null,null,null,null,8,27,0,27,8,27,null,null,36,223]
[null,null,null,null,null,null,null,null,null,null,null,null,null,null,null,null,null,null,null,null,null,null,6,33,null,33,null,33,null,null,21,509]
[null,null,null,null,null,null,null,null,null,null,null,null,null,null,null,null,null,null,null,null,null,null,null,4,0,4,null,4,5,92,18,95]
[null,null,null,null,null,null,null,null,null,null,null,null,null,null,null,null,null,null,null,null,null,null,5,17,0,17,5,17,null,null,31,155]
[null,null,null,null,null,null,null,null,null,null,null,null,null,null,null,null,null,null,null,null,null,null,5,19,0,19,5,19,null,null,60,164]
[null,null,null,null,null,null,null,null,null,null,null,null,null,null,null,null,null,null,null,null,null,null,10,45,3,45,7,45,null,null,64,232]
[null,null,null,null,null,null,null,null,null,null,null,null,null,null,null,null,null,null,null,null,null,null,5,31,0,31,5,31,7,294,96,301]
[null,null,null,null,null,null,null,null,null,null,null,null,null,null,null,null,null,null,null,null,null,null,6,24,0,24,6,24,null,null,43,225]
[null,null,null,null,null,null,null,null,null,null,null,null,null,null,null,null,null,null,null,null,null,null,5,17,0,17,5,17,null,null,42,200]
[null,null,null,null,null,null,null,null,null,null,null,null,null,null,null,null,null,null,null,null,null,null,null,21,0,21,null,21,null,null,28,169]
[null,null,null,null,null,null,null,null,null,null,null,null,null,null,null,null,null,null,null,null,null,null,null,13,0,13,null,13,3,119,24,123]
[null,null,null,null,null,null,null,null,null,null,null,null,null,null,null,null,null,null,null,null,null,null,3,8,0,8,3,8,null,null,15,65]
[null,null,null,null,null,null,null,null,null,null,null,null,null,null,null,null,null,null,null,null,null,null,5,16,0,16,5,16,null,null,40,182]
[null,null,null,null,null,null,null,null,null,null,null,null,null,null,null,null,null,null,null,null,null,null,null,13,0,13,null,13,null,null,21,99]
[null,null,null,null,null,null,null,null,null,null,null,null,null,null,null,null,null,null,null,null,null,null,3,24,0,24,3,24,null,null,40,188]
[null,null,null,null,null,null,null,null,null,null,null,null,null,null,null,null,null,null,null,null,null,null,3,25,0,25,3,25,5,281,54,286]
[null,null,null,null,null,null,null,null,null,null,null,null,null,null,null,null,null,null,null,null,null,null,7,32,0,32,7,32,null,null,42,238]
[null,null,null,null,null,null,null,null,null,null,null,null,null,null,null,null,null,null,null,null,null,null,0,9,0,9,0,9,null,null,10,49]
[null,null,null,null,null,null,null,null,null,null,null,null,null,null,null,null,null,null,null,null,null,null,null,13,null,13,null,13,null,null,29,163]
[null,null,null,null,null,null,null,null,null,null,null,null,null,null,null,null,null,null,null,null,null,null,6,16,0,16,6,16,null,null,44,214]
[null,null,null,null,null,null,null,null,null,null,null,null,null,null,null,null,null,null,null,null,null,null,5,23,0,23,5,23,null,null,57,255]
[null,null,null,null,null,null,null,null,null,null,null,null,null,null,null,null,null,null,null,null,null,null,13,32,0,32,13,32,null,null,78,220]
[null,null,null,null,null,null,null,null,null,null,null,null,null,null,null,null,null,null,null,null,null,null,null,26,null,26,null,26,null,null,88,346]
[null,null,null,null,null,null,null,null,null,null,null,null,null,null,null,null,null,null,null,null,null,null,6,44,0,44,6,44,null,null,73,235]
[null,null,null,null,null,null,null,null,null,null,null,null,null,null,null,null,null,null,null,null,null,null,7,33,0,33,7,33,null,null,136,424]
[null,null,null,null,null,null,null,null,null,null,null,null,null,null,null,null,null,null,null,null,null,null,null,13,0,13,null,13,null,null,30,80]
[null,null,null,null,null,null,null,null,null,null,null,null,null,null,null,null,null,null,null,null,null,null,3,42,0,42,3,42,null,null,79,252]
[null,null,null,null,null,null,null,null,null,null,null,null,null,null,null,null,null,null,null,null,null,null,6,39,0,39,6,39,null,null,24,108]
[null,null,null,null,null,null,null,null,null,null,null,null,null,null,null,null,null,null,null,null,null,null,7,41,0,41,7,41,null,null,85,350]
[null,null,null,null,null,null,null,null,null,null,null,null,null,null,null,null,null,null,null,null,null,null,10,51,null,51,null,51,null,null,79,313]
[null,null,null,null,null,null,null,null,null,null,null,null,null,null,null,null,null,null,null,null,null,null,7,32,null,32,null,32,null,null,61,257]
[null,null,null,null,null,null,null,null,null,null,null,null,null,null,null,null,null,null,null,null,null,null,6,30,0,30,6,30,null,null,50,160]
[null,null,null,null,null,null,null,null,null,null,null,null,null,null,null,null,null,null,null,null,null,null,14,83,null,83,null,83,15,538,150,547]
[null,null,null,null,null,null,null,null,null,null,null,null,null,null,null,null,null,null,null,null,null,null,null,10,null,10,null,10,0,119,31,119]
[null,null,null,null,null,null,null,null,null,null,null,null,null,null,null,null,null,null,null,null,null,null,null,16,0,16,null,16,7,142,39,146]
[null,null,null,null,null,null,null,null,null,null,null,null,null,null,null,null,null,null,null,null,null,null,0,14,0,14,0,14,4,114,22,114]
[null,null,null,null,null,null,null,null,null,null,null,null,null,null,null,null,null,null,null,null,null,null,14,61,0,61,14,61,null,null,70,271]
[null,null,null,null,null,null,null,null,null,null,null,null,null,null,null,null,null,null,null,null,null,null,15,103,3,103,12,103,null,null,88,347]
[null,null,null,null,null,null,null,null,null,null,null,null,null,null,null,null,null,null,null,null,null,null,14,81,0,81,14,81,null,null,73,366]
[null,null,null,null,null,null,null,null,null,null,null,null,null,null,null,null,null,null,null,null,null,null,8,70,null,70,null,70,null,null,67,186]
[null,null,null,null,null,null,null,null,null,null,null,null,null,null,null,null,null,null,null,null,null,null,8,45,0,45,8,45,null,null,28,173]
[null,null,null,null,null,null,null,null,null,null,null,null,null,null,null,null,null,null,null,null,null,null,3,22,null,22,null,22,null,null,51,211]
[null,null,null,null,null,null,null,null,null,null,null,null,null,null,null,null,null,null,null,null,null,null,8,27,0,27,8,27,null,null,37,166]
[null,null,null,null,null,null,null,null,null,null,null,null,null,null,null,null,null,null,null,null,null,null,5,46,null,46,null,46,13,198,49,202]
[null,null,null,null,null,null,null,null,null,null,null,null,null,null,null,null,null,null,null,null,null,null,null,14,0,14,null,14,null,null,23,136]
[null,null,null,null,null,null,null,null,null,null,null,null,null,null,null,null,null,null,null,null,null,null,4,24,0,24,4,24,null,null,38,102]
[null,null,null,null,null,null,null,null,null,null,null,null,null,null,null,null,null,null,null,null,null,null,22,178,0,178,22,178,34,1350,275,1373]
[null,null,null,null,null,null,null,null,null,null,null,null,null,null,null,null,null,null,null,null,null,null,5,49,0,49,5,49,null,null,68,298]
[null,null,null,null,null,null,null,null,null,null,null,null,null,null,null,null,null,null,null,null,null,null,8,37,null,37,null,37,null,null,67,166]
[null,null,null,null,null,null,null,null,null,null,null,null,null,null,null,null,null,null,null,null,null,null,3,18,null,18,null,18,0,82,20,82]
[null,null,null,null,null,null,null,null,null,null,null,null,null,null,null,null,null,null,null,null,null,null,0,4,0,4,0,4,null,null,null,8]
[null,null,null,null,null,null,null,null,null,null,null,null,null,null,null,null,null,null,null,null,null,null,null,24,0,24,null,24,null,null,85,199]
[null,null,null,null,null,null,null,null,null,null,null,null,null,null,null,null,null,null,null,null,null,null,null,16,0,16,null,16,null,null,42,126]
[null,null,null,null,null,null,null,null,null,null,null,null,null,null,null,null,null,null,null,null,null,null,10,43,null,43,null,43,null,null,121,370]
[null,null,null,null,null,null,null,null,null,null,null,null,null,null,null,null,null,null,null,null,null,null,4,14,0,14,4,14,8,238,41,238]
[null,null,null,null,null,null,null,null,null,null,null,null,null,null,null,null,null,null,null,null,null,null,34,158,0,158,34,158,null,null,141,630]
[null,null,null,null,null,null,null,null,null,null,null,null,null,null,null,null,null,null,null,null,null,null,0,0,0,0,0,0]
[null,null,null,null,null,null,null,null,null,null,null,null,null,null,null,null,null,null,null,null,null,null,null,15,0,15,null,15,null,null,111,365]
[null,null,null,null,null,null,null,null,null,null,null,null,null,null,null,null,null,null,null,null,null,null,3,27,0,27,3,27,null,null,65,203]
[null,null,null,null,null,null,null,null,null,null,null,null,null,null,null,null,null,null,null,null,null,null,7,34,0,34,7,34,null,null,92,344]
[null,null,null,null,null,null,null,null,null,null,null,null,null,null,null,null,null,null,null,null,null,null,8,25,0,25,8,25,11,313,85,319]
[null,null,null,null,null,null,null,null,null,null,null,null,null,null,null,null,null,null,null,null,null,null,15,68,null,68,null,68,null,null,119,374]
[null,null,null,null,null,null,null,null,null,null,null,null,null,null,null,null,null,null,null,null,null,null,8,32,null,32,null,32,null,null,94,338]
[null,null,null,null,null,null,null,null,null,null,null,null,null,null,null,null,null,null,null,null,null,null,16,59,4,59,12,59,null,null,140,479]
[null,null,null,null,null,null,null,null,null,null,null,null,null,null,null,null,null,null,null,null,null,null,7,23,null,23,null,23,null,null,112,310]
[null,null,null,null,null,null,null,null,null,null,null,null,null,null,null,null,null,null,null,null,null,null,4,31,null,31,null,31,null,null,87,216]
[null,null,null,null,null,null,null,null,null,null,null,null,null,null,null,null,null,null,null,null,null,null,null,9,0,9,null,9,null,null,9,76]
[null,null,null,null,null,null,null,null,null,null,null,null,null,null,null,null,null,null,null,null,null,null,null,9,0,9,null,9,null,null,31,110]
[null,null,null,null,null,null,null,null,null,null,null,null,null,null,null,null,null,null,null,null,null,null,7,28,null,28,null,28,null,null,36,213]
[null,null,null,null,null,null,null,null,null,null,null,null,null,null,null,null,null,null,null,null,null,null,4,41,0,41,4,41,null,null,32,216]
[null,null,null,null,null,null,null,null,null,null,null,null,null,null,null,null,null,null,null,null,null,null,5,39,0,39,5,39,null,null,45,177]
[null,null,null,null,null,null,null,null,null,null,null,null,null,null,null,null,null,null,null,null,null,null,null,13,null,13,null,13,null,null,40,121]
[null,null,null,null,null,null,null,null,null,null,null,null,null,null,null,null,null,null,null,null,null,null,6,59,0,59,6,59,9,334,112,341]
[null,null,null,null,null,null,null,null,null,null,null,null,null,null,null,null,null,null,null,null,null,null,5,44,null,44,null,44,null,null,230,570]
[null,null,null,null,null,null,null,null,null,null,null,null,null,null,null,null,null,null,null,null,null,null,0,5,0,5,0,5,null,null,null,26]
[null,null,null,null,null,null,null,null,null,null,null,null,null,null,null,null,null,null,null,null,null,null,6,22,0,22,6,22,null,null,58,214]
[null,null,null,null,null,null,null,null,null,null,null,null,null,null,null,null,null,null,null,null,null,null,32,174,0,174,32,174,24,1108,325,1112]
[null,null,null,null,null,null,null,null,null,null,null,null,null,null,null,null,null,null,null,null,null,null,3,14,null,14,null,14,null,null,9,104]
[null,null,null,null,null,null,null,null,null,null,null,null,null,null,null,null,null,null,null,null,null,null,4,38,0,38,4,38,null,null,59,260]
[null,null,null,null,null,null,null,null,null,null,null,null,null,null,null,null,null,null,null,null,null,null,5,29,0,29,5,29,null,null,18,93]
[null,null,null,null,null,null,null,null,null,null,null,null,null,null,null,null,null,null,null,null,null,null,3,7,0,7,3,7,null,null,19,59]
[null,null,null,null,null,null,null,null,null,null,null,null,null,null,null,null,null,null,null,null,null,null,3,17,0,17,3,17,null,null,51,174]
[null,null,null,null,null,null,null,null,null,null,null,null,null,null,null,null,null,null,null,null,null,null,5,35,0,35,5,35,null,null,87,315]
[null,null,null,null,null,null,null,null,null,null,null,null,null,null,null,null,null,null,null,null,null,null,3,44,0,44,3,44,8,372,127,376]
[null,null,null,null,null,null,null,null,null,null,null,null,null,null,null,null,null,null,null,null,null,null,7,24,0,24,7,24,null,null,44,155]
[null,null,null,null,null,null,null,null,null,null,null,null,null,null,null,null,null,null,null,null,null,null,10,55,5,55,5,55,null,null,80,278]
[null,null,null,null,null,null,null,null,null,null,null,null,null,null,null,null,null,null,null,null,null,null,3,19,0,19,3,19,12,215,77,218]
[null,null,null,null,null,null,null,null,null,null,null,null,null,null,null,null,null,null,null,null,null,null,0,0,0,0,0,0,0,4]
[null,null,null,null,null,null,null,null,null,null,null,null,null,null,null,null,null,null,null,null,null,null,null,13,0,13,null,13,null,null,30,120]
[null,null,null,null,null,null,null,null,null,null,null,null,null,null,null,null,null,null,null,null,null,null,3,27,0,27,3,27,null,null,49,228]
[null,null,null,null,null,null,null,null,null,null,null,null,null,null,null,null,null,null,null,null,null,null,4,35,0,35,4,35,5,208,57,208]
[null,null,null,null,null,null,null,null,null,null,null,null,null,null,null,null,null,null,null,null,null,null,23,153,null,153,null,153,25,1289,297,1295]
[null,null,null,null,null,null,null,null,null,null,null,null,null,null,null,null,null,null,null,null,null,null,11,31,null,31,null,31,null,null,95,243]
[null,null,null,null,null,null,null,null,null,null,null,null,null,null,null,null,null,null,null,null,null,null,637,3624,52,3624,585,3624,737,26601,6938,26911]

{"sheet":"Rapport","index":7,"n_rows":512,"n_cols":7,"rows_kept":512,"cut":false,"hidden":true,"merged":[[511,1,512,3],[511,4,512,6],[37,1,39,6],[53,0,53,6],[176,0,176,6],[89,0,89,6],[130,0,130,6],[171,0,171,6],[212,0,212,6],[94,0,94,6],[135,0,135,6],[216,0,216,6],[254,0,254,6],[288,0,288,6],[323,0,323,6],[437,0,437,5],[27,1,31,5],[158,0,158,6],[160,0,160,6],[178,0,178,5],[201,0,201,6],[218,0,218,5],[239,0,239,6],[55,0,55,6],[119,0,119,6],[96,0,96,5],[117,0,117,6],[359,0,359,6],[399,0,399,6],[435,0,435,6],[356,0,356,6],[361,0,361,5],[382,0,382,6],[393,0,393,6],[401,0,401,5],[423,0,423,6],[428,0,428,6],[430,0,430,6],[458,0,458,6],[467,0,467,6],[76,0,76,6],[78,0,78,6],[137,0,137,5],[321,0,321,6],[325,0,325,5],[346,0,346,6],[241,0,241,6],[256,0,256,5],[278,0,278,6],[252,0,252,6],[286,0,286,6],[283,0,283,6],[290,0,290,5],[311,0,311,6]]}
[]
[]
[]
[]
[]
[]
[]
[]
[]
[]
[]
[]
[]
[]
[]
[]
[]
[]
[]
[]
[]
[]
[]
[]
[]
[]
[]
[null,{"$f":"Startside!B8","v":"Indsatstrappens Nøgletal"}]
[]
[]
[]
[]
[]
[]
[]
[]
[]
[null,{"$f":"Kommune& \" Kommune\"","v":"København Kommune"}]
[]
[]
[null,"Data baserer sig på nationale registre fra"]
[null,{"$f":"\"Danmarks Statistik \"&\"og/eller \"","v":"Danmarks Statistik og/eller "}]
[null,{"$f":"Kommune&\" Kommunes egne data\"","v":"København Kommunes egne data"}]
[]
[]
[]
[]
[]
[]
[]
[]
[]
[]
["Nøgletal 1: Institutionsanbringelser"]
[]
["Figur 1.1: Udviklingen i antallet af institutionsanbringelser"]
[]
[]
[]
[]
[]
[]
[]
[]
[]
[]
[]
[]
[]
[]
[]
[]
[]
[]
[]
[]
[]
[]
[]
["Tabel 1.1 udvikling i antallet af institutionsanbringelser"]
[null,{"$f":"Skyggetabeller!$H$9","v":"2019-01-01"},{"$f":"Skyggetabeller!$J$9","v":"2020-01-01"},{"$f":"Skyggetabeller!$L$9","v":"2021-01-01"},{"$f":"Skyggetabeller!$N$9","v":"2022-01-01"},{"$f":"Skyggetabeller!$P$9","v":"2023-01-01"},{"$f":"Skyggetabeller!$R$9","v":"2024-01-01"}]
[{"$f":"Kommune","v":"København"},{"$f":"Skyggetabeller!$H$13","v":1.8841176201582293},{"$f":"Skyggetabeller!$J$13","v":1.4618036130010286},{"$f":"Skyggetabeller!$L$13","v":1.8300323636265292},{"$f":"Skyggetabeller!$N$13","v":1.9907160243591249},{"$f":"Skyggetabeller!$P$13","v":2.2736500203004466},{"$f":"Skyggetabeller!$R$13","v":2.297166526485245}]
["Sammenligningsgruppe, gns.",{"$f":"Skyggetabeller!$H$17","v":2.7198264341974938},{"$f":"Skyggetabeller!$J$17","v":2.5982156832055097},{"$f":"Skyggetabeller!$L$17","v":2.6269157832561318},{"$f":"Skyggetabeller!$N$17","v":2.4044091242642351},{"$f":"Skyggetabeller!$P$17","v":2.5147469729897547},{"$f":"Skyggetabeller!$R$17","v":2.3505760457743756}]
["Hele landet",{"$f":"Skyggetabeller!$H$21","v":2.8517011961804957},{"$f":"Skyggetabeller!$J$21","v":2.8318957613249878},{"$f":"Skyggetabeller!$L$21","v":2.9523700488823668},{"$f":"Skyggetabeller!$N$21","v":3.0268193910935448},{"$f":"Skyggetabeller!$P$21","v":3.2081286435360705},{"$f":"Skyggetabeller!$R$21","v":3.2999851979555763}]
[{"$f":"Registerdata!B30","v":"Anm.: Hvis nøgletallet er angivet med * er der foretaget en diskretionering af data, da der er for få observationer. "}]
[{"$f":"Registerdata!B31","v":"Anm.: Valgte kommuner i sammenligningsgruppen: Aarhus      "}]
[{"$f":"Registerdata!B32","v":"Kilde: Socialstyrelsens egne beregninger baseret på registerdata fra Danmarks Statistik."}]
[]
[]
["Nøgletal 1 viser udviklingen i antal børn og unge (0-17 år), der er anbragt på institution eller socialpædagogisk opholdssted.\r\n\r\nNøgletallet belyser det øverste trin på indsatstrappen, og et faldende tal kan indikere en overordnet bevægelse, hvor anbragte børn og unge bringes ”ned ad indsatstrappen” og tættere på hverdagslivet."]
[]
[]
[]
[]
["Nøgletal 2: Varighed af institutionsanbringelser"]
[]
["Figur 2.1: Udvikling i varigheden af institutionsanbringelser"]
[]
[]
[]
[]
[]
[]
[]
[]
[]
[]
[]
[]
[]
[]
[]
[]
[]
[]
[]
[]
[]
[]
[]
["Tabel 2.1: Udvikling i varigheden af institutionsanbringelser"]
[null,{"$f":"Skyggetabeller!$H$9","v":"2019-01-01"},{"$f":"Skyggetabeller!$J$9","v":"2020-01-01"},{"$f":"Skyggetabeller!$L$9","v":"2021-01-01"},{"$f":"Skyggetabeller!$N$9","v":"2022-01-01"},{"$f":"Skyggetabeller!$P$9","v":"2023-01-01"},{"$f":"Skyggetabeller!$R$9","v":"2024-01-01"}]
[{"$f":"Kommune","v":"København"},{"$f":"Skyggetabeller!$H$97","v":760.69417475728153},{"$f":"Skyggetabeller!$J$97","v":825.0679012345679},{"$f":"Skyggetabeller!$L$97","v":656.43349753694577},{"$f":"Skyggetabeller!$N$97","v":617.52272727272725},{"$f":"Skyggetabeller!$P$97","v":602.74206349206349},{"$f":"Skyggetabeller!$R$97","v":713.49212598425197}]
["Sammenligningsgruppe, gns.",{"$f":"Skyggetabeller!$H$101","v":837.35260115606934},{"$f":"Skyggetabeller!$J$101","v":941.15662650602405},{"$f":"Skyggetabeller!$L$101","v":871.55621301775147},{"$f":"Skyggetabeller!$N$101","v":943.52597402597405},{"$f":"Skyggetabeller!$P$101","v":869.34567901234573},{"$f":"Skyggetabeller!$R$101","v":865.79605263157896}]
["Hele landet",{"$f":"Skyggetabeller!$H$105","v":770.60864309459055},{"$f":"Skyggetabeller!$J$105","v":757.3750763591936},{"$f":"Skyggetabeller!$L$105","v":740.11868390129257},{"$f":"Skyggetabeller!$N$105","v":732.76907630522089},{"$f":"Skyggetabeller!$P$105","v":708.3122977346278},{"$f":"Skyggetabeller!$R$105","v":728.73218997361482}]
[{"$f":"Registerdata!B102","v":"Anm.: Hvis nøgletallet er angivet med * er der foretaget en diskretionering af data, da der er for få observationer. "}]
[{"$f":"Registerdata!B103","v":"Anm.: Valgte kommuner i sammenligningsgruppen: Aarhus      "}]
[{"$f":"Registerdata!B104","v":"Kilde: Socialstyrelsens egne beregninger baseret på registerdata fra Danmarks Statistik."}]
[]
[]
["Nøgletal 2 viser udviklingen i den gennemsnitlige varighed af de igangværende anbringelser.\r\n\r\nTankegangen bag indsatstrappen indebærer, at institutionsanbringelser skal bruges målrettet og over en kortere periode. Over tid forventes derfor et fald i den gennemsnitlige varighed af igangværende institutionsanbringelser som følge af en omlægning af indsatsen. Denne udvikling vil illustrere, at flere børn er kommet tættere på et almindeligt hverdagsliv."]
[]
[]
[]
[]
["Nøgletal 3: Anbragte i plejefamilie"]
[]
["Figur 3.1: Udvikling i antallet af anbragte i plejefamilie"]
[]
[]
[]
[]
[]
[]
[]
[]
[]
[]
[]
[]
[]
[]
[]
[]
[]
[]
[]
[]
[]
[]
[]
["Tabel 3.1: Udvikling i antallet af anbragte i plejefamilie"]
[null,{"$f":"Skyggetabeller!$H$9","v":"2019-01-01"},{"$f":"Skyggetabeller!$J$9","v":"2020-01-01"},{"$f":"Skyggetabeller!$L$9","v":"2021-01-01"},{"$f":"Skyggetabeller!$N$9","v":"2022-01-01"},{"$f":"Skyggetabeller!$P$9","v":"2023-01-01"},{"$f":"Skyggetabeller!$R$9","v":"2024-01-01"}]
[{"$f":"Kommune","v":"København"},{"$f":"Skyggetabeller!$H$160","v":3.1097086934650386},{"$f":"Skyggetabeller!$J$160","v":2.8333724350760678},{"$f":"Skyggetabeller!$L$160","v":2.5872871347823345},{"$f":"Skyggetabeller!$N$160","v":2.4612489028440092},{"$f":"Skyggetabeller!$P$160","v":2.445076013894528},{"$f":"Skyggetabeller!$R$160","v":2.1886389740528709}]
["Sammenligningsgruppe, gns.",{"$f":"Skyggetabeller!$H$164","v":3.9775496407628097},{"$f":"Skyggetabeller!$J$164","v":3.8816716231022066},{"$f":"Skyggetabeller!$L$164","v":3.7616190505797866},{"$f":"Skyggetabeller!$N$164","v":3.6066136863963529},{"$f":"Skyggetabeller!$P$164","v":3.4306116113008382},{"$f":"Skyggetabeller!$R$164","v":3.4176138560272173}]
["Hele landet",{"$f":"Skyggetabeller!$H$168","v":5.8421524354510677},{"$f":"Skyggetabeller!$J$168","v":5.7649924402049617},{"$f":"Skyggetabeller!$L$168","v":5.6783685987170545},{"$f":"Skyggetabeller!$N$168","v":5.5995290456575653},{"$f":"Skyggetabeller!$P$168","v":5.4481084326716926},{"$f":"Skyggetabeller!$R$168","v":5.3870734616757652}]
[{"$f":"Registerdata!B174","v":"Anm.: Hvis nøgletallet er angivet med * er der foretaget en diskretionering af data, da der er for få observationer. "}]
[{"$f":"Registerdata!B175","v":"Anm.: Valgte kommuner i sammenligningsgruppen: Aarhus      "}]
[{"$f":"Registerdata!B176","v":"Kilde: Socialstyrelsens egne beregninger baseret på registerdata fra Danmarks Statistik."}]
[]
[]
["Nøgletal 3 opgør antal børn og unge, der er anbragt i plejefamilie. Nøgletallet belyser dermed trin 5 på indsatstrappen. Over tid vil en stigning i antallet af anbragte i plejefamilier, samtidig med et fald i antallet af institutionsanbringelser, indikere, at det i højere grad lykkes med at iværksætte anbringelser, der understøtter et så normalt hverdagsliv for anbragte børn og unge som muligt."]
[]
[]
[]
[]
["Nøgletal 4: Anbragte i netværksplejefamilie"]
[]
["Figur 4.1: Udvikling i antallet af anbragte i netværksplejefamilie"]
[]
[]
[]
[]
[]
[]
[]
[]
[]
[]
[]
[]
[]
[]
[]
[]
[]
[]
[]
[]
[]
[]
[]
["Tabel 4.1: Udvikling i antallet af anbragte i netværksplejefamilie"]
[null,{"$f":"Skyggetabeller!$H$9","v":"2019-01-01"},{"$f":"Skyggetabeller!$J$9","v":"2020-01-01"},{"$f":"Skyggetabeller!$L$9","v":"2021-01-01"},{"$f":"Skyggetabeller!$N$9","v":"2022-01-01"},{"$f":"Skyggetabeller!$P$9","v":"2023-01-01"},{"$f":"Skyggetabeller!$R$9","v":"2024-01-01"}]
[{"$f":"Kommune","v":"København"},{"$f":"Skyggetabeller!$H$178","v":1.0335208304751453},{"$f":"Skyggetabeller!$J$178","v":0.98355922109328464},{"$f":"Skyggetabeller!$L$178","v":1.0457327792151596},{"$f":"Skyggetabeller!$N$178","v":1.0225041397844596},{"$f":"Skyggetabeller!$P$178","v":1.0195335408490098},{"$f":"Skyggetabeller!$R$178","v":1.0671875989183421}]
["Sammenligningsgruppe, gns.",{"$f":"Skyggetabeller!$H$182","v":0.36159542188752808},{"$f":"Skyggetabeller!$J$182","v":0.34434183753326031},{"$f":"Skyggetabeller!$L$182","v":0.40414088973171264},{"$f":"Skyggetabeller!$N$182","v":0.34348701775203361},{"$f":"Skyggetabeller!$P$182","v":0.38807823657249302},{"$f":"Skyggetabeller!$R$182","v":0.41753653444676414}]
["Hele landet",{"$f":"Skyggetabeller!$H$186","v":0.81354062532317561},{"$f":"Skyggetabeller!$J$186","v":0.77760363146950651},{"$f":"Skyggetabeller!$L$186","v":0.8213555923300826},{"$f":"Skyggetabeller!$N$186","v":0.81184054236157899},{"$f":"Skyggetabeller!$P$186","v":0.87038225873713249},{"$f":"Skyggetabeller!$R$186","v":0.89682975036787427}]
[{"$f":"Registerdata!B193","v":"Anm.: Hvis nøgletallet er angivet med * er der foretaget en diskretionering af data, da der er for få observationer. "}]
[{"$f":"Registerdata!B194","v":"Anm.: Valgte kommuner i sammenligningsgruppen: Aarhus      "}]
[{"$f":"Registerdata!B195","v":"Kilde: Socialstyrelsens egne beregninger baseret på registerdata fra Danmarks Statistik."}]
[]
[]
["Nøgletal 4 opgør antal børn og unge, der er anbragt i netværksplejefamilier. Nøgletallet belyser trin 4 på indsatstrappen. En stigning i anbringelser i netværksplejefamilier kan indikere en udvikling i foranstaltningsmønsteret, hvor barnet eller den unge bringes tættere på hverdagslivet."]
[]
[]
[]
["Nøgletal 5: Hjemmebaserede foranstaltninger"]
[]
["Figur 5.1: Udvikling i antal modtagere af hjemmebaserede foranstaltninger"]
[]
[]
[]
[]
[]
[]
[]
[]
[]
[]
[]
[]
[]
[]
[]
[]
[]
[]
[]
[]
[]
[]
[]
["Tabel 5.1: Udvikling i antal modtagere af hjemmebaserede foranstaltninger"]
[null,{"$f":"Skyggetabeller!$H$9","v":"2019-01-01"},{"$f":"Skyggetabeller!$J$9","v":"2020-01-01"},{"$f":"Skyggetabeller!$L$9","v":"2021-01-01"},{"$f":"Skyggetabeller!$N$9","v":"2022-01-01"},{"$f":"Skyggetabeller!$P$9","v":"2023-01-01"},{"$f":"Skyggetabeller!$R$9","v":"2024-01-01"}]
[{"$f":"Kommune","v":"København"},{"$f":"Skyggetabeller!$H$196","v":19.810673617780218},{"$f":"Skyggetabeller!$J$196","v":19.066611322661565},{"$f":"Skyggetabeller!$L$196","v":18.345398325024565},{"$f":"Skyggetabeller!$N$196","v":20.866323418964285},{"$f":"Skyggetabeller!$P$196","v":22.177110118644833},{"$f":"Skyggetabeller!$R$196","v":21.750730299988241}]
["Sammenligningsgruppe, gns.",{"$f":"Skyggetabeller!$H$200","v":20.359394406276039},{"$f":"Skyggetabeller!$J$200","v":20.175301299107844},{"$f":"Skyggetabeller!$L$200","v":19.367674946373612},{"$f":"Skyggetabeller!$N$200","v":17.908164061890115},{"$f":"Skyggetabeller!$P$200","v":16.982303632412293},{"$f":"Skyggetabeller!$R$200","v":15.649887883708343}]
["Hele landet",{"$f":"Skyggetabeller!$H$204","v":20.72374090799407},{"$f":"Skyggetabeller!$J$204","v":21.349933743672782},{"$f":"Skyggetabeller!$L$204","v":21.872170356261904},{"$f":"Skyggetabeller!$N$204","v":23.033696158040609},{"$f":"Skyggetabeller!$P$204","v":23.701045323901596},{"$f":"Skyggetabeller!$R$204","v":23.732030753424059}]
[{"$f":"Registerdata!B212","v":"Anm.: Hvis nøgletallet er angivet med * er der foretaget en diskretionering af data, da der er for få observationer. "}]
[{"$f":"Registerdata!B213","v":"Anm.: Valgte kommuner i sammenligningsgruppen: Aarhus      "}]
[{"$f":"Registerdata!B214","v":"Kilde: Socialstyrelsens egne beregninger baseret på registerdata fra Danmarks Statistik."}]
[]
[]
["Nøgletal 5 opgør antal børn og unge, der modtager en hjemmebaseret foranstaltning. Nøgletallet belyser trin 3 på indsatstrappen og rummer de forebyggende foranstaltninger, der kan sættes i værk primært efter Servicelovens § 52, samt ”hjemmebaserede anbringelser”.\r\n\r\nNår en kommune omlægger mod en tidligere og mere forebyggende indsats forventes det, at der iværksættes flere hjemmebaserede foranstaltninger. Det forventes med tiden at forebygge behovet for institutionsanbringelser og plejefamilieanbringelser.\r\n"]
[]
["Nøgletal 6: Forebyggende indsatser (§ 11.3 tilbud)"]
[]
["Figur 6.1: Udvikling i antal modtagere af forebyggende indsatser"]
[]
[]
[]
[]
[]
[]
[]
[]
[]
[]
[]
[]
[]
[]
[]
[]
[]
[]
[]
[]
[]
[]
["Tabel 6.1: Udvikling i antallet af anbragte i netværksplejefamilie"]
[null,{"$f":"Skyggetabeller!$H$9","v":"2019-01-01"},{"$f":"Skyggetabeller!$J$9","v":"2020-01-01"},{"$f":"Skyggetabeller!$L$9","v":"2021-01-01"},{"$f":"Skyggetabeller!$N$9","v":"2022-01-01"},{"$f":"Skyggetabeller!$P$9","v":"2023-01-01"},{"$f":"Skyggetabeller!$R$9","v":"2024-01-01"}]
[{"$f":"Kommune","v":"København"},{"$f":"Skyggetabeller!$H$273","v":"-"},{"$f":"Skyggetabeller!$J$273","v":"-"},{"$f":"Skyggetabeller!$L$273","v":"-"},{"$f":"Skyggetabeller!$N$273","v":"-"},{"$f":"Skyggetabeller!$P$273","v":"-"},{"$f":"Skyggetabeller!$R$273","v":"-"}]
[]
[]
[]
[]
["Nøgletal 6 opgør antal børn og unge, der modtager en forebyggende indsats efter Servicelovens § 11, stk. 3. Nøgletallet belyser dermed trin 2 på indsatstrappen. Trinnet vedrør de forebyggende tilbud til børn og unge med en afgrænset problematik.\r\n\r\nNøgletallet forventes at stige over tid, da omlægningen netop indebærer, at flere børn og unge får forebyggende indsatser og derigennem undgår de mere indgribende indsatser på højere trin på indsatstrappen.\r\n"]
[]
["Nøgletal 7: Tidligere institutionsanbragte"]
[]
["Figur 7.1: Faktisk og forventet udvikling i antal flytninger fra botilbud"]
[]
[]
[]
[]
[]
[]
[]
[]
[]
[]
[]
[]
[]
[]
[]
[]
[]
[]
[]
[]
[]
["Tabel 7.1: Udvikling i antal modtagere af hjemmebaserede foranstaltninger"]
[null,{"$f":"Skyggetabeller!$H$9","v":"2019-01-01"},{"$f":"Skyggetabeller!$F$9","v":"2018-01-01"},{"$f":"Skyggetabeller!$L$9","v":"2021-01-01"},{"$f":"Skyggetabeller!$N$9","v":"2022-01-01"},{"$f":"Skyggetabeller!$P$9","v":"2023-01-01"},{"$f":"Skyggetabeller!$R$9","v":"2024-01-01"}]
[{"$f":"Kommune","v":"København"},{"$f":"Skyggetabeller!$H$296","v":0.22374429223744291},{"$f":"Skyggetabeller!$J$296","v":0.36923076923076925},{"$f":"Skyggetabeller!$L$296","v":0.20765027322404372},{"$f":"Skyggetabeller!$N$296","v":0.25339366515837103},{"$f":"Skyggetabeller!$P$296","v":0.1991869918699187},{"$f":"Skyggetabeller!$R$296","v":0.2518248175182482}]
["Sammenligningsgruppe, gns.",{"$f":"Skyggetabeller!$H$300","v":0.16867469879518071},{"$f":"Skyggetabeller!$J$300","v":0.1791907514450867},{"$f":"Skyggetabeller!$L$300","v":0.16666666666666666},{"$f":"Skyggetabeller!$N$300","v":0.23809523809523808},{"$f":"Skyggetabeller!$P$300","v":0.19642857142857142},{"$f":"Skyggetabeller!$R$300","v":0.21118012422360249}]
["Hele landet",{"$f":"Skyggetabeller!$H$304","v":0.19771193898503961},{"$f":"Skyggetabeller!$J$304","v":0.19804996953077392},{"$f":"Skyggetabeller!$L$304","v":0.17858211187556086},{"$f":"Skyggetabeller!$N$304","v":0.18889524899828278},{"$f":"Skyggetabeller!$P$304","v":0.17850340136054421},{"$f":"Skyggetabeller!$R$304","v":0.17007163703900238}]
[{"$f":"Registerdata!B301","v":"Anm.: Hvis nøgletallet er angivet med * er der foretaget en diskretionering af data, da der er for få observationer. "}]
[{"$f":"Registerdata!B302","v":"Anm.: Valgte kommuner i sammenligningsgruppen: Aarhus      "}]
[{"$f":"Registerdata!B303","v":"Kilde: Socialstyrelsens egne beregninger baseret på registerdata fra Danmarks Statistik."}]
[]
["Nøgletal 7 opgør andel af børn og unge, der ved sidste opgørelse var institutionsanbragt og som nu ikke er anbragt på denne vis. Nøgletallet belyser dermed bevægelser fra trin 6 og ned ad indsatstrappen. En stigning i nøgletallet indikerer, at børn og unge bringes ned ad indsatstrappen og tættere på hverdagslivet."]
[]
["Nøgletal 8: Fra hjemmebaseret foranstaltninger og op ad indsatstrappen"]
[]
["Figur 8.1: Udvikling i bevægelsen fra hjemmebaserede foranstaltninger og op ad trappen"]
[]
[]
[]
[]
[]
[]
[]
[]
[]
[]
[]
[]
[]
[]
[]
[]
[]
[]
[]
[]
[]
["Tabel 8.1: Udvikling i bevægelsen fra hjemmebaserede foranstaltninger og op ad trappen"]
[null,{"$f":"Skyggetabeller!$H$9","v":"2019-01-01"},{"$f":"Skyggetabeller!$J$9","v":"2020-01-01"},{"$f":"Skyggetabeller!$L$9","v":"2021-01-01"},{"$f":"Skyggetabeller!$N$9","v":"2022-01-01"},{"$f":"Skyggetabeller!$P$9","v":"2023-01-01"},{"$f":"Skyggetabeller!$R$9","v":"2024-01-01"}]
[{"$f":"Kommune","v":"København"},{"$f":"Skyggetabeller!$H$344","v":2.9288702928870293E-2},{"$f":"Skyggetabeller!$J$344","v":2.1176470588235293E-2},{"$f":"Skyggetabeller!$L$344","v":3.0129124820659971E-2},{"$f":"Skyggetabeller!$N$344","v":"*"},{"$f":"Skyggetabeller!$P$344","v":2.6982150269821502E-2},{"$f":"Skyggetabeller!$R$344","v":1.8264840182648401E-2}]
["Sammenligningsgruppe, gns.",{"$f":"Skyggetabeller!$H$348","v":2.6248941574936496E-2},{"$f":"Skyggetabeller!$J$348","v":1.7174082747853241E-2},{"$f":"Skyggetabeller!$L$348","v":1.7488076311605722E-2},{"$f":"Skyggetabeller!$N$348","v":1.5612161051766639E-2},{"$f":"Skyggetabeller!$P$348","v":2.3402340234023402E-2},{"$f":"Skyggetabeller!$R$348","v":2.1759697256385997E-2}]
["Hele landet",{"$f":"Skyggetabeller!$H$352","v":3.1150612120419988E-2},{"$f":"Skyggetabeller!$J$352","v":3.1196943972835314E-2},{"$f":"Skyggetabeller!$L$352","v":3.0766079475624743E-2},{"$f":"Skyggetabeller!$N$352","v":2.8555951091162358E-2},{"$f":"Skyggetabeller!$P$352","v":2.8839629043202895E-2},{"$f":"Skyggetabeller!$R$352","v":2.8233051002823306E-2}]
[{"$f":"Registerdata!B359","v":"Anm.: Hvis nøgletallet er angivet med * er der foretaget en diskretionering af data, da der er for få observationer. "}]
[{"$f":"Registerdata!B360","v":"Anm.: Valgte kommuner i sammenligningsgruppen: Aarhus      "}]
[{"$f":"Registerdata!B361","v":"Kilde: Socialstyrelsens egne beregninger baseret på registerdata fra Danmarks Statistik."}]
[]
["Nøgletal 8 opgør andel børn og unge, der ved sidste opgørelse modtog en hjemmebaseret foranstaltning, der ikke var en anbringelse, som et år senere er anbragt uden for hjemmet. Nøgletallet belyser dermed bevægelser fra indsatstrappens trin 3 og op ad trappen. En stigning i nøgletallet indikerer, at det ikke er lykkedes at forebygge en eskalering af barnets udfordringer."]
[]
[]
["Nøgletal 9: Fra hjemmebaseret foranstaltning og ned ad indsatstrappen"]
[]
["Figur 9.1: Udvikling i bevægelsen fra hjemmebaserede foranstaltninger og ned ad trappen"]
[]
[]
[]
[]
[]
[]
[]
[]
[]
[]
[]
[]
[]
[]
[]
[]
[]
[]
[]
[]
[]
["Tabel 9.1: Udvikling i bevægelsen fra hjemmebaserede foranstaltninger og ned ad trappen"]
[null,{"$f":"Skyggetabeller!$H$9","v":"2019-01-01"},{"$f":"Skyggetabeller!$J$9","v":"2020-01-01"},{"$f":"Skyggetabeller!$L$9","v":"2021-01-01"},{"$f":"Skyggetabeller!$N$9","v":"2022-01-01"},{"$f":"Skyggetabeller!$P$9","v":"2023-01-01"},{"$f":"Skyggetabeller!$R$9","v":"2024-01-01"}]
[{"$f":"Kommune","v":"København"},{"$f":"Skyggetabeller!$H$362","v":0.23247422680412372},{"$f":"Skyggetabeller!$J$362","v":0.27251516565562295},{"$f":"Skyggetabeller!$L$362","v":0.26470588235294118},{"$f":"Skyggetabeller!$N$362","v":0.25511536787113626},{"$f":"Skyggetabeller!$P$362","v":0.25164744645799014},{"$f":"Skyggetabeller!$R$362","v":0.27224052718286657}]
["Sammenligningsgruppe, gns.",{"$f":"Skyggetabeller!$H$366","v":0.25817267393126569},{"$f":"Skyggetabeller!$J$366","v":0.29237947122861585},{"$f":"Skyggetabeller!$L$366","v":0.2797147385103011},{"$f":"Skyggetabeller!$N$366","v":0.29672131147540981},{"$f":"Skyggetabeller!$P$366","v":0.28789237668161433},{"$f":"Skyggetabeller!$R$366","v":0.29566854990583802}]
["Hele landet",{"$f":"Skyggetabeller!$H$370","v":0.23985572587917042},{"$f":"Skyggetabeller!$J$370","v":0.25210647662963737},{"$f":"Skyggetabeller!$L$370","v":0.24863531600016173},{"$f":"Skyggetabeller!$N$370","v":0.25210341135077252},{"$f":"Skyggetabeller!$P$370","v":0.25680107326526047},{"$f":"Skyggetabeller!$R$370","v":0.27511866371970001}]
[{"$f":"Registerdata!B379","v":"Anm.: Hvis nøgletallet er angivet med * er der foretaget en diskretionering af data, da der er for få observationer. "}]
[{"$f":"Registerdata!B380","v":"Anm.: Valgte kommuner i sammenligningsgruppen: Aarhus      "}]
[{"$f":"Registerdata!B381","v":"Kilde: Socialstyrelsens egne beregninger baseret på registerdata fra Danmarks Statistik."}]
[]
[]
["Nøgletal 9 opgør andel af børn og unge, der ved sidste opgørelse modtog en hjemmebaseret foranstaltning og som nu, hverken er anbragt eller modtager en hjemmebaseret foranstaltning. Nøgletallet belyser dermed bevægelser fra indsatstrappens trin 3 og ned. En stigning nøgletallet indikerer, at man hurtigere og på mere effektiv vis formår at ruste børn, unge og familier til at klare sig uden særlig støtte."]
[]
[]
[]
[]
[]
["Nøgletal 10: Udvikling i forebyggende indsatser \n(§ 11.3 tilbud)"]
[]
["Figur 10.1: Udvikling i antal modtagere af forebyggende indsatser"]
[]
[]
[]
[]
[]
[]
[]
[]
[]
[]
[]
[]
[]
[]
[]
[]
[]
[]
[]
[]
[]
[]
["Tabel 10.1: Udvikling i forebyggende foranstaltninger"]
[null,{"$f":"Skyggetabeller!$H$9","v":"2019-01-01"},{"$f":"Skyggetabeller!$J$9","v":"2020-01-01"},{"$f":"Skyggetabeller!$L$9","v":"2021-01-01"},{"$f":"Skyggetabeller!$N$9","v":"2022-01-01"},{"$f":"Skyggetabeller!$P$9","v":"2023-01-01"},{"$f":"Skyggetabeller!$R$9","v":"2024-01-01"}]
["Andel modtagere af en myndighedsbevilget § 11, stk. 3-indsats (første 6 mdr.), hvor der er truffet en afgørelse om en § 50 undersøgelse",{"$f":"Skyggetabeller!$H$379","v":"-"},{"$f":"Skyggetabeller!$J$379","v":"-"},{"$f":"Skyggetabeller!$L$379","v":"-"},{"$f":"Skyggetabeller!$N$379","v":"-"},{"$f":"Skyggetabeller!$P$379","v":"-"},{"$f":"Skyggetabeller!$R$379","v":"-"}]
[]
[]
[]
["Nøgletal 10 opgør andel børn og unge, der har modtaget støtte efter Servicelovens § 11, stk. 3 i forrige halvår (6-12 måneder forud for nedslaget), hvorefter der er truffet afgørelse om at udføre en børnefaglig undersøgelse efter Servicelovens § 50 i det seneste halvår. Eksempelvis vil nøgletallet for datanedslaget 1/7-2021 vedrøre de børn og unge, der i løbet af halvåret 1/7-2020 – 1/1-2021 har modtaget §11, stk. 3 indsats, og hvor der er truffet afgørelse om en børnefaglig undersøgelse for barnet eller den unge i løbet af halvåret 1/1-2021 – 1/7-2021.\r\n\r\nEn stigning i dette nøgletal kan indikere, at § 11, stk. 3-tilbud tilbydes i sager, hvor der straks burde have været truffet beslutning om at udføre en børnefaglig undersøgelse, og at der dermed ikke er ydet den rette støtte på det rette tidspunkt.\r\n\r\n"]
[]
[]
[]
[]
["Nøgletal 11: Opfølgninger"]
[]
["Figur 11.1: Udvikling i opfølgninger"]
[]
[]
[]
[]
[]
[]
[]
[]
[]
[]
[]
[]
[]
[]
[]
[]
[]
[]
[]
[]
[]
["Tabel 11.1: Udvikling i opfølgninger"]
[null,{"$f":"Skyggetabeller!$H$9","v":"2019-01-01"},{"$f":"Skyggetabeller!$J$9","v":"2020-01-01"},{"$f":"Skyggetabeller!$L$9","v":"2021-01-01"},{"$f":"Skyggetabeller!$N$9","v":"2022-01-01"},{"$f":"Skyggetabeller!$P$9","v":"2023-01-01"},{"$f":"Skyggetabeller!$R$9","v":"2024-01-01"}]
["Gns. Antal dage mellem opfølgninger for institutionsanbringelser",{"$f":"Skyggetabeller!$H$402","v":"-"},{"$f":"Skyggetabeller!$J$402","v":"-"},{"$f":"Skyggetabeller!$L$402","v":"-"},{"$f":"Skyggetabeller!$N$402","v":"-"},{"$f":"Skyggetabeller!$P$402","v":"-"},{"$f":"Skyggetabeller!$R$402","v":"-"}]
["Gns. Antal dage mellem opfølgninger på plejefamilier",{"$f":"Skyggetabeller!$H$407","v":"-"},{"$f":"Skyggetabeller!$J$407","v":"-"},{"$f":"Skyggetabeller!$L$407","v":"-"},{"$f":"Skyggetabeller!$N$407","v":"-"},{"$f":"Skyggetabeller!$P$407","v":"-"},{"$f":"Skyggetabeller!$R$407","v":"-"}]
["Gns. Antal dage mellem opfølgninger på hjemmebaserede foranstaltninger",{"$f":"Skyggetabeller!$H$412","v":"-"},{"$f":"Skyggetabeller!$J$412","v":"-"},{"$f":"Skyggetabeller!$L$412","v":"-"},{"$f":"Skyggetabeller!$N$412","v":"-"},{"$f":"Skyggetabeller!$P$412","v":"-"},{"$f":"Skyggetabeller!$R$412","v":"-"}]
[]
[]
[]
["Nøgletal 11 opgør den gennemsnitlige frekvens i afholdte opfølgninger for henholdsvis:\r\n1.\tInstitutionsanbringelser\r\n2.\tAnbragte i plejefamilier\r\n3.\tModtagere af hjemmebaserede foranstaltninger\r\n\r\nHyppige opfølgning er vigtig i forhold til den løbende justering af indsatsen. En hyppigere opfølgning på barnets/den unges udvikling og progression, end den lovpligtige opfølgning hver 6. måned, kan sikre, at barnet/den unge kommer tættere på hverdagslivet."]
[]
[]
[]
[]
[]
[]
[]
[]
[]
[]
[]
[]
[]
[]
[]
[]
[]
[]
[]
[]
[]
[]
[]
[]
[]
[]
[]
[]
[]
[]
[]
[]
[]
[]
[]
[]
[]
[]
[]
[]
[]
[]
[null,{"$f":"\"Fra \"&Startside!B8&\", v\"&MID(Startside!B11,2,10)","v":"Fra Indsatstrappens Nøgletal, version 2.1"}]
[null,{"$f":"TODAY()","v":"2024-10-28"}]

{"sheet":"Infotekster","index":8,"n_rows":37,"n_cols":5,"rows_kept":37,"cut":false,"hidden":true,"merged":[]}
[]
[]
[]
[null,"Infoboks navn","Fane","Nøgletal","Tekst"]
[null,"Info_kommune1","Dine valg",null,"Her kan du vælge den kommune, som skal være udgangspunktet for din analyse."]
[null,"Info_sammenlign2","Dine valg",null,"Her kan du vælge en sammenligningsgruppe bestående af 1-7 kommuner. \nTryk på \"Dan gruppe\" når alle de ønskede kommuner er krydset af."]
[null,"Info _NT3","Registerdata + Nøgletalsanalyse","Nøgletal 1","Defintion:\nAndelen er opgjort som antal børn og unge (0-17 år), der er anbragt på institution eller socialpædagogisk opholdssted pr. 1.000 0-17-årige indbyggere.\n\nDatakilde:\nStatistikken Børn og Unge anbragte forløbsregister (BUAF).\n\nLovgrundlag:\n§ 52, stk. 3, nr. 7, \n§ 58, jf. § 66, stk. 1, nr. 6-7 \n§ 68a\n§ 68b\n§75, stk. 1 (SEL)\n§74a (Straffeloven)\n§78, stk. 2 (Straffe-fuldbyrdelsesloven)\n§765 (Retsplejeloven)\n§ 14 (Lov om bekæmpelse af ungdomskriminalitet)\n§ 15 (Lov om bekæmpelse af ungdomskriminalitet)\n§ 16 (Lov om bekæmpelse af ungdomskriminalitet)\n§ 17 (Lov om bekæmpelse af ungdomskriminalitet)\n§ 23 (Lov om bekæmpelse af ungdomskriminalitet)"]
[null,"Info_NT4","Registerdata + Nøgletalsanalyse","Nøgletal 1.1","Defintion:\nAndelen er opgjort som antal anbragte på døgninstitutioner ud af samtlige institutionsanbragte i alderen 0-17 år.\n\nDatakilde:\nStatistikken Børn og Unge anbragte forløbsregister (BUAF).\n\nLovgrundlag:\n§ 52, stk. 3, nr. 7, \n§ 58, jf. § 66, stk. 1, nr. 6-7 \n§ 68a\n§ 68b\n§75, stk. 1 (SEL)\n§74a (Straffeloven)\n§78, stk. 2 (Straffe-fuldbyrdelsesloven)\n§765 (Retsplejeloven)\n§ 14 (Lov om bekæmpelse af ungdomskriminalitet)\n§ 15 (lov om bekæmpelse af ungdomskriminalitet)\n§ 23 (Lov om bekæmpelse af ungdomskriminalitet)"]
[null,"Info_NT5","Registerdata + Nøgletalsanalyse","Nøgletal 1.2","Defintion:\nAndelen er opgjort som antal anbragte på sikrede døgninstitutioner ud af samtlige institutionsanbragte.\n\nDatakilde:\nStatistikken Børn og Unge anbragte forløbsregister (BUAF).\n\nLovgrundlag:\n§ 52, stk. 3, nr. 7, \n§ 58, jf. § 66, stk. 1, nr. 6-7 \n§ 68a\n§ 68b\n§75, stk. 1 (SEL)\n§74a (Straffeloven)\n§78, stk. 2 (Straffe-fuldbyrdelsesloven)\n§765 (Retsplejeloven)\n§ 14 (Lov om bekæmpelse af ungdomskriminalitet)\n§ 16 (Lov om bekæmpelse af ungdomskriminalitet)\n§ 17 (Lov om bekæmpelse af ungdomskriminalitet)\n§ 23 (Lov om bekæmpelse af ungdomskriminalitet)"]
[null,"Info_NT6","Registerdata + Nøgletalsanalyse","Nøgletal 1.3","Defintion:\nAndelen er opgjort som antal anbragte på socialpædagogiske opholdssteder af samtlige institutionsanbragte.\n\nDatakilde:\nStatistikken Børn og Unge anbragte forløbsregister (BUAF).\n\nLovgrundlag:\n§ 52, stk. 3, nr. 7, \n§ 58, jf. § 66, stk. 1, nr. 6-7 \n§ 68a\n§ 68b\n§75, stk. 1 (SEL)\n§74a (Straffeloven)\n§78, stk. 2 (Straffe-fuldbyrdelsesloven)\n§765 (Retsplejeloven)\n§ 14 (Lov om bekæmpelse af ungdomskriminalitet)\n§ 23 (Lov om bekæmpelse af ungdomskriminalitet)"]
[null,"Info_NT7","Registerdata + Nøgletalsanalyse","Nøgletal 2","Defintion:\nVarigheden er opgjort som det gennemsnitlige antal dage, hvor børn og unge (0-17 år) er anbragt på institution eller socialpædagogisk opholdssted, for igangværende anbringelser.\n\nDatakilde:\nStatistikken Børn og Unge anbragte forløbsregister (BUAF).\n\nLovgrundlag:\n§ 52, stk. 3, nr. 7, \n§ 58, jf. § 66, stk. 1, nr. 6-7 \n§ 68a\n§ 68b\n§75, stk. 1 (SEL)\n§74a (Straffeloven)\n§78, stk. 2 (Straffe-fuldbyrdelsesloven)\n§765 (Retsplejeloven)\n§ 14 (Lov om bekæmpelse af ungdomskriminalitet)\n§ 15 (Lov om bekæmpelse af ungdomskriminalitet)\n§ 16 (Lov om bekæmpelse af ungdomskriminalitet)\n§ 17 (Lov om bekæmpelse af ungdomskriminalitet)\n§ 23 (Lov om bekæmpelse af ungdomskriminalitet)"]
[null,"Info_NT8","Registerdata + Nøgletalsanalyse","Nøgletal 2.1","Defintion:\nVarigheden er opgjort som den gennemsnitlige varighed af igangværende døgninstitutionsanbringelser.\n\nDatakilde:\nStatistikken Børn og Unge anbragte forløbsregister (BUAF).\n\nLovgrundlag:\n§ 52, stk. 3, nr. 7, \n§ 58, jf. § 66, stk. 1, nr. 6-7 \n§ 68a\n§ 68b\n§75, stk. 1 (SEL)\n§74a (Straffeloven)\n§78, stk. 2 (Straffe-fuldbyrdelsesloven)\n§765 (Retsplejeloven)\n§ 14 (Lov om bekæmpelse af ungdomskriminalitet)\n§ 15 (lov om bekæmpelse af ungdomskriminalitet)\n§ 23 (Lov om bekæmpelse af ungdomskriminalitet)"]
[null,"Info_NT9","Registerdata + Nøgletalsanalyse","Nøgletal 2.2","Defintion:\nVarigheden er opgjort som den gennemsnitlige varighed af igangværende anbringelser på sikrede døgninstitutioner.\n\nDatakilde:\nStatistikken Børn og Unge anbragte forløbsregister (BUAF).\n\nLovgrundlag:\n§ 52, stk. 3, nr. 7, \n§ 58, jf. § 66, stk. 1, nr. 6-7 \n§ 68a\n§ 68b\n§75, stk. 1 (SEL)\n§74a (Straffeloven)\n§78, stk. 2 (Straffe-fuldbyrdelsesloven)\n§765 (Retsplejeloven)\n§ 14 (Lov om bekæmpelse af ungdomskriminalitet)\n§ 16 (Lov om bekæmpelse af ungdomskriminalitet)\n§ 17 (Lov om bekæmpelse af ungdomskriminalitet)\n§ 23 (Lov om bekæmpelse af ungdomskriminalitet)"]
[null,"Info_NT10","Registerdata + Nøgletalsanalyse","Nøgletal 2.3","Defintion:\nVarigheden er opgjort som den gennemsnitlige varighed af anbringelser på socialpædagogiske opholdssteder.\n\nDatakilde:\nStatistikken Børn og Unge anbragte forløbsregister (BUAF).\n\nLovgrundlag:\n§ 52, stk. 3, nr. 7, \n§ 58, jf. § 66, stk. 1, nr. 6-7 \n§ 68a\n§ 68b\n§75, stk. 1 (SEL)\n§74a (Straffeloven)\n§78, stk. 2 (Straffe-fuldbyrdelsesloven)\n§765 (Retsplejeloven)\n§ 14 (Lov om bekæmpelse af ungdomskriminalitet)\n§ 23 (Lov om bekæmpelse af ungdomskriminalitet)"]
[null,"Info_NT11","Registerdata + Nøgletalsanalyse","Nøgletal 3","Defintion:\nAndelen er opgjort som antal børn og unge (0-17 år), der er anbragt i plejefamilie pr. 1.000 0-17-årige indbyggere.\n\nDatakilde:\nStatistikken Børn og Unge anbragte forløbsregister (BUAF).\n\nLovgrundlag:\n§ 52, stk. 3, nr. 7\n§ 58, jf. § 66, stk. 1, nr. 1-3 \n§ 68a\n§ 68b\n§75, stk. 1 (SEL)\n§ 14 (Lov om bekæmpelse af ungdomskriminalitet)\n§ 23 (Lov om bekæmpelse af ungdomskriminalitet)"]
[null,"Info_NT12","Registerdata + Nøgletalsanalyse","Nøgletal 4","Defintion:\nAndelen er opgjort som antal børn og unge (0-17 år), der er anbragt i netværksplejefamilier pr. 1.000 0-17-årige indbyggere.\n\nDatakilde:\nStatistikken Børn og Unge anbragte forløbsregister (BUAF).\n\nLovgrundlag:\n§ 52, stk. 3, nr. 7,\n§ 58, jf. § 66, stk. 1, nr. 4 \n§ 68a\n§ 68b\n§75, stk. 1 (SEL)\n§ 14 (Lov om bekæmpelse af ungdomskriminalitet)\n§ 23 (Lov om bekæmpelse af ungdomskriminalitet)"]
[null,"Info_NT13","Registerdata + Nøgletalsanalyse","Nøgletal 5","Defintion:\nAndelen er opgjort som antal modtagere af hjemmebaserede foranstaltninger i alt pr. 1000 0-17-årig.\n\nDatakilde:\nStatistikkerne Børn og Unge anbragte forløbsregister (BUAF) og Børn og unge forebyggende foranstaltninger (BUFO).\n\nLovgrundlag:\nDøgnophold:\n§ 52, stk. 3 nr. 4\nHjemmebaserede anbringelser:\nEget værelse, kollegium, kollegielignende opholdssted\nKost- og eller efterskole\nForældrerettede indsatser:\n§ 54\n§ 52a, stk. 1 nr. 3\nForebyggende foranstaltninger (resterende ud over døgnophold og forældrerettede indsatser):\n§ 52, stk. 3 nr. 1\n§ 52, stk. 3 nr. 2\n§ 52, stk. 3 nr. 3\n§ 52, stk. 3 nr. 6\n§ 52, stk. 3 nr. 9\n§ 52a, stk. 1 nr. 1\n§ 52a, stk. 1 nr. 2\n§ 52, stk. 3 nr. 5\n§ 55, stk. 2 (fra 2016)\n§ 52, stk. 3 nr. 6\n§ 52, stk. 3 nr. 3 (fra 2015)\n§ 52, stk. 3 nr. 6\n§ 52, stk. 3 nr. 8\n§ 54a\n§ 57a\n§ 57b\n§ 57c"]
[null,"Info_NT14","Registerdata + Nøgletalsanalyse","Nøgletal 5.1","Defintion:\nAndelen er opgjort som antal modtagere af døgnophold for både forældremyndighedsindehaveren, barnet eller den unge og andre medlemmer af familien pr. 1000 0-17-årig.\n\nDatakilde:\nStatistikken Børn og Unge anbragte forløbsregister (BUAF).\n\nLovgrundlag:\n§ 52, stk. 3, nr. 4 (SEL)\n§ 14 (Lov om bekæmpelse af ungdomskriminalitet)\n§ 23 (Lov om bekæmpelse af ungdomskriminalitet)"]
[null,"Info_NT15","Registerdata + Nøgletalsanalyse","Nøgletal 5.2","Defintion:\nAndelen er opgjort som antal modtagere af hjemmebaserede anbringelser pr. 1000 0-17-årige.\n\nDatakilde:\nStatistikken Børn og Unge anbragte forløbsregister (BUAF).\n\nLovgrundlag:\n§ 52, stk. 3, nr. 7, \n§ 58, jf.§ 66, stk. 1, nr. 4 \n§ 68a\n§ 68b\n§75, stk. 1 (SEL)\n§ 14 (Lov om bekæmpelse af ungdomskriminalitet)\n§ 23 (Lov om bekæmpelse af ungdomskriminalitet)"]
[null,"Info_NT16","Registerdata + Nøgletalsanalyse","Nøgletal 5.3","Defintion:\nAndelen er opgjort som antal børn og unge, der modtager forebyggende foranstaltninger pr. 1.000 0-17-årig [Eksklusiv 5.1 og 5.4]\n\nDatakilde:\nStatistikken Børn og Unge anbragte forløbsregister (BUAF).\n\nLovgrundlag:\n§ 52, stk. 3, nr. 1-3 og 5-6 samt 8-9\n§ 52a, stk. 1, nr. 1-2 \n§ 57a\n§ 57b (SEL)\n§ 12 (Lov om bekæmpelse af ungdomskriminalitet)\n§ 13 (Lov om bekæmpelse af ungdomskriminalitet)"]
[null,"Info_NT17","Registerdata + Nøgletalsanalyse","Nøgletal 5.4","Defintion:\nAndelen er opgjort som antal modtagere af forældrerettede indsatser under barnets eller den unges anbringelse pr. 1.000 0-17-årig\n\nDatakilde:\nStatistikken Børn og Unge anbragte forløbsregister (BUAF).\n\nLovgrundlag:\n§ 52a, stk. 1, nr. 3 \n§ 54"]
[null,"Info_NT18","Indtastningsark + Nøgletalsanalyse","Nøgletal 6","Definition:\nAndelen er opjort som det samlede antal § 11, stk. 3-tilbud  (enten myndigheds- eller ikke-myndighedsbevilgede) pr. 1.000 0-17-årig.\n\nDatakilde:\nKommunernes egne indtastninger.\n\nLovgrundlag:\n§ 11, stk. 3 (SEL)\n"]
[null,"Info_NT19","Indtastningsark + Nøgletalsanalyse","Nøgletal 6.1","Definition:\nAndelen er opjort som det samlede antal myndighedsbevilgede § 11, stk. 3-tilbud pr. 1.000 0-17-årig.\n\nDatakilde:\nKommunernes egne indtastninger.\n\nLovgrundlag:\n§ 11, stk. 3 (SEL)"]
[null,"Info_NT20","Indtastningsark + Nøgletalsanalyse","Nøgletal 6.2","Definition:\nAndelen er opjort som det samlede antal øvrige (ikke-myndighedsbevilgede) § 11, stk. 3-tilbud pr. 1.000 0-17-årig.\n\nDatakilde:\nKommunernes egne indtastninger.\n\nLovgrundlag:\n§ 11, stk. 3 (SEL)"]
[null,"Info_NT21","Registerdata + Nøgletalsanalyse","Nøgletal 7","Defintion:\nAndel børn og unge der ved sidste nedslagsdato var institutionsanbragt eller anbragt på socialpædagogiske opholdssteder, og som nu ikke er anbragte på denne vis.\n\nDatakilde:\nStatistikken Børn og Unge anbragte forløbsregister (BUAF).\n\nLovgrundlag ved sidste nedslagsdato:\n§ 52, stk. 3, nr. 7, \n§ 58, jf. § 66, stk. 1, nr. 6-7 \n§ 68a\n§ 68b\n§75, stk. 1 (SEL)\n§74a (Straffeloven)\n§78, stk. 2 (Straffe-fuldbyrdelsesloven)\n§765 (Retsplejeloven)\n§ 14 (Lov om bekæmpelse af ungdomskriminalitet)\n§ 15 (Lov om bekæmpelse af ungdomskriminalitet)\n§ 16 (Lov om bekæmpelse af ungdomskriminalitet)\n§ 17 (Lov om bekæmpelse af ungdomskriminalitet)\n§ 23 (Lov om bekæmpelse af ungdomskriminalitet)\n\nVed den aktuelle nedslagsdato er anbringelsesstedtypen forskellig fra de ovenstående – dvs. barnet kan nu være anbragt i en anden form såsom anbringelse ved plejefamilie, netværksplejefamilie, kost- og efterskole, eget værelse, kollegium, kollegielignende opholdssted eller døgnophold. Alternativt er barnet ikke længere anbragt, men kan modtage forebyggende foranstaltninger. "]
[null,"Info_NT22","Registerdata + Nøgletalsanalyse","Nøgletal 7.1","Defintion:\nAndel børn og unge der ved sidste nedslagsdato var institutionsanbragt eller anbragt på socialpædagogiske opholdssteder, men som ved denne måling er anbragt i anden form.\n\nDatakilde:\nStatistikken Børn og Unge anbragte forløbsregister (BUAF).\n\nLovgrundlag ved sidste nedslagsdato:\nLovgrundlag ved sidste nedslagsdato:\n§ 52, stk. 3, nr. 7, \n§ 58, jf. § 66, stk. 1, nr. 6-7 \n§ 68a\n§ 68b\n§75, stk. 1 (SEL)\n§74a (Straffeloven)\n§78, stk. 2 (Straffe-fuldbyrdelsesloven)\n§765 (Retsplejeloven)\n§ 14 (Lov om bekæmpelse af ungdomskriminalitet)\n§ 15 (Lov om bekæmpelse af ungdomskriminalitet)\n§ 16 (Lov om bekæmpelse af ungdomskriminalitet)\n§ 17 (Lov om bekæmpelse af ungdomskriminalitet)\n§ 23 (Lov om bekæmpelse af ungdomskriminalitet)\n\nLovgrundlag ved den aktuelle nedslagsdato:\n§ 52, stk. 3, nr. 4, \n§ 58, jf. § 66, stk. 1, nr. 1-5 \n§ 68a \n§ 68b\n§75, stk. 1 (SEL)\n§ 14 (Lov om bekæmpelse af ungdomskriminalitet)\n§ 23 (Lov om bekæmpelse af ungdomskriminalitet)"]
[null,"Info_NT23","Registerdata + Nøgletalsanalyse","Nøgletal 7.2","Defintion:\nAndel børn og unge der ved sidste nedslagsdato var institutionsanbragt eller anbragt på socialpædagogiske opholdssteder, men som ved denne måling ikke er anbragt.\n\nDatakilde:\nStatistikken Børn og Unge anbragte forløbsregister (BUAF).\n\nLovgrundlag ved sidste nedslagsdato:\n§ 52, stk. 3, nr. 7, \n§ 58, jf. § 66, stk. 1, nr. 6-7 \n§ 68a\n§ 68b\n§75, stk. 1 (SEL)\n§74a (Straffeloven)\n§78, stk. 2 (Straffe-fuldbyrdelsesloven)\n§765 (Retsplejeloven)\n§ 14 (Lov om bekæmpelse af ungdomskriminalitet)\n§ 15 (Lov om bekæmpelse af ungdomskriminalitet)\n§ 16 (Lov om bekæmpelse af ungdomskriminalitet)\n§ 17 (Lov om bekæmpelse af ungdomskriminalitet)\n§ 23 (Lov om bekæmpelse af ungdomskriminalitet)\nVed den aktuelle nedslagsdato:\nBarnet er ikke længere anbragt, men kan modtage følgende paragrafkoder (PGF):\n\nForebyggende foranstaltninger (ekskl. døgnophold og forældrerettede indsatser):\n• 406: § 52, stk. 3 nr. 1\n• 415: § 52, stk. 3 nr. 2\n• 420: § 52, stk. 3 nr. 3\n• 430: § 52, stk. 3 nr. 6\n• 440: § 52, stk. 3 nr. 9\n• 445: § 52a, stk. 1 nr. 1\n• 450: § 52a, stk. 1 nr. 2\n• 210: § 52, stk. 3 nr. 5\n• 215: § 55, stk. 2 (fra 2016)\n• 220: § 52, stk. 3 nr. 6\n• 225: § 52, stk. 3 nr. 3 (fra 2015)\n• 230: § 52, stk. 3 nr. 6\n• 240: § 52, stk. 3 nr. 8\n• 245: § 54a\n• 455: § 57a\n• 260: § 57b\n• 274: § 57c"]
[null,"Info_NT24","Registerdata + Nøgletalsanalyse","Nøgletal 8","Defintion:\nAndelen af børn og unge, der ved sidste nedslagsdato modtog en hjemmebaseret foranstaltning, og ikke var anbragt, som på opgørelsestidspunktet er anbragt uden for hjemmet.\n\nDatakilde:\nStatistikken Børn og Unge anbragte forløbsregister (BUAF).\n\nLovgrundlag ved sidste nedslagsdato:\n§ 52, stk. 3, nr. 1-6 og 8-9\n§ 52a, stk. 1-2 \n§ 57a\n§ 57b\n§ 57c\n§ 66, stk 1, nr. 4 (SEL)\n§ 12 (Lov om bekæmpelse af ungdomskriminalitet)\n§ 13 (Lov om bekæmpelse af ungdomskriminalitet)\n\nParagrafkoder (PGF) og anbringelsesstedtyper (ANSTED_KLAS) som er inkluderet i opgørelsen ved den aktuelle nedslagsdato:\nDøgnophold:\n• 425: § 52, stk. 3 nr. 4\nHjemmebaserede anbringelser:\n• 6: Eget værelse, kollegium, kollegielignende opholdssted\n• 11: Kost- og eller efterskole\nForældrerettede indsatser:\n• 435: § 54\n• 451: § 52a, stk. 1 nr. 3\nAnbringelser trin 4-6:\n• 1: Netværksplejefamilie (inkl. Slægtsanbringelse)\n• 2: Almindelig plejefamilie, generelt godkendt\n• 3: Almindelig plejefamilie, konkret godkendt (frem til 30-06-2019)\n• 4: Kommunal plejefamilie, generelt godkendt\n• 5: Kommunal plejefamilie, konkret godkendt (frem til 30-06-2019)\n• 14: Almindelig plejefamilie (frem til 31-12-2014)\n• 15: Kommunal plejefamilie (fra 01-01-2011)\n• 21: Almen plejefamilie (fra 01-07-2019)\n• 23: Forstærket plejefamilie (fra 01-07-2019)\n• 25: Specialiseret plejefamilie (fra 01-07-2019) \n• 6: Eget værelse, kollegium, kollegielignende opholdssted\n• 11: Kost- og eller efterskole\n• 9: Døgninstitution, almindelig afdeling\n• 7: Delvis lukket døgninstitution eller delvis lukket afdeling på åben døgninstitution\n• 8: Døgninstitution, sikret afdeling\n• 12: Socialpædagogisk opholdssted \n• 13: Skibsprojekt"]
[null,"Info_NT25","Registerdata + Nøgletalsanalyse","Nøgletal 9","Definition:\nAndelen af børn og unge, der ved sidste nedslagsdato modtog en hjemmebaseret foranstaltning, som på opgørelsestidspunktet hverken modtager en hjemmebaseret foranstaltning eller er anbragt uden for hjemmet.\n\nDatakilde:\nStatistikken Børn og Unge anbragte forløbsregister (BUAF).\n\nLovgrundlag ved sidste nedslagsdato:\n§ 52, stk. 3, nr. 1-6 og 8-9\n§ 52a \n§ 54 \n§ 57a\n§ 57b\n§ 57c\n§ 66, stk.1, nr. 4 (SEL)\n§ 12 (Lov om bekæmpelse af ungdomskriminalitet)\n§ 13 (Lov om bekæmpelse af ungdomskriminalitet)\n§ 14 (Lov om bekæmpelse af ungdomskriminalitet)\n§ 23 (Lov om bekæmpelse af ungdomskriminalitet)\n\nVed den aktuelle nedslagsdato:\nModtager ikke hjemmebaseret foranstaltning og er ikke anbragt."]
[null,"Info_NT26","Indtastningsark + Nøgletalsanalyse","Nøgletal 10","Definition:\nAndel børn og unge, der har modtaget en § 11, stk. 3-indsats  (enten myndigheds- eller ikke-myndighedsbevilgede) i løbet af forrige halvår, hvor der i løbet af seneste halvår træffes en afgørelse om en § 50 undersøgelse.\n\nDatakilde:\nStatistikken Børn og Unge anbragte forløbsregister (BUAF).\n\nLovgrundlag:\n§ 11, stk. 3 (SEL)\n\nDenne måling:\nAfgørelser om § 50 undersøgelser.\n\nLovgrundlag:\n§ 50 (SEL)"]
[null,"Info_NT27","Indtastningsark + Nøgletalsanalyse","Nøgletal 10.1","Definition:\nAndel børn og unge, der har modtaget en myndighedsbevilget § 11, stk. 3-indsats i løbet af forrige halvår, hvor der i løbet af seneste halvår træffes en afgørelse om en § 50 undersøgelse.\n\nDatakilde:\nStatistikken Børn og Unge anbragte forløbsregister (BUAF).\n\nLovgrundlag:\n§ 11, stk. 3 (SEL)\n\nDenne måling:\nAfgørelser om § 50 undersøgelser.\n\nLovgrundlag:\n§ 50 (SEL)"]
[null,"Info_NT28","Indtastningsark + Nøgletalsanalyse","Nøgletal 10.2","Definition:\nAndel børn og unge, der har modtaget en ikke-myndighedsbevilgede § 11, stk. 3-indsats i løbet af forrige halvår, hvor der i løbet af seneste halvår træffes en afgørelse om en § 50 undersøgelse.\n\nDatakilde:\nStatistikken Børn og Unge anbragte forløbsregister (BUAF).\n\nLovgrundlag:\n§ 11, stk. 3 (SEL)\n\nDenne måling:\nAfgørelser om § 50 undersøgelser.\n\nLovgrundlag:\n§ 50 (SEL)"]
[null,"Info_NT29","Indtastningsark + Nøgletalsanalyse","Nøgletal 11.1","Definition:\nGennemsnitlig antal opfølgninger pr. institutionsanbringelser og anbringelser på socialpædagogiske opholdssteder:\n- Delvis lukket døgninstitution eller delvis lukket afdeling på åben døgninstitution\n- Døgninstitution, sikret afdeling\n- Døgninstitution, almindelig afdeling\n- Socialpædagogisk opholdssted\n- Skibsprojekt\n\nDatakilde:\nKommunernes egne indtastninger.\n\nLovgrundlag:\n§ 52, stk. 3, nr. 7, \n§ 58, jf. § 66, stk. 1, nr. 5-6 \n§75, stk. 1 (SEL)\n\n§74a (Straffeloven)\n§78, stk. 2 (straffe-fuldbyrdelsesloven)\n§765 (retsplejeloven)"]
[null,"Info_NT30","Indtastningsark + Nøgletalsanalyse","Nøgletal 11.2","Definition:\nGennemsnitlig antal opfølgninger pr. anbringelser i plejefamilier (inden for året).\nAnbragte i almindelige og kommunale plejefamilier (generelt og konkret godkendte) samt netværksplejefamilier.\n\nDatakilde:\nKommunernes egne indtastninger.\n\nLovgrundlag:\n§ 52, stk. 3, nr. 7\n§ 58, jf. § 66, stk. 1, nr. 1-3 \n§75, stk. 1 (SEL)\n\n§765 (retsplejeloven)"]
[null,"Info_NT31","Indtastningsark + Nøgletalsanalyse","Nøgletal 11.3","Definition:\nGennemsnitlig antal opfølgninger pr. hjemmebaserede foranstaltning  (inden for året). Modtagere af hjemmebaserede foranstaltninger:\n- Døgnophold for både forældremyndighedsinde-haveren, barnet eller den unge og andre medlemmer af familien\n- Eget værelse, kollegium, kollegielignende opholdssted\n- Kost- og efterskole \n- Forebyggende foranstaltninger\n- Familierettede indsatser under anbringelse\n\nDatakilde:\nKommunernes egne indtastninger.\n\nLovgrundlag:\n§ 52, stk. 3, nr. 1-6 og 8-9\n§ 52a \n§ 54 \n§ 57a\n§ 57b\n§ 66, stk.1, nr. 4 (SEL)"]
[null,"Info_NT32",null,"NT 11","Definition: Gennemsnitlig antal opfølgninger pr. institutionsanbringelser og anbringelser på socialpædagogiske opholdssteder:\n- Delvis lukket døgninstitution eller delvis lukket afdeling på åben døgninstitution\n- Døgninstitution, sikret afdeling\n- Døgninstitution, almindelig afdeling\n- Socialpædagogisk opholdssted\n- Skibsprojekt\n\nDatakilde:\nKommunernes egne indtastninger.\n\nLovgrundlag:\n§ 52, stk. 3, nr. 7, \n§ 58, jf. § 66, stk. 1, nr. 5-6 \n§75, stk. 1 (SEL)\n\n§74a (Straffeloven)\n§78, stk. 2 (straffe-fuldbyrdelsesloven)\n§765 (retsplejeloven)\n\nDefinition: Gennemsnitlig antal opfølgninger pr. anbringelser i plejefamilier (inden for året).\nAnbragte i almindelige og kommunale plejefamilier (generelt og konkret godkendte) samt netværksplejefamilier.\n\nDatakilde:\nKommunernes egne indtastninger.\n\nLovgrundlag:\n§ 52, stk. 3, nr. 7\n§ 58, jf. § 66, stk. 1, nr. 1-3 \n§75, stk. 1 (SEL)\n\n§765 (retsplejeloven)\n\nDefinition: Gennemsnitlig antal opfølgninger pr. hjemmebaserede foranstaltning  (inden for året). Modtagere af hjemmebaserede foranstaltninger:\n- Døgnophold for både forældremyndighedsinde-haveren, barnet eller den unge og andre medlemmer af familien\n- Eget værelse, kollegium, kollegielignende opholdssted\n- Kost- og efterskole \n- Forebyggende foranstaltninger\n- Familierettede indsatser under anbringelse\n\nDatakilde:\nKommunernes egne indtastninger.\n\nLovgrundlag:\n§ 52, stk. 3, nr. 1-6 og 8-9\n§ 52a \n§ 54 \n§ 57a\n§ 57b\n§ 66, stk.1, nr. 4 (SEL)"]
[null,"Info_NT33"]

{"sheet":"Data","index":9,"n_rows":1771,"n_cols":39,"rows_kept":1771,"cut":false,"hidden":false,"merged":[]}
[]
[]
[null,"Nødvendige data og hjælpeark"]
[]
[null,null,2,3,4,5,6,7,8,9,10,11,12,13,14,15,16,17,18,19,20,21,22,23,24,25,26,27,28,29,30,31,32,33,34,35,36,37,38]
[null,"Nøgletal",null,null,1,"1.1","1.2","1.3",2,"2.1","2.2","2.3",3,4,5,"5.1","5.2","5.3","5.4",6,"6.1","6.2",7,7,"7.1","7.1","7.2","7.2",8,8,9,9,10,10,"10.1","10.1","10.2","10.2"]
[null,"Kommune","Antal indbyggere","Dato","Antal institutionsanbragte ","Antal anbragte på døgninstitution","Antal anbragte på sikret døgninstitution","Antal anbragte på socialpædagogiske opholdssteder","Varighed igangværende institutionsanbringelser","Varighed igangværende anbringelser på døgninstitution","Varighed igangværende anbringelser på sikret døgninstitution","Varighed igangværende anbringelser på socialpædagogisk opholdssted","Antal anbragte i plejefamilier","Antal anbragte i netværksplejefamilier","Antal modtagere af hjemmebaserede foranstaltninger","Antal modtagere af døgnophold","Antal modtagere af hjemmebaserede anbringelser","Antal modtagere af forebyggende foranstaltninger","Antal modtagere af forældrerettede indsatser","Forebyggende indsatser (§ 11, stk. 3-tilbud)","Myndighedsbevilgede § 11, stk. 3-tilbud (pr. 1.000 0-17-årige)","Øvrige § 11, stk. 3-tilbud (pr. 1.000 0-17-årige)","Antal institutionsanbragte 0-17 årige, og som nu ikke er anbragt på denne form","Antal institutionsanbragte 0-17 årige pr. forrige opgørelse","0-17 årige, der ved sidste opgørelse var institutionsanbragt, men nu er anbragt i anden form","Antal 0-17-årige institutionsanbragte forrige opgørelse","0-17 årige, der ved sidste opgørelse var institutionsanbragt, men nu ikke er anbragt","Antal 0-17-årige institutionsanbragte forrige opgørelse","0-17-årige, der ved sidste opgørelse modtog en hjemmebaseret foranstaltning, som nu er anbragt","Antal 0-17-årige, der modtog hjemmebaseret foranstaltning, og ikke var anbragt pr. forrige opgørelse","0-17-årige, der ved sidste opgørelse modtog hjemmebaseret foranstaltning, men som nu hverken modtager hjemmebaseret foranstaltning eller er anbragt","Antal 0-17-årige som ved forrige opgørelse modtog hjemmebaseret foranstaltning","Andel børn og unge, der har modtaget en § 11, stk. 3-indsats inden for de første 6 måneder af året, hvor der efterfølgende træffes en afgørelse om en § 50 undersøgelse i alt","Antal 0-17-årige der inden for de første 6 måneder har påbegyndt en § 11, stk. 3-indsats","Børn der har modtaget en myndighedsbevilget § 11, stk. 3-indsats inden for de første 6 måneder af året, hvor der efterfølgende træffes en afgørelse om en § 50 undersøgelse","Antal 0-17-årige der inden for de første 6 måneder har påbegyndt en myndighedsbevilget § 11, stk. 3-indsats","Børn der har modtaget en ikke-myndighedsbevilget § 11, stk. 3-indsats inden for de første 6 måneder af året, hvor der efterfølgende træffes en afgørelse om en § 50 undersøgelse","Antal 0-17-årige der inden for de første 6 måneder har påbegyndt en ikke-myndighedsbevilget § 11, stk. 3-indsats","Region"]
[null,"København",105885,"2017-01-01",225,172,7,46,183355,134446,2067,46842,357,106,1925,8,25,1887,5,null,null,null,46,234,9,234,37,234,58,1957,572,1987,null,null,null,null,null,null,"Region Hovedstaden"]
[null,"Frederiksberg",18509,"2017-01-01",65,53,"*","*",54210,46979,"*","*",42,7,140,"*",4,130,"*",null,null,null,5,62,"*",62,"*",62,"*",147,33,157,null,null,null,null,null,null,"Region Hovedstaden"]
[null,"Ballerup",10380,"2017-01-01",37,16,0,21,27163,10587,"*",16576,46,4,291,"*","*",284,3,null,null,null,5,36,0,36,5,36,"*",306,63,312,null,null,null,null,null,null,"Region Hovedstaden"]
[null,"Brøndby",7454,"2017-01-01",40,24,"*","*",27179,14147,"*","*",51,8,98,"*","*",94,"*",null,null,null,6,39,0,39,6,39,"*",117,34,121,null,null,null,null,null,null,"Region Hovedstaden"]
[null,"Dragør",3260,"2017-01-01","*","*",0,"*","*","*","*","*",5,0,35,"*","*","*","*",null,null,null,"*","*","*","*","*","*","*",29,8,29,null,null,null,null,null,null,"Region Hovedstaden"]
[null,"Gentofte",17170,"2017-01-01",42,38,0,4,23639,"*","*","*",21,8,133,"*","*",127,"*",null,null,null,4,29,0,29,4,29,"*","*",21,110,null,null,null,null,null,null,"Region Hovedstaden"]
[null,"Gladsaxe",15219,"2017-01-01",35,17,0,18,28797,11837,"*",16960,43,9,269,0,4,260,5,null,null,null,10,35,"*",35,"*",35,8,270,61,275,null,null,null,null,null,null,"Region Hovedstaden"]
[null,"Glostrup",4536,"2017-01-01",10,6,0,4,4798,"*","*","*",16,4,63,0,0,63,0,null,null,null,"*",8,0,8,"*",8,0,62,17,65,null,null,null,null,null,null,"Region Hovedstaden"]
[null,"Herlev",6305,"2017-01-01",22,12,0,10,16418,11559,"*",4859,22,8,88,"*","*",83,"*",null,null,null,9,27,0,27,9,27,"*",92,15,94,null,null,null,null,null,null,"Region Hovedstaden"]
[null,"Albertslund",6201,"2017-01-01",29,19,0,10,23646,20079,"*",3567,33,6,182,"*","*",172,6,null,null,null,5,29,"*",29,"*",29,4,152,17,155,null,null,null,null,null,null,"Region Hovedstaden"]
[null,"Hvidovre",11541,"2017-01-01",21,8,0,13,13904,4682,"*",9222,40,7,283,"*",3,277,"*",null,null,null,7,25,"*",25,"*",25,"*","*",45,276,null,null,null,null,null,null,"Region Hovedstaden"]
[null,"Høje-Taastrup",11186,"2017-01-01",56,"*","*",31,56452,"*","*",33408,47,3,193,0,6,180,7,null,null,null,9,63,0,63,9,63,5,197,40,201,null,null,null,null,null,null,"Region Hovedstaden"]
[null,"Lyngby-Taarbæk",11886,"2017-01-01",24,"*","*",16,6400,"*","*",3815,18,8,163,"*","*",158,"*",null,null,null,3,19,"*",19,"*",19,"*",154,30,156,null,null,null,null,null,null,"Region Hovedstaden"]
[null,"Rødovre",8129,"2017-01-01",14,4,0,10,17192,"*","*","*",42,9,189,"*","*",182,"*",null,null,null,"*",11,"*",11,0,11,"*",161,26,162,null,null,null,null,null,null,"Region Hovedstaden"]
[null,"Ishøj",5158,"2017-01-01",32,"*","*",26,32834,"*","*",24002,26,4,146,"*","*",141,"*",null,null,null,9,37,"*",37,"*",37,"*",122,24,122,null,null,null,null,null,null,"Region Hovedstaden"]
[null,"Tårnby",9424,"2017-01-01",11,6,0,5,8987,4114,"*",4873,36,6,99,0,3,92,4,null,null,null,"*",9,0,9,"*",9,"*",100,32,102,null,null,null,null,null,null,"Region Hovedstaden"]
[null,"Vallensbæk",3758,"2017-01-01",6,"*","*","*",3007,"*","*","*",7,0,42,"*","*","*","*",null,null,null,"*",7,0,7,"*",7,"*",47,18,48,null,null,null,null,null,null,"Region Hovedstaden"]
[null,"Furesø",9638,"2017-01-01",17,5,0,12,9600,3011,"*",6589,26,4,124,"*","*","*","*",null,null,null,3,16,0,16,3,16,"*","*",22,129,null,null,null,null,null,null,"Region Hovedstaden"]
[null,"Allerød",6058,"2017-01-01",10,"*","*","*",6263,"*","*","*",6,"*",52,"*","*","*","*",null,null,null,"*",11,0,11,"*",11,"*",44,9,48,null,null,null,null,null,null,"Region Hovedstaden"]
[null,"Fredensborg",8892,"2017-01-01",18,15,0,3,9170,"*","*","*",18,5,178,0,3,170,5,null,null,null,6,20,0,20,6,20,7,184,42,184,null,null,null,null,null,null,"Region Hovedstaden"]
[null,"Helsingør",12563,"2017-01-01",36,"*","*",18,55737,"*","*",27808,63,9,275,0,5,260,10,null,null,null,5,33,0,33,5,33,10,288,69,293,null,null,null,null,null,null,"Region Hovedstaden"]
[null,"Hillerød",11338,"2017-01-01",25,"*","*",19,19564,"*","*",14527,35,3,216,0,"*",213,"*",null,null,null,3,22,0,22,3,22,"*",218,38,219,null,null,null,null,null,null,"Region Hovedstaden"]
[null,"Hørsholm",5255,"2017-01-01",9,4,0,5,7027,"*","*","*",7,6,39,0,4,35,0,null,null,null,"*",9,0,9,"*",9,"*",36,12,38,null,null,null,null,null,null,"Region Hovedstaden"]
[null,"Rudersdal",12925,"2017-01-01",27,20,0,7,21030,17323,"*",3707,27,5,217,"*",6,206,"*",null,null,null,3,27,0,27,3,27,"*",203,48,209,null,null,null,null,null,null,"Region Hovedstaden"]
[null,"Egedal",10473,"2017-01-01",22,"*","*",13,18712,"*","*",12114,26,4,219,"*","*","*","*",null,null,null,5,24,"*",24,"*",24,5,217,42,217,null,null,null,null,null,null,"Region Hovedstaden"]
[null,"Frederikssund",9368,"2017-01-01",15,3,0,12,10987,"*","*","*",45,6,170,0,9,156,5,null,null,null,"*",15,0,15,"*",15,10,184,49,190,null,null,null,null,null,null,"Region Hovedstaden"]
[null,"Greve",11096,"2017-01-01",25,9,0,16,18643,8964,"*",9679,43,4,213,12,"*",197,"*",null,null,null,5,28,"*",28,"*",28,7,193,46,200,null,null,null,null,null,null,"Region Sjælland"]
[null,"Køge",13051,"2017-01-01",36,"*","*",21,15698,"*","*",6178,58,4,241,"*",4,233,"*",null,null,null,5,29,"*",29,"*",29,10,222,68,226,null,null,null,null,null,null,"Region Sjælland"]
[null,"Halsnæs",5817,"2017-01-01",40,25,"*","*",26504,15538,"*","*",42,8,150,"*",7,140,"*",null,null,null,6,33,0,33,6,33,"*",149,34,155,null,null,null,null,null,null,"Region Hovedstaden"]
[null,"Roskilde",18424,"2017-01-01",58,39,0,19,55214,36160,"*",19054,74,7,277,"*","*",265,"*",null,null,null,14,64,0,64,14,64,"*","*",99,283,null,null,null,null,null,null,"Region Sjælland"]
[null,"Solrød",5195,"2017-01-01",10,"*","*","*",9374,"*","*","*",9,0,54,"*","*","*","*",null,null,null,3,14,0,14,3,14,"*",60,11,60,null,null,null,null,null,null,"Region Sjælland"]
[null,"Gribskov",8027,"2017-01-01",31,21,"*","*",23158,17212,"*","*",15,11,225,"*","*",221,"*",null,null,null,7,29,0,29,7,29,7,233,67,239,null,null,null,null,null,null,"Region Hovedstaden"]
[null,"Odsherred",5591,"2017-01-01",17,12,"*","*",12142,7677,"*","*",42,12,268,"*","*",241,23,null,null,null,10,24,0,24,10,24,5,268,38,271,null,null,null,null,null,null,"Region Sjælland"]
[null,"Holbæk",15180,"2017-01-01",53,"*","*",35,39156,"*","*",25000,96,15,286,0,4,274,8,null,null,null,10,56,"*",56,"*",56,11,301,68,305,null,null,null,null,null,null,"Region Sjælland"]
[null,"Faxe",7194,"2017-01-01",23,"*","*","*",14208,"*","*","*",48,11,161,"*",6,152,"*",null,null,null,9,28,"*",28,"*",28,"*",153,29,160,null,null,null,null,null,null,"Region Sjælland"]
[null,"Kalundborg",9658,"2017-01-01",64,27,5,32,37415,19559,390,17466,80,12,175,"*","*",166,"*",null,null,null,3,53,0,53,3,53,16,171,45,181,null,null,null,null,null,null,"Region Sjælland"]
[null,"Ringsted",7311,"2017-01-01",34,17,"*","*",19670,12922,"*","*",35,3,146,"*","*","*","*",null,null,null,8,36,"*",36,"*",36,"*","*",51,166,null,null,null,null,null,null,"Region Sjælland"]
[null,"Slagelse",15305,"2017-01-01",48,"*","*",35,49545,"*","*",31393,139,14,238,"*","*",232,3,null,null,null,11,48,"*",48,"*",48,16,202,59,210,null,null,null,null,null,null,"Region Sjælland"]
[null,"Stevns",4310,"2017-01-01",24,"*","*",13,18598,"*","*",8237,29,4,96,"*","*",92,"*",null,null,null,"*",24,0,24,"*",24,5,97,32,100,null,null,null,null,null,null,"Region Sjælland"]
[null,"Sorø",6264,"2017-01-01",16,7,0,9,10230,4276,"*",5954,32,10,217,"*",5,208,"*",null,null,null,7,19,0,19,7,19,"*","*",35,210,null,null,null,null,null,null,"Region Sjælland"]
[null,"Lejre",6119,"2017-01-01",10,7,0,3,8287,"*","*","*",24,3,79,"*","*","*","*",null,null,null,"*",12,0,12,"*",12,"*",80,12,82,null,null,null,null,null,null,"Region Sjælland"]
[null,"Lolland",7007,"2017-01-01",38,"*","*",25,31553,"*","*",20070,166,14,304,"*","*",285,"*",null,null,null,6,38,0,38,6,38,21,289,76,306,null,null,null,null,null,null,"Region Sjælland"]
[null,"Næstved",16735,"2017-01-01",77,33,0,44,78801,30424,"*",48377,84,9,292,0,13,275,4,null,null,null,11,79,"*",79,"*",79,15,279,54,290,null,null,null,null,null,null,"Region Sjælland"]
[null,"Guldborgsund",10820,"2017-01-01",67,21,0,46,46129,13792,"*",32337,127,6,154,"*","*",142,"*",null,null,null,13,67,4,67,9,67,"*","*",50,189,null,null,null,null,null,null,"Region Sjælland"]
[null,"Vordingborg",8505,"2017-01-01",45,15,0,30,39478,17600,"*",21878,103,5,122,0,5,112,5,null,null,null,5,44,0,44,5,44,6,89,30,94,null,null,null,null,null,null,"Region Sjælland"]
[null,"Bornholm",6678,"2017-01-01",27,14,"*","*",15738,11821,"*","*",70,6,167,"*","*",163,"*",null,null,null,"*",18,"*",18,"*",18,"*",140,23,144,null,null,null,null,null,null,"Region Hovedstaden"]
[null,"Middelfart",8045,"2017-01-01",24,17,0,7,14001,8096,"*",5905,40,"*",254,0,0,250,4,null,null,null,6,23,"*",23,"*",23,"*",244,30,245,null,null,null,null,null,null,"Region Syddanmark"]
[null,"Assens",8662,"2017-01-01",11,"*","*",7,18233,"*","*",13270,107,5,185,0,4,181,0,null,null,null,0,10,0,10,0,10,6,182,39,185,null,null,null,null,null,null,"Region Syddanmark"]
[null,"Faaborg-Midtfyn",10519,"2017-01-01",40,22,0,18,40894,23563,"*",17331,81,12,192,"*","*",183,"*",null,null,null,3,37,0,37,3,37,"*","*",26,181,null,null,null,null,null,null,"Region Syddanmark"]
[null,"Kerteminde",4750,"2017-01-01",22,18,0,4,29350,"*","*","*",22,8,52,0,0,52,0,null,null,null,"*",18,0,18,"*",18,"*",53,4,53,null,null,null,null,null,null,"Region Syddanmark"]
[null,"Nyborg",6471,"2017-01-01",20,17,0,3,9180,"*","*","*",51,9,81,"*","*","*","*",null,null,null,3,17,0,17,3,17,6,91,25,91,null,null,null,null,null,null,"Region Syddanmark"]
[null,"Odense",38230,"2017-01-01",159,88,4,67,159899,97233,"*","*",236,29,918,"*","*",911,"*",null,null,null,23,167,4,167,19,167,18,931,216,936,null,null,null,null,null,null,"Region Syddanmark"]
[null,"Svendborg",11504,"2017-01-01",35,13,0,22,32958,11217,"*",21741,101,6,408,"*","*",405,"*",null,null,null,7,34,0,34,7,34,"*",416,81,417,null,null,null,null,null,null,"Region Syddanmark"]
[null,"Nordfyns",6129,"2017-01-01",14,10,"*","*",8089,4446,"*","*",29,7,59,0,3,56,0,null,null,null,3,14,"*",14,"*",14,5,52,18,57,null,null,null,null,null,null,"Region Syddanmark"]
[null,"Langeland",1871,"2017-01-01",15,8,0,7,20451,7245,"*",13206,27,3,74,"*","*",70,0,null,null,null,4,18,0,18,4,18,"*",57,13,59,null,null,null,null,null,null,"Region Syddanmark"]
[null,"Ærø",848,"2017-01-01","*","*",0,0,"*","*","*","*",3,"*",11,"*","*","*","*",null,null,null,"*","*","*","*","*","*",0,14,7,14,null,null,null,null,null,null,"Region Syddanmark"]
[null,"Haderslev",11356,"2017-01-01",29,"*","*",22,12561,"*","*",7988,121,20,212,"*","*",203,5,null,null,null,7,25,0,25,7,25,10,195,55,199,null,null,null,null,null,null,"Region Syddanmark"]
[null,"Billund",5773,"2017-01-01",15,3,0,12,6473,"*","*","*",49,"*",143,"*","*","*","*",null,null,null,"*",10,0,10,"*",10,"*","*",45,156,null,null,null,null,null,null,"Region Syddanmark"]
[null,"Sønderborg",14892,"2017-01-01",25,18,"*","*",16950,14826,"*","*",86,5,344,"*","*",329,"*",null,null,null,10,30,"*",30,"*",30,19,307,63,328,null,null,null,null,null,null,"Region Syddanmark"]
[null,"Tønder",7507,"2017-01-01",15,7,"*","*",14083,12732,"*","*",107,12,147,"*","*","*","*",null,null,null,5,14,0,14,5,14,"*","*",41,152,null,null,null,null,null,null,"Region Syddanmark"]
[null,"Esbjerg",23369,"2017-01-01",125,60,0,65,143484,85506,"*",57978,105,24,986,0,5,978,3,null,null,null,20,130,"*",130,"*",130,"*",953,92,961,null,null,null,null,null,null,"Region Syddanmark"]
[null,"Fanø",608,"2017-01-01","*",0,0,"*","*","*","*","*","*","*",7,0,0,7,0,null,null,null,"*","*","*","*","*","*",0,5,"*",5,null,null,null,null,null,null,"Region Syddanmark"]
[null,"Varde",10703,"2017-01-01",16,13,0,3,15697,"*","*","*",70,17,424,"*","*","*","*",null,null,null,6,18,0,18,6,18,"*","*",133,444,null,null,null,null,null,null,"Region Syddanmark"]
[null,"Vejen",9443,"2017-01-01",38,9,0,29,30474,12415,"*",18059,73,12,159,"*","*","*","*",null,null,null,6,35,"*",35,"*",35,"*",164,46,166,null,null,null,null,null,null,"Region Syddanmark"]
[null,"Aabenraa",12112,"2017-01-01",30,18,0,12,36515,25429,"*",11086,115,9,303,"*","*",298,"*",null,null,null,6,36,"*",36,"*",36,"*",304,70,310,null,null,null,null,null,null,"Region Syddanmark"]
[null,"Fredericia",10584,"2017-01-01",19,"*","*",10,11711,"*","*",5870,72,11,283,"*","*",278,"*",null,null,null,"*",17,0,17,"*",17,"*","*",42,260,null,null,null,null,null,null,"Region Syddanmark"]
[null,"Horsens",19180,"2017-01-01",57,28,4,25,36664,22299,"*","*",119,17,447,"*","*",439,"*",null,null,null,11,55,"*",55,"*",55,"*","*",89,438,null,null,null,null,null,null,"Region Midtjylland"]
[null,"Kolding",19986,"2017-01-01",31,21,0,10,26333,18615,"*",7718,130,15,350,"*",6,341,"*",null,null,null,11,38,4,38,7,38,"*","*",108,355,null,null,null,null,null,null,"Region Syddanmark"]
[null,"Vejle",25101,"2017-01-01",49,35,"*","*",40616,34254,"*","*",143,22,517,"*","*",501,"*",null,null,null,24,64,8,64,16,64,12,517,102,522,null,null,null,null,null,null,"Region Syddanmark"]
[null,"Herning",19224,"2017-01-01",31,23,3,5,26703,25467,"*","*",108,10,399,"*","*",382,10,null,null,null,10,34,5,34,5,34,14,364,44,369,null,null,null,null,null,null,"Region Midtjylland"]
[null,"Holstebro",12656,"2017-01-01",27,17,4,6,28677,21074,"*","*",90,9,308,0,3,254,51,null,null,null,6,30,0,30,6,30,"*",300,87,301,null,null,null,null,null,null,"Region Midtjylland"]
[null,"Lemvig",3867,"2017-01-01",12,5,0,7,11197,6817,"*",4380,33,8,72,"*","*","*","*",null,null,null,"*",12,"*",12,0,12,"*",71,8,72,null,null,null,null,null,null,"Region Midtjylland"]
[null,"Struer",4340,"2017-01-01",7,3,0,4,6431,"*","*","*",37,4,96,"*","*",91,"*",null,null,null,6,12,0,12,6,12,"*","*",21,83,null,null,null,null,null,null,"Region Midtjylland"]
[null,"Syddjurs",8505,"2017-01-01",11,6,0,5,6293,4856,"*",1437,60,9,376,6,3,354,13,null,null,null,"*",12,0,12,"*",12,9,368,78,373,null,null,null,null,null,null,"Region Midtjylland"]
[null,"Norddjurs",6940,"2017-01-01",47,37,0,10,48351,38373,"*",9978,71,7,229,"*","*",221,"*",null,null,null,5,47,"*",47,"*",47,"*",209,31,211,null,null,null,null,null,null,"Region Midtjylland"]
[null,"Favrskov",11821,"2017-01-01",39,23,0,16,38926,23745,"*",15181,53,"*",140,0,"*",137,"*",null,null,null,5,42,0,42,5,42,"*","*",13,136,null,null,null,null,null,null,"Region Midtjylland"]
[null,"Odder",4849,"2017-01-01",8,"*","*","*",3908,"*","*","*",18,7,125,"*","*","*","*",null,null,null,"*",7,0,7,"*",7,"*",125,22,126,null,null,null,null,null,null,"Region Midtjylland"]
[null,"Randers",20053,"2017-01-01",29,13,3,13,26311,14270,"*","*",155,15,302,"*","*",286,10,null,null,null,8,34,0,34,8,34,13,344,121,349,null,null,null,null,null,null,"Region Midtjylland"]
[null,"Silkeborg",20590,"2017-01-01",25,16,"*","*",49359,34945,"*","*",94,22,265,"*","*",262,0,null,null,null,5,29,0,29,5,29,"*","*",89,266,null,null,null,null,null,null,"Region Midtjylland"]
[null,"Samsø",554,"2017-01-01","*",0,0,"*","*","*","*","*",8,"*",21,0,3,18,0,null,null,null,"*","*","*","*","*","*",5,20,"*",23,null,null,null,null,null,null,"Region Midtjylland"]
[null,"Skanderborg",15237,"2017-01-01",14,10,0,4,20982,"*","*","*",55,10,184,"*","*","*","*",null,null,null,4,15,0,15,4,15,"*","*",54,200,null,null,null,null,null,null,"Region Midtjylland"]
[null,"Aarhus",62903,"2017-01-01",188,129,3,56,197062,150304,"*","*",228,41,1124,"*",24,1090,"*",null,null,null,36,200,6,200,30,200,"*",1115,314,1135,null,null,null,null,null,null,"Region Midtjylland"]
[null,"Ikast-Brande",9223,"2017-01-01",12,6,0,6,5971,3917,"*",2054,45,16,65,"*","*",62,0,null,null,null,6,16,"*",16,"*",16,"*",50,13,52,null,null,null,null,null,null,"Region Midtjylland"]
[null,"Ringkøbing-Skjern",12493,"2017-01-01",30,23,0,7,37091,33338,"*",3753,90,6,310,0,"*",307,"*",null,null,null,8,33,0,33,8,33,"*","*",53,311,null,null,null,null,null,null,"Region Midtjylland"]
[null,"Hedensted",10686,"2017-01-01",45,"*","*",28,30052,"*","*",12949,29,6,278,0,3,272,3,null,null,null,5,37,0,37,5,37,6,284,53,287,null,null,null,null,null,null,"Region Midtjylland"]
[null,"Morsø",4010,"2017-01-01",10,7,0,3,10397,"*","*","*",43,3,101,"*","*","*","*",null,null,null,3,12,"*",12,"*",12,4,130,38,130,null,null,null,null,null,null,"Region Nordjylland"]
[null,"Skive",9381,"2017-01-01",33,19,"*","*",26673,16385,"*","*",57,14,188,"*","*","*","*",null,null,null,"*",29,0,29,"*",29,"*",169,28,169,null,null,null,null,null,null,"Region Midtjylland"]
[null,"Thisted",8816,"2017-01-01",23,16,0,7,22403,17116,"*",5287,89,7,236,"*",4,226,"*",null,null,null,"*",21,0,21,"*",21,"*","*",90,269,null,null,null,null,null,null,"Region Nordjylland"]
[null,"Viborg",21394,"2017-01-01",38,27,5,6,47958,39025,3155,5778,127,17,318,"*","*",311,"*",null,null,null,5,37,"*",37,"*",37,6,321,104,324,null,null,null,null,null,null,"Region Midtjylland"]
[null,"Brønderslev",7943,"2017-01-01",29,"*","*",21,29319,"*","*",19071,115,5,174,0,"*",171,"*",null,null,null,"*",29,0,29,"*",29,"*","*",40,167,null,null,null,null,null,null,"Region Nordjylland"]
[null,"Frederikshavn",10818,"2017-01-01",31,21,"*","*",17130,13566,"*","*",129,15,236,"*","*",230,3,null,null,null,6,31,"*",31,"*",31,"*",184,39,189,null,null,null,null,null,null,"Region Nordjylland"]
[null,"Vesthimmerlands",7733,"2017-01-01",27,6,0,21,25010,9392,"*",15618,65,4,272,"*","*",267,"*",null,null,null,4,29,0,29,4,29,"*",264,48,266,null,null,null,null,null,null,"Region Nordjylland"]
[null,"Læsø",241,"2017-01-01","*","*",0,0,"*","*","*","*","*","*",4,0,0,4,0,null,null,null,"*","*","*","*","*","*",0,6,"*",6,null,null,null,null,null,null,"Region Nordjylland"]
[null,"Rebild",6996,"2017-01-01",10,"*","*","*",15992,"*","*","*",27,5,107,0,0,99,8,null,null,null,"*",11,0,11,"*",11,"*",109,16,110,null,null,null,null,null,null,"Region Nordjylland"]
[null,"Mariagerfjord",8517,"2017-01-01",43,15,0,28,34533,19095,"*",15438,78,10,235,"*","*",228,3,null,null,null,4,42,0,42,4,42,"*",208,72,212,null,null,null,null,null,null,"Region Nordjylland"]
[null,"Jammerbugt",8020,"2017-01-01",29,9,0,20,35433,14182,"*",21251,79,4,235,0,0,231,4,null,null,null,5,28,0,28,5,28,"*",262,74,262,null,null,null,null,null,null,"Region Nordjylland"]
[null,"Aalborg",38921,"2017-01-01",159,105,"*","*",101424,64553,"*","*",314,44,832,0,15,810,7,null,null,null,30,155,"*",155,"*",155,38,774,178,784,null,null,null,null,null,null,"Region Nordjylland"]
[null,"Hjørring",13029,"2017-01-01",39,"*","*",19,31414,"*","*",11090,148,4,232,"*","*",225,4,null,null,null,10,43,0,43,10,43,7,228,54,231,null,null,null,null,null,null,"Region Nordjylland"]
[null,"København",106913,"2017-07-01",227,183,6,38,171090,126745,2443,41902,349,113,1657,6,26,1622,3,null,null,null,50,225,4,225,46,225,52,1892,520,1925,null,null,null,null,null,null,"Region Hovedstaden"]
[null,"Frederiksberg",18515,"2017-07-01",68,54,"*","*",58414,49194,"*","*",46,10,136,"*","*",131,"*",null,null,null,11,65,"*",65,"*",65,"*",134,51,140,null,null,null,null,null,null,"Region Hovedstaden"]
[null,"Ballerup",10343,"2017-07-01",38,18,0,20,24428,7253,"*",17175,43,4,299,0,"*",296,"*",null,null,null,6,37,0,37,6,37,5,287,74,291,null,null,null,null,null,null,"Region Hovedstaden"]
[null,"Brøndby",7387,"2017-07-01",40,"*","*",21,25441,"*","*",13689,50,7,96,"*","*","*","*",null,null,null,8,40,"*",40,"*",40,"*","*",28,98,null,null,null,null,null,null,"Region Hovedstaden"]
[null,"Dragør",3240,"2017-07-01","*","*",0,0,"*","*","*","*",6,0,38,"*","*","*","*",null,null,null,"*","*","*","*","*","*","*",33,7,35,null,null,null,null,null,null,"Region Hovedstaden"]
[null,"Gentofte",17097,"2017-07-01",50,39,0,11,24394,21093,"*",3301,18,7,153,"*","*",147,"*",null,null,null,12,42,"*",42,"*",42,"*","*",37,133,null,null,null,null,null,null,"Region Hovedstaden"]
[null,"Gladsaxe",15347,"2017-07-01",39,19,0,20,30856,13651,"*",17205,44,9,268,0,6,258,4,null,null,null,4,35,0,35,4,35,8,265,45,269,null,null,null,null,null,null,"Region Hovedstaden"]
[null,"Glostrup",4505,"2017-07-01",10,"*","*","*",5734,"*","*","*",16,3,56,0,0,56,0,null,null,null,"*",10,0,10,"*",10,"*",63,7,63,null,null,null,null,null,null,"Region Hovedstaden"]
[null,"Herlev",6363,"2017-07-01",22,12,0,10,17279,11341,"*",5938,22,8,82,"*","*",78,"*",null,null,null,5,22,0,22,5,22,"*",86,10,88,null,null,null,null,null,null,"Region Hovedstaden"]
[null,"Albertslund",6180,"2017-07-01",30,17,0,13,21292,15970,"*",5322,32,5,168,0,4,158,6,null,null,null,4,29,0,29,4,29,7,178,63,182,null,null,null,null,null,null,"Region Hovedstaden"]
[null,"Hvidovre",11583,"2017-07-01",24,"*","*",12,16815,"*","*",10305,40,10,245,"*","*",240,"*",null,null,null,3,21,0,21,3,21,"*","*",91,283,null,null,null,null,null,null,"Region Hovedstaden"]
[null,"Høje-Taastrup",11081,"2017-07-01",51,26,"*","*",51641,23699,"*","*",48,3,217,0,4,209,4,null,null,null,10,56,0,56,10,56,6,187,59,193,null,null,null,null,null,null,"Region Hovedstaden"]
[null,"Lyngby-Taarbæk",11861,"2017-07-01",33,"*","*",25,9046,"*","*",5316,21,10,158,"*",4,151,"*",null,null,null,8,24,0,24,8,24,"*","*",34,163,null,null,null,null,null,null,"Region Hovedstaden"]
[null,"Rødovre",8199,"2017-07-01",12,3,0,9,13789,"*","*","*",43,10,186,0,3,178,5,null,null,null,5,14,0,14,5,14,"*",187,25,189,null,null,null,null,null,null,"Region Hovedstaden"]
[null,"Ishøj",5181,"2017-07-01",34,5,0,29,30422,6933,"*",23489,29,7,135,0,"*",132,"*",null,null,null,3,32,"*",32,"*",32,"*","*",39,146,null,null,null,null,null,null,"Region Hovedstaden"]
[null,"Tårnby",9433,"2017-07-01",12,7,0,5,9949,4498,"*",5451,38,7,109,0,4,102,3,null,null,null,4,11,"*",11,"*",11,8,96,25,99,null,null,null,null,null,null,"Region Hovedstaden"]
[null,"Vallensbæk",3807,"2017-07-01",5,"*","*","*",3627,"*","*","*",7,0,39,0,0,39,0,null,null,null,"*",6,0,6,"*",6,"*",41,15,42,null,null,null,null,null,null,"Region Hovedstaden"]
[null,"Furesø",9679,"2017-07-01",9,3,0,6,6990,"*","*","*",24,5,155,"*","*","*","*",null,null,null,8,17,"*",17,"*",17,"*",123,23,124,null,null,null,null,null,null,"Region Hovedstaden"]
[null,"Allerød",6069,"2017-07-01",9,"*","*","*",5824,"*","*","*",9,"*",54,"*","*","*","*",null,null,null,"*",10,"*",10,"*",10,"*",50,15,52,null,null,null,null,null,null,"Region Hovedstaden"]
[null,"Fredensborg",8826,"2017-07-01",22,16,0,6,11592,8806,"*",2786,21,3,182,0,4,174,4,null,null,null,3,18,0,18,3,18,7,175,26,178,null,null,null,null,null,null,"Region Hovedstaden"]
[null,"Helsingør",12562,"2017-07-01",35,18,"*","*",55846,26606,"*","*",58,9,259,"*","*",241,13,null,null,null,6,36,0,36,6,36,5,270,89,275,null,null,null,null,null,null,"Region Hovedstaden"]
[null,"Hillerød",11322,"2017-07-01",28,7,0,21,22039,4673,"*",17366,35,4,244,0,4,240,0,null,null,null,3,25,0,25,3,25,"*","*",30,216,null,null,null,null,null,null,"Region Hovedstaden"]
[null,"Hørsholm",5260,"2017-07-01",6,3,0,3,5921,"*","*","*",9,5,41,"*","*",37,"*",null,null,null,3,9,0,9,3,9,3,35,5,39,null,null,null,null,null,null,"Region Hovedstaden"]
[null,"Rudersdal",12832,"2017-07-01",28,17,0,11,22313,17066,"*",5247,29,4,200,"*",5,192,"*",null,null,null,3,27,0,27,3,27,"*","*",58,217,null,null,null,null,null,null,"Region Hovedstaden"]
[null,"Egedal",10343,"2017-07-01",21,"*","*",13,17505,"*","*",12470,26,7,207,"*","*","*","*",null,null,null,5,22,"*",22,"*",22,"*",219,31,219,null,null,null,null,null,null,"Region Hovedstaden"]
[null,"Frederikssund",9355,"2017-07-01",18,4,0,14,10678,"*","*","*",49,8,164,0,9,149,6,null,null,null,3,15,0,15,3,15,9,161,28,170,null,null,null,null,null,null,"Region Hovedstaden"]
[null,"Greve",11060,"2017-07-01",29,4,3,22,17817,"*","*",10835,44,4,220,8,3,209,0,null,null,null,5,25,"*",25,"*",25,"*","*",42,213,null,null,null,null,null,null,"Region Sjælland"]
[null,"Køge",12984,"2017-07-01",35,"*","*",24,16603,"*","*",9571,63,9,258,"*",4,250,"*",null,null,null,10,36,"*",36,"*",36,"*",236,49,241,null,null,null,null,null,null,"Region Sjælland"]
[null,"Halsnæs",5791,"2017-07-01",40,24,"*","*",26168,14214,"*","*",42,6,162,"*","*",153,"*",null,null,null,9,40,"*",40,"*",40,"*","*",41,150,null,null,null,null,null,null,"Region Hovedstaden"]
[null,"Roskilde",18439,"2017-07-01",64,45,0,19,55282,39445,"*",15837,73,10,245,0,8,233,4,null,null,null,12,58,"*",58,"*",58,"*","*",102,277,null,null,null,null,null,null,"Region Sjælland"]
[null,"Solrød",5182,"2017-07-01",12,5,0,7,9084,4372,"*",4712,8,0,59,"*","*","*","*",null,null,null,"*",10,0,10,"*",10,"*",54,11,54,null,null,null,null,null,null,"Region Sjælland"]
[null,"Gribskov",7968,"2017-07-01",31,21,"*","*",27985,20229,"*","*",16,12,241,4,3,234,0,null,null,null,3,31,3,31,0,31,"*","*",28,225,null,null,null,null,null,null,"Region Hovedstaden"]
[null,"Odsherred",5544,"2017-07-01",20,14,"*","*",15416,10030,"*","*",39,12,255,"*","*",232,19,null,null,null,0,17,0,17,0,17,6,264,36,268,null,null,null,null,null,null,"Region Sjælland"]
[null,"Holbæk",15007,"2017-07-01",57,15,5,37,44260,15411,323,28526,93,15,277,0,4,263,10,null,null,null,7,53,0,53,7,53,11,282,47,286,null,null,null,null,null,null,"Region Sjælland"]
[null,"Faxe",7150,"2017-07-01",26,4,0,22,17274,"*","*","*",52,11,211,"*",5,203,"*",null,null,null,"*",23,0,23,"*",23,"*","*",56,161,null,null,null,null,null,null,"Region Sjælland"]
[null,"Kalundborg",9551,"2017-07-01",61,30,3,28,43508,22591,"*","*",89,13,178,0,4,174,0,null,null,null,11,64,"*",64,"*",64,"*","*",36,175,null,null,null,null,null,null,"Region Sjælland"]
[null,"Ringsted",7282,"2017-07-01",38,15,3,20,17204,"*","*",4973,36,4,170,0,0,167,3,null,null,null,5,34,0,34,5,34,"*",145,37,146,null,null,null,null,null,null,"Region Sjælland"]
[null,"Slagelse",15260,"2017-07-01",49,"*","*",34,43703,"*","*",27300,137,14,248,"*","*",241,4,null,null,null,10,48,"*",48,"*",48,10,235,82,238,null,null,null,null,null,null,"Region Sjælland"]
[null,"Stevns",4296,"2017-07-01",23,10,0,13,21873,11283,"*",10590,30,4,114,"*","*",110,"*",null,null,null,"*",24,0,24,"*",24,"*","*",23,96,null,null,null,null,null,null,"Region Sjælland"]
[null,"Sorø",6269,"2017-07-01",16,"*","*",8,8969,"*","*",3965,35,9,224,"*","*",217,"*",null,null,null,4,16,0,16,4,16,"*","*",33,217,null,null,null,null,null,null,"Region Sjælland"]
[null,"Lejre",6087,"2017-07-01",10,7,0,3,6169,"*","*","*",22,3,71,"*","*","*","*",null,null,null,"*",10,0,10,"*",10,"*",78,23,79,null,null,null,null,null,null,"Region Sjælland"]
[null,"Lolland",6997,"2017-07-01",43,"*","*",26,36370,"*","*",22425,168,14,301,0,12,285,4,null,null,null,4,38,0,38,4,38,"*","*",88,304,null,null,null,null,null,null,"Region Sjælland"]
[null,"Næstved",16688,"2017-07-01",89,"*","*",50,79201,"*","*",49239,82,9,259,"*",6,248,"*",null,null,null,7,77,0,77,7,77,12,279,89,292,null,null,null,null,null,null,"Region Sjælland"]
[null,"Guldborgsund",10767,"2017-07-01",69,24,0,45,50387,17407,"*",32980,124,6,129,0,12,117,0,null,null,null,10,67,"*",67,"*",67,"*",142,46,154,null,null,null,null,null,null,"Region Sjælland"]
[null,"Vordingborg",8410,"2017-07-01",59,21,0,38,35826,16291,"*",19535,106,8,104,"*","*",98,"*",null,null,null,4,45,0,45,4,45,10,117,53,122,null,null,null,null,null,null,"Region Sjælland"]
[null,"Bornholm",6633,"2017-07-01",30,15,0,15,15778,10542,"*",5236,71,5,181,"*","*",176,"*",null,null,null,4,27,0,27,4,27,"*","*",36,167,null,null,null,null,null,null,"Region Hovedstaden"]
[null,"Middelfart",7974,"2017-07-01",20,14,0,6,14510,8542,"*",5968,44,"*",210,"*","*","*","*",null,null,null,8,24,0,24,8,24,5,254,69,254,null,null,null,null,null,null,"Region Syddanmark"]
[null,"Assens",8573,"2017-07-01",15,4,3,8,13545,"*","*",7350,104,5,204,0,3,201,0,null,null,null,"*",11,0,11,"*",11,3,181,38,185,null,null,null,null,null,null,"Region Syddanmark"]
[null,"Faaborg-Midtfyn",10413,"2017-07-01",39,21,0,18,39440,22577,"*",16863,79,13,208,"*","*",197,"*",null,null,null,9,40,0,40,9,40,"*",183,64,192,null,null,null,null,null,null,"Region Syddanmark"]
[null,"Kerteminde",4718,"2017-07-01",19,16,0,3,24118,"*","*","*",23,9,64,0,0,64,0,null,null,null,5,22,"*",22,"*",22,"*",52,"*",52,null,null,null,null,null,null,"Region Syddanmark"]
[null,"Nyborg",6427,"2017-07-01",20,17,0,3,7989,"*","*","*",52,8,99,0,"*",96,"*",null,null,null,11,20,0,20,11,20,"*",80,26,81,null,null,null,null,null,null,"Region Syddanmark"]
[null,"Odense",38085,"2017-07-01",146,66,5,75,157642,91490,766,65386,234,31,963,"*","*",956,"*",null,null,null,39,159,8,159,31,159,"*","*",171,918,null,null,null,null,null,null,"Region Syddanmark"]
[null,"Svendborg",11434,"2017-07-01",44,22,0,22,33532,11924,"*",21608,106,6,394,"*","*",390,"*",null,null,null,5,35,0,35,5,35,"*","*",69,408,null,null,null,null,null,null,"Region Syddanmark"]
[null,"Nordfyns",6093,"2017-07-01",17,11,"*","*",10614,6015,"*","*",28,6,82,0,5,77,0,null,null,null,"*",14,0,14,"*",14,5,56,18,59,null,null,null,null,null,null,"Region Syddanmark"]
[null,"Langeland",1856,"2017-07-01",15,9,0,6,20210,6801,"*",13409,27,4,56,"*","*",52,0,null,null,null,"*",15,0,15,"*",15,7,70,16,74,null,null,null,null,null,null,"Region Syddanmark"]
[null,"Ærø",846,"2017-07-01","*","*",0,0,"*","*","*","*",3,"*",10,"*","*","*","*",null,null,null,"*","*","*","*","*","*","*",10,6,11,null,null,null,null,null,null,"Region Syddanmark"]
[null,"Haderslev",11256,"2017-07-01",29,"*","*",19,13745,"*","*",7589,126,21,186,"*","*",180,"*",null,null,null,7,29,3,29,4,29,12,208,83,212,null,null,null,null,null,null,"Region Syddanmark"]
[null,"Billund",5722,"2017-07-01",18,"*","*",14,4465,"*","*",3717,50,"*",149,"*","*","*","*",null,null,null,5,15,0,15,5,15,"*",143,45,143,null,null,null,null,null,null,"Region Syddanmark"]
[null,"Sønderborg",14753,"2017-07-01",21,13,0,8,17689,14361,"*",3328,88,8,340,"*","*",327,"*",null,null,null,7,25,"*",25,"*",25,"*","*",57,344,null,null,null,null,null,null,"Region Syddanmark"]
[null,"Tønder",7387,"2017-07-01",22,11,0,11,14790,12241,"*",2549,97,12,204,"*","*",200,"*",null,null,null,3,15,0,15,3,15,"*",147,27,147,null,null,null,null,null,null,"Region Syddanmark"]
[null,"Esbjerg",23179,"2017-07-01",123,55,0,68,143826,80146,"*",63680,111,23,980,"*","*",973,"*",null,null,null,18,125,"*",125,"*",125,25,981,116,986,null,null,null,null,null,null,"Region Syddanmark"]
[null,"Fanø",604,"2017-07-01","*",0,0,"*","*","*","*","*","*","*",10,"*","*","*","*",null,null,null,"*","*","*","*","*","*",0,7,"*",7,null,null,null,null,null,null,"Region Syddanmark"]
[null,"Varde",10586,"2017-07-01",15,10,0,5,13885,12048,"*",1837,69,21,431,"*","*",426,"*",null,null,null,3,16,"*",16,"*",16,"*",422,101,424,null,null,null,null,null,null,"Region Syddanmark"]
[null,"Vejen",9376,"2017-07-01",33,"*","*",25,23924,"*","*",14763,72,9,153,"*","*","*","*",null,null,null,6,38,0,38,6,38,"*",158,50,159,null,null,null,null,null,null,"Region Syddanmark"]
[null,"Aabenraa",12045,"2017-07-01",28,18,0,10,29191,21403,"*",7788,116,7,317,"*","*",312,"*",null,null,null,9,30,"*",30,"*",30,"*",298,73,303,null,null,null,null,null,null,"Region Syddanmark"]
[null,"Fredericia",10562,"2017-07-01",19,6,0,13,11111,3410,"*",7701,79,11,266,"*","*",262,"*",null,null,null,5,19,0,19,5,19,"*",281,121,283,null,null,null,null,null,null,"Region Syddanmark"]
[null,"Horsens",19150,"2017-07-01",55,"*","*",28,35774,"*","*",13901,119,19,425,0,"*",422,"*",null,null,null,13,57,3,57,10,57,"*","*",118,447,null,null,null,null,null,null,"Region Midtjylland"]
[null,"Kolding",19961,"2017-07-01",27,18,0,9,23293,17557,"*",5736,123,14,332,"*","*",325,"*",null,null,null,12,31,"*",31,"*",31,"*","*",113,350,null,null,null,null,null,null,"Region Syddanmark"]
[null,"Vejle",25084,"2017-07-01",43,31,0,12,39322,33279,"*",6043,150,25,527,"*","*",514,"*",null,null,null,15,49,"*",49,"*",49,"*",515,103,517,null,null,null,null,null,null,"Region Syddanmark"]
[null,"Herning",19200,"2017-07-01",23,16,"*","*",20588,18696,"*","*",112,11,301,0,8,293,0,null,null,null,10,31,4,31,6,31,9,392,168,399,null,null,null,null,null,null,"Region Midtjylland"]
[null,"Holstebro",12682,"2017-07-01",30,21,4,5,32848,23905,"*","*",85,12,285,"*","*",238,"*",null,null,null,"*",27,0,27,"*",27,3,305,95,308,null,null,null,null,null,null,"Region Midtjylland"]
[null,"Lemvig",3829,"2017-07-01",11,6,0,5,10938,7031,"*",3907,31,6,73,"*","*","*","*",null,null,null,3,12,0,12,3,12,"*",70,23,72,null,null,null,null,null,null,"Region Midtjylland"]
[null,"Struer",4256,"2017-07-01",7,3,0,4,7698,"*","*","*",39,4,100,0,3,97,0,null,null,null,0,7,0,7,0,7,"*",91,12,96,null,null,null,null,null,null,"Region Midtjylland"]
[null,"Syddjurs",8394,"2017-07-01",10,4,0,6,4419,"*","*","*",59,10,367,"*","*",342,20,null,null,null,3,11,0,11,3,11,9,367,91,376,null,null,null,null,null,null,"Region Midtjylland"]
[null,"Norddjurs",6864,"2017-07-01",41,29,0,12,42817,30837,"*",11980,72,9,227,"*","*",219,"*",null,null,null,11,47,"*",47,"*",47,"*",228,70,229,null,null,null,null,null,null,"Region Midtjylland"]
[null,"Favrskov",11791,"2017-07-01",38,23,0,15,32488,22499,"*",9989,56,3,121,0,"*",118,"*",null,null,null,8,39,0,39,8,39,"*","*",39,140,null,null,null,null,null,null,"Region Midtjylland"]
[null,"Odder",4845,"2017-07-01",7,"*","*","*",3819,"*","*","*",18,7,129,"*","*","*","*",null,null,null,"*",8,0,8,"*",8,"*",124,17,125,null,null,null,null,null,null,"Region Midtjylland"]
[null,"Randers",19971,"2017-07-01",31,17,6,8,22109,16870,969,4270,157,17,316,"*","*",301,10,null,null,null,8,29,"*",29,"*",29,9,296,98,302,null,null,null,null,null,null,"Region Midtjylland"]
[null,"Silkeborg",20597,"2017-07-01",23,15,"*","*",43124,31430,"*","*",99,20,333,"*","*","*","*",null,null,null,4,25,0,25,4,25,4,262,59,265,null,null,null,null,null,null,"Region Midtjylland"]
[null,"Samsø",556,"2017-07-01","*",0,0,"*","*","*","*","*",7,"*",13,0,3,10,0,null,null,null,"*","*","*","*","*","*",3,18,9,21,null,null,null,null,null,null,"Region Midtjylland"]
[null,"Skanderborg",15249,"2017-07-01",17,9,"*","*",19952,11206,"*","*",53,9,194,0,0,194,0,null,null,null,"*",14,0,14,"*",14,"*",182,59,184,null,null,null,null,null,null,"Region Midtjylland"]
[null,"Aarhus",63077,"2017-07-01",186,130,4,52,192986,150184,"*","*",243,35,1070,"*",25,1034,"*",null,null,null,36,188,"*",188,"*",188,"*",1099,296,1124,null,null,null,null,null,null,"Region Midtjylland"]
[null,"Ikast-Brande",9198,"2017-07-01",17,11,"*","*",6687,4711,"*","*",48,14,60,0,"*",57,"*",null,null,null,3,12,0,12,3,12,6,62,17,65,null,null,null,null,null,null,"Region Midtjylland"]
[null,"Ringkøbing-Skjern",12409,"2017-07-01",32,25,0,7,37263,34187,"*",3076,92,8,277,0,3,271,3,null,null,null,3,30,0,30,3,30,"*","*",83,310,null,null,null,null,null,null,"Region Midtjylland"]
[null,"Hedensted",10583,"2017-07-01",62,16,0,46,35677,18471,"*",17206,27,5,280,"*","*",274,"*",null,null,null,5,45,0,45,5,45,"*",275,49,278,null,null,null,null,null,null,"Region Midtjylland"]
[null,"Morsø",3953,"2017-07-01",10,"*","*","*",8086,"*","*","*",43,4,93,"*","*",88,"*",null,null,null,"*",10,0,10,"*",10,"*",101,30,101,null,null,null,null,null,null,"Region Nordjylland"]
[null,"Skive",9287,"2017-07-01",32,17,"*","*",26789,15920,"*","*",57,14,190,0,"*",187,"*",null,null,null,5,33,0,33,5,33,"*",188,56,188,null,null,null,null,null,null,"Region Midtjylland"]
[null,"Thisted",8764,"2017-07-01",29,22,0,7,25529,20131,"*",5398,88,6,240,3,3,231,3,null,null,null,"*",23,0,23,"*",23,"*",230,67,236,null,null,null,null,null,null,"Region Nordjylland"]
[null,"Viborg",21350,"2017-07-01",41,30,3,8,45961,38181,"*","*",127,21,337,0,5,326,6,null,null,null,5,38,"*",38,"*",38,"*",316,86,318,null,null,null,null,null,null,"Region Midtjylland"]
[null,"Brønderslev",7905,"2017-07-01",28,6,0,22,26880,9690,"*",17190,113,6,173,"*","*","*","*",null,null,null,6,29,0,29,6,29,"*","*",42,174,null,null,null,null,null,null,"Region Nordjylland"]
[null,"Frederikshavn",10743,"2017-07-01",28,17,"*","*",15028,10958,"*","*",132,15,270,"*","*",266,"*",null,null,null,10,31,3,31,7,31,8,233,69,236,null,null,null,null,null,null,"Region Nordjylland"]
[null,"Vesthimmerlands",7633,"2017-07-01",26,4,0,22,22247,"*","*","*",67,12,257,"*","*",253,"*",null,null,null,5,27,"*",27,"*",27,"*",271,72,272,null,null,null,null,null,null,"Region Nordjylland"]
[null,"Læsø",233,"2017-07-01","*","*",0,0,"*","*","*","*","*","*",7,0,0,7,0,null,null,null,"*","*","*","*","*","*",0,4,0,4,null,null,null,null,null,null,"Region Nordjylland"]
[null,"Rebild",7065,"2017-07-01",12,9,0,3,16415,"*","*","*",29,5,90,0,0,82,8,null,null,null,"*",10,0,10,"*",10,"*",107,36,107,null,null,null,null,null,null,"Region Nordjylland"]
[null,"Mariagerfjord",8410,"2017-07-01",45,12,0,33,36189,17807,"*",18382,74,8,259,3,"*",251,"*",null,null,null,8,43,"*",43,"*",43,8,231,72,235,null,null,null,null,null,null,"Region Nordjylland"]
[null,"Jammerbugt",7999,"2017-07-01",31,"*","*",23,29474,"*","*",19897,71,5,221,"*","*",216,"*",null,null,null,6,29,0,29,6,29,7,235,51,235,null,null,null,null,null,null,"Region Nordjylland"]
[null,"Aalborg",38876,"2017-07-01",149,93,"*","*",105822,62888,"*","*",314,43,824,"*",13,800,"*",null,null,null,30,159,8,159,22,159,30,817,194,832,null,null,null,null,null,null,"Region Nordjylland"]
[null,"Hjørring",12912,"2017-07-01",47,23,"*","*",33197,19997,"*","*",145,3,205,"*","*","*","*",null,null,null,6,39,"*",39,"*",39,11,229,68,232,null,null,null,null,null,null,"Region Nordjylland"]
[null,"København",107770,"2018-01-01",215,176,6,33,161575,117497,2098,41980,349,111,1461,4,25,1428,4,null,null,null,60,227,9,227,51,227,48,1625,412,1657,null,null,null,null,null,null,"Region Hovedstaden"]
[null,"Frederiksberg",18424,"2018-01-01",62,50,"*","*",62424,51601,"*","*",44,11,135,0,3,128,4,null,null,null,9,68,"*",68,"*",68,"*",134,25,136,null,null,null,null,null,null,"Region Hovedstaden"]
[null,"Ballerup",10338,"2018-01-01",31,16,"*","*",18740,7951,"*","*",42,3,329,0,3,321,5,null,null,null,12,38,0,38,12,38,"*","*",45,299,null,null,null,null,null,null,"Region Hovedstaden"]
[null,"Brøndby",7430,"2018-01-01",39,"*","*",21,27190,"*","*",15977,47,8,86,0,"*",83,"*",null,null,null,8,40,0,40,8,40,"*",95,25,96,null,null,null,null,null,null,"Region Hovedstaden"]
[null,"Dragør",3231,"2018-01-01","*","*",0,0,"*","*","*","*",6,0,35,"*","*","*","*",null,null,null,"*","*","*","*","*","*","*",36,12,38,null,null,null,null,null,null,"Region Hovedstaden"]
[null,"Gentofte",17085,"2018-01-01",40,30,0,10,25517,21166,"*",4351,21,7,170,"*","*",166,"*",null,null,null,13,50,"*",50,"*",50,"*","*",24,153,null,null,null,null,null,null,"Region Hovedstaden"]
[null,"Gladsaxe",15316,"2018-01-01",34,17,0,17,25175,7138,"*",18037,44,10,279,0,6,267,6,null,null,null,8,39,0,39,8,39,8,262,44,268,null,null,null,null,null,null,"Region Hovedstaden"]
[null,"Glostrup",4579,"2018-01-01",8,8,0,0,4179,4179,"*","*",15,3,41,0,0,41,0,null,null,null,3,10,0,10,3,10,"*",56,15,56,null,null,null,null,null,null,"Region Hovedstaden"]
[null,"Herlev",6398,"2018-01-01",24,14,0,10,17857,10079,"*",7778,20,6,78,"*","*",73,"*",null,null,null,"*",22,0,22,"*",22,"*",81,9,82,null,null,null,null,null,null,"Region Hovedstaden"]
[null,"Albertslund",6120,"2018-01-01",30,17,0,13,22178,14791,"*",7387,31,5,159,0,6,147,6,null,null,null,3,30,0,30,3,30,7,164,38,168,null,null,null,null,null,null,"Region Hovedstaden"]
[null,"Hvidovre",11681,"2018-01-01",25,14,"*","*",14263,6991,"*","*",43,9,224,"*","*",220,"*",null,null,null,6,24,"*",24,"*",24,"*","*",74,245,null,null,null,null,null,null,"Region Hovedstaden"]
[null,"Høje-Taastrup",11044,"2018-01-01",46,23,0,23,49856,20592,"*",29264,50,3,227,0,4,214,9,null,null,null,11,51,"*",51,"*",51,8,213,51,217,null,null,null,null,null,null,"Region Hovedstaden"]
[null,"Lyngby-Taarbæk",11921,"2018-01-01",32,"*","*",26,13054,"*","*",8658,22,9,152,"*","*",147,"*",null,null,null,7,33,0,33,7,33,"*","*",26,158,null,null,null,null,null,null,"Region Hovedstaden"]
[null,"Rødovre",8310,"2018-01-01",17,6,0,11,11162,2184,"*",8978,44,7,164,"*","*",157,"*",null,null,null,"*",12,0,12,"*",12,9,183,40,186,null,null,null,null,null,null,"Region Hovedstaden"]
[null,"Ishøj",5174,"2018-01-01",34,6,0,28,29396,7405,"*",21991,28,7,138,0,"*",135,"*",null,null,null,5,34,0,34,5,34,"*","*",36,135,null,null,null,null,null,null,"Region Hovedstaden"]
[null,"Tårnby",9438,"2018-01-01",10,5,0,5,10645,4710,"*",5935,35,6,105,0,3,99,3,null,null,null,4,12,0,12,4,12,6,105,34,109,null,null,null,null,null,null,"Region Hovedstaden"]
[null,"Vallensbæk",3893,"2018-01-01",5,"*","*","*",4190,"*","*","*",6,0,40,0,0,40,0,null,null,null,"*",5,0,5,"*",5,"*",39,6,39,null,null,null,null,null,null,"Region Hovedstaden"]
[null,"Furesø",9688,"2018-01-01",9,4,0,5,7917,"*","*","*",29,5,151,"*","*","*","*",null,null,null,"*",9,0,9,"*",9,"*",155,23,155,null,null,null,null,null,null,"Region Hovedstaden"]
[null,"Allerød",6103,"2018-01-01",11,"*","*",7,4644,"*","*",4197,7,"*",53,"*","*","*","*",null,null,null,"*",9,0,9,"*",9,"*",52,12,54,null,null,null,null,null,null,"Region Hovedstaden"]
[null,"Fredensborg",8868,"2018-01-01",25,19,0,6,13053,11838,"*",1215,20,3,163,"*","*",154,"*",null,null,null,3,22,0,22,3,22,10,178,42,182,null,null,null,null,null,null,"Region Hovedstaden"]
[null,"Helsingør",12553,"2018-01-01",33,16,"*","*",53652,26153,"*","*",56,9,237,0,4,222,11,null,null,null,3,35,0,35,3,35,6,254,79,259,null,null,null,null,null,null,"Region Hovedstaden"]
[null,"Hillerød",11327,"2018-01-01",25,4,0,21,22366,"*","*","*",35,5,236,"*","*",231,"*",null,null,null,4,28,0,28,4,28,3,240,52,244,null,null,null,null,null,null,"Region Hovedstaden"]
[null,"Hørsholm",5225,"2018-01-01",8,"*","*","*",4558,"*","*","*",8,3,34,0,"*",31,"*",null,null,null,3,6,0,6,3,6,"*","*",13,41,null,null,null,null,null,null,"Region Hovedstaden"]
[null,"Rudersdal",12804,"2018-01-01",28,18,0,10,19487,15718,"*",3769,31,3,194,"*",5,185,"*",null,null,null,5,28,"*",28,"*",28,"*","*",37,200,null,null,null,null,null,null,"Region Hovedstaden"]
[null,"Egedal",10308,"2018-01-01",17,7,0,10,14213,5361,"*",8852,25,8,208,"*","*","*","*",null,null,null,7,21,"*",21,"*",21,"*",207,30,207,null,null,null,null,null,null,"Region Hovedstaden"]
[null,"Frederikssund",9278,"2018-01-01",19,5,0,14,7801,2948,"*",4853,42,9,196,0,11,182,3,null,null,null,6,18,0,18,6,18,10,155,23,164,null,null,null,null,null,null,"Region Hovedstaden"]
[null,"Greve",11008,"2018-01-01",27,5,3,19,12285,"*","*",9105,41,3,241,3,4,231,3,null,null,null,9,29,"*",29,"*",29,8,209,41,220,null,null,null,null,null,null,"Region Sjælland"]
[null,"Køge",12931,"2018-01-01",37,12,0,25,15991,6006,"*",9985,65,6,261,"*",5,253,"*",null,null,null,9,35,0,35,9,35,"*","*",77,258,null,null,null,null,null,null,"Region Sjælland"]
[null,"Halsnæs",5777,"2018-01-01",43,26,"*","*",22855,12402,"*","*",45,5,184,"*","*",175,"*",null,null,null,7,40,"*",40,"*",40,"*","*",27,162,null,null,null,null,null,null,"Region Hovedstaden"]
[null,"Roskilde",18452,"2018-01-01",61,43,0,18,55236,39391,"*",15845,71,7,252,0,6,246,0,null,null,null,16,64,0,64,16,64,13,237,79,245,null,null,null,null,null,null,"Region Sjælland"]
[null,"Solrød",5278,"2018-01-01",15,3,0,12,8045,"*","*","*",8,"*",58,"*","*","*","*",null,null,null,"*",12,0,12,"*",12,"*",57,5,59,null,null,null,null,null,null,"Region Sjælland"]
[null,"Gribskov",7893,"2018-01-01",29,21,0,8,26350,17651,"*",8699,18,10,211,4,3,201,3,null,null,null,3,31,0,31,3,31,8,234,86,241,null,null,null,null,null,null,"Region Hovedstaden"]
[null,"Odsherred",5478,"2018-01-01",25,20,"*","*",17332,12992,"*","*",39,9,238,"*","*",217,18,null,null,null,3,20,0,20,3,20,11,251,43,255,null,null,null,null,null,null,"Region Sjælland"]
[null,"Holbæk",14916,"2018-01-01",53,14,3,36,41555,"*","*",29577,92,13,256,0,7,245,4,null,null,null,13,57,0,57,13,57,15,273,69,277,null,null,null,null,null,null,"Region Sjælland"]
[null,"Faxe",7142,"2018-01-01",28,"*","*",23,17524,"*","*",15056,54,10,220,3,5,209,3,null,null,null,4,26,0,26,4,26,"*","*",47,211,null,null,null,null,null,null,"Region Sjælland"]
[null,"Kalundborg",9574,"2018-01-01",57,"*","*",29,42372,"*","*",17894,86,20,201,"*",4,193,"*",null,null,null,12,61,0,61,12,61,9,174,31,178,null,null,null,null,null,null,"Region Sjælland"]
[null,"Ringsted",7321,"2018-01-01",39,14,0,25,20578,13002,"*",7576,35,4,168,"*","*","*","*",null,null,null,6,38,0,38,6,38,5,170,42,170,null,null,null,null,null,null,"Region Sjælland"]
[null,"Slagelse",15225,"2018-01-01",64,"*","*",48,42880,"*","*",26393,130,14,333,"*",5,325,"*",null,null,null,6,49,"*",49,"*",49,18,245,36,248,null,null,null,null,null,null,"Region Sjælland"]
[null,"Stevns",4302,"2018-01-01",22,10,0,12,23553,11482,"*",12071,30,5,127,0,"*",124,"*",null,null,null,4,23,0,23,4,23,"*","*",24,114,null,null,null,null,null,null,"Region Sjælland"]
[null,"Sorø",6257,"2018-01-01",13,7,"*","*",7904,6162,"*","*",34,9,246,"*","*",240,"*",null,null,null,4,16,0,16,4,16,"*","*",27,224,null,null,null,null,null,null,"Region Sjælland"]
[null,"Lejre",6107,"2018-01-01",10,5,0,5,6618,4339,"*",2279,22,"*",77,"*","*",74,0,null,null,null,"*",10,0,10,"*",10,"*",70,10,71,null,null,null,null,null,null,"Region Sjælland"]
[null,"Lolland",6887,"2018-01-01",46,"*","*",28,33421,"*","*",17795,170,14,321,"*",11,302,"*",null,null,null,6,43,0,43,6,43,20,289,60,301,null,null,null,null,null,null,"Region Sjælland"]
[null,"Næstved",16644,"2018-01-01",100,42,0,58,71727,29989,"*",41738,77,8,272,"*",11,254,"*",null,null,null,13,89,"*",89,"*",89,"*",251,47,259,null,null,null,null,null,null,"Region Sjælland"]
[null,"Guldborgsund",10751,"2018-01-01",72,30,0,42,45826,14098,"*",31728,123,9,236,"*","*",224,"*",null,null,null,15,69,"*",69,"*",69,10,117,18,129,null,null,null,null,null,null,"Region Sjælland"]
[null,"Vordingborg",8357,"2018-01-01",53,15,0,38,36368,17055,"*",19313,111,6,97,"*",3,90,"*",null,null,null,16,59,"*",59,"*",59,"*","*",49,104,null,null,null,null,null,null,"Region Sjælland"]
[null,"Bornholm",6645,"2018-01-01",31,"*","*",16,18009,"*","*",7372,71,4,179,"*","*",174,"*",null,null,null,7,30,"*",30,"*",30,"*","*",28,181,null,null,null,null,null,null,"Region Hovedstaden"]
[null,"Middelfart",7949,"2018-01-01",20,15,0,5,13828,9265,"*",4563,49,"*",186,"*","*","*","*",null,null,null,4,20,"*",20,"*",20,"*",209,47,210,null,null,null,null,null,null,"Region Syddanmark"]
[null,"Assens",8523,"2018-01-01",14,"*","*",9,13995,"*","*",8852,102,6,179,"*","*",175,"*",null,null,null,3,15,0,15,3,15,6,201,56,204,null,null,null,null,null,null,"Region Syddanmark"]
[null,"Faaborg-Midtfyn",10473,"2018-01-01",36,19,"*","*",37867,24929,"*","*",80,10,192,0,9,183,0,null,null,null,8,39,"*",39,"*",39,"*",197,47,208,null,null,null,null,null,null,"Region Syddanmark"]
[null,"Kerteminde",4686,"2018-01-01",20,17,0,3,19858,"*","*","*",23,10,61,0,0,61,0,null,null,null,6,19,"*",19,"*",19,"*",64,6,64,null,null,null,null,null,null,"Region Syddanmark"]
[null,"Nyborg",6433,"2018-01-01",22,17,0,5,11144,9126,"*",2018,50,8,116,"*","*","*","*",null,null,null,"*",20,0,20,"*",20,"*","*",14,99,null,null,null,null,null,null,"Region Syddanmark"]
[null,"Odense",38027,"2018-01-01",153,81,3,69,151689,82531,"*","*",238,27,904,0,5,896,3,null,null,null,27,146,"*",146,"*",146,"*","*",238,963,null,null,null,null,null,null,"Region Syddanmark"]
[null,"Svendborg",11379,"2018-01-01",39,21,0,18,24128,6477,"*",17651,102,5,391,"*","*",387,"*",null,null,null,13,44,"*",44,"*",44,"*","*",77,394,null,null,null,null,null,null,"Region Syddanmark"]
[null,"Nordfyns",6015,"2018-01-01",14,10,0,4,10364,"*","*","*",26,5,100,"*","*",94,"*",null,null,null,6,17,"*",17,"*",17,8,77,17,82,null,null,null,null,null,null,"Region Syddanmark"]
[null,"Langeland",1830,"2018-01-01",17,11,0,6,23150,8637,"*",14513,26,4,36,"*","*","*","*",null,null,null,0,15,0,15,0,15,5,52,17,56,null,null,null,null,null,null,"Region Syddanmark"]
[null,"Ærø",856,"2018-01-01","*","*",0,"*","*","*","*","*",3,"*",12,0,0,12,0,null,null,null,"*","*","*","*","*","*","*",9,"*",10,null,null,null,null,null,null,"Region Syddanmark"]
[null,"Haderslev",11224,"2018-01-01",26,7,0,19,15499,6811,"*",8688,125,16,186,"*","*",179,"*",null,null,null,8,29,4,29,4,29,"*","*",74,186,null,null,null,null,null,null,"Region Syddanmark"]
[null,"Billund",5687,"2018-01-01",15,"*","*","*",5868,"*","*","*",51,"*",161,"*","*","*","*",null,null,null,5,18,0,18,5,18,"*",149,35,149,null,null,null,null,null,null,"Region Syddanmark"]
[null,"Sønderborg",14639,"2018-01-01",22,13,0,9,21091,16476,"*",4615,92,8,328,"*","*",321,"*",null,null,null,"*",21,0,21,"*",21,"*","*",64,340,null,null,null,null,null,null,"Region Syddanmark"]
[null,"Tønder",7340,"2018-01-01",21,6,0,15,13667,8959,"*",4708,100,10,222,"*","*","*","*",null,null,null,6,22,"*",22,"*",22,"*","*",36,204,null,null,null,null,null,null,"Region Syddanmark"]
[null,"Esbjerg",23179,"2018-01-01",126,63,"*","*",135891,78398,"*","*",111,25,951,"*","*",946,"*",null,null,null,21,123,"*",123,"*",123,"*","*",117,980,null,null,null,null,null,null,"Region Syddanmark"]
[null,"Fanø",622,"2018-01-01","*",0,0,"*","*","*","*","*","*","*",10,"*","*","*","*",null,null,null,"*","*","*","*","*","*","*",10,"*",10,null,null,null,null,null,null,"Region Syddanmark"]
[null,"Varde",10554,"2018-01-01",16,6,0,10,12231,9176,"*",3055,66,21,416,0,0,416,0,null,null,null,"*",15,0,15,"*",15,"*",429,134,431,null,null,null,null,null,null,"Region Syddanmark"]
[null,"Vejen",9384,"2018-01-01",33,"*","*",26,26308,"*","*",15987,72,7,164,"*","*","*","*",null,null,null,6,33,0,33,6,33,"*",152,44,153,null,null,null,null,null,null,"Region Syddanmark"]
[null,"Aabenraa",12014,"2018-01-01",28,20,0,8,22980,18790,"*",4190,110,7,337,0,"*",334,"*",null,null,null,8,28,"*",28,"*",28,"*",312,74,317,null,null,null,null,null,null,"Region Syddanmark"]
[null,"Fredericia",10561,"2018-01-01",14,5,0,9,8951,3976,"*",4975,82,10,298,0,4,294,0,null,null,null,5,19,0,19,5,19,"*","*",52,266,null,null,null,null,null,null,"Region Syddanmark"]
[null,"Horsens",19218,"2018-01-01",57,20,3,34,33578,"*","*",10688,106,18,428,"*",3,422,"*",null,null,null,13,55,0,55,13,55,"*","*",107,425,null,null,null,null,null,null,"Region Midtjylland"]
[null,"Kolding",19975,"2018-01-01",28,18,0,10,26445,19297,"*",7148,122,12,314,"*","*",310,"*",null,null,null,4,27,"*",27,"*",27,"*","*",109,332,null,null,null,null,null,null,"Region Syddanmark"]
[null,"Vejle",25102,"2018-01-01",37,30,0,7,37454,32351,"*",5103,149,25,559,"*","*",547,"*",null,null,null,12,43,4,43,8,43,"*",526,105,527,null,null,null,null,null,null,"Region Syddanmark"]
[null,"Herning",19170,"2018-01-01",16,12,"*","*",21101,19821,"*","*",114,11,328,0,9,316,3,null,null,null,9,23,"*",23,"*",23,13,293,70,301,null,null,null,null,null,null,"Region Midtjylland"]
[null,"Holstebro",12713,"2018-01-01",27,20,"*","*",33869,25274,"*","*",85,15,284,0,0,232,52,null,null,null,6,30,"*",30,"*",30,"*",284,83,285,null,null,null,null,null,null,"Region Midtjylland"]
[null,"Lemvig",3764,"2018-01-01",9,6,0,3,10839,"*","*","*",32,6,68,"*","*","*","*",null,null,null,"*",11,"*",11,"*",11,"*",72,12,73,null,null,null,null,null,null,"Region Midtjylland"]
[null,"Struer",4244,"2018-01-01",6,"*","*","*",3987,"*","*","*",42,3,95,0,0,95,0,null,null,null,3,7,"*",7,"*",7,0,97,37,100,null,null,null,null,null,null,"Region Midtjylland"]
[null,"Syddjurs",8473,"2018-01-01",8,3,0,5,2710,"*","*","*",55,10,230,"*",3,224,"*",null,null,null,3,10,0,10,3,10,4,362,202,367,null,null,null,null,null,null,"Region Midtjylland"]
[null,"Norddjurs",6885,"2018-01-01",46,32,0,14,49723,35292,"*",14431,74,9,258,"*","*",251,"*",null,null,null,"*",41,0,41,"*",41,"*",226,22,227,null,null,null,null,null,null,"Region Midtjylland"]
[null,"Favrskov",11812,"2018-01-01",36,24,"*","*",31358,24549,"*","*",54,4,130,"*","*",126,"*",null,null,null,9,38,"*",38,"*",38,"*","*",22,121,null,null,null,null,null,null,"Region Midtjylland"]
[null,"Odder",4846,"2018-01-01",8,"*","*","*",4467,"*","*","*",14,8,130,"*","*",127,0,null,null,null,"*",7,0,7,"*",7,"*",128,22,129,null,null,null,null,null,null,"Region Midtjylland"]
[null,"Randers",19903,"2018-01-01",29,13,5,11,23226,17205,907,5114,155,20,345,3,4,331,7,null,null,null,7,31,"*",31,"*",31,11,311,76,316,null,null,null,null,null,null,"Region Midtjylland"]
[null,"Silkeborg",20643,"2018-01-01",17,10,"*","*",33644,22756,"*","*",96,19,360,0,4,356,0,null,null,null,6,23,0,23,6,23,"*",332,77,333,null,null,null,null,null,null,"Region Midtjylland"]
[null,"Samsø",562,"2018-01-01","*",0,0,"*","*","*","*","*",7,"*",11,0,3,8,0,null,null,null,"*","*","*","*","*","*",4,10,"*",13,null,null,null,null,null,null,"Region Midtjylland"]
[null,"Skanderborg",15383,"2018-01-01",12,6,0,6,19997,10470,"*",9527,54,8,213,"*","*","*","*",null,null,null,5,17,0,17,5,17,"*",194,38,194,null,null,null,null,null,null,"Region Midtjylland"]
[null,"Aarhus",63245,"2018-01-01",178,116,4,58,180503,134878,"*","*",244,31,1155,"*",18,1125,"*",null,null,null,35,186,5,186,30,186,"*",1043,272,1070,null,null,null,null,null,null,"Region Midtjylland"]
[null,"Ikast-Brande",9195,"2018-01-01",19,14,0,5,8348,6182,"*",2166,48,15,74,0,"*",71,"*",null,null,null,3,17,0,17,3,17,"*","*",6,60,null,null,null,null,null,null,"Region Midtjylland"]
[null,"Ringkøbing-Skjern",12311,"2018-01-01",39,30,"*","*",43047,39260,"*","*",98,7,276,"*","*","*","*",null,null,null,"*",32,0,32,"*",32,10,274,50,277,null,null,null,null,null,null,"Region Midtjylland"]
[null,"Hedensted",10533,"2018-01-01",61,13,0,48,43397,18409,"*",24988,25,5,295,0,"*",291,"*",null,null,null,5,62,0,62,5,62,"*",278,28,280,null,null,null,null,null,null,"Region Midtjylland"]
[null,"Morsø",3890,"2018-01-01",8,"*","*","*",9349,"*","*","*",47,"*",72,0,0,72,0,null,null,null,"*",10,"*",10,"*",10,"*","*",26,93,null,null,null,null,null,null,"Region Nordjylland"]
[null,"Skive",9194,"2018-01-01",27,17,0,10,27841,18162,"*",9679,59,14,233,0,"*",229,"*",null,null,null,6,32,0,32,6,32,"*","*",32,190,null,null,null,null,null,null,"Region Midtjylland"]
[null,"Thisted",8753,"2018-01-01",28,21,0,7,23226,16540,"*",6686,81,7,214,"*",5,204,"*",null,null,null,4,29,"*",29,"*",29,8,234,81,240,null,null,null,null,null,null,"Region Nordjylland"]
[null,"Viborg",21313,"2018-01-01",38,24,"*","*",46805,37917,"*","*",139,19,314,0,4,304,6,null,null,null,10,41,0,41,10,41,12,332,98,337,null,null,null,null,null,null,"Region Midtjylland"]
[null,"Brønderslev",7875,"2018-01-01",28,6,0,22,30889,10794,"*",20095,110,6,169,"*","*","*","*",null,null,null,3,28,0,28,3,28,"*",172,46,173,null,null,null,null,null,null,"Region Nordjylland"]
[null,"Frederikshavn",10687,"2018-01-01",31,17,0,14,14327,9366,"*",4961,124,16,309,"*","*","*","*",null,null,null,7,28,"*",28,"*",28,"*","*",48,270,null,null,null,null,null,null,"Region Nordjylland"]
[null,"Vesthimmerlands",7608,"2018-01-01",28,6,0,22,25238,6729,"*",18509,64,12,258,0,"*",254,"*",null,null,null,3,26,0,26,3,26,"*",256,56,257,null,null,null,null,null,null,"Region Nordjylland"]
[null,"Læsø",231,"2018-01-01","*","*",0,0,"*","*","*","*","*","*",7,0,0,7,0,null,null,null,"*","*","*","*","*","*",0,7,0,7,null,null,null,null,null,null,"Region Nordjylland"]
[null,"Rebild",7079,"2018-01-01",11,8,0,3,11981,"*","*","*",30,4,92,0,0,85,7,null,null,null,"*",12,0,12,"*",12,"*",90,14,90,null,null,null,null,null,null,"Region Nordjylland"]
[null,"Mariagerfjord",8377,"2018-01-01",39,12,0,27,36600,16774,"*",19826,70,9,196,"*","*",190,"*",null,null,null,10,45,0,45,10,45,"*","*",127,259,null,null,null,null,null,null,"Region Nordjylland"]
[null,"Jammerbugt",7982,"2018-01-01",28,"*","*",20,28983,"*","*",18413,68,3,195,"*","*",190,"*",null,null,null,5,31,0,31,5,31,"*","*",81,221,null,null,null,null,null,null,"Region Nordjylland"]
[null,"Aalborg",39077,"2018-01-01",139,88,"*","*",102980,64191,"*","*",314,42,822,"*",8,805,"*",null,null,null,30,149,5,149,25,149,"*",809,248,824,null,null,null,null,null,null,"Region Nordjylland"]
[null,"Hjørring",12806,"2018-01-01",33,"*","*",17,27314,"*","*",9921,150,8,242,0,0,239,3,null,null,null,17,47,"*",47,"*",47,"*",205,54,205,null,null,null,null,null,null,"Region Nordjylland"]
[null,"København",108734,"2018-07-01",219,176,11,32,163682,118319,3026,42337,353,108,1940,12,16,1909,3,null,null,null,50,215,6,215,44,215,56,1432,247,1461,null,null,null,null,null,null,"Region Hovedstaden"]
[null,"Frederiksberg",18444,"2018-07-01",59,45,"*","*",61243,48039,"*","*",47,10,140,0,0,136,4,null,null,null,13,62,0,62,13,62,4,132,43,135,null,null,null,null,null,null,"Region Hovedstaden"]
[null,"Ballerup",10306,"2018-07-01",31,19,0,12,17167,8627,"*",8540,40,4,338,"*","*",329,6,null,null,null,9,31,"*",31,"*",31,10,326,57,329,null,null,null,null,null,null,"Region Hovedstaden"]
[null,"Brøndby",7449,"2018-07-01",39,"*","*",20,21922,"*","*",11437,44,6,85,"*","*",81,"*",null,null,null,8,39,0,39,8,39,"*","*",13,86,null,null,null,null,null,null,"Region Hovedstaden"]
[null,"Dragør",3217,"2018-07-01",6,"*","*","*",960,"*","*","*",5,0,40,"*","*","*","*",null,null,null,"*","*","*","*","*","*","*",33,6,35,null,null,null,null,null,null,"Region Hovedstaden"]
[null,"Gentofte",16887,"2018-07-01",40,31,0,9,20361,15175,"*",5186,23,5,199,"*","*",195,"*",null,null,null,9,40,3,40,6,40,"*","*",21,170,null,null,null,null,null,null,"Region Hovedstaden"]
[null,"Gladsaxe",15258,"2018-07-01",35,18,"*","*",24891,9677,"*","*",47,11,249,"*","*",241,"*",null,null,null,4,34,0,34,4,34,9,273,198,279,null,null,null,null,null,null,"Region Hovedstaden"]
[null,"Glostrup",4572,"2018-07-01",9,9,0,0,4352,4352,"*","*",17,3,51,0,0,51,0,null,null,null,"*",8,0,8,"*",8,"*",41,7,41,null,null,null,null,null,null,"Region Hovedstaden"]
[null,"Herlev",6401,"2018-07-01",23,17,0,6,17649,12185,"*",5464,21,7,148,"*","*",143,"*",null,null,null,8,24,0,24,8,24,"*",76,12,78,null,null,null,null,null,null,"Region Hovedstaden"]
[null,"Albertslund",6063,"2018-07-01",31,20,0,11,23916,15637,"*",8279,33,5,129,"*",8,116,"*",null,null,null,4,30,0,30,4,30,11,153,63,159,null,null,null,null,null,null,"Region Hovedstaden"]
[null,"Hvidovre",11778,"2018-07-01",28,17,"*","*",12945,5413,"*","*",40,10,210,"*","*",205,"*",null,null,null,5,25,0,25,5,25,"*","*",53,224,null,null,null,null,null,null,"Region Hovedstaden"]
[null,"Høje-Taastrup",10993,"2018-07-01",48,17,0,31,46372,20243,"*",26129,48,3,211,"*","*",207,"*",null,null,null,5,46,0,46,5,46,9,223,76,227,null,null,null,null,null,null,"Region Hovedstaden"]
[null,"Lyngby-Taarbæk",11935,"2018-07-01",36,7,0,29,15606,3939,"*",11667,21,7,149,"*","*",144,"*",null,null,null,6,32,0,32,6,32,"*","*",31,152,null,null,null,null,null,null,"Region Hovedstaden"]
[null,"Rødovre",8396,"2018-07-01",18,7,0,11,13137,3194,"*",9943,42,6,155,"*","*",151,"*",null,null,null,"*",17,0,17,"*",17,"*",162,40,164,null,null,null,null,null,null,"Region Hovedstaden"]
[null,"Ishøj",5130,"2018-07-01",33,"*","*",27,23095,"*","*",16072,28,7,129,"*","*","*","*",null,null,null,6,34,0,34,6,34,"*","*",31,138,null,null,null,null,null,null,"Region Hovedstaden"]
[null,"Tårnby",9478,"2018-07-01",10,5,0,5,7328,5292,"*",2036,33,8,123,0,"*",120,"*",null,null,null,3,10,0,10,3,10,4,102,27,105,null,null,null,null,null,null,"Region Hovedstaden"]
[null,"Vallensbæk",3964,"2018-07-01",4,"*","*","*","*","*","*","*",5,0,46,0,0,46,0,null,null,null,"*",5,0,5,"*",5,"*",40,8,40,null,null,null,null,null,null,"Region Hovedstaden"]
[null,"Furesø",9630,"2018-07-01",8,"*","*","*",5282,"*","*","*",31,5,155,"*","*","*","*",null,null,null,5,9,0,9,5,9,"*",151,37,151,null,null,null,null,null,null,"Region Hovedstaden"]
[null,"Allerød",6137,"2018-07-01",12,"*","*",7,4488,"*","*",3487,8,"*",63,0,0,63,0,null,null,null,"*",11,0,11,"*",11,"*",53,3,53,null,null,null,null,null,null,"Region Hovedstaden"]
[null,"Fredensborg",8773,"2018-07-01",31,15,7,9,10408,8192,116,2100,19,3,153,"*","*",148,"*",null,null,null,6,25,0,25,6,25,"*",161,29,163,null,null,null,null,null,null,"Region Hovedstaden"]
[null,"Helsingør",12419,"2018-07-01",31,15,0,16,49496,22879,"*",26617,57,7,259,"*","*",240,12,null,null,null,3,33,0,33,3,33,8,233,53,237,null,null,null,null,null,null,"Region Hovedstaden"]
[null,"Hillerød",11306,"2018-07-01",22,4,0,18,20982,"*","*","*",36,8,243,"*","*",236,"*",null,null,null,5,25,0,25,5,25,"*","*",49,236,null,null,null,null,null,null,"Region Hovedstaden"]
[null,"Hørsholm",5209,"2018-07-01",7,"*","*","*",5666,"*","*","*",8,"*",34,0,"*",31,"*",null,null,null,"*",8,0,8,"*",8,"*","*",6,34,null,null,null,null,null,null,"Region Hovedstaden"]
[null,"Rudersdal",12742,"2018-07-01",29,19,"*","*",22139,18247,"*","*",37,3,195,"*",3,187,"*",null,null,null,"*",28,0,28,"*",28,"*",188,43,194,null,null,null,null,null,null,"Region Hovedstaden"]
[null,"Egedal",10227,"2018-07-01",19,9,0,10,12504,3163,"*",9341,27,4,196,"*","*",191,"*",null,null,null,3,17,0,17,3,17,"*",208,39,208,null,null,null,null,null,null,"Region Hovedstaden"]
[null,"Frederikssund",9214,"2018-07-01",21,5,0,16,9756,3853,"*",5903,41,6,195,"*",10,178,"*",null,null,null,3,19,"*",19,"*",19,11,185,48,196,null,null,null,null,null,null,"Region Hovedstaden"]
[null,"Greve",10962,"2018-07-01",31,9,3,19,14830,"*","*",11084,40,3,225,"*","*",218,3,null,null,null,5,27,"*",27,"*",27,8,234,63,241,null,null,null,null,null,null,"Region Sjælland"]
[null,"Køge",12946,"2018-07-01",37,14,0,23,18283,7891,"*",10392,72,6,280,"*",4,271,"*",null,null,null,8,37,0,37,8,37,"*","*",65,261,null,null,null,null,null,null,"Region Sjælland"]
[null,"Halsnæs",5734,"2018-07-01",56,33,"*","*",27345,14272,"*","*",47,4,187,3,3,178,3,null,null,null,3,43,"*",43,"*",43,"*","*",40,184,null,null,null,null,null,null,"Region Hovedstaden"]
[null,"Roskilde",18396,"2018-07-01",54,37,0,17,44329,30095,"*",14234,67,11,242,"*","*",238,"*",null,null,null,14,61,"*",61,"*",61,9,246,81,252,null,null,null,null,null,null,"Region Sjælland"]
[null,"Solrød",5344,"2018-07-01",9,"*","*","*",5894,"*","*","*",10,3,53,0,0,53,0,null,null,null,7,15,0,15,7,15,"*",56,14,58,null,null,null,null,null,null,"Region Sjælland"]
[null,"Gribskov",7803,"2018-07-01",26,21,0,5,23737,19702,"*",4035,23,10,206,4,"*",197,"*",null,null,null,5,29,0,29,5,29,9,204,31,211,null,null,null,null,null,null,"Region Hovedstaden"]
[null,"Odsherred",5412,"2018-07-01",25,17,3,5,18328,13148,"*","*",46,9,227,"*","*",207,17,null,null,null,4,25,"*",25,"*",25,11,235,35,238,null,null,null,null,null,null,"Region Sjælland"]
[null,"Holbæk",14901,"2018-07-01",50,"*","*",38,39244,"*","*",26345,92,14,260,0,4,253,3,null,null,null,15,53,"*",53,"*",53,7,249,69,256,null,null,null,null,null,null,"Region Sjælland"]
[null,"Faxe",7105,"2018-07-01",30,9,0,21,17640,3449,"*",14191,50,12,213,0,5,204,4,null,null,null,3,28,0,28,3,28,5,212,65,220,null,null,null,null,null,null,"Region Sjælland"]
[null,"Kalundborg",9439,"2018-07-01",56,"*","*",29,37357,"*","*",12585,82,17,186,"*","*",179,"*",null,null,null,14,57,"*",57,"*",57,"*",196,77,201,null,null,null,null,null,null,"Region Sjælland"]
[null,"Ringsted",7274,"2018-07-01",45,"*","*",29,20021,"*","*",9402,33,5,152,"*","*",148,"*",null,null,null,5,39,0,39,5,39,"*",167,48,168,null,null,null,null,null,null,"Region Sjælland"]
[null,"Slagelse",15107,"2018-07-01",64,15,0,49,46385,18658,"*",27727,129,15,283,"*",5,273,"*",null,null,null,11,64,"*",64,"*",64,"*","*",149,333,null,null,null,null,null,null,"Region Sjælland"]
[null,"Stevns",4326,"2018-07-01",19,10,0,9,17376,8585,"*",8791,27,6,120,"*","*",116,"*",null,null,null,4,22,0,22,4,22,"*","*",33,127,null,null,null,null,null,null,"Region Sjælland"]
[null,"Sorø",6261,"2018-07-01",8,"*","*","*",7032,"*","*","*",32,9,273,0,6,267,0,null,null,null,5,13,"*",13,"*",13,"*","*",42,246,null,null,null,null,null,null,"Region Sjælland"]
[null,"Lejre",6075,"2018-07-01",9,5,0,4,7841,"*","*","*",22,"*",64,"*","*",61,0,null,null,null,"*",10,0,10,"*",10,3,74,31,77,null,null,null,null,null,null,"Region Sjælland"]
[null,"Lolland",6788,"2018-07-01",41,"*","*",26,24898,"*","*",14713,168,16,267,"*",10,252,"*",null,null,null,11,46,0,46,11,46,"*",308,110,321,null,null,null,null,null,null,"Region Sjælland"]
[null,"Næstved",16474,"2018-07-01",98,44,3,51,70021,"*","*",39500,79,8,267,"*",6,257,"*",null,null,null,16,100,3,100,13,100,"*",260,75,272,null,null,null,null,null,null,"Region Sjælland"]
[null,"Guldborgsund",10649,"2018-07-01",79,32,0,47,48114,14781,"*",33333,123,10,260,"*","*",251,"*",null,null,null,13,72,5,72,8,72,"*",224,67,236,null,null,null,null,null,null,"Region Sjælland"]
[null,"Vordingborg",8252,"2018-07-01",60,11,0,49,38831,13554,"*",25277,106,6,72,"*","*",67,"*",null,null,null,7,53,0,53,7,53,"*","*",52,97,null,null,null,null,null,null,"Region Sjælland"]
[null,"Bornholm",6621,"2018-07-01",33,16,0,17,17554,11511,"*",6043,69,4,174,"*","*",170,"*",null,null,null,7,31,0,31,7,31,"*","*",33,179,null,null,null,null,null,null,"Region Hovedstaden"]
[null,"Middelfart",7898,"2018-07-01",20,14,0,6,12296,10543,"*",1753,50,3,178,"*","*","*","*",null,null,null,"*",20,0,20,"*",20,"*",185,47,186,null,null,null,null,null,null,"Region Syddanmark"]
[null,"Assens",8493,"2018-07-01",14,5,0,9,16397,5916,"*",10481,99,6,155,"*","*",151,"*",null,null,null,"*",14,0,14,"*",14,"*","*",59,179,null,null,null,null,null,null,"Region Syddanmark"]
[null,"Faaborg-Midtfyn",10462,"2018-07-01",31,16,"*","*",36594,22213,"*","*",86,12,180,4,9,167,0,null,null,null,11,36,"*",36,"*",36,17,183,78,192,null,null,null,null,null,null,"Region Syddanmark"]
[null,"Kerteminde",4659,"2018-07-01",16,"*","*","*",19420,"*","*","*",23,9,58,"*","*","*","*",null,null,null,5,20,"*",20,"*",20,4,61,12,61,null,null,null,null,null,null,"Region Syddanmark"]
[null,"Nyborg",6332,"2018-07-01",24,17,0,7,8806,5556,"*",3250,54,9,98,"*","*","*","*",null,null,null,8,22,"*",22,"*",22,"*",115,37,116,null,null,null,null,null,null,"Region Syddanmark"]
[null,"Odense",37955,"2018-07-01",163,"*","*",81,155186,"*","*",73704,236,27,791,"*",5,781,"*",null,null,null,23,153,"*",153,"*",153,29,899,272,904,null,null,null,null,null,null,"Region Syddanmark"]
[null,"Svendborg",11331,"2018-07-01",45,24,"*","*",26453,7570,"*","*",107,6,243,"*","*",238,"*",null,null,null,4,39,"*",39,"*",39,"*","*",206,391,null,null,null,null,null,null,"Region Syddanmark"]
[null,"Nordfyns",5993,"2018-07-01",16,11,0,5,9893,5428,"*",4465,24,3,80,"*","*",76,"*",null,null,null,"*",14,0,14,"*",14,"*","*",35,100,null,null,null,null,null,null,"Region Syddanmark"]
[null,"Langeland",1814,"2018-07-01",16,11,0,5,21414,6757,"*",14657,30,4,70,"*","*",67,0,null,null,null,3,17,"*",17,"*",17,"*",34,10,36,null,null,null,null,null,null,"Region Syddanmark"]
[null,"Ærø",836,"2018-07-01","*",0,0,"*","*","*","*","*",3,"*",10,0,0,10,0,null,null,null,"*","*","*","*","*","*",0,12,3,12,null,null,null,null,null,null,"Region Syddanmark"]
[null,"Haderslev",11121,"2018-07-01",31,6,0,25,19214,7556,"*",11658,143,17,221,"*",5,212,"*",null,null,null,"*",26,0,26,"*",26,"*","*",69,186,null,null,null,null,null,null,"Region Syddanmark"]
[null,"Billund",5659,"2018-07-01",16,"*","*",12,3348,"*","*",2759,49,3,164,0,"*",161,"*",null,null,null,5,15,0,15,5,15,"*",160,42,161,null,null,null,null,null,null,"Region Syddanmark"]
[null,"Sønderborg",14527,"2018-07-01",24,16,"*","*",18133,15780,"*","*",94,8,327,"*","*",323,"*",null,null,null,7,22,0,22,7,22,"*","*",65,328,null,null,null,null,null,null,"Region Syddanmark"]
[null,"Tønder",7241,"2018-07-01",22,"*","*",17,13018,"*","*",6609,95,9,223,"*",0,220,"*",null,null,null,3,21,0,21,3,21,"*",221,42,222,null,null,null,null,null,null,"Region Syddanmark"]
[null,"Esbjerg",23148,"2018-07-01",123,65,3,55,120628,71668,"*","*",107,23,960,3,"*",952,"*",null,null,null,20,126,"*",126,"*",126,"*","*",85,951,null,null,null,null,null,null,"Region Syddanmark"]
[null,"Fanø",618,"2018-07-01","*","*",0,"*","*","*","*","*","*","*",7,"*","*","*","*",null,null,null,"*","*","*","*","*","*","*",9,"*",10,null,null,null,null,null,null,"Region Syddanmark"]
[null,"Varde",10396,"2018-07-01",14,4,0,10,11882,"*","*","*",62,19,426,0,0,426,0,null,null,null,4,16,0,16,4,16,"*",416,90,416,null,null,null,null,null,null,"Region Syddanmark"]
[null,"Vejen",9315,"2018-07-01",30,"*","*",22,27402,"*","*",15679,74,6,126,"*","*","*","*",null,null,null,4,33,0,33,4,33,"*",163,61,164,null,null,null,null,null,null,"Region Syddanmark"]
[null,"Aabenraa",11830,"2018-07-01",30,23,"*","*",25672,20894,"*","*",107,7,343,"*","*","*","*",null,null,null,5,28,"*",28,"*",28,"*","*",77,337,null,null,null,null,null,null,"Region Syddanmark"]
[null,"Fredericia",10527,"2018-07-01",13,6,0,7,8588,4468,"*",4120,81,10,264,"*","*",257,"*",null,null,null,4,14,"*",14,"*",14,12,294,102,298,null,null,null,null,null,null,"Region Syddanmark"]
[null,"Horsens",19169,"2018-07-01",52,"*","*",33,35285,"*","*",12993,116,19,454,0,"*",450,"*",null,null,null,15,57,"*",57,"*",57,"*","*",102,428,null,null,null,null,null,null,"Region Midtjylland"]
[null,"Kolding",19940,"2018-07-01",30,20,"*","*",21174,15608,"*","*",116,13,305,0,"*",302,"*",null,null,null,6,28,"*",28,"*",28,"*","*",98,314,null,null,null,null,null,null,"Region Syddanmark"]
[null,"Vejle",24942,"2018-07-01",38,30,"*","*",32650,29801,"*","*",159,23,571,"*","*",560,"*",null,null,null,11,37,3,37,8,37,"*",558,100,559,null,null,null,null,null,null,"Region Syddanmark"]
[null,"Herning",19104,"2018-07-01",16,13,0,3,18656,"*","*","*",120,12,293,"*","*",287,"*",null,null,null,6,16,0,16,6,16,8,319,121,328,null,null,null,null,null,null,"Region Midtjylland"]
[null,"Holstebro",12661,"2018-07-01",33,23,"*","*",29037,21168,"*","*",82,16,278,"*","*",227,"*",null,null,null,5,27,0,27,5,27,7,284,108,284,null,null,null,null,null,null,"Region Midtjylland"]
[null,"Lemvig",3748,"2018-07-01",9,5,0,4,11673,"*","*","*",35,4,39,"*","*",35,0,null,null,null,"*",9,0,9,"*",9,"*",67,37,68,null,null,null,null,null,null,"Region Midtjylland"]
[null,"Struer",4188,"2018-07-01",10,5,0,5,3485,2595,"*",890,41,3,110,0,0,110,0,null,null,null,"*",6,0,6,"*",6,"*",95,26,95,null,null,null,null,null,null,"Region Midtjylland"]
[null,"Syddjurs",8454,"2018-07-01",12,"*","*",8,3312,"*","*",2306,54,9,238,"*","*",234,"*",null,null,null,"*",8,0,8,"*",8,"*","*",70,230,null,null,null,null,null,null,"Region Midtjylland"]
[null,"Norddjurs",6790,"2018-07-01",42,33,"*","*",43108,34307,"*","*",74,9,231,"*","*",224,"*",null,null,null,9,46,0,46,9,46,"*",256,80,258,null,null,null,null,null,null,"Region Midtjylland"]
[null,"Favrskov",11780,"2018-07-01",36,23,"*","*",29562,20770,"*","*",56,4,121,"*","*",117,"*",null,null,null,7,36,0,36,7,36,"*","*",29,130,null,null,null,null,null,null,"Region Midtjylland"]
[null,"Odder",4813,"2018-07-01",10,6,0,4,5301,"*","*","*",14,8,123,"*","*","*","*",null,null,null,"*",8,0,8,"*",8,"*",127,18,130,null,null,null,null,null,null,"Region Midtjylland"]
[null,"Randers",19775,"2018-07-01",31,16,5,10,22118,16170,1421,4527,149,18,356,"*","*",346,6,null,null,null,4,29,0,29,4,29,10,338,78,345,null,null,null,null,null,null,"Region Midtjylland"]
[null,"Silkeborg",20615,"2018-07-01",16,11,"*","*",29323,19379,"*","*",97,14,399,"*","*",395,"*",null,null,null,4,17,0,17,4,17,7,356,83,360,null,null,null,null,null,null,"Region Midtjylland"]
[null,"Samsø",560,"2018-07-01","*",0,0,"*","*","*","*","*",7,"*",10,"*","*","*","*",null,null,null,"*","*","*","*","*","*","*",8,3,11,null,null,null,null,null,null,"Region Midtjylland"]
[null,"Skanderborg",15443,"2018-07-01",16,8,0,8,16846,6311,"*",10535,54,7,198,"*","*","*","*",null,null,null,0,12,0,12,0,12,"*",212,59,213,null,null,null,null,null,null,"Region Midtjylland"]
[null,"Aarhus",63510,"2018-07-01",166,113,7,46,156486,119397,902,36187,255,25,1193,"*","*",1168,13,null,null,null,37,178,"*",178,"*",178,"*",1136,300,1155,null,null,null,null,null,null,"Region Midtjylland"]
[null,"Ikast-Brande",9129,"2018-07-01",21,17,0,4,11194,"*","*","*",47,15,124,0,"*",121,"*",null,null,null,"*",19,0,19,"*",19,"*","*",7,74,null,null,null,null,null,null,"Region Midtjylland"]
[null,"Ringkøbing-Skjern",12249,"2018-07-01",36,28,"*","*",45955,41882,"*","*",98,7,266,0,0,263,3,null,null,null,6,39,0,39,6,39,"*",276,57,276,null,null,null,null,null,null,"Region Midtjylland"]
[null,"Hedensted",10430,"2018-07-01",55,10,0,45,43249,15839,"*",27410,24,4,212,"*","*","*","*",null,null,null,10,61,0,61,10,61,"*","*",100,295,null,null,null,null,null,null,"Region Midtjylland"]
[null,"Morsø",3856,"2018-07-01",5,"*","*","*",5441,"*","*","*",46,4,81,0,0,78,3,null,null,null,3,8,0,8,3,8,"*",72,28,72,null,null,null,null,null,null,"Region Nordjylland"]
[null,"Skive",9077,"2018-07-01",22,14,0,8,22757,18896,"*",3861,62,12,176,0,"*",173,"*",null,null,null,8,27,0,27,8,27,"*","*",77,233,null,null,null,null,null,null,"Region Midtjylland"]
[null,"Thisted",8731,"2018-07-01",31,22,"*","*",26623,19695,"*","*",71,7,234,"*",5,226,"*",null,null,null,3,28,"*",28,"*",28,"*",208,51,214,null,null,null,null,null,null,"Region Nordjylland"]
[null,"Viborg",21204,"2018-07-01",43,29,"*","*",44872,36806,"*","*",149,18,303,"*",4,295,"*",null,null,null,5,38,0,38,5,38,17,310,96,314,null,null,null,null,null,null,"Region Midtjylland"]
[null,"Brønderslev",7882,"2018-07-01",27,7,0,20,28588,10874,"*",17714,111,7,173,"*","*",168,"*",null,null,null,5,28,"*",28,"*",28,"*",169,47,169,null,null,null,null,null,null,"Region Nordjylland"]
[null,"Frederikshavn",10647,"2018-07-01",32,17,0,15,14646,10049,"*",4597,116,17,279,"*","*","*","*",null,null,null,7,31,0,31,7,31,"*",308,106,309,null,null,null,null,null,null,"Region Nordjylland"]
[null,"Vesthimmerlands",7525,"2018-07-01",34,7,0,27,27778,7737,"*",20041,74,7,247,0,"*",244,"*",null,null,null,"*",28,0,28,"*",28,"*","*",73,258,null,null,null,null,null,null,"Region Nordjylland"]
[null,"Læsø",232,"2018-07-01","*","*",0,0,"*","*","*","*","*",0,4,0,0,4,0,null,null,null,"*","*","*","*","*","*",0,7,"*",7,null,null,null,null,null,null,"Region Nordjylland"]
[null,"Rebild",7099,"2018-07-01",12,9,0,3,12878,"*","*","*",31,3,80,0,0,74,6,null,null,null,"*",11,0,11,"*",11,"*",92,29,92,null,null,null,null,null,null,"Region Nordjylland"]
[null,"Mariagerfjord",8363,"2018-07-01",37,11,0,26,37831,15506,"*",22325,73,8,159,"*","*","*","*",null,null,null,6,39,0,39,6,39,"*",190,87,196,null,null,null,null,null,null,"Region Nordjylland"]
[null,"Jammerbugt",7899,"2018-07-01",32,"*","*",22,32197,"*","*",21037,69,4,185,"*","*",182,0,null,null,null,4,28,0,28,4,28,"*","*",54,195,null,null,null,null,null,null,"Region Nordjylland"]
[null,"Aalborg",39003,"2018-07-01",133,84,"*","*",109806,69677,"*","*",307,41,830,"*","*",818,9,null,null,null,22,139,4,139,18,139,"*",813,206,822,null,null,null,null,null,null,"Region Nordjylland"]
[null,"Hjørring",12691,"2018-07-01",37,18,"*","*",27661,16598,"*","*",146,11,247,0,0,244,3,null,null,null,6,33,0,33,6,33,11,242,44,242,null,null,null,null,null,null,"Region Nordjylland"]
[null,"København",109335,"2019-01-01",206,164,9,33,156703,112040,2960,41703,340,113,2166,14,19,2130,3,null,null,null,49,219,9,219,40,219,56,1912,451,1940,null,null,null,null,null,null,"Region Hovedstaden"]
[null,"Frederiksberg",18378,"2019-01-01",53,38,"*","*",46160,33206,"*","*",44,9,148,"*","*",143,"*",null,null,null,17,59,"*",59,"*",59,4,140,23,140,null,null,null,null,null,null,"Region Hovedstaden"]
[null,"Ballerup",10285,"2019-01-01",35,19,0,16,18700,9193,"*",9507,36,7,348,"*","*",341,"*",null,null,null,3,31,0,31,3,31,7,335,59,338,null,null,null,null,null,null,"Region Hovedstaden"]
[null,"Brøndby",7418,"2019-01-01",31,15,0,16,16422,8350,"*",8072,45,5,80,"*","*","*","*",null,null,null,13,39,0,39,13,39,"*","*",19,85,null,null,null,null,null,null,"Region Hovedstaden"]
[null,"Dragør",3231,"2019-01-01",7,"*","*","*",1971,"*","*","*",4,0,56,"*","*","*","*",null,null,null,"*",6,0,6,"*",6,"*",39,4,40,null,null,null,null,null,null,"Region Hovedstaden"]
[null,"Gentofte",16841,"2019-01-01",37,27,0,10,22336,16432,"*",5904,25,5,208,"*","*",204,"*",null,null,null,6,40,0,40,6,40,"*","*",29,199,null,null,null,null,null,null,"Region Hovedstaden"]
[null,"Gladsaxe",15295,"2019-01-01",29,14,"*","*",21941,9876,"*","*",44,14,224,"*","*",218,"*",null,null,null,11,35,"*",35,"*",35,"*","*",88,249,null,null,null,null,null,null,"Region Hovedstaden"]
[null,"Glostrup",4563,"2019-01-01",6,6,0,0,4961,4961,"*","*",20,3,50,0,0,50,0,null,null,null,3,9,"*",9,"*",9,0,51,7,51,null,null,null,null,null,null,"Region Hovedstaden"]
[null,"Herlev",6422,"2019-01-01",28,18,0,10,19898,12897,"*",7001,19,7,163,0,"*",159,"*",null,null,null,"*",23,0,23,"*",23,"*","*",16,148,null,null,null,null,null,null,"Region Hovedstaden"]
[null,"Albertslund",6084,"2019-01-01",29,18,0,11,21795,12465,"*",9330,33,4,123,0,8,112,3,null,null,null,3,31,0,31,3,31,"*",119,25,129,null,null,null,null,null,null,"Region Hovedstaden"]
[null,"Hvidovre",11771,"2019-01-01",27,15,"*","*",14196,5197,"*","*",40,10,201,"*","*",195,"*",null,null,null,6,28,"*",28,"*",28,"*",208,68,210,null,null,null,null,null,null,"Region Hovedstaden"]
[null,"Høje-Taastrup",10937,"2019-01-01",41,13,0,28,41227,17743,"*",23484,46,4,212,0,3,206,3,null,null,null,7,48,0,48,7,48,"*","*",47,211,null,null,null,null,null,null,"Region Hovedstaden"]
[null,"Lyngby-Taarbæk",11954,"2019-01-01",32,6,0,26,17319,4132,"*",13187,20,8,157,"*","*",151,"*",null,null,null,7,36,0,36,7,36,"*","*",25,149,null,null,null,null,null,null,"Region Hovedstaden"]
[null,"Rødovre",8546,"2019-01-01",21,"*","*",11,16247,"*","*",11515,40,6,156,"*","*",150,"*",null,null,null,"*",18,0,18,"*",18,"*",154,29,155,null,null,null,null,null,null,"Region Hovedstaden"]
[null,"Ishøj",5115,"2019-01-01",28,"*","*",23,19832,"*","*",12789,27,5,135,0,"*",132,"*",null,null,null,7,33,"*",33,"*",33,"*",129,33,129,null,null,null,null,null,null,"Region Hovedstaden"]
[null,"Tårnby",9501,"2019-01-01",10,"*","*","*",5708,"*","*","*",39,4,127,"*","*",122,"*",null,null,null,3,10,"*",10,"*",10,"*","*",27,123,null,null,null,null,null,null,"Region Hovedstaden"]
[null,"Vallensbæk",4007,"2019-01-01",4,"*",0,"*","*","*","*","*",5,"*",39,0,0,39,0,null,null,null,"*",4,0,4,"*",4,3,46,15,46,null,null,null,null,null,null,"Region Hovedstaden"]
[null,"Furesø",9624,"2019-01-01",9,3,0,6,5784,"*","*","*",31,5,179,"*","*","*","*",null,null,null,"*",8,0,8,"*",8,"*",155,25,155,null,null,null,null,null,null,"Region Hovedstaden"]
[null,"Allerød",6224,"2019-01-01",14,5,0,9,6199,1271,"*",4928,9,"*",72,0,0,72,0,null,null,null,"*",12,0,12,"*",12,"*",63,11,63,null,null,null,null,null,null,"Region Hovedstaden"]
[null,"Fredensborg",8770,"2019-01-01",24,12,"*","*",12732,8659,"*","*",20,3,161,"*","*",157,"*",null,null,null,8,31,"*",31,"*",31,"*",152,19,153,null,null,null,null,null,null,"Region Hovedstaden"]
[null,"Helsingør",12294,"2019-01-01",33,17,0,16,50553,24980,"*",25573,54,5,246,"*","*",233,"*",null,null,null,0,31,0,31,0,31,3,252,70,259,null,null,null,null,null,null,"Region Hovedstaden"]
[null,"Hillerød",11259,"2019-01-01",24,5,0,19,15547,1946,"*",13601,33,8,236,0,4,232,0,null,null,null,6,22,0,22,6,22,"*","*",53,243,null,null,null,null,null,null,"Region Hovedstaden"]
[null,"Hørsholm",5196,"2019-01-01",12,9,0,3,6352,"*","*","*",7,"*",37,"*","*","*","*",null,null,null,"*",7,0,7,"*",7,"*","*",6,34,null,null,null,null,null,null,"Region Hovedstaden"]
[null,"Rudersdal",12845,"2019-01-01",27,18,"*","*",22479,18366,"*","*",39,3,160,0,"*",156,"*",null,null,null,5,29,"*",29,"*",29,"*",190,68,195,null,null,null,null,null,null,"Region Hovedstaden"]
[null,"Egedal",10297,"2019-01-01",15,6,0,9,13608,3445,"*",10163,25,5,188,"*","*",184,"*",null,null,null,6,19,0,19,6,19,"*",195,39,196,null,null,null,null,null,null,"Region Hovedstaden"]
[null,"Frederikssund",9180,"2019-01-01",20,4,0,16,10734,"*","*","*",41,6,239,"*",7,226,"*",null,null,null,4,21,0,21,4,21,"*",183,27,195,null,null,null,null,null,null,"Region Hovedstaden"]
[null,"Greve",10995,"2019-01-01",30,"*","*",22,15728,"*","*",11009,38,3,210,7,"*",200,"*",null,null,null,8,31,0,31,8,31,6,221,67,225,null,null,null,null,null,null,"Region Sjælland"]
[null,"Køge",12836,"2019-01-01",37,17,0,20,20199,10367,"*",9832,70,8,273,"*",8,261,"*",null,null,null,6,37,"*",37,"*",37,"*",274,79,280,null,null,null,null,null,null,"Region Sjælland"]
[null,"Halsnæs",5681,"2019-01-01",50,30,3,17,24472,14834,"*","*",48,4,188,"*",4,180,"*",null,null,null,10,56,"*",56,"*",56,12,181,40,187,null,null,null,null,null,null,"Region Hovedstaden"]
[null,"Roskilde",18329,"2019-01-01",47,31,0,16,35555,23394,"*",12161,71,10,288,"*",4,280,"*",null,null,null,13,54,0,54,13,54,"*",238,71,242,null,null,null,null,null,null,"Region Sjælland"]
[null,"Solrød",5431,"2019-01-01",9,"*","*","*",5516,"*","*","*",12,3,54,"*","*","*","*",null,null,null,"*",9,0,9,"*",9,"*",53,8,53,null,null,null,null,null,null,"Region Sjælland"]
[null,"Gribskov",7741,"2019-01-01",26,20,0,6,22540,17525,"*",5015,22,9,228,4,"*",219,"*",null,null,null,3,26,0,26,3,26,"*","*",24,206,null,null,null,null,null,null,"Region Hovedstaden"]
[null,"Odsherred",5386,"2019-01-01",24,17,"*","*",18567,14222,"*","*",45,9,202,"*","*",189,"*",null,null,null,3,25,0,25,3,25,4,224,43,227,null,null,null,null,null,null,"Region Sjælland"]
[null,"Holbæk",14812,"2019-01-01",50,"*","*",40,40635,"*","*",28830,85,12,278,"*","*",272,"*",null,null,null,6,50,0,50,6,50,7,256,71,260,null,null,null,null,null,null,"Region Sjælland"]
[null,"Faxe",7138,"2019-01-01",29,10,0,19,17263,4601,"*",12662,53,14,227,0,3,221,3,null,null,null,6,30,0,30,6,30,4,208,39,213,null,null,null,null,null,null,"Region Sjælland"]
[null,"Kalundborg",9355,"2019-01-01",57,20,3,34,39648,"*","*",14579,86,15,175,0,"*",171,"*",null,null,null,12,56,"*",56,"*",56,"*",184,61,186,null,null,null,null,null,null,"Region Sjælland"]
[null,"Ringsted",7265,"2019-01-01",39,13,0,26,20238,10459,"*",9779,35,6,140,"*","*",136,"*",null,null,null,11,45,0,45,11,45,"*","*",41,152,null,null,null,null,null,null,"Region Sjælland"]
[null,"Slagelse",15016,"2019-01-01",62,18,0,44,40059,16450,"*",23609,134,14,326,"*",6,317,"*",null,null,null,14,64,3,64,11,64,"*",276,65,283,null,null,null,null,null,null,"Region Sjælland"]
[null,"Stevns",4261,"2019-01-01",16,8,0,8,16156,7686,"*",8470,26,7,133,"*","*",127,"*",null,null,null,4,19,0,19,4,19,"*","*",27,120,null,null,null,null,null,null,"Region Sjælland"]
[null,"Sorø",6271,"2019-01-01",11,8,"*","*",6701,5793,"*","*",31,8,257,"*","*",253,"*",null,null,null,3,8,0,8,3,8,6,267,53,273,null,null,null,null,null,null,"Region Sjælland"]
[null,"Lejre",6103,"2019-01-01",11,8,0,3,6029,"*","*","*",19,"*",75,"*","*",72,0,null,null,null,4,9,0,9,4,9,3,61,7,64,null,null,null,null,null,null,"Region Sjælland"]
[null,"Lolland",6693,"2019-01-01",34,"*","*",22,26023,"*","*",16487,164,17,236,"*",8,222,"*",null,null,null,9,41,"*",41,"*",41,"*",256,90,267,null,null,null,null,null,null,"Region Sjælland"]
[null,"Næstved",16384,"2019-01-01",94,"*","*",53,70178,"*","*",39871,83,6,256,"*",9,243,"*",null,null,null,19,98,3,98,16,98,"*",260,61,267,null,null,null,null,null,null,"Region Sjælland"]
[null,"Guldborgsund",10539,"2019-01-01",79,28,3,48,52081,"*","*",34863,135,9,294,"*",6,284,"*",null,null,null,14,79,"*",79,"*",79,"*",251,67,260,null,null,null,null,null,null,"Region Sjælland"]
[null,"Vordingborg",8115,"2019-01-01",61,12,0,49,42061,15730,"*",26331,100,7,61,"*",4,52,"*",null,null,null,9,60,"*",60,"*",60,"*","*",43,72,null,null,null,null,null,null,"Region Sjælland"]
[null,"Bornholm",6592,"2019-01-01",31,15,0,16,18790,13102,"*",5688,65,4,172,0,"*",169,"*",null,null,null,8,33,"*",33,"*",33,"*","*",25,174,null,null,null,null,null,null,"Region Hovedstaden"]
[null,"Middelfart",7913,"2019-01-01",18,11,0,7,10053,7136,"*",2917,48,4,166,0,4,162,0,null,null,null,4,20,0,20,4,20,"*",177,45,178,null,null,null,null,null,null,"Region Syddanmark"]
[null,"Assens",8384,"2019-01-01",14,4,0,10,17045,"*","*","*",98,8,153,0,0,153,0,null,null,null,3,14,0,14,3,14,"*",154,39,155,null,null,null,null,null,null,"Region Syddanmark"]
[null,"Faaborg-Midtfyn",10442,"2019-01-01",31,15,"*","*",24987,11877,"*","*",87,13,164,"*","*",156,"*",null,null,null,8,31,"*",31,"*",31,10,167,48,180,null,null,null,null,null,null,"Region Syddanmark"]
[null,"Kerteminde",4619,"2019-01-01",15,"*","*","*",15195,"*","*","*",23,10,61,"*","*","*","*",null,null,null,3,16,0,16,3,16,"*",56,9,58,null,null,null,null,null,null,"Region Syddanmark"]
[null,"Nyborg",6327,"2019-01-01",26,19,0,7,13119,8581,"*",4538,52,7,110,"*","*","*","*",null,null,null,"*",24,0,24,"*",24,"*",98,21,98,null,null,null,null,null,null,"Region Syddanmark"]
[null,"Odense",37956,"2019-01-01",156,77,4,75,143433,74100,"*","*",242,26,615,"*","*",604,"*",null,null,null,30,163,10,163,20,163,"*",784,329,791,null,null,null,null,null,null,"Region Syddanmark"]
[null,"Svendborg",11296,"2019-01-01",44,25,0,19,29006,10765,"*",18241,102,5,297,0,4,293,0,null,null,null,5,45,"*",45,"*",45,"*","*",40,243,null,null,null,null,null,null,"Region Syddanmark"]
[null,"Nordfyns",5941,"2019-01-01",15,11,0,4,10919,"*","*","*",27,3,109,0,4,102,3,null,null,null,"*",16,"*",16,"*",16,"*","*",15,80,null,null,null,null,null,null,"Region Syddanmark"]
[null,"Langeland",1769,"2019-01-01",14,11,0,3,16017,"*","*","*",31,4,66,"*","*","*","*",null,null,null,5,16,"*",16,"*",16,3,67,17,70,null,null,null,null,null,null,"Region Syddanmark"]
[null,"Ærø",826,"2019-01-01","*","*",0,"*","*","*","*","*","*","*",15,0,0,15,0,null,null,null,"*","*","*","*","*","*",0,10,"*",10,null,null,null,null,null,null,"Region Syddanmark"]
[null,"Haderslev",11068,"2019-01-01",30,"*","*",22,20436,"*","*",12507,149,16,219,"*","*",212,"*",null,null,null,6,31,0,31,6,31,"*",215,78,221,null,null,null,null,null,null,"Region Syddanmark"]
[null,"Billund",5650,"2019-01-01",21,"*","*",13,4220,"*","*",2799,50,6,156,0,0,156,0,null,null,null,5,16,0,16,5,16,"*","*",43,164,null,null,null,null,null,null,"Region Syddanmark"]
[null,"Sønderborg",14419,"2019-01-01",30,19,"*","*",18598,14913,"*","*",94,6,321,"*","*",317,"*",null,null,null,3,24,0,24,3,24,"*","*",80,327,null,null,null,null,null,null,"Region Syddanmark"]
[null,"Tønder",7208,"2019-01-01",17,"*","*","*",8681,"*","*","*",91,9,236,"*","*","*","*",null,null,null,9,22,3,22,6,22,"*","*",38,223,null,null,null,null,null,null,"Region Syddanmark"]
[null,"Esbjerg",23010,"2019-01-01",130,73,"*","*",122237,73821,"*","*",114,21,951,0,"*",947,"*",null,null,null,17,123,0,123,17,123,"*","*",90,960,null,null,null,null,null,null,"Region Syddanmark"]
[null,"Fanø",617,"2019-01-01","*","*",0,"*","*","*","*","*","*","*",6,"*","*","*","*",null,null,null,"*","*","*","*","*","*","*",7,"*",7,null,null,null,null,null,null,"Region Syddanmark"]
[null,"Varde",10318,"2019-01-01",13,"*","*",8,11005,"*","*",2532,62,18,442,0,0,442,0,null,null,null,5,14,0,14,5,14,3,426,110,426,null,null,null,null,null,null,"Region Syddanmark"]
[null,"Vejen",9259,"2019-01-01",24,6,0,18,19595,9194,"*",10401,74,7,128,"*","*","*","*",null,null,null,9,30,0,30,9,30,"*",125,39,126,null,null,null,null,null,null,"Region Syddanmark"]
[null,"Aabenraa",11821,"2019-01-01",30,21,"*","*",27279,21992,"*","*",110,6,326,"*","*",323,0,null,null,null,7,30,"*",30,"*",30,"*",341,89,343,null,null,null,null,null,null,"Region Syddanmark"]
[null,"Fredericia",10470,"2019-01-01",15,7,0,8,10228,5340,"*",4888,79,12,280,"*","*",274,"*",null,null,null,"*",13,"*",13,"*",13,"*","*",48,264,null,null,null,null,null,null,"Region Syddanmark"]
[null,"Horsens",19284,"2019-01-01",52,"*","*",41,27761,"*","*",13537,117,19,438,"*","*",430,5,null,null,null,16,52,3,52,13,52,"*","*",112,454,null,null,null,null,null,null,"Region Midtjylland"]
[null,"Kolding",19872,"2019-01-01",31,19,"*","*",18012,12072,"*","*",116,15,308,0,"*",305,"*",null,null,null,7,30,"*",30,"*",30,"*","*",89,305,null,null,null,null,null,null,"Region Syddanmark"]
[null,"Vejle",24938,"2019-01-01",44,36,"*","*",22628,20007,"*","*",159,25,557,"*","*",545,8,null,null,null,8,38,3,38,5,38,"*",569,155,571,null,null,null,null,null,null,"Region Syddanmark"]
[null,"Herning",19014,"2019-01-01",17,14,0,3,14124,"*","*","*",122,13,286,0,4,282,0,null,null,null,4,16,0,16,4,16,"*","*",90,293,null,null,null,null,null,null,"Region Midtjylland"]
[null,"Holstebro",12574,"2019-01-01",29,18,"*","*",30564,21668,"*","*",83,18,285,0,3,245,37,null,null,null,8,33,"*",33,"*",33,"*",277,89,278,null,null,null,null,null,null,"Region Midtjylland"]
[null,"Lemvig",3700,"2019-01-01",10,"*","*",5,11963,"*","*",3687,33,4,34,"*","*","*","*",null,null,null,"*",9,0,9,"*",9,"*",35,16,39,null,null,null,null,null,null,"Region Midtjylland"]
[null,"Struer",4096,"2019-01-01",10,4,0,6,4373,"*","*","*",45,3,107,0,0,107,0,null,null,null,"*",10,0,10,"*",10,5,110,26,110,null,null,null,null,null,null,"Region Midtjylland"]
[null,"Syddjurs",8456,"2019-01-01",11,"*","*",6,4172,"*","*",2375,52,8,314,"*","*",311,"*",null,null,null,4,12,0,12,4,12,"*",234,29,238,null,null,null,null,null,null,"Region Midtjylland"]
[null,"Norddjurs",6733,"2019-01-01",41,31,"*","*",44690,34050,"*","*",76,10,253,"*","*",246,"*",null,null,null,4,42,0,42,4,42,"*",229,27,231,null,null,null,null,null,null,"Region Midtjylland"]
[null,"Favrskov",11708,"2019-01-01",33,24,0,9,25457,21456,"*",4001,56,3,120,"*","*",116,"*",null,null,null,10,36,3,36,7,36,"*","*",27,121,null,null,null,null,null,null,"Region Midtjylland"]
[null,"Odder",4832,"2019-01-01",9,5,0,4,6653,"*","*","*",14,6,133,0,0,133,0,null,null,null,"*",10,0,10,"*",10,"*",122,24,123,null,null,null,null,null,null,"Region Midtjylland"]
[null,"Randers",19642,"2019-01-01",27,18,3,6,20585,14691,"*","*",148,16,387,"*","*",376,6,null,null,null,7,31,0,31,7,31,7,352,106,356,null,null,null,null,null,null,"Region Midtjylland"]
[null,"Silkeborg",20697,"2019-01-01",23,14,"*","*",28246,21690,"*","*",96,12,469,"*","*",465,"*",null,null,null,"*",16,0,16,"*",16,"*","*",107,399,null,null,null,null,null,null,"Region Midtjylland"]
[null,"Samsø",549,"2019-01-01","*",0,0,"*","*","*","*","*",7,"*",13,"*","*","*","*",null,null,null,"*","*","*","*","*","*","*",8,5,10,null,null,null,null,null,null,"Region Midtjylland"]
[null,"Skanderborg",15530,"2019-01-01",18,7,0,11,16163,4385,"*",11778,53,8,193,"*","*","*","*",null,null,null,3,16,0,16,3,16,"*",196,37,198,null,null,null,null,null,null,"Region Midtjylland"]
[null,"Aarhus",63607,"2019-01-01",173,116,10,47,144862,110606,1195,33061,253,23,1295,3,7,1274,11,null,null,null,28,166,"*",166,"*",166,31,1181,308,1193,null,null,null,null,null,null,"Region Midtjylland"]
[null,"Ikast-Brande",9139,"2019-01-01",15,11,0,4,8042,"*","*","*",50,14,187,0,3,184,0,null,null,null,7,21,"*",21,"*",21,"*","*",24,124,null,null,null,null,null,null,"Region Midtjylland"]
[null,"Ringkøbing-Skjern",12212,"2019-01-01",37,24,"*","*",43084,38156,"*","*",92,7,290,"*","*","*","*",null,null,null,5,36,0,36,5,36,3,266,43,266,null,null,null,null,null,null,"Region Midtjylland"]
[null,"Hedensted",10385,"2019-01-01",48,8,0,40,39383,14727,"*",24656,26,4,196,"*","*",189,"*",null,null,null,13,55,"*",55,"*",55,"*",212,50,212,null,null,null,null,null,null,"Region Midtjylland"]
[null,"Morsø",3855,"2019-01-01",8,5,0,3,6087,"*","*","*",44,"*",78,0,0,78,0,null,null,null,"*",5,0,5,"*",5,"*",81,22,81,null,null,null,null,null,null,"Region Nordjylland"]
[null,"Skive",8928,"2019-01-01",20,12,"*","*",23829,19161,"*","*",58,12,197,0,"*",193,"*",null,null,null,4,22,0,22,4,22,"*","*",31,176,null,null,null,null,null,null,"Region Midtjylland"]
[null,"Thisted",8761,"2019-01-01",26,19,"*","*",21246,15892,"*","*",67,8,208,"*",3,202,"*",null,null,null,5,31,0,31,5,31,"*","*",59,234,null,null,null,null,null,null,"Region Nordjylland"]
[null,"Viborg",21190,"2019-01-01",31,23,"*","*",43760,37218,"*","*",137,18,364,3,5,352,4,null,null,null,14,43,"*",43,"*",43,"*","*",66,303,null,null,null,null,null,null,"Region Midtjylland"]
[null,"Brønderslev",7856,"2019-01-01",26,"*","*",18,27567,"*","*",19535,109,7,163,0,"*",160,"*",null,null,null,5,27,0,27,5,27,"*","*",51,173,null,null,null,null,null,null,"Region Nordjylland"]
[null,"Frederikshavn",10570,"2019-01-01",44,23,0,21,20067,13735,"*",6332,117,15,310,"*","*",305,"*",null,null,null,3,32,"*",32,"*",32,"*",278,56,279,null,null,null,null,null,null,"Region Nordjylland"]
[null,"Vesthimmerlands",7438,"2019-01-01",32,7,0,25,19369,2366,"*",17003,77,5,204,"*","*",200,0,null,null,null,6,34,"*",34,"*",34,"*","*",112,247,null,null,null,null,null,null,"Region Nordjylland"]
[null,"Læsø",234,"2019-01-01","*","*",0,0,"*","*","*","*",0,0,7,0,0,7,0,null,null,null,"*","*","*","*","*","*",0,4,0,4,null,null,null,null,null,null,"Region Nordjylland"]
[null,"Rebild",7145,"2019-01-01",11,8,0,3,13134,"*","*","*",30,4,95,0,0,90,5,null,null,null,"*",12,0,12,"*",12,"*",80,17,80,null,null,null,null,null,null,"Region Nordjylland"]
[null,"Mariagerfjord",8297,"2019-01-01",34,11,0,23,41633,17530,"*",24103,76,8,199,5,0,194,0,null,null,null,4,37,0,37,4,37,"*",157,55,159,null,null,null,null,null,null,"Region Nordjylland"]
[null,"Jammerbugt",7816,"2019-01-01",37,"*","*",22,29001,"*","*",18331,73,4,199,"*","*","*","*",null,null,null,3,32,0,32,3,32,4,182,46,185,null,null,null,null,null,null,"Region Nordjylland"]
[null,"Aalborg",39053,"2019-01-01",123,75,"*","*",108128,70299,"*","*",297,44,911,0,0,900,11,null,null,null,28,133,"*",133,"*",133,18,827,194,830,null,null,null,null,null,null,"Region Nordjylland"]
[null,"Hjørring",12621,"2019-01-01",40,21,"*","*",29970,19611,"*","*",151,11,242,"*","*","*","*",null,null,null,6,37,"*",37,"*",37,9,247,66,247,null,null,null,null,null,null,"Region Nordjylland"]
[null,"København",110138,"2019-07-01",195,155,4,36,158572,110718,"*","*",326,108,2143,9,9,2122,3,null,null,null,51,206,4,206,47,206,47,2133,550,2166,null,null,null,null,null,null,"Region Hovedstaden"]
[null,"Frederiksberg",18392,"2019-07-01",53,41,"*","*",23281,20886,"*","*",42,12,166,"*","*",159,3,null,null,null,10,53,0,53,10,53,"*",147,58,148,null,null,null,null,null,null,"Region Hovedstaden"]
[null,"Ballerup",10258,"2019-07-01",32,20,0,12,18238,10069,"*",8169,35,8,337,"*","*",332,"*",null,null,null,5,35,0,35,5,35,"*",346,64,348,null,null,null,null,null,null,"Region Hovedstaden"]
[null,"Brøndby",7343,"2019-07-01",33,16,0,17,16628,8725,"*",7903,41,6,87,"*","*","*","*",null,null,null,5,31,0,31,5,31,"*",79,14,80,null,null,null,null,null,null,"Region Hovedstaden"]
[null,"Dragør",3275,"2019-07-01",8,"*","*","*",3283,"*","*","*",4,0,44,0,0,44,0,null,null,null,0,7,0,7,0,7,"*",54,18,56,null,null,null,null,null,null,"Region Hovedstaden"]
[null,"Gentofte",16801,"2019-07-01",39,25,0,14,24548,16952,"*",7596,25,3,175,"*","*","*","*",null,null,null,4,37,0,37,4,37,"*","*",76,208,null,null,null,null,null,null,"Region Hovedstaden"]
[null,"Gladsaxe",15347,"2019-07-01",25,"*","*",14,24067,"*","*",14075,44,13,179,0,3,176,0,null,null,null,5,29,"*",29,"*",29,"*","*",66,224,null,null,null,null,null,null,"Region Hovedstaden"]
[null,"Glostrup",4623,"2019-07-01",5,5,0,0,3243,3243,"*","*",19,4,61,0,0,61,0,null,null,null,"*",6,0,6,"*",6,"*",50,10,50,null,null,null,null,null,null,"Region Hovedstaden"]
[null,"Herlev",6487,"2019-07-01",22,14,0,8,18266,14029,"*",4237,19,7,172,0,"*",168,"*",null,null,null,6,28,"*",28,"*",28,"*","*",18,163,null,null,null,null,null,null,"Region Hovedstaden"]
[null,"Albertslund",5980,"2019-07-01",28,18,0,10,22755,12344,"*",10411,33,4,101,0,4,94,3,null,null,null,3,29,0,29,3,29,4,115,48,123,null,null,null,null,null,null,"Region Hovedstaden"]
[null,"Hvidovre",11774,"2019-07-01",28,19,"*","*",13785,5959,"*","*",42,10,213,"*","*","*","*",null,null,null,6,27,0,27,6,27,"*",199,59,201,null,null,null,null,null,null,"Region Hovedstaden"]
[null,"Høje-Taastrup",10936,"2019-07-01",40,13,0,27,46267,19233,"*",27034,46,4,234,"*","*",230,"*",null,null,null,"*",41,0,41,"*",41,"*",209,51,212,null,null,null,null,null,null,"Region Hovedstaden"]
[null,"Lyngby-Taarbæk",11935,"2019-07-01",28,"*","*","*",13249,"*","*","*",22,5,135,0,5,130,0,null,null,null,9,32,"*",32,"*",32,"*","*",46,157,null,null,null,null,null,null,"Region Hovedstaden"]
[null,"Rødovre",8656,"2019-07-01",20,"*","*",10,17405,"*","*",11973,37,7,161,0,0,155,6,null,null,null,4,21,"*",21,"*",21,"*",154,34,156,null,null,null,null,null,null,"Region Hovedstaden"]
[null,"Ishøj",5099,"2019-07-01",24,4,0,20,23493,"*","*","*",25,5,149,"*","*","*","*",null,null,null,4,28,"*",28,"*",28,"*","*",34,135,null,null,null,null,null,null,"Region Hovedstaden"]
[null,"Tårnby",9517,"2019-07-01",13,4,0,9,7794,"*","*","*",34,"*",118,"*","*","*","*",null,null,null,0,10,0,10,0,10,"*","*",50,127,null,null,null,null,null,null,"Region Hovedstaden"]
[null,"Vallensbæk",3999,"2019-07-01",4,"*",0,"*","*","*","*","*",5,0,37,0,0,37,0,null,null,null,0,4,0,4,0,4,0,39,9,39,null,null,null,null,null,null,"Region Hovedstaden"]
[null,"Furesø",9653,"2019-07-01",7,3,0,4,4832,"*","*","*",30,4,197,"*","*",194,"*",null,null,null,3,9,"*",9,"*",9,"*",179,46,179,null,null,null,null,null,null,"Region Hovedstaden"]
[null,"Allerød",6181,"2019-07-01",14,4,0,10,7896,"*","*","*",7,"*",78,0,0,78,0,null,null,null,"*",14,0,14,"*",14,"*",72,11,72,null,null,null,null,null,null,"Region Hovedstaden"]
[null,"Fredensborg",8728,"2019-07-01",22,"*","*",11,13319,"*","*",4641,19,"*",152,"*","*",147,"*",null,null,null,6,24,0,24,6,24,"*",160,25,161,null,null,null,null,null,null,"Region Hovedstaden"]
[null,"Helsingør",12239,"2019-07-01",33,17,"*","*",50259,26316,"*","*",56,4,262,"*","*",253,"*",null,null,null,5,33,0,33,5,33,"*",245,57,246,null,null,null,null,null,null,"Region Hovedstaden"]
[null,"Hillerød",11242,"2019-07-01",21,3,0,18,14133,"*","*","*",31,7,246,"*","*",242,"*",null,null,null,5,24,"*",24,"*",24,4,232,32,236,null,null,null,null,null,null,"Region Hovedstaden"]
[null,"Hørsholm",5176,"2019-07-01",13,10,0,3,8027,"*","*","*",9,"*",39,"*","*","*","*",null,null,null,"*",12,"*",12,0,12,"*",36,7,37,null,null,null,null,null,null,"Region Hovedstaden"]
[null,"Rudersdal",12762,"2019-07-01",29,21,"*","*",24500,20136,"*","*",41,"*",152,"*","*",146,"*",null,null,null,3,27,"*",27,"*",27,"*","*",47,160,null,null,null,null,null,null,"Region Hovedstaden"]
[null,"Egedal",10266,"2019-07-01",12,4,0,8,13341,"*","*","*",26,4,150,0,3,147,0,null,null,null,4,15,"*",15,"*",15,"*",187,65,188,null,null,null,null,null,null,"Region Hovedstaden"]
[null,"Frederikssund",9057,"2019-07-01",20,3,0,17,11050,"*","*","*",43,4,262,"*","*",250,6,null,null,null,4,20,0,20,4,20,"*",230,47,239,null,null,null,null,null,null,"Region Hovedstaden"]
[null,"Greve",11018,"2019-07-01",32,"*","*",19,16593,"*","*",11053,40,"*",214,"*","*",209,"*",null,null,null,7,30,"*",30,"*",30,"*","*",42,210,null,null,null,null,null,null,"Region Sjælland"]
[null,"Køge",12697,"2019-07-01",34,16,0,18,20660,11209,"*",9451,72,9,236,"*","*",231,"*",null,null,null,7,37,0,37,7,37,"*","*",91,273,null,null,null,null,null,null,"Region Sjælland"]
[null,"Halsnæs",5612,"2019-07-01",42,26,"*","*",26109,17481,"*","*",46,3,168,"*","*",160,"*",null,null,null,9,50,0,50,9,50,"*","*",51,188,null,null,null,null,null,null,"Region Hovedstaden"]
[null,"Roskilde",18270,"2019-07-01",39,25,0,14,30727,22365,"*",8362,74,8,337,"*",6,327,"*",null,null,null,12,47,0,47,12,47,"*","*",71,288,null,null,null,null,null,null,"Region Sjælland"]
[null,"Solrød",5469,"2019-07-01",10,3,0,7,4994,"*","*","*",11,5,48,"*","*","*","*",null,null,null,0,9,0,9,0,9,"*",53,15,54,null,null,null,null,null,null,"Region Sjælland"]
[null,"Gribskov",7646,"2019-07-01",23,19,0,4,22570,"*","*","*",21,8,265,4,"*",257,"*",null,null,null,4,26,0,26,4,26,"*","*",37,228,null,null,null,null,null,null,"Region Hovedstaden"]
[null,"Odsherred",5341,"2019-07-01",29,21,"*","*",22481,17499,"*","*",45,11,199,"*","*",189,"*",null,null,null,"*",24,0,24,"*",24,"*",200,43,202,null,null,null,null,null,null,"Region Sjælland"]
[null,"Holbæk",14633,"2019-07-01",43,"*","*",33,40159,"*","*",28441,92,12,275,"*","*",269,"*",null,null,null,10,50,"*",50,"*",50,"*","*",64,278,null,null,null,null,null,null,"Region Sjælland"]
[null,"Faxe",7068,"2019-07-01",39,14,0,25,21098,6525,"*",14573,49,15,236,"*",3,229,"*",null,null,null,"*",29,"*",29,"*",29,12,224,47,227,null,null,null,null,null,null,"Region Sjælland"]
[null,"Kalundborg",9236,"2019-07-01",61,"*","*",38,44361,"*","*",19464,80,12,158,0,3,152,3,null,null,null,11,57,0,57,11,57,"*","*",56,175,null,null,null,null,null,null,"Region Sjælland"]
[null,"Ringsted",7190,"2019-07-01",41,"*","*",26,18397,"*","*",9106,33,7,121,"*","*","*","*",null,null,null,9,39,0,39,9,39,"*","*",61,140,null,null,null,null,null,null,"Region Sjælland"]
[null,"Slagelse",14928,"2019-07-01",70,"*","*",50,43879,"*","*",25364,128,11,341,"*",4,334,"*",null,null,null,9,62,0,62,9,62,"*","*",104,326,null,null,null,null,null,null,"Region Sjælland"]
[null,"Stevns",4279,"2019-07-01",20,11,0,9,17394,9344,"*",8050,25,6,125,0,3,122,0,null,null,null,0,16,0,16,0,16,"*","*",38,133,null,null,null,null,null,null,"Region Sjælland"]
[null,"Sorø",6229,"2019-07-01",10,7,"*","*",8003,6744,"*","*",32,9,283,0,3,280,0,null,null,null,"*",11,0,11,"*",11,"*","*",63,257,null,null,null,null,null,null,"Region Sjælland"]
[null,"Lejre",6110,"2019-07-01",13,6,0,7,6099,5050,"*",1049,19,"*",106,"*","*","*","*",null,null,null,"*",11,0,11,"*",11,3,72,11,75,null,null,null,null,null,null,"Region Sjælland"]
[null,"Lolland",6625,"2019-07-01",34,"*","*",22,25880,"*","*",14953,164,17,252,4,6,239,3,null,null,null,4,34,"*",34,"*",34,"*",226,92,236,null,null,null,null,null,null,"Region Sjælland"]
[null,"Næstved",16234,"2019-07-01",91,"*","*",49,77791,"*","*",42735,80,7,312,3,10,296,3,null,null,null,12,94,"*",94,"*",94,"*",246,50,256,null,null,null,null,null,null,"Region Sjælland"]
[null,"Guldborgsund",10472,"2019-07-01",82,"*","*",50,51653,"*","*",33448,136,8,293,"*",5,283,"*",null,null,null,9,79,"*",79,"*",79,"*","*",79,294,null,null,null,null,null,null,"Region Sjælland"]
[null,"Vordingborg",8028,"2019-07-01",64,12,0,52,50736,17320,"*",33416,96,7,93,"*",3,86,"*",null,null,null,5,61,0,61,5,61,"*","*",22,61,null,null,null,null,null,null,"Region Sjælland"]
[null,"Bornholm",6593,"2019-07-01",28,13,0,15,13956,9068,"*",4888,67,4,157,0,"*",154,"*",null,null,null,8,31,0,31,8,31,"*","*",30,172,null,null,null,null,null,null,"Region Hovedstaden"]
[null,"Middelfart",7882,"2019-07-01",17,11,0,6,7469,5029,"*",2440,46,3,180,"*","*","*","*",null,null,null,5,18,"*",18,"*",18,"*",162,61,166,null,null,null,null,null,null,"Region Syddanmark"]
[null,"Assens",8287,"2019-07-01",22,"*","*",11,19099,"*","*",12789,96,7,181,"*","*","*","*",null,null,null,"*",14,0,14,"*",14,5,153,32,153,null,null,null,null,null,null,"Region Syddanmark"]
[null,"Faaborg-Midtfyn",10369,"2019-07-01",39,"*","*",23,29854,"*","*",15985,87,12,213,0,5,208,0,null,null,null,5,31,"*",31,"*",31,"*",156,54,164,null,null,null,null,null,null,"Region Syddanmark"]
[null,"Kerteminde",4602,"2019-07-01",13,10,0,3,13209,"*","*","*",23,10,88,"*","*","*","*",null,null,null,3,15,0,15,3,15,"*",60,11,61,null,null,null,null,null,null,"Region Syddanmark"]
[null,"Nyborg",6256,"2019-07-01",23,15,"*","*",14930,9102,"*","*",54,7,97,"*","*","*","*",null,null,null,4,26,"*",26,"*",26,"*",110,41,110,null,null,null,null,null,null,"Region Syddanmark"]
[null,"Odense",37874,"2019-07-01",158,85,4,69,132356,68717,"*","*",243,29,1123,3,9,1108,3,null,null,null,34,156,"*",156,"*",156,"*","*",133,615,null,null,null,null,null,null,"Region Syddanmark"]
[null,"Svendborg",11201,"2019-07-01",44,28,0,16,25519,13650,"*",11869,100,6,247,0,6,241,0,null,null,null,11,44,"*",44,"*",44,15,293,109,297,null,null,null,null,null,null,"Region Syddanmark"]
[null,"Nordfyns",5870,"2019-07-01",19,11,0,8,12638,7829,"*",4809,29,"*",128,"*","*",121,"*",null,null,null,3,15,"*",15,"*",15,8,105,35,109,null,null,null,null,null,null,"Region Syddanmark"]
[null,"Langeland",1747,"2019-07-01",14,"*","*","*",11376,"*","*","*",35,4,60,"*","*","*","*",null,null,null,3,14,"*",14,"*",14,"*",64,24,66,null,null,null,null,null,null,"Region Syddanmark"]
[null,"Ærø",824,"2019-07-01",3,"*",0,"*","*","*","*","*","*","*",10,0,0,10,0,null,null,null,"*","*","*","*","*","*","*",15,5,15,null,null,null,null,null,null,"Region Syddanmark"]
[null,"Haderslev",10976,"2019-07-01",31,"*","*",21,20060,"*","*",12333,149,20,181,0,8,170,3,null,null,null,7,30,0,30,7,30,"*","*",91,219,null,null,null,null,null,null,"Region Syddanmark"]
[null,"Billund",5639,"2019-07-01",21,"*","*",11,6720,"*","*",3690,46,8,159,"*","*","*","*",null,null,null,4,21,0,21,4,21,5,156,36,156,null,null,null,null,null,null,"Region Syddanmark"]
[null,"Sønderborg",14226,"2019-07-01",26,17,"*","*",21446,16866,"*","*",96,8,326,0,6,320,0,null,null,null,7,30,"*",30,"*",30,"*","*",52,321,null,null,null,null,null,null,"Region Syddanmark"]
[null,"Tønder",7155,"2019-07-01",11,"*","*","*",5747,"*","*","*",96,9,233,"*","*","*","*",null,null,null,7,17,"*",17,"*",17,"*",234,43,236,null,null,null,null,null,null,"Region Syddanmark"]
[null,"Esbjerg",22855,"2019-07-01",141,75,"*","*",123022,71737,"*","*",121,23,570,"*","*",564,"*",null,null,null,11,130,"*",130,"*",130,"*","*",446,951,null,null,null,null,null,null,"Region Syddanmark"]
[null,"Fanø",629,"2019-07-01","*","*",0,0,"*","*","*","*","*","*",7,0,3,4,0,null,null,null,"*","*","*","*","*","*","*",5,"*",6,null,null,null,null,null,null,"Region Syddanmark"]
[null,"Varde",10300,"2019-07-01",12,3,0,9,9335,"*","*","*",66,17,457,0,0,457,0,null,null,null,3,13,0,13,3,13,5,442,118,442,null,null,null,null,null,null,"Region Syddanmark"]
[null,"Vejen",9134,"2019-07-01",24,6,0,18,20893,10280,"*",10613,71,8,109,"*","*","*","*",null,null,null,4,24,0,24,4,24,"*",128,32,128,null,null,null,null,null,null,"Region Syddanmark"]
[null,"Aabenraa",11685,"2019-07-01",29,25,"*","*",22208,21330,"*","*",111,4,323,"*","*",319,"*",null,null,null,10,30,0,30,10,30,15,323,74,326,null,null,null,null,null,null,"Region Syddanmark"]
[null,"Fredericia",10413,"2019-07-01",16,5,0,11,7565,3151,"*",4414,75,11,263,0,4,259,0,null,null,null,"*",15,0,15,"*",15,"*","*",100,280,null,null,null,null,null,null,"Region Syddanmark"]
[null,"Horsens",19337,"2019-07-01",54,10,0,44,29550,15850,"*",13700,120,17,451,"*","*",444,"*",null,null,null,13,52,0,52,13,52,12,435,103,438,null,null,null,null,null,null,"Region Midtjylland"]
[null,"Kolding",19861,"2019-07-01",25,16,"*","*",18624,11688,"*","*",112,14,316,"*","*","*","*",null,null,null,8,31,"*",31,"*",31,"*","*",92,308,null,null,null,null,null,null,"Region Syddanmark"]
[null,"Vejle",24934,"2019-07-01",46,35,"*","*",21473,17966,"*","*",171,22,417,"*","*",405,8,null,null,null,14,44,3,44,11,44,19,553,269,557,null,null,null,null,null,null,"Region Syddanmark"]
[null,"Herning",18894,"2019-07-01",19,14,0,5,15254,14460,"*",794,123,12,294,"*","*",290,"*",null,null,null,5,17,0,17,5,17,8,282,88,286,null,null,null,null,null,null,"Region Midtjylland"]
[null,"Holstebro",12536,"2019-07-01",28,18,"*","*",31556,22429,"*","*",86,15,279,"*","*",246,"*",null,null,null,8,29,3,29,5,29,"*",282,88,285,null,null,null,null,null,null,"Region Midtjylland"]
[null,"Lemvig",3631,"2019-07-01",7,4,0,3,12619,"*","*","*",32,3,80,0,"*",77,"*",null,null,null,3,10,"*",10,"*",10,"*",33,4,34,null,null,null,null,null,null,"Region Midtjylland"]
[null,"Struer",4039,"2019-07-01",8,4,0,4,4261,"*","*","*",43,3,110,0,0,110,0,null,null,null,3,10,0,10,3,10,3,107,26,107,null,null,null,null,null,null,"Region Midtjylland"]
[null,"Syddjurs",8408,"2019-07-01",13,"*","*",8,5345,"*","*",2643,61,8,320,"*","*","*","*",null,null,null,0,11,0,11,0,11,"*","*",71,314,null,null,null,null,null,null,"Region Midtjylland"]
[null,"Norddjurs",6574,"2019-07-01",38,27,"*","*",32719,23172,"*","*",80,9,240,"*","*",236,"*",null,null,null,13,41,"*",41,"*",41,"*",252,82,253,null,null,null,null,null,null,"Region Midtjylland"]
[null,"Favrskov",11602,"2019-07-01",33,25,"*","*",17300,12104,"*","*",62,"*",136,0,"*",133,"*",null,null,null,"*",33,"*",33,"*",33,"*","*",20,120,null,null,null,null,null,null,"Region Midtjylland"]
[null,"Odder",4811,"2019-07-01",13,4,0,9,7346,"*","*","*",13,7,98,0,0,98,0,null,null,null,"*",9,0,9,"*",9,3,133,58,133,null,null,null,null,null,null,"Region Midtjylland"]
[null,"Randers",19599,"2019-07-01",32,20,3,9,24167,17138,"*","*",137,17,374,"*","*",361,6,null,null,null,3,27,0,27,3,27,12,382,101,387,null,null,null,null,null,null,"Region Midtjylland"]
[null,"Silkeborg",20693,"2019-07-01",22,15,0,7,27760,24004,"*",3756,95,8,469,0,3,466,0,null,null,null,3,23,0,23,3,23,"*","*",122,469,null,null,null,null,null,null,"Region Midtjylland"]
[null,"Samsø",541,"2019-07-01","*",0,0,"*","*","*","*","*",7,"*",12,"*","*","*","*",null,null,null,"*","*","*","*","*","*","*",11,5,13,null,null,null,null,null,null,"Region Midtjylland"]
[null,"Skanderborg",15584,"2019-07-01",18,6,0,12,14476,4940,"*",9536,48,7,180,"*","*","*","*",null,null,null,4,18,0,18,4,18,"*",191,48,193,null,null,null,null,null,null,"Region Midtjylland"]
[null,"Aarhus",63704,"2019-07-01",173,122,8,43,158343,122426,2404,33513,252,23,1286,0,5,1273,8,null,null,null,25,173,0,173,25,173,23,1285,377,1295,null,null,null,null,null,null,"Region Midtjylland"]
[null,"Ikast-Brande",9024,"2019-07-01",10,7,0,3,7802,"*","*","*",56,15,132,"*","*","*","*",null,null,null,5,15,"*",15,"*",15,3,184,52,187,null,null,null,null,null,null,"Region Midtjylland"]
[null,"Ringkøbing-Skjern",12031,"2019-07-01",36,20,"*","*",35731,30780,"*","*",97,7,214,"*","*","*","*",null,null,null,7,37,"*",37,"*",37,"*",290,141,290,null,null,null,null,null,null,"Region Midtjylland"]
[null,"Hedensted",10260,"2019-07-01",44,11,0,33,33756,12669,"*",21087,24,3,202,"*","*",196,"*",null,null,null,13,48,"*",48,"*",48,"*",195,60,196,null,null,null,null,null,null,"Region Midtjylland"]
[null,"Morsø",3813,"2019-07-01",5,"*","*","*",2199,"*","*","*",43,4,81,"*","*","*","*",null,null,null,4,8,"*",8,"*",8,5,78,17,78,null,null,null,null,null,null,"Region Nordjylland"]
[null,"Skive",8842,"2019-07-01",22,12,"*","*",26487,20370,"*","*",56,13,146,"*","*",142,"*",null,null,null,"*",20,0,20,"*",20,"*","*",79,197,null,null,null,null,null,null,"Region Midtjylland"]
[null,"Thisted",8685,"2019-07-01",24,18,0,6,21216,17957,"*",3259,66,8,211,"*",5,203,"*",null,null,null,4,26,"*",26,"*",26,"*","*",56,208,null,null,null,null,null,null,"Region Nordjylland"]
[null,"Viborg",21013,"2019-07-01",32,23,3,6,44262,37956,"*","*",141,17,258,"*",6,247,"*",null,null,null,5,31,0,31,5,31,15,356,215,364,null,null,null,null,null,null,"Region Midtjylland"]
[null,"Brønderslev",7857,"2019-07-01",20,5,0,15,21384,3574,"*",17810,112,7,169,"*","*","*","*",null,null,null,7,26,"*",26,"*",26,"*","*",43,163,null,null,null,null,null,null,"Region Nordjylland"]
[null,"Frederikshavn",10436,"2019-07-01",46,25,0,21,23009,13432,"*",9577,117,15,325,0,"*",322,"*",null,null,null,5,44,"*",44,"*",44,"*","*",59,310,null,null,null,null,null,null,"Region Nordjylland"]
[null,"Vesthimmerlands",7331,"2019-07-01",31,10,0,21,20122,3692,"*",16430,75,6,195,3,3,189,0,null,null,null,5,32,0,32,5,32,6,200,65,204,null,null,null,null,null,null,"Region Nordjylland"]
[null,"Læsø",236,"2019-07-01","*","*",0,0,"*","*","*","*",0,0,5,0,0,5,0,null,null,null,"*","*","*","*","*","*",0,7,"*",7,null,null,null,null,null,null,"Region Nordjylland"]
[null,"Rebild",7172,"2019-07-01",13,10,0,3,12166,"*","*","*",32,6,81,0,0,77,4,null,null,null,"*",11,0,11,"*",11,4,95,40,95,null,null,null,null,null,null,"Region Nordjylland"]
[null,"Mariagerfjord",8160,"2019-07-01",29,"*","*",16,35695,"*","*",17131,78,7,171,"*","*",167,0,null,null,null,8,34,"*",34,"*",34,7,194,65,199,null,null,null,null,null,null,"Region Nordjylland"]
[null,"Jammerbugt",7804,"2019-07-01",37,11,0,26,28350,10879,"*",17471,74,"*",199,"*","*",193,"*",null,null,null,7,37,0,37,7,37,"*",198,31,199,null,null,null,null,null,null,"Region Nordjylland"]
[null,"Aalborg",39091,"2019-07-01",127,71,"*","*",105124,71956,"*","*",294,43,949,0,0,935,14,null,null,null,22,123,"*",123,"*",123,22,911,169,911,null,null,null,null,null,null,"Region Nordjylland"]
[null,"Hjørring",12568,"2019-07-01",37,18,"*","*",28669,17925,"*","*",146,13,231,0,0,231,0,null,null,null,6,40,"*",40,"*",40,"*",241,68,242,null,null,null,null,null,null,"Region Nordjylland"]
[null,"København",110822,"2020-01-01",162,139,"*","*",133661,102261,"*","*",314,109,2113,15,10,2083,5,null,null,null,72,195,7,195,65,195,45,2125,584,2143,null,null,null,null,null,null,"Region Hovedstaden"]
[null,"Frederiksberg",18332,"2020-01-01",46,35,"*","*",21919,17515,"*","*",41,10,183,"*","*",179,"*",null,null,null,12,53,"*",53,"*",53,4,162,31,166,null,null,null,null,null,null,"Region Hovedstaden"]
[null,"Ballerup",10362,"2020-01-01",30,18,"*","*",20865,11671,"*","*",36,8,355,0,"*",352,"*",null,null,null,3,32,"*",32,"*",32,"*",336,57,337,null,null,null,null,null,null,"Region Hovedstaden"]
[null,"Brøndby",7316,"2020-01-01",32,11,0,21,13414,3810,"*",9604,40,7,108,"*","*",102,"*",null,null,null,6,33,0,33,6,33,"*",86,20,87,null,null,null,null,null,null,"Region Hovedstaden"]
[null,"Dragør",3296,"2020-01-01",7,"*","*","*",4258,"*","*","*",4,0,38,0,0,38,0,null,null,null,"*",8,0,8,"*",8,0,44,18,44,null,null,null,null,null,null,"Region Hovedstaden"]
[null,"Gentofte",16732,"2020-01-01",38,22,0,16,23458,14364,"*",9094,24,3,199,"*","*","*","*",null,null,null,6,39,0,39,6,39,"*",175,24,175,null,null,null,null,null,null,"Region Hovedstaden"]
[null,"Gladsaxe",15422,"2020-01-01",21,10,0,11,21367,7889,"*",13478,39,14,147,0,3,144,0,null,null,null,8,25,"*",25,"*",25,4,176,65,179,null,null,null,null,null,null,"Region Hovedstaden"]
[null,"Glostrup",4657,"2020-01-01",3,3,0,0,"*","*","*","*",18,7,69,0,0,69,0,null,null,null,"*",5,0,5,"*",5,"*",61,18,61,null,null,null,null,null,null,"Region Hovedstaden"]
[null,"Herlev",6455,"2020-01-01",20,12,0,8,17259,14053,"*",3206,17,6,158,"*","*","*","*",null,null,null,5,22,0,22,5,22,"*","*",39,172,null,null,null,null,null,null,"Region Hovedstaden"]
[null,"Albertslund",5965,"2020-01-01",30,19,0,11,22327,13461,"*",8866,32,4,128,0,4,120,4,null,null,null,3,28,0,28,3,28,6,97,23,101,null,null,null,null,null,null,"Region Hovedstaden"]
[null,"Hvidovre",11823,"2020-01-01",34,23,"*","*",16666,7905,"*","*",39,10,239,0,0,236,3,null,null,null,4,28,0,28,4,28,"*",213,50,213,null,null,null,null,null,null,"Region Hovedstaden"]
[null,"Høje-Taastrup",10943,"2020-01-01",39,18,0,21,41255,18910,"*",22345,46,3,257,0,3,251,3,null,null,null,7,40,"*",40,"*",40,"*","*",51,234,null,null,null,null,null,null,"Region Hovedstaden"]
[null,"Lyngby-Taarbæk",11991,"2020-01-01",24,5,0,19,11526,2108,"*",9418,21,4,152,"*","*",147,"*",null,null,null,9,28,"*",28,"*",28,6,130,24,135,null,null,null,null,null,null,"Region Hovedstaden"]
[null,"Rødovre",8758,"2020-01-01",19,12,"*","*",13323,6957,"*","*",34,6,168,0,4,160,4,null,null,null,6,20,"*",20,"*",20,6,161,31,161,null,null,null,null,null,null,"Region Hovedstaden"]
[null,"Ishøj",5090,"2020-01-01",22,4,0,18,22660,"*","*","*",24,4,146,"*","*","*","*",null,null,null,4,24,0,24,4,24,"*",149,27,149,null,null,null,null,null,null,"Region Hovedstaden"]
[null,"Tårnby",9568,"2020-01-01",8,"*","*","*",7330,"*","*","*",40,"*",136,"*","*",132,"*",null,null,null,5,13,"*",13,"*",13,"*",117,23,118,null,null,null,null,null,null,"Region Hovedstaden"]
[null,"Vallensbæk",4005,"2020-01-01",5,"*","*","*",1964,"*","*","*",5,"*",38,0,0,38,0,null,null,null,0,4,0,4,0,4,"*",37,10,37,null,null,null,null,null,null,"Region Hovedstaden"]
[null,"Furesø",9660,"2020-01-01",9,4,"*","*",5939,"*","*","*",29,4,205,"*","*","*","*",null,null,null,"*",7,0,7,"*",7,"*","*",34,197,null,null,null,null,null,null,"Region Hovedstaden"]
[null,"Allerød",6156,"2020-01-01",15,6,0,9,9191,1660,"*",7531,6,"*",77,"*","*","*","*",null,null,null,3,14,"*",14,"*",14,0,78,22,78,null,null,null,null,null,null,"Region Hovedstaden"]
[null,"Fredensborg",8730,"2020-01-01",22,9,0,13,11234,5816,"*",5418,20,3,146,"*","*",139,"*",null,null,null,7,22,0,22,7,22,"*","*",28,152,null,null,null,null,null,null,"Region Hovedstaden"]
[null,"Helsingør",12221,"2020-01-01",34,17,"*","*",51475,26958,"*","*",54,3,271,"*","*",260,"*",null,null,null,4,33,"*",33,"*",33,"*",261,46,262,null,null,null,null,null,null,"Region Hovedstaden"]
[null,"Hillerød",11189,"2020-01-01",25,"*","*",19,12139,"*","*",9877,25,8,254,0,5,249,0,null,null,null,3,21,"*",21,"*",21,"*","*",46,246,null,null,null,null,null,null,"Region Hovedstaden"]
[null,"Hørsholm",5151,"2020-01-01",13,10,0,3,8657,"*","*","*",9,"*",35,"*","*",32,"*",null,null,null,"*",13,0,13,"*",13,"*",38,8,39,null,null,null,null,null,null,"Region Hovedstaden"]
[null,"Rudersdal",12843,"2020-01-01",27,21,"*","*",22477,18561,"*","*",43,4,155,"*","*","*","*",null,null,null,5,29,0,29,5,29,"*",150,37,152,null,null,null,null,null,null,"Region Hovedstaden"]
[null,"Egedal",10265,"2020-01-01",13,5,0,8,12701,1784,"*",10917,23,3,167,"*","*",162,"*",null,null,null,"*",12,"*",12,"*",12,5,147,31,150,null,null,null,null,null,null,"Region Hovedstaden"]
[null,"Frederikssund",8956,"2020-01-01",25,"*","*",18,12929,"*","*",7890,36,3,239,0,3,230,6,null,null,null,"*",20,0,20,"*",20,7,256,69,262,null,null,null,null,null,null,"Region Hovedstaden"]
[null,"Greve",11100,"2020-01-01",34,12,3,19,17569,"*","*",10352,38,"*",203,6,"*",194,"*",null,null,null,5,32,"*",32,"*",32,"*",209,59,214,null,null,null,null,null,null,"Region Sjælland"]
[null,"Køge",12695,"2020-01-01",31,17,"*","*",21475,13533,"*","*",74,9,256,0,4,249,3,null,null,null,8,34,"*",34,"*",34,"*",231,78,236,null,null,null,null,null,null,"Region Sjælland"]
[null,"Halsnæs",5595,"2020-01-01",41,26,"*","*",25188,18205,"*","*",49,3,176,"*","*",166,6,null,null,null,8,42,0,42,8,42,"*",166,39,168,null,null,null,null,null,null,"Region Hovedstaden"]
[null,"Roskilde",18370,"2020-01-01",34,22,0,12,29850,21319,"*",8531,76,10,364,"*",6,353,"*",null,null,null,11,39,0,39,11,39,"*","*",83,337,null,null,null,null,null,null,"Region Sjælland"]
[null,"Solrød",5527,"2020-01-01",15,3,0,12,7391,"*","*","*",11,4,67,"*","*","*","*",null,null,null,0,10,0,10,0,10,"*",47,7,48,null,null,null,null,null,null,"Region Sjælland"]
[null,"Gribskov",7579,"2020-01-01",23,17,"*","*",16518,14309,"*","*",22,9,180,4,"*",171,"*",null,null,null,4,23,0,23,4,23,"*","*",113,265,null,null,null,null,null,null,"Region Hovedstaden"]
[null,"Odsherred",5254,"2020-01-01",32,22,"*","*",27254,21265,"*","*",47,11,180,"*","*",173,"*",null,null,null,"*",29,0,29,"*",29,"*",197,46,199,null,null,null,null,null,null,"Region Sjælland"]
[null,"Holbæk",14710,"2020-01-01",42,4,3,35,33567,"*","*",28206,86,12,263,"*","*",256,"*",null,null,null,10,43,"*",43,"*",43,"*","*",88,275,null,null,null,null,null,null,"Region Sjælland"]
[null,"Faxe",7050,"2020-01-01",36,10,0,26,22287,6921,"*",15366,49,13,286,"*",5,275,"*",null,null,null,11,39,"*",39,"*",39,"*","*",35,236,null,null,null,null,null,null,"Region Sjælland"]
[null,"Kalundborg",9140,"2020-01-01",52,17,3,32,35170,"*","*",17950,84,11,173,0,3,167,3,null,null,null,17,61,"*",61,"*",61,8,155,39,158,null,null,null,null,null,null,"Region Sjælland"]
[null,"Ringsted",7170,"2020-01-01",38,"*","*",23,20257,"*","*",8515,29,6,125,0,5,120,0,null,null,null,9,41,"*",41,"*",41,"*",119,39,121,null,null,null,null,null,null,"Region Sjælland"]
[null,"Slagelse",14851,"2020-01-01",69,20,0,49,49898,21965,"*",27933,126,15,368,5,4,356,3,null,null,null,11,70,"*",70,"*",70,"*","*",104,341,null,null,null,null,null,null,"Region Sjælland"]
[null,"Stevns",4255,"2020-01-01",20,11,0,9,16667,9135,"*",7532,26,7,130,"*","*",125,"*",null,null,null,3,20,"*",20,"*",20,7,122,23,125,null,null,null,null,null,null,"Region Sjælland"]
[null,"Sorø",6197,"2020-01-01",8,"*","*","*",4557,"*","*","*",27,7,277,"*","*",272,"*",null,null,null,3,10,0,10,3,10,"*",280,87,283,null,null,null,null,null,null,"Region Sjælland"]
[null,"Lejre",6137,"2020-01-01",18,"*","*",12,8279,"*","*",2438,19,"*",117,"*","*",112,"*",null,null,null,0,13,0,13,0,13,"*",104,23,106,null,null,null,null,null,null,"Region Sjælland"]
[null,"Lolland",6557,"2020-01-01",41,"*","*",30,26983,"*","*",14934,157,20,278,"*",9,261,"*",null,null,null,6,34,0,34,6,34,18,242,61,252,null,null,null,null,null,null,"Region Sjælland"]
[null,"Næstved",16210,"2020-01-01",107,45,3,59,83181,"*","*",44061,72,6,332,"*",10,316,"*",null,null,null,5,91,"*",91,"*",91,19,299,48,312,null,null,null,null,null,null,"Region Sjælland"]
[null,"Guldborgsund",10371,"2020-01-01",83,"*","*",58,48594,"*","*",32633,132,11,312,6,4,299,3,null,null,null,15,82,5,82,10,82,"*","*",78,293,null,null,null,null,null,null,"Region Sjælland"]
[null,"Vordingborg",7916,"2020-01-01",68,11,0,57,54229,15511,"*",38718,98,6,141,4,3,130,4,null,null,null,7,64,"*",64,"*",64,"*",89,29,93,null,null,null,null,null,null,"Region Sjælland"]
[null,"Bornholm",6585,"2020-01-01",27,12,0,15,14136,9243,"*",4893,58,"*",161,0,"*",157,"*",null,null,null,4,28,0,28,4,28,"*","*",24,157,null,null,null,null,null,null,"Region Hovedstaden"]
[null,"Middelfart",7862,"2020-01-01",15,11,0,4,6579,"*","*","*",44,3,181,0,0,181,0,null,null,null,5,17,0,17,5,17,"*",179,48,180,null,null,null,null,null,null,"Region Syddanmark"]
[null,"Assens",8202,"2020-01-01",21,11,"*","*",14799,8177,"*","*",93,7,178,"*","*","*","*",null,null,null,3,22,0,22,3,22,"*",180,54,181,null,null,null,null,null,null,"Region Syddanmark"]
[null,"Faaborg-Midtfyn",10288,"2020-01-01",38,16,0,22,28197,12453,"*",15744,83,10,252,"*",5,244,"*",null,null,null,6,39,0,39,6,39,8,208,33,213,null,null,null,null,null,null,"Region Syddanmark"]
[null,"Kerteminde",4575,"2020-01-01",12,9,0,3,14623,"*","*","*",26,8,89,"*","*","*","*",null,null,null,"*",13,"*",13,"*",13,"*",88,11,88,null,null,null,null,null,null,"Region Syddanmark"]
[null,"Nyborg",6249,"2020-01-01",20,16,0,4,15819,"*","*","*",52,5,125,0,0,125,0,null,null,null,5,23,0,23,5,23,"*",96,20,97,null,null,null,null,null,null,"Region Syddanmark"]
[null,"Odense",37850,"2020-01-01",168,89,3,76,148233,78707,"*","*",236,29,1162,"*",15,1140,"*",null,null,null,19,158,"*",158,"*",158,34,1111,246,1123,null,null,null,null,null,null,"Region Syddanmark"]
[null,"Svendborg",11234,"2020-01-01",42,27,0,15,25559,16425,"*",9134,101,5,268,"*",4,261,"*",null,null,null,9,44,4,44,5,44,13,241,68,247,null,null,null,null,null,null,"Region Syddanmark"]
[null,"Nordfyns",5847,"2020-01-01",22,14,0,8,14535,8760,"*",5775,32,"*",159,"*","*",153,"*",null,null,null,4,19,0,19,4,19,"*","*",27,128,null,null,null,null,null,null,"Region Syddanmark"]
[null,"Langeland",1706,"2020-01-01",16,"*","*","*",14059,"*","*","*",36,4,67,"*","*","*","*",null,null,null,0,14,0,14,0,14,"*",59,10,60,null,null,null,null,null,null,"Region Syddanmark"]
[null,"Ærø",810,"2020-01-01",3,"*",0,"*","*","*","*","*","*","*",11,0,0,11,0,null,null,null,0,3,0,3,0,3,0,10,3,10,null,null,null,null,null,null,"Region Syddanmark"]
[null,"Haderslev",10902,"2020-01-01",30,"*","*",20,23355,"*","*",14123,143,20,166,"*","*",154,"*",null,null,null,5,31,"*",31,"*",31,14,173,84,181,null,null,null,null,null,null,"Region Syddanmark"]
[null,"Billund",5648,"2020-01-01",18,6,0,12,5617,2697,"*",2920,51,7,187,"*","*","*","*",null,null,null,8,21,"*",21,"*",21,"*",158,34,159,null,null,null,null,null,null,"Region Syddanmark"]
[null,"Sønderborg",14157,"2020-01-01",26,19,0,7,20106,16397,"*",3709,97,6,281,0,7,274,0,null,null,null,7,26,"*",26,"*",26,11,320,98,326,null,null,null,null,null,null,"Region Syddanmark"]
[null,"Tønder",7089,"2020-01-01",18,"*","*","*",7186,"*","*","*",96,13,227,"*","*","*","*",null,null,null,0,11,0,11,0,11,"*",232,50,233,null,null,null,null,null,null,"Region Syddanmark"]
[null,"Esbjerg",22831,"2020-01-01",143,78,"*","*",120362,69727,"*","*",123,21,556,0,8,548,0,null,null,null,25,141,4,141,21,141,"*",564,112,570,null,null,null,null,null,null,"Region Syddanmark"]
[null,"Fanø",628,"2020-01-01","*","*",0,0,"*","*","*","*","*",0,10,0,3,7,0,null,null,null,"*","*","*","*","*","*","*",4,"*",7,null,null,null,null,null,null,"Region Syddanmark"]
[null,"Varde",10262,"2020-01-01",11,4,0,7,9967,"*","*","*",67,17,428,0,0,428,0,null,null,null,"*",12,0,12,"*",12,6,457,142,457,null,null,null,null,null,null,"Region Syddanmark"]
[null,"Vejen",9069,"2020-01-01",24,6,0,18,23509,11384,"*",12125,68,8,117,0,0,114,3,null,null,null,"*",24,0,24,"*",24,"*",109,46,109,null,null,null,null,null,null,"Region Syddanmark"]
[null,"Aabenraa",11677,"2020-01-01",28,24,"*","*",24261,22818,"*","*",114,4,349,"*","*",346,0,null,null,null,6,29,"*",29,"*",29,"*",319,74,323,null,null,null,null,null,null,"Region Syddanmark"]
[null,"Fredericia",10296,"2020-01-01",14,4,0,10,7535,"*","*","*",73,10,330,0,5,325,0,null,null,null,5,16,"*",16,"*",16,8,259,55,263,null,null,null,null,null,null,"Region Syddanmark"]
[null,"Horsens",19386,"2020-01-01",55,12,0,43,32970,17510,"*",15460,114,17,438,0,4,428,6,null,null,null,13,54,0,54,13,54,"*",449,117,451,null,null,null,null,null,null,"Region Midtjylland"]
[null,"Kolding",19793,"2020-01-01",28,15,"*","*",16584,9386,"*","*",113,13,323,0,"*",319,"*",null,null,null,5,25,0,25,5,25,"*",315,92,316,null,null,null,null,null,null,"Region Syddanmark"]
[null,"Vejle",24986,"2020-01-01",47,43,"*","*",21308,19233,"*","*",174,21,413,"*","*",406,"*",null,null,null,16,46,3,46,13,46,18,413,131,417,null,null,null,null,null,null,"Region Syddanmark"]
[null,"Herning",18890,"2020-01-01",21,15,0,6,15917,14595,"*",1322,121,11,329,0,5,320,4,null,null,null,7,19,0,19,7,19,"*","*",83,294,null,null,null,null,null,null,"Region Midtjylland"]
[null,"Holstebro",12567,"2020-01-01",30,21,"*","*",27025,16673,"*","*",84,14,243,"*","*",237,"*",null,null,null,4,28,0,28,4,28,"*",278,96,279,null,null,null,null,null,null,"Region Midtjylland"]
[null,"Lemvig",3563,"2020-01-01",8,5,0,3,12219,"*","*","*",33,4,82,"*","*","*","*",null,null,null,"*",7,"*",7,0,7,"*","*",20,80,null,null,null,null,null,null,"Region Midtjylland"]
[null,"Struer",3997,"2020-01-01",8,3,0,5,4350,"*","*","*",42,4,109,0,0,109,0,null,null,null,3,8,0,8,3,8,3,110,28,110,null,null,null,null,null,null,"Region Midtjylland"]
[null,"Syddjurs",8427,"2020-01-01",17,"*","*",13,6288,"*","*",3245,61,6,341,"*","*","*","*",null,null,null,3,13,0,13,3,13,"*",319,49,320,null,null,null,null,null,null,"Region Midtjylland"]
[null,"Norddjurs",6452,"2020-01-01",41,30,"*","*",29753,20741,"*","*",76,8,245,"*","*",241,"*",null,null,null,6,38,0,38,6,38,"*",236,40,240,null,null,null,null,null,null,"Region Midtjylland"]
[null,"Favrskov",11646,"2020-01-01",29,23,"*","*",15742,12042,"*","*",65,"*",169,"*","*",165,"*",null,null,null,7,33,"*",33,"*",33,"*","*",20,136,null,null,null,null,null,null,"Region Midtjylland"]
[null,"Odder",4812,"2020-01-01",14,3,0,11,6270,"*","*","*",12,5,128,0,0,128,0,null,null,null,"*",13,0,13,"*",13,4,98,22,98,null,null,null,null,null,null,"Region Midtjylland"]
[null,"Randers",19544,"2020-01-01",36,21,"*","*",25893,18081,"*","*",133,20,371,"*","*",363,5,null,null,null,3,32,0,32,3,32,9,367,118,374,null,null,null,null,null,null,"Region Midtjylland"]
[null,"Silkeborg",20867,"2020-01-01",23,13,0,10,28637,23969,"*",4668,94,6,514,"*","*","*","*",null,null,null,4,22,"*",22,"*",22,3,466,131,469,null,null,null,null,null,null,"Region Midtjylland"]
[null,"Samsø",529,"2020-01-01","*",0,0,"*","*","*","*","*",7,"*",15,"*","*","*","*",null,null,null,"*","*","*","*","*","*","*",10,5,12,null,null,null,null,null,null,"Region Midtjylland"]
[null,"Skanderborg",15751,"2020-01-01",19,6,0,13,17219,5877,"*",11342,48,6,192,"*","*","*","*",null,null,null,"*",18,0,18,"*",18,"*",178,34,180,null,null,null,null,null,null,"Region Midtjylland"]
[null,"Aarhus",63890,"2020-01-01",166,116,15,35,156232,124048,3592,28592,248,22,1289,"*","*",1274,8,null,null,null,31,173,0,173,31,173,22,1281,376,1286,null,null,null,null,null,null,"Region Midtjylland"]
[null,"Ikast-Brande",9014,"2020-01-01",14,9,0,5,8506,6054,"*",2452,53,12,107,"*","*","*","*",null,null,null,"*",10,0,10,"*",10,"*",131,27,132,null,null,null,null,null,null,"Region Midtjylland"]
[null,"Ringkøbing-Skjern",11905,"2020-01-01",38,25,"*","*",35503,30599,"*","*",97,6,307,0,"*",303,"*",null,null,null,6,36,0,36,6,36,"*",212,22,214,null,null,null,null,null,null,"Region Midtjylland"]
[null,"Hedensted",10218,"2020-01-01",36,10,0,26,31039,14423,"*",16616,23,3,159,"*","*","*","*",null,null,null,12,44,0,44,12,44,"*",201,94,202,null,null,null,null,null,null,"Region Midtjylland"]
[null,"Morsø",3811,"2020-01-01",6,3,0,3,1320,"*","*","*",44,6,98,0,0,95,3,null,null,null,"*",5,0,5,"*",5,"*",80,12,81,null,null,null,null,null,null,"Region Nordjylland"]
[null,"Skive",8718,"2020-01-01",22,11,"*","*",20501,13372,"*","*",61,15,150,"*","*",146,"*",null,null,null,4,22,0,22,4,22,"*","*",35,146,null,null,null,null,null,null,"Region Midtjylland"]
[null,"Thisted",8651,"2020-01-01",33,25,0,8,23809,19248,"*",4561,75,6,203,0,4,196,3,null,null,null,3,24,0,24,3,24,"*","*",50,211,null,null,null,null,null,null,"Region Nordjylland"]
[null,"Viborg",20990,"2020-01-01",37,26,"*","*",43208,36225,"*","*",136,18,298,"*",6,288,"*",null,null,null,5,32,0,32,5,32,"*",250,67,258,null,null,null,null,null,null,"Region Midtjylland"]
[null,"Brønderslev",7827,"2020-01-01",20,5,0,15,18407,2256,"*",16151,117,9,183,0,"*",180,"*",null,null,null,5,20,"*",20,"*",20,"*",168,52,169,null,null,null,null,null,null,"Region Nordjylland"]
[null,"Frederikshavn",10435,"2020-01-01",41,22,0,19,23857,12399,"*",11458,108,14,319,"*","*",315,"*",null,null,null,11,46,3,46,8,46,"*","*",87,325,null,null,null,null,null,null,"Region Nordjylland"]
[null,"Vesthimmerlands",7252,"2020-01-01",25,7,0,18,17618,2265,"*",15353,76,5,216,"*",3,210,"*",null,null,null,9,31,"*",31,"*",31,9,189,62,195,null,null,null,null,null,null,"Region Nordjylland"]
[null,"Læsø",224,"2020-01-01","*","*",0,"*","*","*","*","*",0,0,4,0,0,4,0,null,null,null,"*","*","*","*","*","*","*",5,"*",5,null,null,null,null,null,null,"Region Nordjylland"]
[null,"Rebild",7159,"2020-01-01",13,9,0,4,11682,"*","*","*",33,5,94,0,0,89,5,null,null,null,"*",13,0,13,"*",13,0,81,18,81,null,null,null,null,null,null,"Region Nordjylland"]
[null,"Mariagerfjord",8110,"2020-01-01",28,"*","*",14,34011,"*","*",15656,77,8,207,"*","*",203,0,null,null,null,4,29,"*",29,"*",29,8,167,37,171,null,null,null,null,null,null,"Region Nordjylland"]
[null,"Jammerbugt",7774,"2020-01-01",33,9,0,24,28591,11166,"*",17425,71,"*",193,"*","*","*","*",null,null,null,10,37,0,37,10,37,"*",198,58,199,null,null,null,null,null,null,"Region Nordjylland"]
[null,"Aalborg",39205,"2020-01-01",143,73,6,64,105462,66583,277,38602,284,42,972,"*","*",955,13,null,null,null,22,127,"*",127,"*",127,26,949,238,949,null,null,null,null,null,null,"Region Nordjylland"]
[null,"Hjørring",12564,"2020-01-01",28,"*","*",14,27367,"*","*",8845,148,16,257,"*","*","*","*",null,null,null,12,37,"*",37,"*",37,6,231,55,231,null,null,null,null,null,null,"Region Nordjylland"]
[null,"København",111068,"2020-07-01",183,148,9,26,132974,97534,801,34639,296,109,2108,8,9,2082,9,null,null,null,32,162,"*",162,"*",162,48,2088,449,2113,null,null,null,null,null,null,"Region Hovedstaden"]
[null,"Frederiksberg",18385,"2020-07-01",48,36,0,12,23696,19014,"*",4682,36,8,206,5,"*",198,"*",null,null,null,7,46,"*",46,"*",46,"*","*",39,183,null,null,null,null,null,null,"Region Hovedstaden"]
[null,"Ballerup",10453,"2020-07-01",30,18,0,12,22401,12211,"*",10190,36,10,328,0,0,325,3,null,null,null,5,30,0,30,5,30,"*","*",63,355,null,null,null,null,null,null,"Region Hovedstaden"]
[null,"Brøndby",7332,"2020-07-01",34,10,0,24,13442,4023,"*",9419,41,5,106,"*","*","*","*",null,null,null,7,32,0,32,7,32,"*","*",26,108,null,null,null,null,null,null,"Region Hovedstaden"]
[null,"Dragør",3306,"2020-07-01",7,"*","*","*",4885,"*","*","*",4,0,39,0,0,39,0,null,null,null,"*",7,0,7,"*",7,"*",38,9,38,null,null,null,null,null,null,"Region Hovedstaden"]
[null,"Gentofte",16652,"2020-07-01",30,15,0,15,23117,12991,"*",10126,26,4,200,"*","*",195,"*",null,null,null,11,38,3,38,8,38,"*",198,40,199,null,null,null,null,null,null,"Region Hovedstaden"]
[null,"Gladsaxe",15437,"2020-07-01",24,13,0,11,22541,8978,"*",13563,38,12,156,"*","*",148,"*",null,null,null,3,21,"*",21,"*",21,5,144,33,147,null,null,null,null,null,null,"Region Hovedstaden"]
[null,"Glostrup",4678,"2020-07-01",3,"*",0,"*","*","*","*","*",19,6,76,0,0,76,0,null,null,null,"*",3,0,3,"*",3,"*",69,17,69,null,null,null,null,null,null,"Region Hovedstaden"]
[null,"Herlev",6418,"2020-07-01",21,12,"*","*",19960,15284,"*","*",16,5,159,"*","*",155,0,null,null,null,"*",20,"*",20,0,20,"*",157,35,158,null,null,null,null,null,null,"Region Hovedstaden"]
[null,"Albertslund",5893,"2020-07-01",31,19,0,12,25210,15578,"*",9632,36,4,144,0,4,135,5,null,null,null,"*",30,0,30,"*",30,5,124,24,128,null,null,null,null,null,null,"Region Hovedstaden"]
[null,"Hvidovre",11836,"2020-07-01",37,21,"*","*",16908,9948,"*","*",40,10,243,"*","*",239,"*",null,null,null,6,34,0,34,6,34,6,239,54,239,null,null,null,null,null,null,"Region Hovedstaden"]
[null,"Høje-Taastrup",11005,"2020-07-01",44,23,0,21,47589,22475,"*",25114,47,5,262,"*","*",257,"*",null,null,null,"*",39,0,39,"*",39,8,254,47,257,null,null,null,null,null,null,"Region Hovedstaden"]
[null,"Lyngby-Taarbæk",11985,"2020-07-01",25,"*","*",19,12989,"*","*",10036,24,6,188,"*","*","*","*",null,null,null,3,24,0,24,3,24,"*",147,18,152,null,null,null,null,null,null,"Region Hovedstaden"]
[null,"Rødovre",8861,"2020-07-01",23,17,"*","*",14155,7639,"*","*",30,6,184,"*","*",179,"*",null,null,null,5,19,0,19,5,19,6,164,20,168,null,null,null,null,null,null,"Region Hovedstaden"]
[null,"Ishøj",5092,"2020-07-01",20,4,0,16,21248,"*","*","*",23,4,147,0,0,147,0,null,null,null,3,22,"*",22,"*",22,"*",146,25,146,null,null,null,null,null,null,"Region Hovedstaden"]
[null,"Tårnby",9531,"2020-07-01",10,5,0,5,7690,4248,"*",3442,36,0,145,"*","*",142,0,null,null,null,"*",8,0,8,"*",8,"*","*",27,136,null,null,null,null,null,null,"Region Hovedstaden"]
[null,"Vallensbæk",3980,"2020-07-01",4,"*",0,"*","*","*","*","*",6,"*",54,0,0,54,0,null,null,null,"*",5,0,5,"*",5,0,38,9,38,null,null,null,null,null,null,"Region Hovedstaden"]
[null,"Furesø",9699,"2020-07-01",14,7,0,7,6871,2317,"*",4554,28,3,192,"*","*","*","*",null,null,null,"*",9,0,9,"*",9,"*",204,69,205,null,null,null,null,null,null,"Region Hovedstaden"]
[null,"Allerød",6154,"2020-07-01",13,5,0,8,8147,1997,"*",6150,6,0,70,"*","*","*","*",null,null,null,3,15,0,15,3,15,"*",77,19,77,null,null,null,null,null,null,"Region Hovedstaden"]
[null,"Fredensborg",8720,"2020-07-01",19,7,0,12,6991,4110,"*",2881,19,4,139,0,"*",135,"*",null,null,null,6,22,"*",22,"*",22,"*",144,30,146,null,null,null,null,null,null,"Region Hovedstaden"]
[null,"Helsingør",12235,"2020-07-01",33,18,"*","*",48426,23040,"*","*",52,5,252,"*","*",242,7,null,null,null,4,34,0,34,4,34,"*",269,47,271,null,null,null,null,null,null,"Region Hovedstaden"]
[null,"Hillerød",11152,"2020-07-01",30,"*","*",20,16073,"*","*",12406,25,8,239,0,6,230,3,null,null,null,4,25,"*",25,"*",25,14,249,41,254,null,null,null,null,null,null,"Region Hovedstaden"]
[null,"Hørsholm",5105,"2020-07-01",12,"*","*","*",10095,"*","*","*",9,"*",39,"*","*","*","*",null,null,null,3,13,0,13,3,13,"*","*","*",35,null,null,null,null,null,null,"Region Hovedstaden"]
[null,"Rudersdal",12775,"2020-07-01",21,17,"*","*",20872,17972,"*","*",41,4,167,0,0,164,3,null,null,null,7,27,0,27,7,27,"*",155,28,155,null,null,null,null,null,null,"Region Hovedstaden"]
[null,"Egedal",10252,"2020-07-01",15,6,0,9,14943,2420,"*",12523,24,3,176,"*","*",172,"*",null,null,null,"*",13,0,13,"*",13,"*","*",44,167,null,null,null,null,null,null,"Region Hovedstaden"]
[null,"Frederikssund",8921,"2020-07-01",20,"*","*",13,14079,"*","*",7984,37,3,239,"*",4,230,"*",null,null,null,6,25,"*",25,"*",25,8,236,57,239,null,null,null,null,null,null,"Region Hovedstaden"]
[null,"Greve",11068,"2020-07-01",34,"*","*",22,20990,"*","*",12594,38,"*",208,"*","*",202,"*",null,null,null,4,34,0,34,4,34,"*","*",43,203,null,null,null,null,null,null,"Region Sjælland"]
[null,"Køge",12696,"2020-07-01",28,15,0,13,20758,14875,"*",5883,72,10,258,"*",5,250,"*",null,null,null,8,31,"*",31,"*",31,11,252,58,256,null,null,null,null,null,null,"Region Sjælland"]
[null,"Halsnæs",5614,"2020-07-01",41,26,"*","*",27689,19132,"*","*",53,"*",195,0,4,186,5,null,null,null,8,41,"*",41,"*",41,10,172,28,176,null,null,null,null,null,null,"Region Hovedstaden"]
[null,"Roskilde",18439,"2020-07-01",30,20,0,10,25514,18628,"*",6886,78,11,407,0,5,402,0,null,null,null,12,34,"*",34,"*",34,"*","*",71,364,null,null,null,null,null,null,"Region Sjælland"]
[null,"Solrød",5536,"2020-07-01",19,"*","*","*",9675,"*","*","*",10,4,65,0,"*",62,"*",null,null,null,"*",15,0,15,"*",15,"*",67,15,67,null,null,null,null,null,null,"Region Sjælland"]
[null,"Gribskov",7532,"2020-07-01",27,15,"*","*",17592,15278,"*","*",24,9,198,0,"*",195,"*",null,null,null,3,23,0,23,3,23,"*","*",46,180,null,null,null,null,null,null,"Region Hovedstaden"]
[null,"Odsherred",5169,"2020-07-01",31,21,"*","*",26884,19075,"*","*",49,12,147,"*","*","*","*",null,null,null,3,32,"*",32,"*",32,"*",178,52,180,null,null,null,null,null,null,"Region Sjælland"]
[null,"Holbæk",14568,"2020-07-01",41,5,0,36,39259,5935,"*",33324,80,10,284,"*","*",280,"*",null,null,null,6,42,0,42,6,42,"*","*",59,263,null,null,null,null,null,null,"Region Sjælland"]
[null,"Faxe",6981,"2020-07-01",40,10,0,30,23749,7697,"*",16052,48,12,252,"*","*",246,"*",null,null,null,4,36,0,36,4,36,"*",280,81,286,null,null,null,null,null,null,"Region Sjælland"]
[null,"Kalundborg",9073,"2020-07-01",45,15,0,30,37423,17762,"*",19661,85,10,178,"*","*",169,"*",null,null,null,12,52,3,52,9,52,9,170,47,173,null,null,null,null,null,null,"Region Sjælland"]
[null,"Ringsted",7154,"2020-07-01",38,14,0,24,23650,11961,"*",11689,24,7,107,0,4,103,0,null,null,null,4,38,0,38,4,38,4,120,43,125,null,null,null,null,null,null,"Region Sjælland"]
[null,"Slagelse",14825,"2020-07-01",73,18,0,55,57377,23461,"*",33916,124,13,432,"*","*",420,7,null,null,null,9,69,0,69,9,69,15,359,66,368,null,null,null,null,null,null,"Region Sjælland"]
[null,"Stevns",4247,"2020-07-01",16,9,0,7,17247,9173,"*",8074,24,6,89,"*","*",83,"*",null,null,null,6,20,0,20,6,20,"*","*",71,130,null,null,null,null,null,null,"Region Sjælland"]
[null,"Sorø",6147,"2020-07-01",10,"*","*","*",5683,"*","*","*",25,9,199,"*",4,191,"*",null,null,null,"*",8,"*",8,"*",8,"*",275,80,277,null,null,null,null,null,null,"Region Sjælland"]
[null,"Lejre",6175,"2020-07-01",14,"*","*",9,9757,"*","*",3448,22,3,108,"*","*",105,0,null,null,null,4,18,"*",18,"*",18,"*",112,30,117,null,null,null,null,null,null,"Region Sjælland"]
[null,"Lolland",6443,"2020-07-01",44,"*","*",31,28408,"*","*",15192,152,18,279,0,9,266,4,null,null,null,3,41,0,41,3,41,"*",267,65,278,null,null,null,null,null,null,"Region Sjælland"]
[null,"Næstved",16092,"2020-07-01",104,44,3,57,84578,"*","*",45717,67,6,358,"*",7,343,"*",null,null,null,13,107,0,107,13,107,"*",321,50,332,null,null,null,null,null,null,"Region Sjælland"]
[null,"Guldborgsund",10257,"2020-07-01",84,"*","*",57,55275,"*","*",35130,133,12,347,"*",3,340,"*",null,null,null,9,83,0,83,9,83,10,302,52,312,null,null,null,null,null,null,"Region Sjælland"]
[null,"Vordingborg",7819,"2020-07-01",70,10,0,60,51263,8586,"*",42677,96,8,180,5,5,166,4,null,null,null,9,68,"*",68,"*",68,8,134,31,141,null,null,null,null,null,null,"Region Sjælland"]
[null,"Bornholm",6557,"2020-07-01",29,13,0,16,17048,11134,"*",5914,57,"*",156,0,"*",153,"*",null,null,null,3,27,0,27,3,27,"*","*",26,161,null,null,null,null,null,null,"Region Hovedstaden"]
[null,"Middelfart",7864,"2020-07-01",15,10,0,5,9125,6069,"*",3056,45,3,182,0,0,182,0,null,null,null,"*",15,0,15,"*",15,4,181,42,181,null,null,null,null,null,null,"Region Syddanmark"]
[null,"Assens",8124,"2020-07-01",24,"*","*",13,17763,"*","*",7798,86,6,168,"*","*","*","*",null,null,null,"*",21,0,21,"*",21,"*",176,45,178,null,null,null,null,null,null,"Region Syddanmark"]
[null,"Faaborg-Midtfyn",10261,"2020-07-01",39,15,0,24,29259,10240,"*",19019,84,13,229,"*","*",221,"*",null,null,null,7,38,3,38,4,38,"*","*",76,252,null,null,null,null,null,null,"Region Syddanmark"]
[null,"Kerteminde",4522,"2020-07-01",14,10,0,4,16214,"*","*","*",24,8,107,"*","*",102,"*",null,null,null,"*",12,"*",12,0,12,"*",88,24,89,null,null,null,null,null,null,"Region Syddanmark"]
[null,"Nyborg",6186,"2020-07-01",19,16,0,3,17151,"*","*","*",55,3,109,"*","*","*","*",null,null,null,"*",20,0,20,"*",20,"*",125,43,125,null,null,null,null,null,null,"Region Syddanmark"]
[null,"Odense",37914,"2020-07-01",166,85,5,76,136151,71916,439,63796,235,26,1218,"*",18,1187,"*",null,null,null,26,168,3,168,23,168,"*","*",239,1162,null,null,null,null,null,null,"Region Syddanmark"]
[null,"Svendborg",11146,"2020-07-01",41,25,0,16,27500,17037,"*",10463,104,3,262,"*","*",257,"*",null,null,null,5,42,"*",42,"*",42,"*","*",67,268,null,null,null,null,null,null,"Region Syddanmark"]
[null,"Nordfyns",5789,"2020-07-01",29,15,"*","*",17286,9947,"*","*",35,3,172,"*","*",161,"*",null,null,null,"*",22,0,22,"*",22,"*","*",38,159,null,null,null,null,null,null,"Region Syddanmark"]
[null,"Langeland",1670,"2020-07-01",13,"*","*","*",9385,"*","*","*",38,"*",61,0,0,61,0,null,null,null,6,16,"*",16,"*",16,"*",65,22,67,null,null,null,null,null,null,"Region Syddanmark"]
[null,"Ærø",808,"2020-07-01",6,"*","*","*",1732,"*","*","*","*","*",6,0,0,6,0,null,null,null,0,3,0,3,0,3,"*",11,6,11,null,null,null,null,null,null,"Region Syddanmark"]
[null,"Haderslev",10850,"2020-07-01",26,5,3,18,18746,"*","*",14382,138,21,160,"*","*",155,"*",null,null,null,9,30,"*",30,"*",30,"*",154,70,166,null,null,null,null,null,null,"Region Syddanmark"]
[null,"Billund",5570,"2020-07-01",19,8,0,11,6860,4053,"*",2807,54,7,174,"*","*",169,"*",null,null,null,4,18,0,18,4,18,"*",186,52,187,null,null,null,null,null,null,"Region Syddanmark"]
[null,"Sønderborg",13965,"2020-07-01",28,22,0,6,18561,15763,"*",2798,94,5,292,"*","*",287,"*",null,null,null,4,26,0,26,4,26,7,274,50,281,null,null,null,null,null,null,"Region Syddanmark"]
[null,"Tønder",6939,"2020-07-01",21,"*","*","*",10148,"*","*","*",104,12,257,3,0,254,0,null,null,null,"*",18,0,18,"*",18,"*",225,48,227,null,null,null,null,null,null,"Region Syddanmark"]
[null,"Esbjerg",22786,"2020-07-01",155,83,"*","*",125257,70567,"*","*",120,25,584,"*",6,573,"*",null,null,null,17,143,0,143,17,143,27,548,102,556,null,null,null,null,null,null,"Region Syddanmark"]
[null,"Fanø",626,"2020-07-01","*","*",0,0,"*","*","*","*","*",0,5,"*","*","*","*",null,null,null,"*","*","*","*","*","*","*",7,6,10,null,null,null,null,null,null,"Region Syddanmark"]
[null,"Varde",10135,"2020-07-01",13,5,0,8,10763,7573,"*",3190,67,19,443,0,0,443,0,null,null,null,"*",11,0,11,"*",11,4,428,116,428,null,null,null,null,null,null,"Region Syddanmark"]
[null,"Vejen",9016,"2020-07-01",28,7,0,21,25039,10607,"*",14432,65,8,166,"*","*","*","*",null,null,null,3,24,0,24,3,24,"*",117,27,117,null,null,null,null,null,null,"Region Syddanmark"]
[null,"Aabenraa",11533,"2020-07-01",28,24,"*","*",24256,23342,"*","*",118,5,332,"*","*","*","*",null,null,null,7,28,0,28,7,28,16,346,71,349,null,null,null,null,null,null,"Region Syddanmark"]
[null,"Fredericia",10199,"2020-07-01",16,"*","*",9,9073,"*","*",4413,76,13,334,"*","*",329,"*",null,null,null,"*",14,0,14,"*",14,11,325,99,330,null,null,null,null,null,null,"Region Syddanmark"]
[null,"Horsens",19427,"2020-07-01",68,11,0,57,36650,16476,"*",20174,114,22,379,0,9,365,5,null,null,null,6,55,0,55,6,55,20,434,157,438,null,null,null,null,null,null,"Region Midtjylland"]
[null,"Kolding",19724,"2020-07-01",32,13,5,14,17398,7823,844,8731,115,15,350,0,"*",347,"*",null,null,null,5,28,"*",28,"*",28,"*","*",83,323,null,null,null,null,null,null,"Region Syddanmark"]
[null,"Vejle",24950,"2020-07-01",48,43,"*","*",24674,23457,"*","*",178,22,436,"*","*",426,"*",null,null,null,12,47,3,47,9,47,"*",411,91,413,null,null,null,null,null,null,"Region Syddanmark"]
[null,"Herning",18936,"2020-07-01",22,14,0,8,17823,15494,"*",2329,114,12,294,"*","*",284,6,null,null,null,4,21,0,21,4,21,9,324,116,329,null,null,null,null,null,null,"Region Midtjylland"]
[null,"Holstebro",12522,"2020-07-01",31,21,"*","*",29361,18138,"*","*",86,14,238,"*","*",233,"*",null,null,null,5,30,"*",30,"*",30,"*",241,72,243,null,null,null,null,null,null,"Region Midtjylland"]
[null,"Lemvig",3517,"2020-07-01",8,5,0,3,13514,"*","*","*",30,6,78,"*","*","*","*",null,null,null,"*",8,0,8,"*",8,"*",81,13,82,null,null,null,null,null,null,"Region Midtjylland"]
[null,"Struer",3939,"2020-07-01",7,"*","*",4,868,"*","*","*",43,4,120,"*","*","*","*",null,null,null,3,8,0,8,3,8,"*",109,15,109,null,null,null,null,null,null,"Region Midtjylland"]
[null,"Syddjurs",8429,"2020-07-01",15,"*","*",11,8733,"*","*",4962,60,8,338,"*","*","*","*",null,null,null,"*",17,0,17,"*",17,"*",340,55,341,null,null,null,null,null,null,"Region Midtjylland"]
[null,"Norddjurs",6387,"2020-07-01",36,28,"*","*",27798,19774,"*","*",76,9,192,"*","*",187,"*",null,null,null,7,41,0,41,7,41,"*","*",83,245,null,null,null,null,null,null,"Region Midtjylland"]
[null,"Favrskov",11625,"2020-07-01",36,27,"*","*",18078,13376,"*","*",65,4,165,"*","*",160,"*",null,null,null,3,29,0,29,3,29,"*","*",38,169,null,null,null,null,null,null,"Region Midtjylland"]
[null,"Odder",4810,"2020-07-01",11,"*","*","*",6965,"*","*","*",11,5,116,0,0,116,0,null,null,null,3,14,0,14,3,14,"*",128,33,128,null,null,null,null,null,null,"Region Midtjylland"]
[null,"Randers",19497,"2020-07-01",36,19,"*","*",23840,16200,"*","*",130,22,365,"*","*",357,5,null,null,null,8,36,"*",36,"*",36,9,368,100,371,null,null,null,null,null,null,"Region Midtjylland"]
[null,"Silkeborg",20941,"2020-07-01",19,13,0,6,20393,18460,"*",1933,90,6,550,"*","*","*","*",null,null,null,6,23,"*",23,"*",23,"*",513,134,514,null,null,null,null,null,null,"Region Midtjylland"]
[null,"Samsø",530,"2020-07-01","*","*",0,0,"*","*","*","*",7,"*",9,0,0,9,0,null,null,null,"*","*","*","*","*","*","*",14,7,15,null,null,null,null,null,null,"Region Midtjylland"]
[null,"Skanderborg",15841,"2020-07-01",18,"*","*",12,13438,"*","*",7075,46,7,183,"*","*","*","*",null,null,null,5,19,0,19,5,19,"*",191,47,192,null,null,null,null,null,null,"Region Midtjylland"]
[null,"Aarhus",64128,"2020-07-01",168,121,10,37,140915,115596,1665,23654,248,24,1262,"*","*",1250,8,null,null,null,47,166,5,166,42,166,37,1282,316,1289,null,null,null,null,null,null,"Region Midtjylland"]
[null,"Ikast-Brande",8947,"2020-07-01",15,10,0,5,8228,4897,"*",3331,53,12,96,"*","*","*","*",null,null,null,"*",14,0,14,"*",14,"*",107,12,107,null,null,null,null,null,null,"Region Midtjylland"]
[null,"Ringkøbing-Skjern",11699,"2020-07-01",33,19,"*","*",32963,27029,"*","*",90,6,289,"*","*","*","*",null,null,null,9,38,0,38,9,38,"*","*",70,307,null,null,null,null,null,null,"Region Midtjylland"]
[null,"Hedensted",10067,"2020-07-01",33,8,0,25,31426,11536,"*",19890,23,3,133,"*","*","*","*",null,null,null,6,36,0,36,6,36,"*",158,62,159,null,null,null,null,null,null,"Region Midtjylland"]
[null,"Morsø",3764,"2020-07-01",5,"*","*","*",1701,"*","*","*",45,6,108,"*","*","*","*",null,null,null,"*",6,0,6,"*",6,"*",98,15,98,null,null,null,null,null,null,"Region Nordjylland"]
[null,"Skive",8599,"2020-07-01",19,"*","*",10,14731,"*","*",5909,60,13,125,"*",3,119,"*",null,null,null,6,22,"*",22,"*",22,"*","*",64,150,null,null,null,null,null,null,"Region Midtjylland"]
[null,"Thisted",8581,"2020-07-01",31,23,0,8,24455,19881,"*",4574,75,6,175,0,3,169,3,null,null,null,4,33,0,33,4,33,9,199,67,203,null,null,null,null,null,null,"Region Nordjylland"]
[null,"Viborg",20778,"2020-07-01",38,24,"*","*",47385,38660,"*","*",143,15,301,6,3,286,6,null,null,null,6,37,"*",37,"*",37,"*","*",106,298,null,null,null,null,null,null,"Region Midtjylland"]
[null,"Brønderslev",7769,"2020-07-01",22,6,0,16,19014,2091,"*",16923,117,9,169,0,0,169,0,null,null,null,3,20,0,20,3,20,"*","*",43,183,null,null,null,null,null,null,"Region Nordjylland"]
[null,"Frederikshavn",10320,"2020-07-01",42,23,0,19,24599,14060,"*",10539,112,14,296,0,"*",293,"*",null,null,null,8,41,"*",41,"*",41,"*","*",83,319,null,null,null,null,null,null,"Region Nordjylland"]
[null,"Vesthimmerlands",7189,"2020-07-01",28,"*","*",18,18371,"*","*",15231,77,4,214,"*","*",209,"*",null,null,null,3,25,0,25,3,25,"*","*",51,216,null,null,null,null,null,null,"Region Nordjylland"]
[null,"Læsø",226,"2020-07-01","*","*",0,0,"*","*","*","*",0,0,4,0,0,4,0,null,null,null,"*","*","*","*","*","*",0,4,"*",4,null,null,null,null,null,null,"Region Nordjylland"]
[null,"Rebild",7247,"2020-07-01",17,10,0,7,14653,11891,"*",2762,32,5,89,0,0,85,4,null,null,null,0,13,0,13,0,13,"*",94,24,94,null,null,null,null,null,null,"Region Nordjylland"]
[null,"Mariagerfjord",7986,"2020-07-01",32,18,0,14,31806,17451,"*",14355,80,8,198,"*","*","*","*",null,null,null,5,28,0,28,5,28,13,203,51,207,null,null,null,null,null,null,"Region Nordjylland"]
[null,"Jammerbugt",7720,"2020-07-01",31,8,0,23,24383,12456,"*",11927,68,"*",187,"*","*","*","*",null,null,null,5,33,"*",33,"*",33,"*",193,32,193,null,null,null,null,null,null,"Region Nordjylland"]
[null,"Aalborg",39274,"2020-07-01",137,69,3,65,107790,66490,"*","*",271,43,1052,"*","*",1031,13,null,null,null,25,143,"*",143,"*",143,17,968,167,972,null,null,null,null,null,null,"Region Nordjylland"]
[null,"Hjørring",12438,"2020-07-01",33,"*","*",21,24213,"*","*",10215,143,21,254,"*","*","*","*",null,null,null,7,28,0,28,7,28,"*",257,69,257,null,null,null,null,null,null,"Region Nordjylland"]
[null,"København",110927,"2021-01-01",203,159,17,27,133256,99356,1693,32207,287,116,2035,6,14,2003,12,null,null,null,38,183,7,183,31,183,63,2091,558,2108,null,null,null,null,null,null,"Region Hovedstaden"]
[null,"Frederiksberg",18063,"2021-01-01",47,31,4,12,21866,17129,"*","*",34,10,212,5,"*",203,"*",null,null,null,9,48,0,48,9,48,"*","*",56,206,null,null,null,null,null,null,"Region Hovedstaden"]
[null,"Ballerup",10449,"2021-01-01",28,15,"*","*",20944,10001,"*","*",31,10,335,"*",0,332,"*",null,null,null,5,30,0,30,5,30,"*",328,49,328,null,null,null,null,null,null,"Region Hovedstaden"]
[null,"Brøndby",7344,"2021-01-01",35,10,0,25,12768,5220,"*",7548,44,7,126,0,"*",123,"*",null,null,null,7,34,"*",34,"*",34,"*",106,20,106,null,null,null,null,null,null,"Region Hovedstaden"]
[null,"Dragør",3325,"2021-01-01",5,"*","*","*",2961,"*","*","*",5,0,41,0,0,41,0,null,null,null,3,7,0,7,3,7,"*",39,5,39,null,null,null,null,null,null,"Region Hovedstaden"]
[null,"Gentofte",16610,"2021-01-01",25,12,"*","*",21090,9405,"*","*",26,3,208,"*","*",202,3,null,null,null,6,30,0,30,6,30,"*","*",36,200,null,null,null,null,null,null,"Region Hovedstaden"]
[null,"Gladsaxe",15494,"2021-01-01",26,14,0,12,21470,9683,"*",11787,36,12,186,"*","*",178,"*",null,null,null,3,24,"*",24,"*",24,"*","*",36,156,null,null,null,null,null,null,"Region Hovedstaden"]
[null,"Glostrup",4699,"2021-01-01",4,"*",0,"*","*","*","*","*",17,6,96,0,0,96,0,null,null,null,0,3,0,3,0,3,0,76,18,76,null,null,null,null,null,null,"Region Hovedstaden"]
[null,"Herlev",6400,"2021-01-01",19,11,0,8,17859,13123,"*",4736,16,5,167,0,"*",164,"*",null,null,null,5,21,0,21,5,21,4,155,31,159,null,null,null,null,null,null,"Region Hovedstaden"]
[null,"Albertslund",5856,"2021-01-01",28,16,0,12,24015,13261,"*",10754,34,6,131,"*","*",124,"*",null,null,null,6,31,"*",31,"*",31,6,140,42,144,null,null,null,null,null,null,"Region Hovedstaden"]
[null,"Hvidovre",11861,"2021-01-01",42,25,"*","*",20612,12178,"*","*",43,12,233,"*","*",227,"*",null,null,null,6,37,"*",37,"*",37,"*",242,65,243,null,null,null,null,null,null,"Region Hovedstaden"]
[null,"Høje-Taastrup",11144,"2021-01-01",43,21,0,22,48740,21657,"*",27083,47,5,261,"*","*",255,"*",null,null,null,5,44,0,44,5,44,"*",260,58,262,null,null,null,null,null,null,"Region Hovedstaden"]
[null,"Lyngby-Taarbæk",12033,"2021-01-01",29,"*","*",20,16359,"*","*",12182,24,6,211,"*","*","*","*",null,null,null,"*",25,0,25,"*",25,"*",187,30,188,null,null,null,null,null,null,"Region Hovedstaden"]
[null,"Rødovre",8917,"2021-01-01",23,14,0,9,15733,8743,"*",6990,28,6,176,0,"*",172,"*",null,null,null,4,23,0,23,4,23,"*","*",43,184,null,null,null,null,null,null,"Region Hovedstaden"]
[null,"Ishøj",5084,"2021-01-01",22,4,0,18,22993,"*","*","*",22,4,144,0,0,144,0,null,null,null,3,20,0,20,3,20,"*",147,37,147,null,null,null,null,null,null,"Region Hovedstaden"]
[null,"Tårnby",9560,"2021-01-01",10,6,0,4,6753,"*","*","*",35,"*",139,"*","*","*","*",null,null,null,3,10,0,10,3,10,4,142,31,145,null,null,null,null,null,null,"Region Hovedstaden"]
[null,"Vallensbæk",3998,"2021-01-01",4,"*",0,"*","*","*","*","*",6,"*",54,0,0,54,0,null,null,null,0,4,0,4,0,4,0,54,14,54,null,null,null,null,null,null,"Region Hovedstaden"]
[null,"Furesø",9723,"2021-01-01",15,9,"*","*",7373,3191,"*","*",26,3,207,"*","*",204,"*",null,null,null,"*",14,0,14,"*",14,"*",192,38,192,null,null,null,null,null,null,"Region Hovedstaden"]
[null,"Allerød",6223,"2021-01-01",11,3,0,8,7917,"*","*","*",8,0,81,"*","*","*","*",null,null,null,3,13,0,13,3,13,"*",69,18,70,null,null,null,null,null,null,"Region Hovedstaden"]
[null,"Fredensborg",8811,"2021-01-01",22,"*","*",12,9539,"*","*",5089,20,4,137,"*",5,126,"*",null,null,null,0,19,0,19,0,19,"*","*",23,139,null,null,null,null,null,null,"Region Hovedstaden"]
[null,"Helsingør",12205,"2021-01-01",34,21,"*","*",46660,21641,"*","*",50,6,248,"*","*",239,"*",null,null,null,6,33,0,33,6,33,4,249,39,252,null,null,null,null,null,null,"Region Hovedstaden"]
[null,"Hillerød",11122,"2021-01-01",35,10,0,25,17563,4961,"*",12602,23,9,228,"*","*",224,"*",null,null,null,8,30,0,30,8,30,9,233,47,239,null,null,null,null,null,null,"Region Hovedstaden"]
[null,"Hørsholm",5182,"2021-01-01",11,7,0,4,9889,"*","*","*",9,"*",36,"*","*","*","*",null,null,null,3,12,0,12,3,12,"*",38,14,39,null,null,null,null,null,null,"Region Hovedstaden"]
[null,"Rudersdal",12991,"2021-01-01",13,"*","*","*",16118,"*","*","*",41,7,165,"*","*",159,"*",null,null,null,9,21,"*",21,"*",21,3,167,40,167,null,null,null,null,null,null,"Region Hovedstaden"]
[null,"Egedal",10322,"2021-01-01",19,9,0,10,18006,3963,"*",14043,22,3,159,"*","*",154,"*",null,null,null,"*",15,0,15,"*",15,"*","*",53,176,null,null,null,null,null,null,"Region Hovedstaden"]
[null,"Frederikssund",8848,"2021-01-01",14,7,3,4,8543,6863,"*","*",32,3,264,"*",6,254,"*",null,null,null,9,20,"*",20,"*",20,"*",234,53,239,null,null,null,null,null,null,"Region Hovedstaden"]
[null,"Greve",11061,"2021-01-01",36,"*","*",26,22924,"*","*",15687,41,"*",241,4,0,237,0,null,null,null,4,34,0,34,4,34,"*","*",45,208,null,null,null,null,null,null,"Region Sjælland"]
[null,"Køge",12723,"2021-01-01",27,14,0,13,19756,15385,"*",4371,80,7,290,"*","*",283,"*",null,null,null,6,28,0,28,6,28,"*","*",62,258,null,null,null,null,null,null,"Region Sjælland"]
[null,"Halsnæs",5579,"2021-01-01",38,25,"*","*",27116,20745,"*","*",52,"*",227,"*","*",220,"*",null,null,null,8,41,0,41,8,41,6,191,40,195,null,null,null,null,null,null,"Region Hovedstaden"]
[null,"Roskilde",18500,"2021-01-01",34,18,"*","*",22862,18607,"*","*",81,10,413,"*","*",408,"*",null,null,null,7,30,0,30,7,30,17,402,119,407,null,null,null,null,null,null,"Region Sjælland"]
[null,"Solrød",5540,"2021-01-01",20,"*","*",16,10974,"*","*",7623,10,3,67,0,"*",64,"*",null,null,null,"*",19,"*",19,"*",19,"*","*",17,65,null,null,null,null,null,null,"Region Sjælland"]
[null,"Gribskov",7438,"2021-01-01",30,"*","*",17,12080,"*","*",4525,23,6,242,0,0,242,0,null,null,null,4,27,0,27,4,27,"*","*",40,198,null,null,null,null,null,null,"Region Hovedstaden"]
[null,"Odsherred",5127,"2021-01-01",32,21,"*","*",27991,18628,"*","*",44,10,129,"*","*",126,"*",null,null,null,3,31,0,31,3,31,"*",147,44,147,null,null,null,null,null,null,"Region Sjælland"]
[null,"Holbæk",14564,"2021-01-01",39,"*","*",35,36488,"*","*",30218,79,11,317,0,3,309,5,null,null,null,11,41,3,41,8,41,"*","*",67,284,null,null,null,null,null,null,"Region Sjælland"]
[null,"Faxe",7005,"2021-01-01",53,13,0,40,26674,9700,"*",16974,48,14,296,"*","*",288,4,null,null,null,3,40,0,40,3,40,"*",250,51,252,null,null,null,null,null,null,"Region Sjælland"]
[null,"Kalundborg",9123,"2021-01-01",41,"*","*",24,34773,"*","*",16703,84,10,218,"*","*",208,"*",null,null,null,9,45,"*",45,"*",45,"*","*",27,178,null,null,null,null,null,null,"Region Sjælland"]
[null,"Ringsted",7128,"2021-01-01",33,13,0,20,23944,13442,"*",10502,22,7,125,"*","*","*","*",null,null,null,8,38,0,38,8,38,"*",103,25,107,null,null,null,null,null,null,"Region Sjælland"]
[null,"Slagelse",14829,"2021-01-01",71,15,0,56,55185,22007,"*",33178,118,14,430,"*","*",422,5,null,null,null,14,73,0,73,14,73,7,427,133,432,null,null,null,null,null,null,"Region Sjælland"]
[null,"Stevns",4280,"2021-01-01",13,4,0,9,9691,"*","*","*",22,4,96,"*","*",93,0,null,null,null,6,16,0,16,6,16,"*","*",28,89,null,null,null,null,null,null,"Region Sjælland"]
[null,"Sorø",6182,"2021-01-01",13,10,0,3,5206,"*","*","*",22,9,188,"*",3,182,"*",null,null,null,3,10,"*",10,"*",10,"*",194,23,199,null,null,null,null,null,null,"Region Sjælland"]
[null,"Lejre",6243,"2021-01-01",16,8,"*","*",10031,7173,"*","*",22,4,115,"*","*",110,"*",null,null,null,4,14,"*",14,"*",14,4,105,26,108,null,null,null,null,null,null,"Region Sjælland"]
[null,"Lolland",6366,"2021-01-01",52,"*","*",35,28778,"*","*",18324,145,17,253,"*","*",246,"*",null,null,null,5,44,0,44,5,44,11,270,95,279,null,null,null,null,null,null,"Region Sjælland"]
[null,"Næstved",16084,"2021-01-01",112,45,3,64,86563,"*","*",49429,69,5,340,"*",4,330,"*",null,null,null,14,104,"*",104,"*",104,"*",349,83,358,null,null,null,null,null,null,"Region Sjælland"]
[null,"Guldborgsund",10220,"2021-01-01",87,"*","*",59,57999,"*","*",39701,119,18,359,3,7,346,3,null,null,null,9,84,0,84,9,84,"*",343,63,347,null,null,null,null,null,null,"Region Sjælland"]
[null,"Vordingborg",7779,"2021-01-01",76,16,0,60,57026,10799,"*",46227,87,10,167,"*",4,159,"*",null,null,null,8,70,"*",70,"*",70,6,170,68,180,null,null,null,null,null,null,"Region Sjælland"]
[null,"Bornholm",6622,"2021-01-01",30,14,0,16,16555,10474,"*",6081,57,"*",160,0,3,154,3,null,null,null,9,29,"*",29,"*",29,"*","*",28,156,null,null,null,null,null,null,"Region Hovedstaden"]
[null,"Middelfart",7870,"2021-01-01",14,9,0,5,9425,5449,"*",3976,50,"*",186,0,0,186,0,null,null,null,"*",15,"*",15,0,15,5,182,35,182,null,null,null,null,null,null,"Region Syddanmark"]
[null,"Assens",8098,"2021-01-01",22,"*","*",11,17874,"*","*",7989,90,6,156,"*","*","*","*",null,null,null,6,24,0,24,6,24,"*",167,36,168,null,null,null,null,null,null,"Region Syddanmark"]
[null,"Faaborg-Midtfyn",10326,"2021-01-01",32,12,0,20,19263,4014,"*",15249,90,11,241,"*",9,228,"*",null,null,null,11,39,"*",39,"*",39,"*","*",40,229,null,null,null,null,null,null,"Region Syddanmark"]
[null,"Kerteminde",4491,"2021-01-01",13,10,0,3,17261,"*","*","*",24,7,121,"*","*",117,"*",null,null,null,3,14,0,14,3,14,"*","*",15,107,null,null,null,null,null,null,"Region Syddanmark"]
[null,"Nyborg",6158,"2021-01-01",20,"*","*","*",15856,"*","*","*",58,5,125,0,0,125,0,null,null,null,"*",19,"*",19,"*",19,"*",109,23,109,null,null,null,null,null,null,"Region Syddanmark"]
[null,"Odense",37878,"2021-01-01",169,85,4,80,126722,62965,"*","*",232,28,1252,10,18,1220,4,null,null,null,27,166,3,166,24,166,"*","*",229,1218,null,null,null,null,null,null,"Region Syddanmark"]
[null,"Svendborg",11252,"2021-01-01",44,31,0,13,30407,19171,"*",11236,105,3,302,0,7,291,4,null,null,null,8,41,"*",41,"*",41,"*","*",49,262,null,null,null,null,null,null,"Region Syddanmark"]
[null,"Nordfyns",5765,"2021-01-01",30,"*","*",16,20112,"*","*",9292,38,3,179,"*",9,166,"*",null,null,null,"*",29,"*",29,"*",29,"*","*",41,172,null,null,null,null,null,null,"Region Syddanmark"]
[null,"Langeland",1665,"2021-01-01",14,14,0,0,5323,5323,"*","*",40,"*",65,0,0,65,0,null,null,null,3,13,"*",13,"*",13,3,61,9,61,null,null,null,null,null,null,"Region Syddanmark"]
[null,"Ærø",798,"2021-01-01",5,"*","*","*",1874,"*","*","*","*","*","*","*","*","*","*",null,null,null,"*",6,"*",6,0,6,"*",6,3,6,null,null,null,null,null,null,"Region Syddanmark"]
[null,"Haderslev",10743,"2021-01-01",26,5,3,18,18772,"*","*",13994,139,22,179,"*","*",173,"*",null,null,null,5,26,"*",26,"*",26,"*",155,60,160,null,null,null,null,null,null,"Region Syddanmark"]
[null,"Billund",5567,"2021-01-01",20,7,0,13,8516,3829,"*",4687,55,7,161,0,"*",158,"*",null,null,null,"*",19,0,19,"*",19,"*","*",65,174,null,null,null,null,null,null,"Region Syddanmark"]
[null,"Sønderborg",13908,"2021-01-01",31,24,0,7,18354,16433,"*",1921,98,5,289,"*","*",284,"*",null,null,null,4,28,"*",28,"*",28,"*",287,63,292,null,null,null,null,null,null,"Region Syddanmark"]
[null,"Tønder",6891,"2021-01-01",22,"*","*",16,8857,"*","*",7446,105,9,253,"*","*","*","*",null,null,null,4,21,0,21,4,21,6,254,51,257,null,null,null,null,null,null,"Region Syddanmark"]
[null,"Esbjerg",22747,"2021-01-01",153,77,3,73,134509,73224,"*","*",122,26,618,"*",6,608,"*",null,null,null,24,155,"*",155,"*",155,"*","*",126,584,null,null,null,null,null,null,"Region Syddanmark"]
[null,"Fanø",616,"2021-01-01","*","*",0,0,"*","*","*","*","*",0,"*",0,"*",0,0,null,null,null,"*","*","*","*","*","*","*",3,"*",5,null,null,null,null,null,null,"Region Syddanmark"]
[null,"Varde",10073,"2021-01-01",12,5,0,7,12013,8493,"*",3520,69,16,379,"*","*","*","*",null,null,null,"*",13,"*",13,0,13,5,443,148,443,null,null,null,null,null,null,"Region Syddanmark"]
[null,"Vejen",9009,"2021-01-01",30,6,0,24,25383,10074,"*",15309,61,8,178,0,0,174,4,null,null,null,5,28,0,28,5,28,"*",166,49,166,null,null,null,null,null,null,"Region Syddanmark"]
[null,"Aabenraa",11475,"2021-01-01",32,26,"*","*",27475,25911,"*","*",114,7,340,0,3,337,0,null,null,null,4,28,"*",28,"*",28,"*",330,80,332,null,null,null,null,null,null,"Region Syddanmark"]
[null,"Fredericia",10113,"2021-01-01",18,"*","*",13,9315,"*","*",4555,72,15,355,0,"*",352,"*",null,null,null,5,16,0,16,5,16,"*","*",94,334,null,null,null,null,null,null,"Region Syddanmark"]
[null,"Horsens",19592,"2021-01-01",63,11,0,52,33561,13761,"*",19800,120,26,338,0,11,321,6,null,null,null,16,68,6,68,10,68,18,370,123,379,null,null,null,null,null,null,"Region Midtjylland"]
[null,"Kolding",19748,"2021-01-01",28,13,0,15,15464,6676,"*",8788,114,14,344,0,3,341,0,null,null,null,12,32,"*",32,"*",32,"*","*",108,350,null,null,null,null,null,null,"Region Syddanmark"]
[null,"Vejle",25048,"2021-01-01",49,43,0,6,19873,19119,"*",754,169,20,421,"*","*",413,"*",null,null,null,13,48,4,48,9,48,"*",434,142,436,null,null,null,null,null,null,"Region Syddanmark"]
[null,"Herning",18816,"2021-01-01",26,18,"*","*",16423,13994,"*","*",109,17,346,"*","*",337,6,null,null,null,7,22,0,22,7,22,12,290,82,294,null,null,null,null,null,null,"Region Midtjylland"]
[null,"Holstebro",12515,"2021-01-01",29,20,"*","*",31205,19566,"*","*",85,14,233,0,"*",230,"*",null,null,null,7,31,"*",31,"*",31,"*",236,62,238,null,null,null,null,null,null,"Region Midtjylland"]
[null,"Lemvig",3488,"2021-01-01",10,7,0,3,15073,"*","*","*",25,3,82,"*","*","*","*",null,null,null,0,8,0,8,0,8,"*",77,18,78,null,null,null,null,null,null,"Region Midtjylland"]
[null,"Struer",3884,"2021-01-01",7,"*","*","*",703,"*","*","*",46,4,102,"*","*","*","*",null,null,null,4,7,"*",7,"*",7,"*",119,35,120,null,null,null,null,null,null,"Region Midtjylland"]
[null,"Syddjurs",8515,"2021-01-01",15,"*","*",11,11493,"*","*",6986,64,11,351,"*","*",346,"*",null,null,null,0,15,0,15,0,15,"*",336,40,338,null,null,null,null,null,null,"Region Midtjylland"]
[null,"Norddjurs",6390,"2021-01-01",35,29,0,6,30064,22300,"*",7764,77,8,216,"*","*",212,"*",null,null,null,5,36,"*",36,"*",36,"*","*",32,192,null,null,null,null,null,null,"Region Midtjylland"]
[null,"Favrskov",11625,"2021-01-01",37,26,"*","*",21441,16048,"*","*",61,"*",185,0,"*",181,"*",null,null,null,3,36,0,36,3,36,"*","*",41,165,null,null,null,null,null,null,"Region Midtjylland"]
[null,"Odder",4833,"2021-01-01",10,"*","*","*",6822,"*","*","*",11,7,136,"*","*","*","*",null,null,null,3,11,"*",11,"*",11,"*",116,33,116,null,null,null,null,null,null,"Region Midtjylland"]
[null,"Randers",19468,"2021-01-01",34,20,0,14,24600,16560,"*",8040,136,25,364,"*","*",352,8,null,null,null,8,36,"*",36,"*",36,13,362,100,365,null,null,null,null,null,null,"Region Midtjylland"]
[null,"Silkeborg",21114,"2021-01-01",19,13,0,6,22749,20105,"*",2644,86,10,550,"*","*","*","*",null,null,null,"*",19,"*",19,"*",19,"*",549,159,550,null,null,null,null,null,null,"Region Midtjylland"]
[null,"Samsø",542,"2021-01-01",3,"*",0,"*","*","*","*","*",6,"*",15,0,0,15,0,null,null,null,"*","*","*","*","*","*",0,9,"*",9,null,null,null,null,null,null,"Region Midtjylland"]
[null,"Skanderborg",15951,"2021-01-01",22,"*","*",13,15013,"*","*",7324,45,8,199,0,"*",196,"*",null,null,null,4,18,0,18,4,18,"*",182,50,183,null,null,null,null,null,null,"Region Midtjylland"]
[null,"Aarhus",64334,"2021-01-01",169,115,14,40,147293,119524,1624,26145,242,26,1246,"*","*",1231,11,null,null,null,28,168,0,168,28,168,22,1258,353,1262,null,null,null,null,null,null,"Region Midtjylland"]
[null,"Ikast-Brande",8926,"2021-01-01",14,9,0,5,7635,4139,"*",3496,52,12,88,"*","*","*","*",null,null,null,5,15,"*",15,"*",15,"*",96,9,96,null,null,null,null,null,null,"Region Midtjylland"]
[null,"Ringkøbing-Skjern",11639,"2021-01-01",35,22,"*","*",35006,27733,"*","*",88,5,285,0,"*",282,"*",null,null,null,4,33,0,33,4,33,"*",288,76,289,null,null,null,null,null,null,"Region Midtjylland"]
[null,"Hedensted",10097,"2021-01-01",36,8,0,28,31919,9817,"*",22102,25,"*",125,"*","*","*","*",null,null,null,4,33,0,33,4,33,"*",133,47,133,null,null,null,null,null,null,"Region Midtjylland"]
[null,"Morsø",3733,"2021-01-01",3,3,0,0,"*","*","*","*",47,6,94,"*","*","*","*",null,null,null,"*",5,"*",5,0,5,"*",107,26,108,null,null,null,null,null,null,"Region Nordjylland"]
[null,"Skive",8520,"2021-01-01",21,"*","*",11,15407,"*","*",5622,55,13,160,"*",0,156,"*",null,null,null,3,19,0,19,3,19,"*","*",29,125,null,null,null,null,null,null,"Region Midtjylland"]
[null,"Thisted",8477,"2021-01-01",28,22,0,6,25275,20596,"*",4679,73,6,161,"*","*",155,"*",null,null,null,4,31,0,31,4,31,"*",172,53,175,null,null,null,null,null,null,"Region Nordjylland"]
[null,"Viborg",20723,"2021-01-01",35,25,"*","*",38759,36439,"*","*",146,18,312,0,3,301,8,null,null,null,9,38,0,38,9,38,7,292,110,301,null,null,null,null,null,null,"Region Midtjylland"]
[null,"Brønderslev",7725,"2021-01-01",21,5,0,16,16860,2964,"*",13896,115,7,165,"*","*","*","*",null,null,null,5,22,"*",22,"*",22,7,169,56,169,null,null,null,null,null,null,"Region Nordjylland"]
[null,"Frederikshavn",10301,"2021-01-01",46,27,0,19,23872,14889,"*",8983,106,12,300,"*","*",295,"*",null,null,null,8,42,"*",42,"*",42,"*","*",83,296,null,null,null,null,null,null,"Region Nordjylland"]
[null,"Vesthimmerlands",7126,"2021-01-01",29,"*","*",18,20763,"*","*",16495,77,6,213,5,"*",205,"*",null,null,null,4,28,0,28,4,28,"*","*",74,214,null,null,null,null,null,null,"Region Nordjylland"]
[null,"Læsø",225,"2021-01-01","*","*",0,0,"*","*","*","*",0,0,"*",0,0,5,0,null,null,null,"*","*","*","*","*","*",0,4,"*",4,null,null,null,null,null,null,"Region Nordjylland"]
[null,"Rebild",7276,"2021-01-01",16,10,0,6,14330,11672,"*",2658,31,5,94,"*","*","*","*",null,null,null,"*",17,0,17,"*",17,0,89,19,89,null,null,null,null,null,null,"Region Nordjylland"]
[null,"Mariagerfjord",7954,"2021-01-01",27,14,"*","*",29337,17157,"*","*",81,8,214,"*",0,210,"*",null,null,null,9,32,0,32,9,32,"*",196,45,198,null,null,null,null,null,null,"Region Nordjylland"]
[null,"Jammerbugt",7719,"2021-01-01",28,7,0,21,25470,12592,"*",12878,75,"*",218,0,"*",215,"*",null,null,null,3,31,"*",31,"*",31,"*",186,51,187,null,null,null,null,null,null,"Region Nordjylland"]
[null,"Aalborg",39370,"2021-01-01",146,77,3,66,119273,72338,"*","*",277,42,1066,"*",10,1045,"*",null,null,null,18,137,"*",137,"*",137,38,1044,237,1052,null,null,null,null,null,null,"Region Nordjylland"]
[null,"Hjørring",12271,"2021-01-01",34,"*","*",22,25048,"*","*",9762,147,14,252,0,0,248,4,null,null,null,4,33,0,33,4,33,"*",254,90,254,null,null,null,null,null,null,"Region Nordjylland"]
[null,"København",110614,"2021-07-01",221,164,23,34,137290,99035,2581,35674,284,114,2297,"*",15,2268,"*",null,null,null,43,203,5,203,38,203,57,2015,406,2035,null,null,null,null,null,null,"Region Hovedstaden"]
[null,"Frederiksberg",17868,"2021-07-01",45,31,"*","*",24359,19948,"*","*",34,9,234,"*",5,226,"*",null,null,null,10,47,0,47,10,47,"*","*",51,212,null,null,null,null,null,null,"Region Hovedstaden"]
[null,"Ballerup",10391,"2021-07-01",29,15,"*","*",24334,11541,"*","*",31,9,356,"*","*",353,"*",null,null,null,"*",28,0,28,"*",28,"*","*",45,335,null,null,null,null,null,null,"Region Hovedstaden"]
[null,"Brøndby",7404,"2021-07-01",31,6,0,25,13043,3565,"*",9478,43,6,149,"*","*",144,"*",null,null,null,9,35,0,35,9,35,"*","*",29,126,null,null,null,null,null,null,"Region Hovedstaden"]
[null,"Dragør",3345,"2021-07-01",5,"*","*","*",3174,"*","*","*","*",0,49,0,0,49,0,null,null,null,"*",5,0,5,"*",5,"*",41,3,41,null,null,null,null,null,null,"Region Hovedstaden"]
[null,"Gentofte",16628,"2021-07-01",24,12,"*","*",20596,8450,"*","*",25,"*",201,0,"*",198,"*",null,null,null,5,25,0,25,5,25,5,205,34,208,null,null,null,null,null,null,"Region Hovedstaden"]
[null,"Gladsaxe",15458,"2021-07-01",31,17,0,14,23958,12055,"*",11903,37,13,210,"*","*",204,"*",null,null,null,3,26,0,26,3,26,"*","*",34,186,null,null,null,null,null,null,"Region Hovedstaden"]
[null,"Glostrup",4690,"2021-07-01",3,"*",0,"*","*","*","*","*",16,6,90,"*","*","*","*",null,null,null,"*",4,"*",4,"*",4,4,96,19,96,null,null,null,null,null,null,"Region Hovedstaden"]
[null,"Herlev",6330,"2021-07-01",18,9,"*","*",16778,10669,"*","*",17,4,164,"*","*","*","*",null,null,null,"*",19,0,19,"*",19,"*","*",33,167,null,null,null,null,null,null,"Region Hovedstaden"]
[null,"Albertslund",5826,"2021-07-01",24,10,0,14,19813,8055,"*",11758,31,6,142,0,6,132,4,null,null,null,7,28,0,28,7,28,"*","*",31,131,null,null,null,null,null,null,"Region Hovedstaden"]
[null,"Hvidovre",11913,"2021-07-01",42,26,0,16,19209,9607,"*",9602,42,13,245,"*","*",235,5,null,null,null,11,42,"*",42,"*",42,"*",231,54,233,null,null,null,null,null,null,"Region Hovedstaden"]
[null,"Høje-Taastrup",11284,"2021-07-01",40,"*","*",22,43854,"*","*",27138,44,6,305,0,6,293,6,null,null,null,9,43,"*",43,"*",43,"*",259,55,261,null,null,null,null,null,null,"Region Hovedstaden"]
[null,"Lyngby-Taarbæk",12043,"2021-07-01",26,"*","*",18,15803,"*","*",13044,21,6,231,"*","*","*","*",null,null,null,6,29,0,29,6,29,"*",210,36,211,null,null,null,null,null,null,"Region Hovedstaden"]
[null,"Rødovre",8960,"2021-07-01",23,12,0,11,14737,6469,"*",8268,28,6,179,0,"*",176,"*",null,null,null,5,23,"*",23,"*",23,"*","*",25,176,null,null,null,null,null,null,"Region Hovedstaden"]
[null,"Ishøj",5063,"2021-07-01",21,4,0,17,25672,"*","*","*",24,4,161,"*","*","*","*",null,null,null,3,22,"*",22,"*",22,4,144,29,144,null,null,null,null,null,null,"Region Hovedstaden"]
[null,"Tårnby",9575,"2021-07-01",10,7,0,3,8166,"*","*","*",31,0,58,0,4,54,0,null,null,null,"*",10,0,10,"*",10,"*",138,97,139,null,null,null,null,null,null,"Region Hovedstaden"]
[null,"Vallensbæk",4003,"2021-07-01",4,"*",0,"*","*","*","*","*",9,"*",60,0,0,60,0,null,null,null,"*",4,0,4,"*",4,3,54,9,54,null,null,null,null,null,null,"Region Hovedstaden"]
[null,"Furesø",9796,"2021-07-01",14,10,"*","*",5627,4567,"*","*",24,4,193,0,"*",190,"*",null,null,null,"*",15,0,15,"*",15,"*","*",61,207,null,null,null,null,null,null,"Region Hovedstaden"]
[null,"Allerød",6232,"2021-07-01",12,4,0,8,10057,"*","*","*",9,0,78,"*","*","*","*",null,null,null,0,11,0,11,0,11,"*",80,19,81,null,null,null,null,null,null,"Region Hovedstaden"]
[null,"Fredensborg",8782,"2021-07-01",23,"*","*",16,11605,"*","*",7143,20,3,149,"*","*","*","*",null,null,null,4,22,0,22,4,22,"*",131,50,137,null,null,null,null,null,null,"Region Hovedstaden"]
[null,"Helsingør",12221,"2021-07-01",35,19,"*","*",42249,19956,"*","*",46,7,269,"*","*",262,"*",null,null,null,6,34,0,34,6,34,"*",247,27,248,null,null,null,null,null,null,"Region Hovedstaden"]
[null,"Hillerød",11245,"2021-07-01",33,10,0,23,16277,6022,"*",10255,23,9,253,"*","*","*","*",null,null,null,7,35,0,35,7,35,"*","*",30,228,null,null,null,null,null,null,"Region Hovedstaden"]
[null,"Hørsholm",5149,"2021-07-01",12,7,0,5,11515,7195,"*",4320,10,"*",50,"*","*","*","*",null,null,null,"*",11,0,11,"*",11,"*",36,5,36,null,null,null,null,null,null,"Region Hovedstaden"]
[null,"Rudersdal",13042,"2021-07-01",16,10,0,6,17015,15558,"*",1457,42,7,172,"*","*",166,3,null,null,null,"*",13,"*",13,"*",13,"*",163,24,165,null,null,null,null,null,null,"Region Hovedstaden"]
[null,"Egedal",10446,"2021-07-01",18,8,0,10,20319,5122,"*",15197,22,3,173,0,"*",169,"*",null,null,null,"*",19,0,19,"*",19,"*",157,40,159,null,null,null,null,null,null,"Region Hovedstaden"]
[null,"Frederikssund",8860,"2021-07-01",11,5,0,6,8142,6460,"*",1682,40,4,311,0,4,303,4,null,null,null,5,14,"*",14,"*",14,"*",257,60,264,null,null,null,null,null,null,"Region Hovedstaden"]
[null,"Greve",11113,"2021-07-01",38,"*","*",27,22625,"*","*",15433,40,"*",237,"*","*","*","*",null,null,null,9,36,0,36,9,36,9,237,37,241,null,null,null,null,null,null,"Region Sjælland"]
[null,"Køge",12645,"2021-07-01",29,11,4,14,15757,"*","*",5369,81,9,319,0,6,308,5,null,null,null,9,27,0,27,9,27,"*","*",55,290,null,null,null,null,null,null,"Region Sjælland"]
[null,"Halsnæs",5501,"2021-07-01",37,26,"*","*",26951,20264,"*","*",54,"*",232,0,0,229,3,null,null,null,7,38,"*",38,"*",38,"*",225,47,227,null,null,null,null,null,null,"Region Hovedstaden"]
[null,"Roskilde",18546,"2021-07-01",30,16,"*","*",18636,13745,"*","*",81,11,447,0,3,440,4,null,null,null,10,34,"*",34,"*",34,"*","*",108,413,null,null,null,null,null,null,"Region Sjælland"]
[null,"Solrød",5576,"2021-07-01",20,4,0,16,13009,"*","*","*",9,6,79,"*","*","*","*",null,null,null,4,20,0,20,4,20,"*","*",8,67,null,null,null,null,null,null,"Region Sjælland"]
[null,"Gribskov",7396,"2021-07-01",33,14,0,19,16909,9476,"*",7433,23,7,243,"*","*","*","*",null,null,null,0,30,0,30,0,30,"*",242,73,242,null,null,null,null,null,null,"Region Hovedstaden"]
[null,"Odsherred",5077,"2021-07-01",34,23,"*","*",27127,19010,"*","*",45,10,121,"*","*","*","*",null,null,null,5,32,0,32,5,32,"*","*",36,129,null,null,null,null,null,null,"Region Sjælland"]
[null,"Holbæk",14618,"2021-07-01",38,3,0,35,36477,"*","*","*",75,15,312,"*","*",307,"*",null,null,null,7,39,0,39,7,39,8,314,78,317,null,null,null,null,null,null,"Region Sjælland"]
[null,"Faxe",7022,"2021-07-01",56,13,0,43,33725,10915,"*",22810,45,12,309,0,3,302,4,null,null,null,6,53,"*",53,"*",53,8,292,50,296,null,null,null,null,null,null,"Region Sjælland"]
[null,"Kalundborg",9021,"2021-07-01",40,"*","*",26,33214,"*","*",18178,85,9,246,0,3,243,0,null,null,null,7,41,"*",41,"*",41,"*","*",46,218,null,null,null,null,null,null,"Region Sjælland"]
[null,"Ringsted",7153,"2021-07-01",29,9,0,20,18671,7832,"*",10839,23,6,139,"*","*","*","*",null,null,null,6,33,0,33,6,33,"*",123,34,125,null,null,null,null,null,null,"Region Sjælland"]
[null,"Slagelse",14841,"2021-07-01",80,"*","*",62,53082,"*","*",37499,124,17,465,5,0,451,9,null,null,null,12,71,4,71,8,71,17,427,82,430,null,null,null,null,null,null,"Region Sjælland"]
[null,"Stevns",4301,"2021-07-01",13,4,0,9,11991,"*","*","*",25,3,106,"*","*","*","*",null,null,null,"*",13,0,13,"*",13,"*",93,23,96,null,null,null,null,null,null,"Region Sjælland"]
[null,"Sorø",6149,"2021-07-01",14,7,0,7,6972,4891,"*",2081,24,13,185,"*","*",180,"*",null,null,null,"*",13,0,13,"*",13,"*","*",30,188,null,null,null,null,null,null,"Region Sjælland"]
[null,"Lejre",6309,"2021-07-01",13,6,"*","*",8857,4742,"*","*",21,4,126,"*","*","*","*",null,null,null,3,16,0,16,3,16,"*",110,30,115,null,null,null,null,null,null,"Region Sjælland"]
[null,"Lolland",6342,"2021-07-01",51,"*","*",32,25631,"*","*",15906,134,16,279,"*","*",271,4,null,null,null,8,52,"*",52,"*",52,"*",251,57,253,null,null,null,null,null,null,"Region Sjælland"]
[null,"Næstved",16099,"2021-07-01",106,"*","*",59,65112,"*","*",33477,73,4,367,5,5,353,4,null,null,null,22,112,4,112,18,112,"*",334,83,340,null,null,null,null,null,null,"Region Sjælland"]
[null,"Guldborgsund",10208,"2021-07-01",86,27,3,56,57567,"*","*",39453,117,20,361,"*",5,352,"*",null,null,null,12,87,"*",87,"*",87,17,349,69,359,null,null,null,null,null,null,"Region Sjælland"]
[null,"Vordingborg",7678,"2021-07-01",76,"*","*",62,54594,"*","*",48173,91,11,177,"*","*","*","*",null,null,null,10,76,0,76,10,76,"*","*",55,167,null,null,null,null,null,null,"Region Sjælland"]
[null,"Bornholm",6605,"2021-07-01",33,15,0,18,19602,12776,"*",6826,61,"*",169,"*","*",160,4,null,null,null,5,30,0,30,5,30,11,157,26,160,null,null,null,null,null,null,"Region Hovedstaden"]
[null,"Middelfart",7912,"2021-07-01",20,16,0,4,11457,"*","*","*",50,3,180,"*","*","*","*",null,null,null,"*",14,0,14,"*",14,9,186,40,186,null,null,null,null,null,null,"Region Syddanmark"]
[null,"Assens",8032,"2021-07-01",21,11,0,10,17257,10010,"*",7247,96,8,150,0,0,150,0,null,null,null,4,22,0,22,4,22,"*",155,40,156,null,null,null,null,null,null,"Region Syddanmark"]
[null,"Faaborg-Midtfyn",10301,"2021-07-01",38,15,0,23,21548,4590,"*",16958,85,11,224,"*","*",214,"*",null,null,null,"*",32,0,32,"*",32,"*","*",75,241,null,null,null,null,null,null,"Region Syddanmark"]
[null,"Kerteminde",4468,"2021-07-01",11,8,0,3,15011,"*","*","*",23,5,127,0,"*",124,"*",null,null,null,3,13,0,13,3,13,"*",120,23,121,null,null,null,null,null,null,"Region Syddanmark"]
[null,"Nyborg",6125,"2021-07-01",20,17,0,3,16216,"*","*","*",55,5,115,"*","*","*","*",null,null,null,6,20,0,20,6,20,3,125,45,125,null,null,null,null,null,null,"Region Syddanmark"]
[null,"Odense",37772,"2021-07-01",164,82,5,77,126115,63423,669,62023,229,27,1295,7,17,1271,0,null,null,null,24,169,3,169,21,169,34,1224,224,1252,null,null,null,null,null,null,"Region Syddanmark"]
[null,"Svendborg",11286,"2021-07-01",48,34,"*","*",34652,24185,"*","*",98,3,308,0,"*",304,"*",null,null,null,5,44,"*",44,"*",44,5,295,70,302,null,null,null,null,null,null,"Region Syddanmark"]
[null,"Nordfyns",5719,"2021-07-01",35,14,0,21,18379,10106,"*",8273,44,6,177,"*","*",169,"*",null,null,null,3,30,0,30,3,30,"*","*",51,179,null,null,null,null,null,null,"Region Syddanmark"]
[null,"Langeland",1649,"2021-07-01",15,12,0,3,5978,"*","*","*",40,"*",75,"*","*","*","*",null,null,null,"*",14,"*",14,"*",14,3,65,5,65,null,null,null,null,null,null,"Region Syddanmark"]
[null,"Ærø",806,"2021-07-01",5,"*","*","*",2779,"*","*","*","*","*",6,0,0,6,0,null,null,null,0,5,0,5,0,5,"*",4,"*","*",null,null,null,null,null,null,"Region Syddanmark"]
[null,"Haderslev",10686,"2021-07-01",28,"*","*",20,20788,"*","*",15185,146,22,238,0,"*",235,"*",null,null,null,4,26,0,26,4,26,"*","*",55,179,null,null,null,null,null,null,"Region Syddanmark"]
[null,"Billund",5546,"2021-07-01",17,5,0,12,8497,2957,"*",5540,53,6,150,0,"*",147,"*",null,null,null,4,20,0,20,4,20,"*","*",47,161,null,null,null,null,null,null,"Region Syddanmark"]
[null,"Sønderborg",13777,"2021-07-01",35,19,0,16,19793,16097,"*",3696,101,5,303,0,4,299,0,null,null,null,6,31,0,31,6,31,"*","*",55,289,null,null,null,null,null,null,"Region Syddanmark"]
[null,"Tønder",6852,"2021-07-01",24,"*","*",16,9731,"*","*",8321,103,7,261,"*","*","*","*",null,null,null,4,22,"*",22,"*",22,"*",252,58,253,null,null,null,null,null,null,"Region Syddanmark"]
[null,"Esbjerg",22649,"2021-07-01",147,74,"*","*",128366,71812,"*","*",122,27,619,0,9,610,0,null,null,null,32,153,3,153,29,153,"*","*",152,618,null,null,null,null,null,null,"Region Syddanmark"]
[null,"Fanø",585,"2021-07-01","*","*",0,0,"*","*","*","*","*",0,"*",0,"*",0,0,null,null,null,"*","*","*","*","*","*","*",0,"*","*",null,null,null,null,null,null,"Region Syddanmark"]
[null,"Varde",10034,"2021-07-01",10,4,0,6,7481,"*","*","*",72,16,416,"*","*","*","*",null,null,null,"*",12,0,12,"*",12,"*",378,81,379,null,null,null,null,null,null,"Region Syddanmark"]
[null,"Vejen",8967,"2021-07-01",27,"*","*",20,21000,"*","*",13823,62,7,186,0,"*",183,"*",null,null,null,7,30,0,30,7,30,4,178,42,178,null,null,null,null,null,null,"Region Syddanmark"]
[null,"Aabenraa",11370,"2021-07-01",38,32,"*","*",31518,30062,"*","*",118,11,335,3,5,327,0,null,null,null,4,32,"*",32,"*",32,22,337,74,340,null,null,null,null,null,null,"Region Syddanmark"]
[null,"Fredericia",10080,"2021-07-01",18,"*","*",11,9955,"*","*",5242,73,13,314,"*","*",310,"*",null,null,null,5,18,0,18,5,18,"*","*",122,355,null,null,null,null,null,null,"Region Syddanmark"]
[null,"Horsens",19715,"2021-07-01",71,"*","*",58,38511,"*","*",22925,121,27,360,0,10,343,7,null,null,null,9,63,0,63,9,63,19,327,118,338,null,null,null,null,null,null,"Region Midtjylland"]
[null,"Kolding",19628,"2021-07-01",30,13,0,17,16681,6444,"*",10237,112,12,353,0,3,350,0,null,null,null,5,28,"*",28,"*",28,7,341,81,344,null,null,null,null,null,null,"Region Syddanmark"]
[null,"Vejle",25245,"2021-07-01",55,40,"*","*",24595,22035,"*","*",168,19,360,0,5,349,6,null,null,null,11,49,"*",49,"*",49,"*",419,140,421,null,null,null,null,null,null,"Region Syddanmark"]
[null,"Herning",18792,"2021-07-01",24,15,0,9,17776,14432,"*",3344,107,21,349,"*","*",339,6,null,null,null,7,26,0,26,7,26,6,343,109,346,null,null,null,null,null,null,"Region Midtjylland"]
[null,"Holstebro",12398,"2021-07-01",30,19,"*","*",31614,18674,"*","*",87,13,210,"*","*",204,"*",null,null,null,6,29,"*",29,"*",29,"*","*",93,233,null,null,null,null,null,null,"Region Midtjylland"]
[null,"Lemvig",3433,"2021-07-01",11,8,0,3,16757,"*","*","*",27,3,85,0,0,85,0,null,null,null,"*",10,0,10,"*",10,"*",81,13,82,null,null,null,null,null,null,"Region Midtjylland"]
[null,"Struer",3838,"2021-07-01",6,"*","*","*",1189,"*","*","*",48,4,120,"*","*","*","*",null,null,null,"*",7,0,7,"*",7,"*",101,16,102,null,null,null,null,null,null,"Region Midtjylland"]
[null,"Syddjurs",8556,"2021-07-01",18,"*","*",13,13312,"*","*",7970,64,10,374,"*","*","*","*",null,null,null,"*",15,0,15,"*",15,"*",346,35,351,null,null,null,null,null,null,"Region Midtjylland"]
[null,"Norddjurs",6335,"2021-07-01",37,29,"*","*",29632,21966,"*","*",76,8,212,0,"*",209,"*",null,null,null,5,35,0,35,5,35,"*",215,51,216,null,null,null,null,null,null,"Region Midtjylland"]
[null,"Favrskov",11650,"2021-07-01",40,23,"*","*",23146,15930,"*","*",61,3,180,"*","*",173,4,null,null,null,8,37,0,37,8,37,"*","*",49,185,null,null,null,null,null,null,"Region Midtjylland"]
[null,"Odder",4825,"2021-07-01",14,3,0,11,6981,"*","*","*",11,4,150,0,"*",147,"*",null,null,null,"*",10,0,10,"*",10,"*",135,25,136,null,null,null,null,null,null,"Region Midtjylland"]
[null,"Randers",19391,"2021-07-01",42,21,0,21,27377,18254,"*",9123,131,25,340,"*","*",329,6,null,null,null,4,34,"*",34,"*",34,9,360,111,364,null,null,null,null,null,null,"Region Midtjylland"]
[null,"Silkeborg",21253,"2021-07-01",37,18,"*","*",20418,17150,"*","*",87,8,530,0,0,530,0,null,null,null,5,19,"*",19,"*",19,"*",550,161,550,null,null,null,null,null,null,"Region Midtjylland"]
[null,"Samsø",535,"2021-07-01",4,4,0,0,"*","*","*","*",7,"*",16,0,0,16,0,null,null,null,"*",3,0,3,"*",3,"*",15,6,15,null,null,null,null,null,null,"Region Midtjylland"]
[null,"Skanderborg",16052,"2021-07-01",21,8,0,13,15290,7389,"*",7901,43,7,209,"*","*","*","*",null,null,null,4,22,0,22,4,22,"*","*",43,199,null,null,null,null,null,null,"Region Midtjylland"]
[null,"Aarhus",64307,"2021-07-01",168,112,11,45,149129,125178,2319,21632,232,25,1220,"*","*",1207,10,null,null,null,31,169,3,169,28,169,24,1242,331,1246,null,null,null,null,null,null,"Region Midtjylland"]
[null,"Ikast-Brande",8912,"2021-07-01",18,10,0,8,10268,5695,"*",4573,49,12,86,"*","*","*","*",null,null,null,0,14,0,14,0,14,"*",88,"*",88,null,null,null,null,null,null,"Region Midtjylland"]
[null,"Ringkøbing-Skjern",11521,"2021-07-01",27,18,0,9,31544,26400,"*",5144,88,4,258,"*","*","*","*",null,null,null,8,35,0,35,8,35,"*","*",78,285,null,null,null,null,null,null,"Region Midtjylland"]
[null,"Hedensted",10100,"2021-07-01",32,7,0,25,28938,8710,"*",20228,27,"*",130,"*","*","*","*",null,null,null,9,36,0,36,9,36,"*",124,47,125,null,null,null,null,null,null,"Region Midtjylland"]
[null,"Morsø",3714,"2021-07-01",4,"*","*","*","*","*","*","*",50,7,72,0,0,72,0,null,null,null,0,3,0,3,0,3,"*",94,29,94,null,null,null,null,null,null,"Region Nordjylland"]
[null,"Skive",8447,"2021-07-01",23,"*","*",12,16488,"*","*",6740,57,13,151,"*","*","*","*",null,null,null,3,21,0,21,3,21,"*","*",49,160,null,null,null,null,null,null,"Region Midtjylland"]
[null,"Thisted",8464,"2021-07-01",32,27,0,5,28843,23855,"*",4988,75,5,205,"*","*",198,"*",null,null,null,"*",28,0,28,"*",28,"*",159,39,161,null,null,null,null,null,null,"Region Nordjylland"]
[null,"Viborg",20555,"2021-07-01",45,29,"*","*",41332,38415,"*","*",143,19,381,3,4,364,10,null,null,null,5,35,0,35,5,35,11,309,80,312,null,null,null,null,null,null,"Region Midtjylland"]
[null,"Brønderslev",7700,"2021-07-01",24,6,0,18,17400,4040,"*",13360,108,7,164,0,0,164,0,null,null,null,"*",21,0,21,"*",21,"*",164,42,165,null,null,null,null,null,null,"Region Nordjylland"]
[null,"Frederikshavn",10223,"2021-07-01",44,24,"*","*",28885,17698,"*","*",110,13,275,0,"*",272,"*",null,null,null,6,46,3,46,3,46,"*",298,74,300,null,null,null,null,null,null,"Region Nordjylland"]
[null,"Vesthimmerlands",7107,"2021-07-01",27,9,0,18,21564,4802,"*",16762,79,7,195,"*","*",187,"*",null,null,null,5,29,0,29,5,29,"*","*",59,213,null,null,null,null,null,null,"Region Nordjylland"]
[null,"Læsø",219,"2021-07-01","*","*",0,0,"*","*","*","*",0,0,"*",0,0,"*",0,null,null,null,"*","*","*","*","*","*","*",5,0,"*",null,null,null,null,null,null,"Region Nordjylland"]
[null,"Rebild",7224,"2021-07-01",14,10,0,4,8183,"*","*","*",31,4,109,"*","*","*","*",null,null,null,"*",16,0,16,"*",16,"*",94,27,94,null,null,null,null,null,null,"Region Nordjylland"]
[null,"Mariagerfjord",7885,"2021-07-01",27,16,"*","*",30834,19077,"*","*",82,9,217,"*",0,214,"*",null,null,null,6,27,"*",27,"*",27,"*","*",40,214,null,null,null,null,null,null,"Region Nordjylland"]
[null,"Jammerbugt",7715,"2021-07-01",28,6,0,22,22708,10876,"*",11832,74,"*",202,0,3,199,0,null,null,null,6,28,"*",28,"*",28,"*","*",53,218,null,null,null,null,null,null,"Region Nordjylland"]
[null,"Aalborg",39438,"2021-07-01",153,80,3,70,128854,76057,"*","*",278,44,1196,0,12,1175,9,null,null,null,19,146,3,146,16,146,"*",1054,166,1066,null,null,null,null,null,null,"Region Nordjylland"]
[null,"Hjørring",12213,"2021-07-01",38,"*","*",26,28300,"*","*",11283,147,12,259,0,0,259,0,null,null,null,4,34,0,34,4,34,6,252,71,252,null,null,null,null,null,null,"Region Nordjylland"]
[null,"København",110513,"2022-01-01",220,171,18,31,135855,99578,2750,33527,272,113,2306,12,14,2267,13,null,null,null,56,221,8,221,48,221,"*",2280,586,2297,null,null,null,null,null,null,"Region Hovedstaden"]
[null,"Frederiksberg",17772,"2022-01-01",37,25,"*","*",22402,18666,"*","*",35,8,239,"*","*",231,"*",null,null,null,11,45,"*",45,"*",45,"*","*",56,234,null,null,null,null,null,null,"Region Hovedstaden"]
[null,"Ballerup",10418,"2022-01-01",34,18,3,13,26311,12948,"*","*",31,11,359,"*","*",356,"*",null,null,null,6,29,0,29,6,29,"*","*",68,356,null,null,null,null,null,null,"Region Hovedstaden"]
[null,"Brøndby",7414,"2022-01-01",26,9,0,17,11415,3128,"*",8287,41,6,149,"*","*",146,"*",null,null,null,10,31,"*",31,"*",31,"*",144,34,149,null,null,null,null,null,null,"Region Hovedstaden"]
[null,"Dragør",3375,"2022-01-01",7,4,0,3,4144,"*","*","*","*",0,51,0,0,51,0,null,null,null,0,5,0,5,0,5,"*",49,11,49,null,null,null,null,null,null,"Region Hovedstaden"]
[null,"Gentofte",16656,"2022-01-01",27,15,"*","*",20717,10575,"*","*",25,"*",216,"*","*","*","*",null,null,null,"*",24,0,24,"*",24,"*","*",46,201,null,null,null,null,null,null,"Region Hovedstaden"]
[null,"Gladsaxe",15540,"2022-01-01",31,17,0,14,25256,12498,"*",12758,39,14,257,"*","*",251,"*",null,null,null,5,31,"*",31,"*",31,"*","*",33,210,null,null,null,null,null,null,"Region Hovedstaden"]
[null,"Glostrup",4676,"2022-01-01",4,"*","*","*","*","*","*","*",15,6,89,"*",3,83,"*",null,null,null,0,3,0,3,0,3,"*",89,25,90,null,null,null,null,null,null,"Region Hovedstaden"]
[null,"Herlev",6331,"2022-01-01",16,9,"*","*",15712,9046,"*","*",14,4,171,"*","*",167,"*",null,null,null,4,18,0,18,4,18,"*",162,29,164,null,null,null,null,null,null,"Region Hovedstaden"]
[null,"Albertslund",5961,"2022-01-01",20,9,0,11,19463,8988,"*",10475,29,5,148,"*",5,140,"*",null,null,null,5,24,0,24,5,24,6,136,36,142,null,null,null,null,null,null,"Region Hovedstaden"]
[null,"Hvidovre",11924,"2022-01-01",40,24,0,16,16048,7806,"*",8242,43,13,232,0,5,221,6,null,null,null,11,42,0,42,11,42,12,240,67,245,null,null,null,null,null,null,"Region Hovedstaden"]
[null,"Høje-Taastrup",11348,"2022-01-01",31,"*","*",18,35803,"*","*",24441,46,9,319,0,8,305,6,null,null,null,13,40,"*",40,"*",40,13,299,63,305,null,null,null,null,null,null,"Region Hovedstaden"]
[null,"Lyngby-Taarbæk",12033,"2022-01-01",26,"*","*",18,18222,"*","*",14779,21,5,216,"*","*",212,"*",null,null,null,4,26,0,26,4,26,"*",230,54,231,null,null,null,null,null,null,"Region Hovedstaden"]
[null,"Rødovre",9002,"2022-01-01",21,9,0,12,16759,6779,"*",9980,26,6,194,"*","*","*","*",null,null,null,4,23,0,23,4,23,"*","*",27,179,null,null,null,null,null,null,"Region Hovedstaden"]
[null,"Ishøj",5052,"2022-01-01",22,4,0,18,27446,"*","*","*",21,3,167,0,0,167,0,null,null,null,"*",21,0,21,"*",21,"*",160,27,161,null,null,null,null,null,null,"Region Hovedstaden"]
[null,"Tårnby",9610,"2022-01-01",10,6,0,4,9640,"*","*","*",31,0,60,0,3,57,0,null,null,null,"*",10,0,10,"*",10,3,54,18,58,null,null,null,null,null,null,"Region Hovedstaden"]
[null,"Vallensbæk",3990,"2022-01-01",3,"*",0,"*","*","*","*","*",9,3,59,0,0,59,0,null,null,null,"*",4,0,4,"*",4,0,60,17,60,null,null,null,null,null,null,"Region Hovedstaden"]
[null,"Furesø",9859,"2022-01-01",14,9,0,5,6333,5104,"*",1229,25,"*",195,0,"*",192,"*",null,null,null,"*",14,0,14,"*",14,"*","*",42,193,null,null,null,null,null,null,"Region Hovedstaden"]
[null,"Allerød",6246,"2022-01-01",12,6,0,6,7244,2827,"*",4417,10,0,107,0,0,107,0,null,null,null,"*",12,0,12,"*",12,"*",77,17,78,null,null,null,null,null,null,"Region Hovedstaden"]
[null,"Fredensborg",8818,"2022-01-01",23,5,0,18,14255,4785,"*",9470,21,"*",187,3,"*",181,"*",null,null,null,"*",23,0,23,"*",23,"*",148,35,149,null,null,null,null,null,null,"Region Hovedstaden"]
[null,"Helsingør",12105,"2022-01-01",32,18,"*","*",38733,17235,"*","*",43,6,297,"*",3,290,"*",null,null,null,6,35,0,35,6,35,"*",268,25,269,null,null,null,null,null,null,"Region Hovedstaden"]
[null,"Hillerød",11365,"2022-01-01",33,"*","*",21,14824,"*","*",7646,20,10,241,"*","*",238,"*",null,null,null,9,33,0,33,9,33,"*",252,56,253,null,null,null,null,null,null,"Region Hovedstaden"]
[null,"Hørsholm",5094,"2022-01-01",12,6,0,6,7012,4640,"*",2372,10,"*",50,"*","*","*","*",null,null,null,3,12,0,12,3,12,"*",49,10,50,null,null,null,null,null,null,"Region Hovedstaden"]
[null,"Rudersdal",13041,"2022-01-01",15,10,0,5,17244,15079,"*",2165,42,7,168,"*","*",164,"*",null,null,null,3,16,"*",16,"*",16,5,169,33,172,null,null,null,null,null,null,"Region Hovedstaden"]
[null,"Egedal",10517,"2022-01-01",18,10,0,8,19715,4254,"*",15461,21,3,183,0,"*",180,"*",null,null,null,6,18,"*",18,"*",18,"*","*",40,173,null,null,null,null,null,null,"Region Hovedstaden"]
[null,"Frederikssund",8834,"2022-01-01",17,8,"*","*",7618,6637,"*","*",40,4,284,0,"*",280,"*",null,null,null,3,11,0,11,3,11,6,307,98,311,null,null,null,null,null,null,"Region Hovedstaden"]
[null,"Greve",11166,"2022-01-01",35,13,0,22,22928,8533,"*",14395,40,"*",235,"*","*","*","*",null,null,null,8,38,0,38,8,38,"*",235,47,237,null,null,null,null,null,null,"Region Sjælland"]
[null,"Køge",12611,"2022-01-01",26,"*","*",13,17050,"*","*",4638,87,10,321,"*",5,313,"*",null,null,null,8,29,0,29,8,29,11,313,87,319,null,null,null,null,null,null,"Region Sjælland"]
[null,"Halsnæs",5446,"2022-01-01",43,30,"*","*",24590,18874,"*","*",52,"*",203,"*","*",199,"*",null,null,null,6,37,0,37,6,37,11,232,62,232,null,null,null,null,null,null,"Region Hovedstaden"]
[null,"Roskilde",18573,"2022-01-01",34,23,0,11,22906,16837,"*",6069,78,11,431,"*",3,425,"*",null,null,null,4,30,0,30,4,30,8,444,153,447,null,null,null,null,null,null,"Region Sjælland"]
[null,"Solrød",5660,"2022-01-01",18,4,0,14,13932,"*","*","*",9,5,55,"*","*","*","*",null,null,null,4,20,"*",20,"*",20,"*",77,30,79,null,null,null,null,null,null,"Region Sjælland"]
[null,"Gribskov",7329,"2022-01-01",40,19,0,21,20872,10708,"*",10164,24,7,247,"*","*",244,"*",null,null,null,4,33,0,33,4,33,"*",242,67,243,null,null,null,null,null,null,"Region Hovedstaden"]
[null,"Odsherred",5030,"2022-01-01",38,28,"*","*",30499,21626,"*","*",48,9,118,"*","*","*","*",null,null,null,"*",34,0,34,"*",34,"*",120,23,121,null,null,null,null,null,null,"Region Sjælland"]
[null,"Holbæk",14699,"2022-01-01",35,"*","*",30,36422,"*","*",29527,72,15,316,"*","*",312,"*",null,null,null,7,38,0,38,7,38,"*","*",85,312,null,null,null,null,null,null,"Region Sjælland"]
[null,"Faxe",7023,"2022-01-01",57,"*","*",43,35570,"*","*",24226,47,11,300,"*","*",295,"*",null,null,null,8,56,"*",56,"*",56,5,306,49,309,null,null,null,null,null,null,"Region Sjælland"]
[null,"Kalundborg",8907,"2022-01-01",34,9,0,25,29610,11786,"*",17824,80,9,259,"*","*",253,"*",null,null,null,10,40,"*",40,"*",40,8,243,49,246,null,null,null,null,null,null,"Region Sjælland"]
[null,"Ringsted",7136,"2022-01-01",28,8,0,20,16333,6480,"*",9853,23,6,157,0,0,157,0,null,null,null,9,29,0,29,9,29,"*",138,37,139,null,null,null,null,null,null,"Region Sjælland"]
[null,"Slagelse",14792,"2022-01-01",84,"*","*",64,61865,"*","*",43303,123,16,485,"*","*",465,10,null,null,null,10,80,0,80,10,80,17,460,99,465,null,null,null,null,null,null,"Region Sjælland"]
[null,"Stevns",4392,"2022-01-01",10,4,0,6,11065,"*","*","*",25,"*",113,"*","*","*","*",null,null,null,3,13,0,13,3,13,"*",104,23,106,null,null,null,null,null,null,"Region Sjælland"]
[null,"Sorø",6128,"2022-01-01",14,"*","*",7,7090,"*","*",1938,28,10,196,"*","*",189,4,null,null,null,4,14,0,14,4,14,"*","*",42,185,null,null,null,null,null,null,"Region Sjælland"]
[null,"Lejre",6368,"2022-01-01",11,"*","*",7,9315,"*","*",4725,23,3,131,"*","*",128,0,null,null,null,4,13,"*",13,"*",13,"*",125,34,126,null,null,null,null,null,null,"Region Sjælland"]
[null,"Lolland",6283,"2022-01-01",56,"*","*",37,29804,"*","*",17478,136,15,272,"*","*",267,"*",null,null,null,"*",51,0,51,"*",51,11,275,83,279,null,null,null,null,null,null,"Region Sjælland"]
[null,"Næstved",16145,"2022-01-01",108,"*","*",61,58816,"*","*",30596,65,4,371,"*",8,359,"*",null,null,null,20,106,"*",106,"*",106,17,357,85,367,null,null,null,null,null,null,"Region Sjælland"]
[null,"Guldborgsund",10163,"2022-01-01",80,"*","*",53,61373,"*","*",40393,111,20,374,"*","*",365,"*",null,null,null,15,86,"*",86,"*",86,"*","*",76,361,null,null,null,null,null,null,"Region Sjælland"]
[null,"Vordingborg",7649,"2022-01-01",75,13,0,62,63291,8016,"*",55275,89,9,188,"*","*",180,"*",null,null,null,8,76,0,76,8,76,"*",175,63,177,null,null,null,null,null,null,"Region Sjælland"]
[null,"Bornholm",6588,"2022-01-01",38,"*","*",20,21837,"*","*",6813,65,"*",179,3,4,168,4,null,null,null,6,33,0,33,6,33,13,164,23,169,null,null,null,null,null,null,"Region Hovedstaden"]
[null,"Middelfart",7927,"2022-01-01",23,20,0,3,13784,"*","*","*",46,4,205,"*","*","*","*",null,null,null,3,20,0,20,3,20,"*",179,36,180,null,null,null,null,null,null,"Region Syddanmark"]
[null,"Assens",8012,"2022-01-01",21,9,0,12,16068,10286,"*",5782,95,10,180,"*","*","*","*",null,null,null,"*",21,0,21,"*",21,7,150,23,150,null,null,null,null,null,null,"Region Syddanmark"]
[null,"Faaborg-Midtfyn",10295,"2022-01-01",41,15,0,26,21642,5409,"*",16233,86,10,215,0,4,211,0,null,null,null,6,38,"*",38,"*",38,"*",214,70,224,null,null,null,null,null,null,"Region Syddanmark"]
[null,"Kerteminde",4499,"2022-01-01",16,10,"*","*",16298,12916,"*","*",22,5,126,3,"*",120,"*",null,null,null,0,11,0,11,0,11,"*","*",20,127,null,null,null,null,null,null,"Region Syddanmark"]
[null,"Nyborg",6111,"2022-01-01",21,18,0,3,18444,"*","*","*",54,5,104,"*","*","*","*",null,null,null,"*",20,0,20,"*",20,"*",114,46,115,null,null,null,null,null,null,"Region Syddanmark"]
[null,"Odense",37680,"2022-01-01",163,81,5,77,129220,64457,1208,63555,231,25,1282,3,20,1255,4,null,null,null,25,164,3,164,22,164,34,1271,279,1295,null,null,null,null,null,null,"Region Syddanmark"]
[null,"Svendborg",11485,"2022-01-01",46,30,"*","*",31128,21413,"*","*",98,"*",310,"*","*",307,0,null,null,null,14,48,"*",48,"*",48,"*","*",87,308,null,null,null,null,null,null,"Region Syddanmark"]
[null,"Nordfyns",5688,"2022-01-01",41,18,0,23,25281,13139,"*",12142,44,5,201,"*","*",194,"*",null,null,null,"*",35,0,35,"*",35,"*","*",47,177,null,null,null,null,null,null,"Region Syddanmark"]
[null,"Langeland",1626,"2022-01-01",13,10,0,3,7813,"*","*","*",42,"*",84,"*","*","*","*",null,null,null,3,15,"*",15,"*",15,"*",75,13,75,null,null,null,null,null,null,"Region Syddanmark"]
[null,"Ærø",808,"2022-01-01",5,"*","*","*",3699,"*","*","*","*","*",8,"*","*","*","*",null,null,null,0,5,0,5,0,5,0,6,"*",6,null,null,null,null,null,null,"Region Syddanmark"]
[null,"Haderslev",10610,"2022-01-01",24,"*","*",18,21462,"*","*",14847,146,23,231,"*","*",227,"*",null,null,null,6,28,0,28,6,28,"*","*",101,238,null,null,null,null,null,null,"Region Syddanmark"]
[null,"Billund",5542,"2022-01-01",17,4,0,13,10661,"*","*","*",51,8,126,0,"*",122,"*",null,null,null,"*",17,"*",17,"*",17,"*","*",54,150,null,null,null,null,null,null,"Region Syddanmark"]
[null,"Sønderborg",13696,"2022-01-01",42,"*","*",23,22876,"*","*",6397,103,6,356,0,3,353,0,null,null,null,4,35,0,35,4,35,7,299,64,303,null,null,null,null,null,null,"Region Syddanmark"]
[null,"Tønder",6840,"2022-01-01",17,3,0,14,10208,"*","*","*",106,5,243,"*","*","*","*",null,null,null,9,24,3,24,6,24,"*",260,52,261,null,null,null,null,null,null,"Region Syddanmark"]
[null,"Esbjerg",22644,"2022-01-01",142,74,"*","*",137333,79822,"*","*",127,27,636,0,6,627,3,null,null,null,21,147,"*",147,"*",147,22,610,144,619,null,null,null,null,null,null,"Region Syddanmark"]
[null,"Fanø",585,"2022-01-01",0,0,0,0,"*","*","*","*","*",0,"*",0,"*",0,0,null,null,null,"*","*","*","*","*","*","*","*","*","*",null,null,null,null,null,null,"Region Syddanmark"]
[null,"Varde",9969,"2022-01-01",15,5,0,10,9311,4330,"*",4981,68,24,380,"*","*","*","*",null,null,null,"*",10,0,10,"*",10,"*",415,115,416,null,null,null,null,null,null,"Region Syddanmark"]
[null,"Vejen",8922,"2022-01-01",30,"*","*",23,22603,"*","*",14138,68,6,196,"*","*","*","*",null,null,null,5,27,0,27,5,27,"*","*",48,186,null,null,null,null,null,null,"Region Syddanmark"]
[null,"Aabenraa",11471,"2022-01-01",33,28,0,5,29118,28049,"*",1069,110,11,359,"*",9,346,"*",null,null,null,11,38,"*",38,"*",38,19,327,79,335,null,null,null,null,null,null,"Region Syddanmark"]
[null,"Fredericia",10079,"2022-01-01",19,"*","*",13,10922,"*","*",6533,76,13,322,0,5,314,3,null,null,null,4,18,0,18,4,18,"*",313,92,314,null,null,null,null,null,null,"Region Syddanmark"]
[null,"Horsens",19883,"2022-01-01",60,7,0,53,29317,8188,"*",21129,115,25,330,0,15,309,6,null,null,null,20,71,"*",71,"*",71,19,350,132,360,null,null,null,null,null,null,"Region Midtjylland"]
[null,"Kolding",19581,"2022-01-01",27,12,0,15,15989,6396,"*",9593,104,13,338,"*","*","*","*",null,null,null,6,30,0,30,6,30,8,350,117,353,null,null,null,null,null,null,"Region Syddanmark"]
[null,"Vejle",25457,"2022-01-01",52,31,"*","*",19240,15151,"*","*",171,19,387,"*","*",376,"*",null,null,null,16,55,0,55,16,55,13,355,126,360,null,null,null,null,null,null,"Region Syddanmark"]
[null,"Herning",18668,"2022-01-01",26,15,"*","*",19052,13778,"*","*",103,21,381,0,"*",377,"*",null,null,null,4,24,0,24,4,24,5,345,103,349,null,null,null,null,null,null,"Region Midtjylland"]
[null,"Holstebro",12392,"2022-01-01",28,17,0,11,22592,13261,"*",9331,84,12,214,"*","*","*","*",null,null,null,4,30,0,30,4,30,"*","*",55,210,null,null,null,null,null,null,"Region Midtjylland"]
[null,"Lemvig",3384,"2022-01-01",11,6,0,5,11462,7609,"*",3853,26,"*",79,0,0,79,0,null,null,null,3,11,0,11,3,11,3,85,19,85,null,null,null,null,null,null,"Region Midtjylland"]
[null,"Struer",3838,"2022-01-01",9,"*","*","*",1887,"*","*","*",46,5,120,"*","*","*","*",null,null,null,"*",6,0,6,"*",6,"*",119,20,120,null,null,null,null,null,null,"Region Midtjylland"]
[null,"Syddjurs",8606,"2022-01-01",21,"*","*",15,15472,"*","*",9094,61,11,383,"*","*",379,"*",null,null,null,"*",18,0,18,"*",18,"*",372,47,374,null,null,null,null,null,null,"Region Midtjylland"]
[null,"Norddjurs",6371,"2022-01-01",40,29,"*","*",30801,22293,"*","*",71,7,212,"*","*","*","*",null,null,null,5,37,0,37,5,37,"*","*",54,212,null,null,null,null,null,null,"Region Midtjylland"]
[null,"Favrskov",11743,"2022-01-01",39,23,"*","*",24622,15170,"*","*",55,3,185,"*","*",180,"*",null,null,null,10,40,0,40,10,40,6,177,34,180,null,null,null,null,null,null,"Region Midtjylland"]
[null,"Odder",4880,"2022-01-01",13,"*","*","*",5225,"*","*","*",11,3,133,"*","*","*","*",null,null,null,5,14,0,14,5,14,"*","*",45,150,null,null,null,null,null,null,"Region Midtjylland"]
[null,"Randers",19480,"2022-01-01",50,26,"*","*",24443,17279,"*","*",131,22,329,"*","*",319,7,null,null,null,9,42,0,42,9,42,10,335,117,340,null,null,null,null,null,null,"Region Midtjylland"]
[null,"Silkeborg",21451,"2022-01-01",44,23,"*","*",23872,17783,"*","*",86,8,534,0,"*",531,"*",null,null,null,4,37,0,37,4,37,7,530,168,530,null,null,null,null,null,null,"Region Midtjylland"]
[null,"Samsø",525,"2022-01-01",5,"*","*","*",1506,"*","*","*",8,"*",17,0,0,17,0,null,null,null,0,4,0,4,0,4,0,16,5,16,null,null,null,null,null,null,"Region Midtjylland"]
[null,"Skanderborg",16250,"2022-01-01",19,6,0,13,11948,3364,"*",8584,41,7,214,"*","*","*","*",null,null,null,6,21,0,21,6,21,"*",208,46,209,null,null,null,null,null,null,"Region Midtjylland"]
[null,"Aarhus",64049,"2022-01-01",154,102,11,41,145303,122621,2424,20258,231,22,1147,"*","*",1130,14,null,null,null,40,168,3,168,37,168,19,1217,362,1220,null,null,null,null,null,null,"Region Midtjylland"]
[null,"Ikast-Brande",8950,"2022-01-01",15,7,0,8,8708,3044,"*",5664,44,11,89,"*","*",84,"*",null,null,null,6,18,"*",18,"*",18,"*",86,"*",86,null,null,null,null,null,null,"Region Midtjylland"]
[null,"Ringkøbing-Skjern",11438,"2022-01-01",25,15,0,10,26932,22073,"*",4859,82,3,280,"*","*",276,"*",null,null,null,7,27,0,27,7,27,"*",257,64,258,null,null,null,null,null,null,"Region Midtjylland"]
[null,"Hedensted",10014,"2022-01-01",33,8,0,25,28709,10180,"*",18529,24,"*",72,"*","*","*","*",null,null,null,6,32,0,32,6,32,"*",129,73,130,null,null,null,null,null,null,"Region Midtjylland"]
[null,"Morsø",3700,"2022-01-01",5,"*","*","*",1778,"*","*","*",51,7,61,0,0,61,0,null,null,null,"*",4,0,4,"*",4,3,72,16,72,null,null,null,null,null,null,"Region Nordjylland"]
[null,"Skive",8357,"2022-01-01",20,11,0,9,15681,10908,"*",4773,59,11,204,"*","*","*","*",null,null,null,6,23,0,23,6,23,"*",149,32,151,null,null,null,null,null,null,"Region Midtjylland"]
[null,"Thisted",8412,"2022-01-01",33,26,0,7,27522,23963,"*",3559,73,5,239,0,4,232,3,null,null,null,7,32,0,32,7,32,"*",203,48,205,null,null,null,null,null,null,"Region Nordjylland"]
[null,"Viborg",20476,"2022-01-01",46,34,0,12,45834,42405,"*",3429,145,19,395,"*","*",380,11,null,null,null,8,45,"*",45,"*",45,8,374,124,381,null,null,null,null,null,null,"Region Midtjylland"]
[null,"Brønderslev",7737,"2022-01-01",24,5,0,19,13201,2981,"*",10220,104,7,172,"*","*","*","*",null,null,null,3,24,0,24,3,24,4,164,45,164,null,null,null,null,null,null,"Region Nordjylland"]
[null,"Frederikshavn",10155,"2022-01-01",51,31,"*","*",32078,22798,"*","*",101,16,290,"*","*",285,"*",null,null,null,6,44,0,44,6,44,"*","*",60,275,null,null,null,null,null,null,"Region Nordjylland"]
[null,"Vesthimmerlands",7091,"2022-01-01",23,9,0,14,21987,5457,"*",16530,76,6,205,"*","*",202,"*",null,null,null,6,27,0,27,6,27,"*",187,62,195,null,null,null,null,null,null,"Region Nordjylland"]
[null,"Læsø",223,"2022-01-01",0,0,0,0,"*","*","*","*","*",0,"*",0,0,3,0,null,null,null,"*","*","*","*","*","*","*","*","*","*",null,null,null,null,null,null,"Region Nordjylland"]
[null,"Rebild",7239,"2022-01-01",13,10,0,3,9958,"*","*","*",36,3,110,"*","*","*","*",null,null,null,"*",14,"*",14,0,14,"*",109,34,109,null,null,null,null,null,null,"Region Nordjylland"]
[null,"Mariagerfjord",7888,"2022-01-01",27,16,0,11,29070,16739,"*",12331,79,12,239,"*","*","*","*",null,null,null,4,27,0,27,4,27,"*","*",47,217,null,null,null,null,null,null,"Region Nordjylland"]
[null,"Jammerbugt",7682,"2022-01-01",35,8,0,27,28010,12304,"*",15706,73,"*",201,"*","*","*","*",null,null,null,3,28,0,28,3,28,9,199,53,202,null,null,null,null,null,null,"Region Nordjylland"]
[null,"Aalborg",39584,"2022-01-01",156,87,3,66,135021,78152,"*","*",277,41,1222,0,5,1212,5,null,null,null,23,153,0,153,23,153,29,1184,249,1196,null,null,null,null,null,null,"Region Nordjylland"]
[null,"Hjørring",12129,"2022-01-01",38,"*","*",24,30395,"*","*",12030,146,11,283,0,0,280,3,null,null,null,5,38,0,38,5,38,3,259,90,259,null,null,null,null,null,null,"Region Nordjylland"]
[null,"København",110692,"2022-07-01",246,194,16,36,140964,101578,2047,37339,265,112,2428,10,9,2396,13,null,null,null,55,220,"*",220,"*",220,72,2280,565,2306,null,null,null,null,null,null,"Region Hovedstaden"]
[null,"Frederiksberg",17854,"2022-07-01",39,24,"*","*",23973,18838,"*","*",34,9,213,"*","*",206,"*",null,null,null,6,37,0,37,6,37,"*","*",65,239,null,null,null,null,null,null,"Region Hovedstaden"]
[null,"Ballerup",10452,"2022-07-01",32,17,0,15,25513,11511,"*",14002,32,8,372,0,"*",369,"*",null,null,null,7,34,0,34,7,34,"*","*",47,359,null,null,null,null,null,null,"Region Hovedstaden"]
[null,"Brøndby",7518,"2022-07-01",34,"*","*",25,14238,"*","*",10480,37,7,144,"*","*","*","*",null,null,null,4,26,0,26,4,26,"*","*",32,149,null,null,null,null,null,null,"Region Hovedstaden"]
[null,"Dragør",3412,"2022-07-01",6,3,0,3,5198,"*","*","*","*",0,58,0,0,58,0,null,null,null,"*",7,0,7,"*",7,0,51,11,51,null,null,null,null,null,null,"Region Hovedstaden"]
[null,"Gentofte",16589,"2022-07-01",27,13,"*","*",21112,9156,"*","*",23,6,225,"*","*",221,"*",null,null,null,6,27,"*",27,"*",27,"*",215,35,216,null,null,null,null,null,null,"Region Hovedstaden"]
[null,"Gladsaxe",15546,"2022-07-01",32,16,0,16,24946,13453,"*",11493,40,14,349,"*","*",343,"*",null,null,null,4,31,0,31,4,31,"*","*",25,257,null,null,null,null,null,null,"Region Hovedstaden"]
[null,"Glostrup",4642,"2022-07-01",4,"*","*","*","*","*","*","*",14,9,88,0,3,85,0,null,null,null,0,4,0,4,0,4,"*","*",18,89,null,null,null,null,null,null,"Region Hovedstaden"]
[null,"Herlev",6336,"2022-07-01",17,10,"*","*",15604,9162,"*","*",15,"*",154,"*","*","*","*",null,null,null,"*",16,"*",16,"*",16,"*","*",42,171,null,null,null,null,null,null,"Region Hovedstaden"]
[null,"Albertslund",5940,"2022-07-01",19,10,0,9,19984,9561,"*",10423,28,5,165,"*","*",158,"*",null,null,null,4,20,0,20,4,20,"*","*",38,148,null,null,null,null,null,null,"Region Hovedstaden"]
[null,"Hvidovre",11929,"2022-07-01",45,25,0,20,15938,8970,"*",6968,45,11,234,"*","*",228,"*",null,null,null,6,40,"*",40,"*",40,5,227,64,232,null,null,null,null,null,null,"Region Hovedstaden"]
[null,"Høje-Taastrup",11541,"2022-07-01",32,12,4,16,33750,"*","*",20191,46,9,297,0,7,285,5,null,null,null,5,31,0,31,5,31,15,311,81,319,null,null,null,null,null,null,"Region Hovedstaden"]
[null,"Lyngby-Taarbæk",12109,"2022-07-01",24,10,0,14,15796,4095,"*",11701,22,5,224,0,"*",220,"*",null,null,null,8,26,0,26,8,26,"*","*",42,216,null,null,null,null,null,null,"Region Hovedstaden"]
[null,"Rødovre",9044,"2022-07-01",18,6,0,12,16412,5909,"*",10503,25,8,204,"*","*",198,"*",null,null,null,5,21,"*",21,"*",21,"*",193,41,194,null,null,null,null,null,null,"Region Hovedstaden"]
[null,"Ishøj",5056,"2022-07-01",31,7,0,24,24926,4168,"*",20758,21,3,160,"*","*","*","*",null,null,null,3,22,0,22,3,22,9,167,31,167,null,null,null,null,null,null,"Region Hovedstaden"]
[null,"Tårnby",9681,"2022-07-01",14,7,0,7,11964,8623,"*",3341,29,0,97,0,"*",94,"*",null,null,null,0,10,0,10,0,10,5,57,11,60,null,null,null,null,null,null,"Region Hovedstaden"]
[null,"Vallensbæk",4030,"2022-07-01",8,5,0,3,3381,"*","*","*",9,"*",61,"*","*","*","*",null,null,null,0,3,0,3,0,3,"*",59,17,59,null,null,null,null,null,null,"Region Hovedstaden"]
[null,"Furesø",10006,"2022-07-01",16,9,"*","*",8074,6218,"*","*",23,"*",186,"*","*",182,"*",null,null,null,"*",14,0,14,"*",14,"*","*",66,195,null,null,null,null,null,null,"Region Hovedstaden"]
[null,"Allerød",6242,"2022-07-01",13,4,0,9,8635,"*","*","*",8,0,94,0,0,94,0,null,null,null,"*",12,"*",12,0,12,"*",107,34,107,null,null,null,null,null,null,"Region Hovedstaden"]
[null,"Fredensborg",8976,"2022-07-01",24,"*","*",16,15186,"*","*",9968,21,"*",188,"*","*",180,"*",null,null,null,4,23,"*",23,"*",23,"*","*",59,187,null,null,null,null,null,null,"Region Hovedstaden"]
[null,"Helsingør",12092,"2022-07-01",33,20,"*","*",33829,18377,"*","*",39,7,334,3,3,323,5,null,null,null,5,32,0,32,5,32,"*",293,49,297,null,null,null,null,null,null,"Region Hovedstaden"]
[null,"Hillerød",11440,"2022-07-01",34,"*","*",20,18402,"*","*",9312,20,12,245,"*","*",239,"*",null,null,null,5,33,0,33,5,33,"*","*",41,241,null,null,null,null,null,null,"Region Hovedstaden"]
[null,"Hørsholm",5049,"2022-07-01",9,5,0,4,5736,"*","*","*",7,"*",53,"*","*","*","*",null,null,null,4,12,0,12,4,12,"*",49,9,50,null,null,null,null,null,null,"Region Hovedstaden"]
[null,"Rudersdal",13097,"2022-07-01",13,9,0,4,14271,"*","*","*",38,7,171,0,"*",168,"*",null,null,null,3,15,0,15,3,15,"*","*",28,168,null,null,null,null,null,null,"Region Hovedstaden"]
[null,"Egedal",10630,"2022-07-01",21,13,0,8,13866,3887,"*",9979,20,3,193,0,"*",190,"*",null,null,null,5,18,0,18,5,18,"*","*",50,183,null,null,null,null,null,null,"Region Hovedstaden"]
[null,"Frederikssund",8806,"2022-07-01",23,9,3,11,9948,"*","*",1686,43,"*",262,"*","*",257,"*",null,null,null,3,17,0,17,3,17,"*","*",73,284,null,null,null,null,null,null,"Region Hovedstaden"]
[null,"Greve",11290,"2022-07-01",32,12,0,20,20775,7466,"*",13309,36,"*",231,"*","*","*","*",null,null,null,8,35,0,35,8,35,"*",233,58,235,null,null,null,null,null,null,"Region Sjælland"]
[null,"Køge",12665,"2022-07-01",26,13,"*","*",19944,14294,"*","*",81,10,347,"*",4,338,"*",null,null,null,3,26,0,26,3,26,"*","*",74,321,null,null,null,null,null,null,"Region Sjælland"]
[null,"Halsnæs",5437,"2022-07-01",42,29,"*","*",25208,20703,"*","*",50,3,234,"*","*",229,"*",null,null,null,6,43,0,43,6,43,"*","*",44,203,null,null,null,null,null,null,"Region Hovedstaden"]
[null,"Roskilde",18686,"2022-07-01",33,22,0,11,24715,19257,"*",5458,85,10,413,0,3,410,0,null,null,null,8,34,"*",34,"*",34,"*","*",126,431,null,null,null,null,null,null,"Region Sjælland"]
[null,"Solrød",5682,"2022-07-01",14,4,0,10,12436,"*","*","*",9,5,84,"*","*","*","*",null,null,null,4,18,0,18,4,18,"*",53,18,55,null,null,null,null,null,null,"Region Sjælland"]
[null,"Gribskov",7341,"2022-07-01",41,20,"*","*",23819,12236,"*","*",25,7,245,"*","*",241,"*",null,null,null,6,40,0,40,6,40,"*","*",70,247,null,null,null,null,null,null,"Region Hovedstaden"]
[null,"Odsherred",5049,"2022-07-01",40,31,0,9,32519,22522,"*",9997,46,9,112,"*","*","*","*",null,null,null,5,38,0,38,5,38,"*",117,31,118,null,null,null,null,null,null,"Region Sjælland"]
[null,"Holbæk",14764,"2022-07-01",41,"*","*","*",29333,"*","*","*",74,20,352,"*","*",348,"*",null,null,null,4,35,0,35,4,35,"*","*",63,316,null,null,null,null,null,null,"Region Sjælland"]
[null,"Faxe",7003,"2022-07-01",53,13,0,40,38210,11539,"*",26671,52,13,307,"*",3,300,"*",null,null,null,11,57,"*",57,"*",57,"*","*",41,300,null,null,null,null,null,null,"Region Sjælland"]
[null,"Kalundborg",8912,"2022-07-01",32,"*","*",23,33429,"*","*",20858,85,10,260,"*","*",251,"*",null,null,null,6,34,"*",34,"*",34,"*","*",61,259,null,null,null,null,null,null,"Region Sjælland"]
[null,"Ringsted",7196,"2022-07-01",31,10,0,21,16077,6500,"*",9577,29,7,161,"*","*","*","*",null,null,null,5,28,0,28,5,28,9,157,40,157,null,null,null,null,null,null,"Region Sjælland"]
[null,"Slagelse",14794,"2022-07-01",90,"*","*",67,65342,"*","*",44147,126,12,537,5,5,517,10,null,null,null,11,84,0,84,11,84,21,475,90,485,null,null,null,null,null,null,"Region Sjælland"]
[null,"Stevns",4456,"2022-07-01",10,6,0,4,10754,"*","*","*",22,"*",121,0,0,121,0,null,null,null,"*",10,0,10,"*",10,"*",112,27,113,null,null,null,null,null,null,"Region Sjælland"]
[null,"Sorø",6110,"2022-07-01",16,5,0,11,7958,4855,"*",3103,30,9,147,"*","*",140,3,null,null,null,"*",14,0,14,"*",14,5,193,91,196,null,null,null,null,null,null,"Region Sjælland"]
[null,"Lejre",6425,"2022-07-01",11,5,0,6,10334,5170,"*",5164,23,3,116,"*","*","*","*",null,null,null,"*",11,0,11,"*",11,"*",128,42,131,null,null,null,null,null,null,"Region Sjælland"]
[null,"Lolland",6240,"2022-07-01",60,20,0,40,34142,14565,"*",19577,133,14,269,"*",3,263,"*",null,null,null,7,56,0,56,7,56,"*","*",93,272,null,null,null,null,null,null,"Region Sjælland"]
[null,"Næstved",16249,"2022-07-01",103,"*","*",56,61263,"*","*",30699,67,6,364,"*","*",354,"*",null,null,null,17,108,4,108,13,108,"*","*",101,371,null,null,null,null,null,null,"Region Sjælland"]
[null,"Guldborgsund",10134,"2022-07-01",81,"*","*",52,60426,"*","*",37688,112,21,366,"*",7,356,"*",null,null,null,14,80,0,80,14,80,"*","*",76,374,null,null,null,null,null,null,"Region Sjælland"]
[null,"Vordingborg",7589,"2022-07-01",73,14,0,59,65730,9348,"*",56382,83,7,188,"*","*",180,"*",null,null,null,11,75,"*",75,"*",75,"*","*",56,188,null,null,null,null,null,null,"Region Sjælland"]
[null,"Bornholm",6656,"2022-07-01",45,"*","*",27,25521,"*","*",10338,71,4,189,"*","*",183,"*",null,null,null,3,38,"*",38,"*",38,11,172,20,179,null,null,null,null,null,null,"Region Hovedstaden"]
[null,"Middelfart",7953,"2022-07-01",22,16,0,6,15434,11307,"*",4127,47,6,211,"*","*","*","*",null,null,null,3,23,"*",23,"*",23,"*",203,41,205,null,null,null,null,null,null,"Region Syddanmark"]
[null,"Assens",7969,"2022-07-01",31,"*","*",19,17253,"*","*",7311,91,10,166,"*","*","*","*",null,null,null,4,21,0,21,4,21,"*",178,47,180,null,null,null,null,null,null,"Region Syddanmark"]
[null,"Faaborg-Midtfyn",10326,"2022-07-01",47,20,0,27,24147,7391,"*",16756,80,11,202,0,4,198,0,null,null,null,5,41,0,41,5,41,9,211,58,215,null,null,null,null,null,null,"Region Syddanmark"]
[null,"Kerteminde",4517,"2022-07-01",14,11,0,3,17654,"*","*","*",23,5,137,"*","*",133,"*",null,null,null,4,16,0,16,4,16,"*","*",24,126,null,null,null,null,null,null,"Region Syddanmark"]
[null,"Nyborg",6094,"2022-07-01",24,21,0,3,20142,"*","*","*",59,5,102,"*","*","*","*",null,null,null,"*",21,0,21,"*",21,"*",102,34,104,null,null,null,null,null,null,"Region Syddanmark"]
[null,"Odense",37972,"2022-07-01",177,89,4,84,135244,64414,"*","*",225,26,1413,5,15,1389,4,null,null,null,15,163,"*",163,"*",163,39,1259,197,1282,null,null,null,null,null,null,"Region Syddanmark"]
[null,"Svendborg",11553,"2022-07-01",50,31,0,19,29373,21841,"*",7532,90,5,296,"*","*","*","*",null,null,null,5,46,0,46,5,46,10,307,88,310,null,null,null,null,null,null,"Region Syddanmark"]
[null,"Nordfyns",5750,"2022-07-01",35,15,0,20,22253,11415,"*",10838,54,6,168,"*","*",159,"*",null,null,null,10,41,3,41,7,41,"*","*",66,201,null,null,null,null,null,null,"Region Syddanmark"]
[null,"Langeland",1694,"2022-07-01",18,13,0,5,8855,7768,"*",1087,35,"*",82,0,0,82,0,null,null,null,"*",13,0,13,"*",13,"*",84,16,84,null,null,null,null,null,null,"Region Syddanmark"]
[null,"Ærø",843,"2022-07-01",4,"*","*","*","*","*","*","*","*","*",9,"*","*","*","*",null,null,null,"*",5,0,5,"*",5,"*",7,3,8,null,null,null,null,null,null,"Region Syddanmark"]
[null,"Haderslev",10671,"2022-07-01",23,8,0,15,17949,7364,"*",10585,138,22,199,0,"*",196,"*",null,null,null,6,24,0,24,6,24,"*","*",113,231,null,null,null,null,null,null,"Region Syddanmark"]
[null,"Billund",5555,"2022-07-01",16,5,0,11,10277,4514,"*",5763,53,8,128,0,"*",125,"*",null,null,null,3,17,0,17,3,17,"*","*",27,126,null,null,null,null,null,null,"Region Syddanmark"]
[null,"Sønderborg",13768,"2022-07-01",45,"*","*",29,23210,"*","*",9914,104,5,373,"*","*",369,"*",null,null,null,4,42,0,42,4,42,14,353,78,356,null,null,null,null,null,null,"Region Syddanmark"]
[null,"Tønder",6940,"2022-07-01",14,3,0,11,7126,"*","*","*",108,5,232,0,0,232,0,null,null,null,5,17,0,17,5,17,"*",242,59,243,null,null,null,null,null,null,"Region Syddanmark"]
[null,"Esbjerg",22708,"2022-07-01",158,74,5,79,139613,74558,622,64433,122,29,629,"*","*",619,"*",null,null,null,17,142,"*",142,"*",142,32,630,131,636,null,null,null,null,null,null,"Region Syddanmark"]
[null,"Fanø",579,"2022-07-01",0,0,0,0,"*","*","*","*",0,0,"*",0,"*",0,0,null,null,null,0,0,0,0,0,0,"*",0,"*","*",null,null,null,null,null,null,"Region Syddanmark"]
[null,"Varde",10071,"2022-07-01",15,4,0,11,9345,"*","*","*",65,22,367,"*","*","*","*",null,null,null,"*",15,0,15,"*",15,"*",379,111,380,null,null,null,null,null,null,"Region Syddanmark"]
[null,"Vejen",8973,"2022-07-01",27,7,0,20,21251,9024,"*",12227,65,4,212,"*","*","*","*",null,null,null,8,30,0,30,8,30,"*",196,49,196,null,null,null,null,null,null,"Region Syddanmark"]
[null,"Aabenraa",11386,"2022-07-01",34,25,"*","*",22883,21033,"*","*",109,10,331,"*","*",323,"*",null,null,null,10,33,0,33,10,33,"*","*",109,359,null,null,null,null,null,null,"Region Syddanmark"]
[null,"Fredericia",10051,"2022-07-01",25,"*","*",19,13123,"*","*",7849,81,13,319,0,6,310,3,null,null,null,"*",19,"*",19,0,19,10,317,81,322,null,null,null,null,null,null,"Region Syddanmark"]
[null,"Horsens",20111,"2022-07-01",68,"*","*",57,33870,"*","*",24214,112,29,401,"*",13,381,"*",null,null,null,9,60,3,60,6,60,17,315,126,330,null,null,null,null,null,null,"Region Midtjylland"]
[null,"Kolding",19714,"2022-07-01",32,15,0,17,17075,7920,"*",9155,101,12,337,"*","*","*","*",null,null,null,4,27,"*",27,"*",27,"*",337,91,338,null,null,null,null,null,null,"Region Syddanmark"]
[null,"Vejle",25615,"2022-07-01",59,31,0,28,24740,18136,"*",6604,176,28,491,"*","*",479,"*",null,null,null,9,52,0,52,9,52,"*",385,89,387,null,null,null,null,null,null,"Region Syddanmark"]
[null,"Herning",18824,"2022-07-01",23,16,"*","*",13481,9758,"*","*",104,19,313,"*","*",308,"*",null,null,null,8,26,0,26,8,26,"*","*",175,381,null,null,null,null,null,null,"Region Midtjylland"]
[null,"Holstebro",12491,"2022-07-01",33,19,"*","*",23571,14260,"*","*",80,11,227,0,"*",224,"*",null,null,null,5,28,0,28,5,28,"*",214,40,214,null,null,null,null,null,null,"Region Midtjylland"]
[null,"Lemvig",3431,"2022-07-01",10,5,0,5,11194,6436,"*",4758,22,3,74,0,0,74,0,null,null,null,"*",11,0,11,"*",11,"*",79,16,79,null,null,null,null,null,null,"Region Midtjylland"]
[null,"Struer",3824,"2022-07-01",9,"*","*","*",2178,"*","*","*",48,3,110,"*","*","*","*",null,null,null,"*",9,0,9,"*",9,"*",119,32,120,null,null,null,null,null,null,"Region Midtjylland"]
[null,"Syddjurs",8708,"2022-07-01",29,"*","*",23,9025,"*","*",8146,55,13,235,"*","*",230,"*",null,null,null,6,21,"*",21,"*",21,"*","*",186,383,null,null,null,null,null,null,"Region Midtjylland"]
[null,"Norddjurs",6348,"2022-07-01",41,27,"*","*",30410,20172,"*","*",71,8,192,0,"*",189,"*",null,null,null,5,40,0,40,5,40,"*",211,41,212,null,null,null,null,null,null,"Region Midtjylland"]
[null,"Favrskov",11788,"2022-07-01",39,24,"*","*",26744,17624,"*","*",52,3,175,0,"*",172,"*",null,null,null,4,39,0,39,4,39,"*",184,41,185,null,null,null,null,null,null,"Region Midtjylland"]
[null,"Odder",4932,"2022-07-01",15,"*","*","*",7081,"*","*","*",11,4,120,"*","*","*","*",null,null,null,"*",13,0,13,"*",13,"*",132,39,133,null,null,null,null,null,null,"Region Midtjylland"]
[null,"Randers",19608,"2022-07-01",61,32,"*","*",29264,21104,"*","*",134,20,337,6,"*",326,"*",null,null,null,8,50,0,50,8,50,13,326,89,329,null,null,null,null,null,null,"Region Midtjylland"]
[null,"Silkeborg",21717,"2022-07-01",44,19,3,22,26331,"*","*",8129,86,7,573,"*","*",568,"*",null,null,null,7,44,"*",44,"*",44,"*","*",128,534,null,null,null,null,null,null,"Region Midtjylland"]
[null,"Samsø",556,"2022-07-01",5,"*","*","*",1348,"*","*","*",7,3,26,0,0,26,0,null,null,null,"*",5,0,5,"*",5,0,17,3,17,null,null,null,null,null,null,"Region Midtjylland"]
[null,"Skanderborg",16388,"2022-07-01",23,"*","*",15,9864,"*","*",5402,42,10,213,"*","*","*","*",null,null,null,4,19,0,19,4,19,"*",214,53,214,null,null,null,null,null,null,"Region Midtjylland"]
[null,"Aarhus",64356,"2022-07-01",168,105,14,49,150498,121875,3638,24985,230,22,1115,"*","*",1101,10,null,null,null,20,154,"*",154,"*",154,34,1144,329,1147,null,null,null,null,null,null,"Region Midtjylland"]
[null,"Ikast-Brande",9053,"2022-07-01",14,8,0,6,7098,4467,"*",2631,40,11,82,0,"*",79,"*",null,null,null,4,15,0,15,4,15,"*","*",5,89,null,null,null,null,null,null,"Region Midtjylland"]
[null,"Ringkøbing-Skjern",11453,"2022-07-01",39,19,0,20,28660,21110,"*",7550,77,3,265,"*","*","*","*",null,null,null,0,25,0,25,0,25,"*",279,65,280,null,null,null,null,null,null,"Region Midtjylland"]
[null,"Hedensted",10080,"2022-07-01",30,8,0,22,31488,10038,"*",21450,24,"*",56,"*","*","*","*",null,null,null,6,33,"*",33,"*",33,"*",71,26,72,null,null,null,null,null,null,"Region Midtjylland"]
[null,"Morsø",3673,"2022-07-01",7,"*","*","*",2625,"*","*","*",53,7,58,0,0,58,0,null,null,null,0,5,0,5,0,5,3,61,15,61,null,null,null,null,null,null,"Region Nordjylland"]
[null,"Skive",8366,"2022-07-01",17,11,0,6,15372,12005,"*",3367,60,8,180,"*",0,177,"*",null,null,null,4,20,"*",20,"*",20,"*",203,57,204,null,null,null,null,null,null,"Region Midtjylland"]
[null,"Thisted",8482,"2022-07-01",37,25,0,12,29384,24409,"*",4975,70,5,304,0,"*",301,"*",null,null,null,"*",33,0,33,"*",33,4,235,57,239,null,null,null,null,null,null,"Region Nordjylland"]
[null,"Viborg",20596,"2022-07-01",46,31,0,15,43098,39580,"*",3518,154,20,372,0,7,353,12,null,null,null,12,46,"*",46,"*",46,12,391,115,395,null,null,null,null,null,null,"Region Midtjylland"]
[null,"Brønderslev",7808,"2022-07-01",24,5,0,19,12929,3886,"*",9043,99,7,156,0,0,156,0,null,null,null,"*",24,0,24,"*",24,"*",171,51,172,null,null,null,null,null,null,"Region Nordjylland"]
[null,"Frederikshavn",10221,"2022-07-01",55,32,"*","*",33670,24116,"*","*",108,12,285,"*",4,277,"*",null,null,null,8,51,0,51,8,51,"*","*",57,290,null,null,null,null,null,null,"Region Nordjylland"]
[null,"Vesthimmerlands",7121,"2022-07-01",19,8,0,11,23029,6722,"*",16307,77,9,217,"*","*",214,0,null,null,null,5,23,0,23,5,23,"*","*",54,205,null,null,null,null,null,null,"Region Nordjylland"]
[null,"Læsø",224,"2022-07-01",0,0,0,0,"*","*","*","*","*",0,"*",0,0,3,0,null,null,null,0,0,0,0,0,0,0,3,"*","*",null,null,null,null,null,null,"Region Nordjylland"]
[null,"Rebild",7321,"2022-07-01",14,"*","*","*",10253,"*","*","*",34,3,118,"*","*","*","*",null,null,null,"*",13,0,13,"*",13,"*",110,43,110,null,null,null,null,null,null,"Region Nordjylland"]
[null,"Mariagerfjord",7918,"2022-07-01",26,14,0,12,28601,14516,"*",14085,83,12,230,"*","*","*","*",null,null,null,3,27,0,27,3,27,"*",239,72,239,null,null,null,null,null,null,"Region Nordjylland"]
[null,"Jammerbugt",7701,"2022-07-01",39,8,0,31,29721,13752,"*",15969,68,3,212,0,0,212,0,null,null,null,6,35,0,35,6,35,"*",199,42,201,null,null,null,null,null,null,"Region Nordjylland"]
[null,"Aalborg",39931,"2022-07-01",151,85,"*","*",125499,79021,"*","*",271,41,1295,"*","*",1282,7,null,null,null,29,156,4,156,25,156,20,1217,201,1222,null,null,null,null,null,null,"Region Nordjylland"]
[null,"Hjørring",12135,"2022-07-01",31,"*","*",15,27247,"*","*",9549,137,13,243,"*","*","*","*",null,null,null,13,38,0,38,13,38,10,283,99,283,null,null,null,null,null,null,"Region Nordjylland"]
[null,"København",110835,"2023-01-01",252,200,11,41,151891,118164,2600,31127,271,113,2458,11,11,2419,17,null,null,null,49,246,6,246,43,246,65,2409,611,2428,null,null,null,null,null,null,"Region Hovedstaden"]
[null,"Frederiksberg",17680,"2023-01-01",41,27,3,11,27906,22407,"*","*",36,13,195,3,3,189,0,null,null,null,5,39,0,39,5,39,"*",206,58,213,null,null,null,null,null,null,"Region Hovedstaden"]
[null,"Ballerup",10477,"2023-01-01",30,15,"*","*",19680,9706,"*","*",35,6,369,0,4,360,5,null,null,null,4,32,"*",32,"*",32,"*","*",64,372,null,null,null,null,null,null,"Region Hovedstaden"]
[null,"Brøndby",7634,"2023-01-01",39,14,0,25,17068,4774,"*",12294,36,5,151,"*","*",144,"*",null,null,null,7,34,3,34,4,34,"*",142,33,144,null,null,null,null,null,null,"Region Hovedstaden"]
[null,"Dragør",3383,"2023-01-01",4,"*",0,"*","*","*","*","*","*",0,50,0,0,50,0,null,null,null,"*",6,0,6,"*",6,0,58,18,58,null,null,null,null,null,null,"Region Hovedstaden"]
[null,"Gentofte",16546,"2023-01-01",22,12,0,10,19469,8667,"*",10802,25,7,244,4,"*",235,"*",null,null,null,8,27,0,27,8,27,"*","*",36,225,null,null,null,null,null,null,"Region Hovedstaden"]
[null,"Gladsaxe",15618,"2023-01-01",30,18,0,12,25278,13805,"*",11473,41,15,455,"*",6,445,"*",null,null,null,6,32,"*",32,"*",32,"*","*",44,349,null,null,null,null,null,null,"Region Hovedstaden"]
[null,"Glostrup",4668,"2023-01-01",3,"*",0,"*","*","*","*","*",12,7,93,"*","*",88,"*",null,null,null,"*",4,0,4,"*",4,5,85,17,88,null,null,null,null,null,null,"Region Hovedstaden"]
[null,"Herlev",6387,"2023-01-01",16,10,"*","*",11152,6221,"*","*",14,"*",153,"*","*","*","*",null,null,null,5,17,0,17,5,17,"*",153,32,154,null,null,null,null,null,null,"Region Hovedstaden"]
[null,"Albertslund",5886,"2023-01-01",19,6,0,13,20394,8372,"*",12022,26,5,146,0,4,139,3,null,null,null,5,19,0,19,5,19,"*","*",57,165,null,null,null,null,null,null,"Region Hovedstaden"]
[null,"Hvidovre",11908,"2023-01-01",36,17,0,19,15315,7456,"*",7859,49,11,235,"*","*",225,7,null,null,null,12,45,3,45,9,45,"*",232,65,234,null,null,null,null,null,null,"Region Hovedstaden"]
[null,"Høje-Taastrup",11732,"2023-01-01",29,"*","*",14,33844,"*","*",19431,46,11,286,"*","*",280,"*",null,null,null,5,32,0,32,5,32,6,290,94,297,null,null,null,null,null,null,"Region Hovedstaden"]
[null,"Lyngby-Taarbæk",12088,"2023-01-01",24,14,0,10,16039,5269,"*",10770,20,4,241,0,"*",237,"*",null,null,null,7,24,0,24,7,24,"*","*",37,224,null,null,null,null,null,null,"Region Hovedstaden"]
[null,"Rødovre",9198,"2023-01-01",21,6,0,15,15273,3037,"*",12236,23,8,221,"*","*","*","*",null,null,null,4,18,0,18,4,18,"*",203,34,204,null,null,null,null,null,null,"Region Hovedstaden"]
[null,"Ishøj",5074,"2023-01-01",32,6,0,26,28203,4902,"*",23301,22,4,152,"*","*","*","*",null,null,null,3,31,"*",31,"*",31,"*",160,26,160,null,null,null,null,null,null,"Region Hovedstaden"]
[null,"Tårnby",9693,"2023-01-01",16,8,0,8,13810,9834,"*",3976,28,0,96,0,"*",92,"*",null,null,null,"*",14,0,14,"*",14,"*","*",26,97,null,null,null,null,null,null,"Region Hovedstaden"]
[null,"Vallensbæk",4104,"2023-01-01",7,4,0,3,4399,"*","*","*",9,"*",70,"*","*","*","*",null,null,null,3,8,0,8,3,8,"*",61,15,61,null,null,null,null,null,null,"Region Hovedstaden"]
[null,"Furesø",10062,"2023-01-01",14,7,"*","*",7052,5178,"*","*",23,"*",194,"*","*",189,"*",null,null,null,5,16,0,16,5,16,"*","*",39,186,null,null,null,null,null,null,"Region Hovedstaden"]
[null,"Allerød",6251,"2023-01-01",13,4,0,9,10084,"*","*","*",8,0,95,0,0,95,0,null,null,null,"*",13,0,13,"*",13,"*",94,28,94,null,null,null,null,null,null,"Region Hovedstaden"]
[null,"Fredensborg",9008,"2023-01-01",26,"*","*",17,15104,"*","*",8395,21,5,199,"*","*",193,"*",null,null,null,3,24,0,24,3,24,"*","*",42,188,null,null,null,null,null,null,"Region Hovedstaden"]
[null,"Helsingør",12073,"2023-01-01",35,23,"*","*",32972,15937,"*","*",40,8,356,0,4,347,5,null,null,null,3,33,0,33,3,33,6,328,52,334,null,null,null,null,null,null,"Region Hovedstaden"]
[null,"Hillerød",11419,"2023-01-01",32,13,0,19,19472,10145,"*",9327,22,14,249,"*","*",242,4,null,null,null,8,34,0,34,8,34,"*",243,43,245,null,null,null,null,null,null,"Region Hovedstaden"]
[null,"Hørsholm",5029,"2023-01-01",12,7,0,5,7700,4164,"*",3536,7,0,63,"*","*","*","*",null,null,null,0,9,0,9,0,9,"*",52,9,53,null,null,null,null,null,null,"Region Hovedstaden"]
[null,"Rudersdal",12981,"2023-01-01",16,11,"*","*",15144,14091,"*","*",35,6,187,"*","*",181,"*",null,null,null,"*",13,"*",13,"*",13,"*","*",30,171,null,null,null,null,null,null,"Region Hovedstaden"]
[null,"Egedal",10571,"2023-01-01",15,10,0,5,12988,5121,"*",7867,20,"*",219,0,"*",216,"*",null,null,null,7,21,0,21,7,21,"*","*",44,193,null,null,null,null,null,null,"Region Hovedstaden"]
[null,"Frederikssund",8752,"2023-01-01",21,"*","*",12,12481,"*","*",3183,45,"*",295,0,4,288,3,null,null,null,5,23,0,23,5,23,"*","*",59,262,null,null,null,null,null,null,"Region Hovedstaden"]
[null,"Greve",11278,"2023-01-01",30,15,0,15,18875,9259,"*",9616,34,"*",231,4,0,227,0,null,null,null,12,32,0,32,12,32,"*",230,62,231,null,null,null,null,null,null,"Region Sjælland"]
[null,"Køge",12634,"2023-01-01",27,13,"*","*",22069,14721,"*","*",79,9,372,"*","*",363,"*",null,null,null,"*",26,"*",26,"*",26,"*",342,86,347,null,null,null,null,null,null,"Region Sjælland"]
[null,"Halsnæs",5417,"2023-01-01",43,31,"*","*",27993,22794,"*","*",44,3,227,0,"*",223,"*",null,null,null,6,42,0,42,6,42,"*","*",73,234,null,null,null,null,null,null,"Region Hovedstaden"]
[null,"Roskilde",18611,"2023-01-01",34,20,0,14,28406,21862,"*",6544,78,9,437,"*","*",432,"*",null,null,null,7,33,0,33,7,33,7,410,137,413,null,null,null,null,null,null,"Region Sjælland"]
[null,"Solrød",5707,"2023-01-01",17,4,0,13,12868,"*","*","*",7,5,86,"*","*","*","*",null,null,null,"*",14,0,14,"*",14,"*",83,29,84,null,null,null,null,null,null,"Region Sjælland"]
[null,"Gribskov",7314,"2023-01-01",47,24,"*","*",27898,14217,"*","*",27,6,251,0,"*",248,"*",null,null,null,4,41,0,41,4,41,"*",244,76,245,null,null,null,null,null,null,"Region Hovedstaden"]
[null,"Odsherred",5036,"2023-01-01",39,29,"*","*",29943,20292,"*","*",46,9,118,"*","*",112,"*",null,null,null,6,40,0,40,6,40,"*",111,22,112,null,null,null,null,null,null,"Region Sjælland"]
[null,"Holbæk",14810,"2023-01-01",38,4,0,34,28619,"*","*","*",66,25,334,0,0,334,0,null,null,null,7,41,0,41,7,41,"*","*",86,352,null,null,null,null,null,null,"Region Sjælland"]
[null,"Faxe",6969,"2023-01-01",46,"*","*",36,36950,"*","*",28712,53,13,307,"*","*",296,5,null,null,null,10,53,"*",53,"*",53,"*",303,70,307,null,null,null,null,null,null,"Region Sjælland"]
[null,"Kalundborg",8829,"2023-01-01",29,"*","*",18,29688,"*","*",20162,79,11,271,0,6,265,0,null,null,null,7,32,"*",32,"*",32,"*","*",62,260,null,null,null,null,null,null,"Region Sjælland"]
[null,"Ringsted",7206,"2023-01-01",33,12,0,21,16210,5616,"*",10594,27,6,172,"*","*","*","*",null,null,null,7,31,0,31,7,31,"*",160,46,161,null,null,null,null,null,null,"Region Sjælland"]
[null,"Slagelse",14696,"2023-01-01",81,19,0,62,68878,22334,"*",46544,129,14,461,"*","*",439,15,null,null,null,15,90,"*",90,"*",90,18,527,152,537,null,null,null,null,null,null,"Region Sjælland"]
[null,"Stevns",4435,"2023-01-01",9,5,0,4,10656,"*","*","*",21,4,134,0,0,134,0,null,null,null,"*",10,"*",10,"*",10,0,121,31,121,null,null,null,null,null,null,"Region Sjælland"]
[null,"Sorø",6215,"2023-01-01",16,"*","*",12,9115,"*","*",4660,30,14,155,"*","*",151,"*",null,null,null,"*",16,0,16,"*",16,8,143,38,147,null,null,null,null,null,null,"Region Sjælland"]
[null,"Lejre",6370,"2023-01-01",17,9,0,8,12944,6549,"*",6395,21,5,120,0,"*",117,"*",null,null,null,0,11,0,11,0,11,"*",115,24,116,null,null,null,null,null,null,"Region Sjælland"]
[null,"Lolland",6203,"2023-01-01",55,"*","*",32,33895,"*","*",16766,134,15,280,0,5,272,3,null,null,null,14,60,0,60,14,60,"*","*",69,269,null,null,null,null,null,null,"Region Sjælland"]
[null,"Næstved",16092,"2023-01-01",113,39,4,70,65300,"*","*",35017,66,6,399,4,9,386,0,null,null,null,15,103,3,103,12,103,"*",354,82,364,null,null,null,null,null,null,"Region Sjælland"]
[null,"Guldborgsund",10102,"2023-01-01",86,28,0,58,60218,19998,"*",40220,113,19,369,"*",7,358,"*",null,null,null,14,81,0,81,14,81,"*","*",67,366,null,null,null,null,null,null,"Region Sjælland"]
[null,"Vordingborg",7526,"2023-01-01",70,11,0,59,66122,9476,"*",56646,83,6,196,0,7,189,0,null,null,null,9,73,"*",73,"*",73,"*","*",65,188,null,null,null,null,null,null,"Region Sjælland"]
[null,"Bornholm",6579,"2023-01-01",47,"*","*",26,25056,"*","*",11050,73,4,200,0,0,195,5,null,null,null,8,45,0,45,8,45,"*",187,29,189,null,null,null,null,null,null,"Region Hovedstaden"]
[null,"Middelfart",7921,"2023-01-01",23,15,"*","*",11814,8903,"*","*",46,7,225,"*","*","*","*",null,null,null,3,22,"*",22,"*",22,"*",210,51,211,null,null,null,null,null,null,"Region Syddanmark"]
[null,"Assens",7933,"2023-01-01",27,9,0,18,18040,8602,"*",9438,86,11,195,"*","*",190,"*",null,null,null,9,31,0,31,9,31,"*",164,36,166,null,null,null,null,null,null,"Region Syddanmark"]
[null,"Faaborg-Midtfyn",10268,"2023-01-01",56,25,0,31,29373,10213,"*",19160,84,9,223,"*","*","*","*",null,null,null,5,47,"*",47,"*",47,13,198,47,202,null,null,null,null,null,null,"Region Syddanmark"]
[null,"Kerteminde",4491,"2023-01-01",14,10,0,4,15046,"*","*","*",19,5,154,3,0,151,0,null,null,null,"*",14,0,14,"*",14,"*","*",22,137,null,null,null,null,null,null,"Region Syddanmark"]
[null,"Nyborg",6080,"2023-01-01",22,"*","*","*",19568,"*","*","*",55,5,100,"*","*","*","*",null,null,null,4,24,0,24,4,24,"*",100,36,102,null,null,null,null,null,null,"Region Syddanmark"]
[null,"Odense",37807,"2023-01-01",185,87,6,92,141194,73458,1259,66477,224,26,1501,"*",9,1488,"*",null,null,null,22,177,0,177,22,177,34,1393,251,1413,null,null,null,null,null,null,"Region Syddanmark"]
[null,"Svendborg",11658,"2023-01-01",59,36,"*","*",34663,24700,"*","*",80,5,323,0,3,320,0,null,null,null,5,50,0,50,5,50,"*",294,69,296,null,null,null,null,null,null,"Region Syddanmark"]
[null,"Nordfyns",5720,"2023-01-01",30,16,0,14,20533,12571,"*",7962,55,5,142,0,6,132,4,null,null,null,8,35,0,35,8,35,"*","*",67,168,null,null,null,null,null,null,"Region Syddanmark"]
[null,"Langeland",1640,"2023-01-01",16,12,0,4,10625,"*","*","*",34,"*",78,0,0,78,0,null,null,null,3,18,"*",18,"*",18,0,82,19,82,null,null,null,null,null,null,"Region Syddanmark"]
[null,"Ærø",829,"2023-01-01",4,"*","*","*","*","*","*","*","*","*",8,0,0,8,0,null,null,null,0,4,0,4,0,4,"*",8,"*",9,null,null,null,null,null,null,"Region Syddanmark"]
[null,"Haderslev",10549,"2023-01-01",33,"*","*",24,20911,"*","*",11962,135,24,213,0,4,209,0,null,null,null,"*",23,0,23,"*",23,"*","*",80,199,null,null,null,null,null,null,"Region Syddanmark"]
[null,"Billund",5578,"2023-01-01",20,8,0,12,12379,5446,"*",6933,54,7,139,"*","*","*","*",null,null,null,"*",16,0,16,"*",16,"*","*",40,128,null,null,null,null,null,null,"Region Syddanmark"]
[null,"Sønderborg",13797,"2023-01-01",43,"*","*",28,21750,"*","*",11192,104,4,358,"*","*",353,"*",null,null,null,9,45,"*",45,"*",45,"*","*",129,373,null,null,null,null,null,null,"Region Syddanmark"]
[null,"Tønder",6872,"2023-01-01",21,9,0,12,7450,1086,"*",6364,106,5,218,"*","*","*","*",null,null,null,4,14,0,14,4,14,8,232,48,232,null,null,null,null,null,null,"Region Syddanmark"]
[null,"Esbjerg",22568,"2023-01-01",141,"*","*",71,138965,"*","*",67738,120,25,672,"*","*",663,"*",null,null,null,34,158,"*",158,"*",158,"*","*",142,629,null,null,null,null,null,null,"Region Syddanmark"]
[null,"Fanø",580,"2023-01-01",0,0,0,0,"*","*","*","*",0,0,3,0,"*","*",0,null,null,null,0,0,0,0,0,0,"*",0,"*","*",null,null,null,null,null,null,"Region Syddanmark"]
[null,"Varde",10028,"2023-01-01",16,3,0,13,9570,"*","*","*",65,25,331,"*","*","*","*",null,null,null,"*",15,0,15,"*",15,"*",365,114,367,null,null,null,null,null,null,"Region Syddanmark"]
[null,"Vejen",8948,"2023-01-01",32,7,0,25,24476,9948,"*",14528,66,4,189,"*","*","*","*",null,null,null,4,27,0,27,4,27,"*",212,65,212,null,null,null,null,null,null,"Region Syddanmark"]
[null,"Aabenraa",11416,"2023-01-01",35,22,"*","*",20038,16100,"*","*",104,12,317,"*",3,310,"*",null,null,null,7,34,0,34,7,34,"*","*",88,331,null,null,null,null,null,null,"Region Syddanmark"]
[null,"Fredericia",10021,"2023-01-01",24,7,0,17,12880,4326,"*",8554,82,14,333,"*","*",327,"*",null,null,null,8,25,0,25,8,25,11,313,87,319,null,null,null,null,null,null,"Region Syddanmark"]
[null,"Horsens",20325,"2023-01-01",65,11,0,54,30197,7545,"*",22652,107,27,400,0,10,385,5,null,null,null,15,68,"*",68,"*",68,"*",387,157,401,null,null,null,null,null,null,"Region Midtjylland"]
[null,"Kolding",19604,"2023-01-01",33,13,0,20,14326,9487,"*",4839,103,12,345,0,0,345,0,null,null,null,8,32,"*",32,"*",32,"*",336,95,337,null,null,null,null,null,null,"Region Syddanmark"]
[null,"Vejle",25719,"2023-01-01",55,23,0,32,26240,17718,"*",8522,175,29,553,0,3,539,11,null,null,null,16,59,5,59,11,59,"*",490,142,491,null,null,null,null,null,null,"Region Syddanmark"]
[null,"Herning",18735,"2023-01-01",30,19,"*","*",11660,8004,"*","*",101,21,331,0,8,320,3,null,null,null,7,23,"*",23,"*",23,"*","*",110,313,null,null,null,null,null,null,"Region Midtjylland"]
[null,"Holstebro",12497,"2023-01-01",36,19,5,12,26398,15031,544,10823,85,15,206,"*","*","*","*",null,null,null,4,33,"*",33,"*",33,"*","*",76,227,null,null,null,null,null,null,"Region Midtjylland"]
[null,"Lemvig",3392,"2023-01-01",10,6,0,4,12613,"*","*","*",19,3,84,0,0,84,0,null,null,null,"*",10,0,10,"*",10,0,74,9,74,null,null,null,null,null,null,"Region Midtjylland"]
[null,"Struer",3793,"2023-01-01",9,3,0,6,2555,"*","*","*",46,3,97,"*","*","*","*",null,null,null,"*",9,0,9,"*",9,"*",109,32,110,null,null,null,null,null,null,"Region Midtjylland"]
[null,"Syddjurs",8709,"2023-01-01",27,5,0,22,9225,1536,"*",7689,57,11,277,"*","*",272,"*",null,null,null,7,29,"*",29,"*",29,"*",233,36,235,null,null,null,null,null,null,"Region Midtjylland"]
[null,"Norddjurs",6388,"2023-01-01",41,25,"*","*",31691,19529,"*","*",73,5,182,"*","*",177,"*",null,null,null,4,41,0,41,4,41,"*","*",44,192,null,null,null,null,null,null,"Region Midtjylland"]
[null,"Favrskov",11794,"2023-01-01",37,23,"*","*",28310,20541,"*","*",49,5,165,0,"*",162,"*",null,null,null,6,39,0,39,6,39,"*","*",40,175,null,null,null,null,null,null,"Region Midtjylland"]
[null,"Odder",4883,"2023-01-01",15,"*","*",12,7008,"*","*",5760,11,3,121,"*","*","*","*",null,null,null,"*",15,"*",15,"*",15,"*",119,39,120,null,null,null,null,null,null,"Region Midtjylland"]
[null,"Randers",19535,"2023-01-01",69,34,0,35,34517,22247,"*",12270,130,20,346,3,0,339,4,null,null,null,6,61,0,61,6,61,"*",330,115,337,null,null,null,null,null,null,"Region Midtjylland"]
[null,"Silkeborg",21831,"2023-01-01",40,"*","*",22,28590,"*","*",11775,89,14,498,"*","*",493,"*",null,null,null,5,44,"*",44,"*",44,"*",568,227,573,null,null,null,null,null,null,"Region Midtjylland"]
[null,"Samsø",577,"2023-01-01",4,"*",0,"*","*","*","*","*",8,3,33,"*","*","*","*",null,null,null,"*",5,"*",5,0,5,"*",26,"*",26,null,null,null,null,null,null,"Region Midtjylland"]
[null,"Skanderborg",16422,"2023-01-01",17,"*","*",12,8440,"*","*",4999,41,10,201,"*",0,198,"*",null,null,null,7,23,0,23,7,23,"*",213,59,213,null,null,null,null,null,null,"Region Midtjylland"]
[null,"Aarhus",64420,"2023-01-01",162,103,10,49,140834,114322,3109,23403,221,25,1094,0,0,1081,13,null,null,null,33,168,0,168,33,168,26,1111,321,1115,null,null,null,null,null,null,"Region Midtjylland"]
[null,"Ikast-Brande",9092,"2023-01-01",13,7,0,6,8950,5482,"*",3468,43,10,80,"*","*",76,"*",null,null,null,"*",14,"*",14,"*",14,"*","*",3,82,null,null,null,null,null,null,"Region Midtjylland"]
[null,"Ringkøbing-Skjern",11384,"2023-01-01",43,20,0,23,33539,23379,"*",10160,67,3,281,0,0,281,0,null,null,null,4,39,0,39,4,39,"*",264,56,265,null,null,null,null,null,null,"Region Midtjylland"]
[null,"Hedensted",10006,"2023-01-01",35,10,0,25,34145,11820,"*",22325,23,3,67,"*","*","*","*",null,null,null,5,30,0,30,5,30,"*",55,13,56,null,null,null,null,null,null,"Region Midtjylland"]
[null,"Morsø",3666,"2023-01-01",8,"*","*","*",2233,"*","*","*",51,6,53,0,0,53,0,null,null,null,3,7,0,7,3,7,"*",58,18,58,null,null,null,null,null,null,"Region Nordjylland"]
[null,"Skive",8261,"2023-01-01",20,"*","*",10,15695,"*","*",3181,59,6,182,"*","*","*","*",null,null,null,3,17,0,17,3,17,"*","*",48,180,null,null,null,null,null,null,"Region Midtjylland"]
[null,"Thisted",8451,"2023-01-01",37,26,0,11,30402,25809,"*",4593,72,7,309,"*",3,302,"*",null,null,null,6,37,0,37,6,37,"*","*",86,304,null,null,null,null,null,null,"Region Nordjylland"]
[null,"Viborg",20466,"2023-01-01",54,40,0,14,46417,41710,"*",4707,150,27,384,3,5,368,8,null,null,null,3,46,0,46,3,46,12,365,128,372,null,null,null,null,null,null,"Region Midtjylland"]
[null,"Brønderslev",7789,"2023-01-01",19,"*","*",13,13510,"*","*",8611,97,5,192,"*","*","*","*",null,null,null,7,24,0,24,7,24,"*",156,42,156,null,null,null,null,null,null,"Region Nordjylland"]
[null,"Frederikshavn",10111,"2023-01-01",61,30,"*","*",33605,22490,"*","*",111,19,299,"*","*",290,"*",null,null,null,10,55,5,55,5,55,"*","*",81,285,null,null,null,null,null,null,"Region Nordjylland"]
[null,"Vesthimmerlands",7078,"2023-01-01",25,12,0,13,18789,6882,"*",11907,75,10,209,"*","*",199,"*",null,null,null,3,19,0,19,3,19,14,214,73,217,null,null,null,null,null,null,"Region Nordjylland"]
[null,"Læsø",224,"2023-01-01",0,0,0,0,"*","*","*","*","*",0,3,0,0,3,0,null,null,null,0,0,0,0,0,0,0,3,"*","*",null,null,null,null,null,null,"Region Nordjylland"]
[null,"Rebild",7346,"2023-01-01",12,"*","*","*",10807,"*","*","*",34,3,118,"*","*","*","*",null,null,null,"*",14,0,14,"*",14,"*",118,29,118,null,null,null,null,null,null,"Region Nordjylland"]
[null,"Mariagerfjord",7887,"2023-01-01",27,13,0,14,28564,16068,"*",12496,83,14,243,"*",0,240,"*",null,null,null,3,26,0,26,3,26,"*",229,49,230,null,null,null,null,null,null,"Region Nordjylland"]
[null,"Jammerbugt",7612,"2023-01-01",46,10,0,36,33458,15406,"*",18052,73,6,224,"*","*","*","*",null,null,null,4,39,0,39,4,39,7,212,54,212,null,null,null,null,null,null,"Region Nordjylland"]
[null,"Aalborg",40001,"2023-01-01",148,81,"*","*",117732,77623,"*","*",264,36,1249,0,3,1242,4,null,null,null,23,151,"*",151,"*",151,25,1289,302,1295,null,null,null,null,null,null,"Region Nordjylland"]
[null,"Hjørring",12026,"2023-01-01",27,14,"*","*",18653,12869,"*","*",132,13,254,"*","*",250,"*",null,null,null,11,31,"*",31,"*",31,"*",243,92,243,null,null,null,null,null,null,"Region Nordjylland"]
[null,"København",111075,"2023-07-01",274,220,12,42,170292,135596,2483,32213,261,107,2428,9,10,2395,14,null,null,null,47,252,"*",252,"*",252,51,2436,678,2458,null,null,null,null,null,null,"Region Hovedstaden"]
[null,"Frederiksberg",17688,"2023-07-01",40,27,3,10,25395,21449,"*","*",34,11,244,3,4,234,3,null,null,null,8,41,0,41,8,41,4,189,46,195,null,null,null,null,null,null,"Region Hovedstaden"]
[null,"Ballerup",10540,"2023-07-01",29,"*","*",16,21367,"*","*",12397,35,7,304,0,6,295,3,null,null,null,5,30,"*",30,"*",30,10,365,112,369,null,null,null,null,null,null,"Region Hovedstaden"]
[null,"Brøndby",7815,"2023-07-01",40,"*","*",24,20802,"*","*",16181,34,5,136,"*","*",132,"*",null,null,null,6,39,0,39,6,39,"*","*",50,151,null,null,null,null,null,null,"Region Hovedstaden"]
[null,"Dragør",3347,"2023-07-01",3,"*",0,"*","*","*","*","*","*",0,51,"*","*","*","*",null,null,null,"*",4,0,4,"*",4,0,50,11,50,null,null,null,null,null,null,"Region Hovedstaden"]
[null,"Gentofte",16380,"2023-07-01",29,12,0,17,19365,8719,"*",10646,25,7,244,"*","*","*","*",null,null,null,4,22,0,22,4,22,"*","*",46,244,null,null,null,null,null,null,"Region Hovedstaden"]
[null,"Gladsaxe",15607,"2023-07-01",38,18,0,20,30212,16574,"*",13638,43,13,511,"*","*",505,"*",null,null,null,"*",30,0,30,"*",30,"*","*",95,455,null,null,null,null,null,null,"Region Hovedstaden"]
[null,"Glostrup",4676,"2023-07-01",3,"*",0,"*","*","*","*","*",13,6,99,"*","*",94,"*",null,null,null,0,3,0,3,0,3,"*","*",16,93,null,null,null,null,null,null,"Region Hovedstaden"]
[null,"Herlev",6411,"2023-07-01",12,"*","*","*",7626,"*","*","*",15,"*",167,"*","*","*","*",null,null,null,6,16,0,16,6,16,"*",152,26,153,null,null,null,null,null,null,"Region Hovedstaden"]
[null,"Albertslund",5788,"2023-07-01",24,10,0,14,20260,9665,"*",10595,25,6,154,"*","*",146,"*",null,null,null,"*",19,0,19,"*",19,7,142,35,146,null,null,null,null,null,null,"Region Hovedstaden"]
[null,"Hvidovre",11936,"2023-07-01",35,18,"*","*",13819,7604,"*","*",50,10,276,"*","*",267,"*",null,null,null,13,36,0,36,13,36,11,232,47,235,null,null,null,null,null,null,"Region Hovedstaden"]
[null,"Høje-Taastrup",11847,"2023-07-01",30,18,"*","*",30636,12472,"*","*",51,12,325,0,4,318,3,null,null,null,6,29,"*",29,"*",29,"*","*",68,286,null,null,null,null,null,null,"Region Hovedstaden"]
[null,"Lyngby-Taarbæk",12041,"2023-07-01",23,11,"*","*",15613,4671,"*","*",19,3,230,"*","*",225,"*",null,null,null,6,24,0,24,6,24,"*","*",72,241,null,null,null,null,null,null,"Region Hovedstaden"]
[null,"Rødovre",9355,"2023-07-01",22,"*","*",13,9812,"*","*",5508,23,8,247,0,"*",244,"*",null,null,null,4,21,0,21,4,21,"*",220,39,221,null,null,null,null,null,null,"Region Hovedstaden"]
[null,"Ishøj",5111,"2023-07-01",34,6,0,28,33335,5661,"*",27674,21,3,136,"*","*","*","*",null,null,null,"*",32,0,32,"*",32,"*",152,24,152,null,null,null,null,null,null,"Region Hovedstaden"]
[null,"Tårnby",9744,"2023-07-01",15,7,"*","*",12440,8998,"*","*",28,0,105,"*","*",98,"*",null,null,null,4,16,0,16,4,16,"*","*",28,96,null,null,null,null,null,null,"Region Hovedstaden"]
[null,"Vallensbæk",4185,"2023-07-01",6,"*","*","*",4291,"*","*","*",10,"*",76,0,0,76,0,null,null,null,"*",7,"*",7,"*",7,"*",70,12,70,null,null,null,null,null,null,"Region Hovedstaden"]
[null,"Furesø",10035,"2023-07-01",17,9,"*","*",9411,6290,"*","*",23,3,185,"*","*","*","*",null,null,null,"*",14,0,14,"*",14,"*",189,62,194,null,null,null,null,null,null,"Region Hovedstaden"]
[null,"Allerød",6206,"2023-07-01",16,8,"*","*",8560,4772,"*","*",8,0,89,0,0,89,0,null,null,null,3,13,0,13,3,13,3,95,17,95,null,null,null,null,null,null,"Region Hovedstaden"]
[null,"Fredensborg",8971,"2023-07-01",27,14,"*","*",14474,8385,"*","*",21,3,200,0,6,190,4,null,null,null,5,26,0,26,5,26,"*","*",41,199,null,null,null,null,null,null,"Region Hovedstaden"]
[null,"Helsingør",12016,"2023-07-01",30,20,"*","*",26895,16941,"*","*",40,10,393,"*","*",388,"*",null,null,null,7,35,0,35,7,35,4,352,67,356,null,null,null,null,null,null,"Region Hovedstaden"]
[null,"Hillerød",11338,"2023-07-01",35,"*","*",22,19574,"*","*",7709,21,13,253,"*","*",249,"*",null,null,null,4,32,0,32,4,32,"*",246,49,249,null,null,null,null,null,null,"Region Hovedstaden"]
[null,"Hørsholm",4989,"2023-07-01",15,7,0,8,9239,4579,"*",4660,7,0,61,"*","*",57,"*",null,null,null,"*",12,0,12,"*",12,"*",62,12,63,null,null,null,null,null,null,"Region Hovedstaden"]
[null,"Rudersdal",12884,"2023-07-01",19,14,"*","*",14137,13158,"*","*",32,8,200,"*","*",195,"*",null,null,null,3,16,0,16,3,16,"*",181,37,187,null,null,null,null,null,null,"Region Hovedstaden"]
[null,"Egedal",10554,"2023-07-01",18,12,0,6,14215,6291,"*",7924,22,"*",214,0,4,210,0,null,null,null,"*",15,0,15,"*",15,"*","*",50,219,null,null,null,null,null,null,"Region Hovedstaden"]
[null,"Frederikssund",8665,"2023-07-01",28,10,0,18,15174,10163,"*",5011,44,"*",305,0,"*",301,"*",null,null,null,"*",21,0,21,"*",21,7,291,71,295,null,null,null,null,null,null,"Region Hovedstaden"]
[null,"Greve",11274,"2023-07-01",31,"*","*",16,19909,"*","*",9358,36,"*",222,5,0,217,0,null,null,null,6,30,0,30,6,30,8,227,55,231,null,null,null,null,null,null,"Region Sjælland"]
[null,"Køge",12584,"2023-07-01",26,16,"*","*",22573,17259,"*","*",77,8,377,"*",3,369,"*",null,null,null,6,27,"*",27,"*",27,"*",370,99,372,null,null,null,null,null,null,"Region Sjælland"]
[null,"Halsnæs",5379,"2023-07-01",47,31,0,16,29890,24036,"*",5854,41,"*",256,"*","*",252,"*",null,null,null,5,43,0,43,5,43,"*","*",61,227,null,null,null,null,null,null,"Region Hovedstaden"]
[null,"Roskilde",18454,"2023-07-01",38,20,0,18,32242,23234,"*",9008,76,10,436,0,3,433,0,null,null,null,3,34,0,34,3,34,"*","*",121,437,null,null,null,null,null,null,"Region Sjælland"]
[null,"Solrød",5696,"2023-07-01",16,5,0,11,13079,6592,"*",6487,6,4,87,0,0,84,3,null,null,null,"*",17,"*",17,"*",17,"*",86,29,86,null,null,null,null,null,null,"Region Sjælland"]
[null,"Gribskov",7323,"2023-07-01",48,25,"*","*",33046,17397,"*","*",27,6,262,"*","*",253,"*",null,null,null,4,47,0,47,4,47,"*","*",60,251,null,null,null,null,null,null,"Region Hovedstaden"]
[null,"Odsherred",4932,"2023-07-01",43,31,0,12,36531,25355,"*",11176,42,11,120,"*","*",113,"*",null,null,null,"*",39,"*",39,"*",39,"*","*",17,118,null,null,null,null,null,null,"Region Sjælland"]
[null,"Holbæk",14708,"2023-07-01",33,4,0,29,25866,"*","*","*",65,22,334,"*","*",329,"*",null,null,null,8,38,0,38,8,38,4,334,91,334,null,null,null,null,null,null,"Region Sjælland"]
[null,"Faxe",6974,"2023-07-01",46,"*","*",36,39192,"*","*",29663,51,11,317,"*","*",307,6,null,null,null,5,46,0,46,5,46,7,301,40,307,null,null,null,null,null,null,"Region Sjælland"]
[null,"Kalundborg",8678,"2023-07-01",33,"*","*",19,25447,"*","*",14478,79,12,311,0,7,301,3,null,null,null,7,29,0,29,7,29,11,265,53,271,null,null,null,null,null,null,"Region Sjælland"]
[null,"Ringsted",7194,"2023-07-01",31,11,0,20,15091,4627,"*",10464,25,5,184,0,"*",180,"*",null,null,null,6,33,"*",33,"*",33,"*",171,35,172,null,null,null,null,null,null,"Region Sjælland"]
[null,"Slagelse",14591,"2023-07-01",82,16,0,66,64944,21399,"*",43545,132,17,463,"*","*",442,17,null,null,null,8,81,0,81,8,81,11,454,136,461,null,null,null,null,null,null,"Region Sjælland"]
[null,"Stevns",4410,"2023-07-01",12,7,0,5,12509,4809,"*",7700,22,4,120,"*",0,117,"*",null,null,null,0,9,0,9,0,9,4,134,34,134,null,null,null,null,null,null,"Region Sjælland"]
[null,"Sorø",6169,"2023-07-01",16,"*","*",12,11830,"*","*",6651,30,15,132,0,"*",129,"*",null,null,null,"*",16,0,16,"*",16,"*","*",49,155,null,null,null,null,null,null,"Region Sjælland"]
[null,"Lejre",6331,"2023-07-01",18,11,0,7,10827,5142,"*",5685,19,5,117,"*","*","*","*",null,null,null,"*",17,0,17,"*",17,"*","*",36,120,null,null,null,null,null,null,"Region Sjælland"]
[null,"Lolland",6120,"2023-07-01",56,"*","*",29,36366,"*","*",16114,139,14,318,"*",8,304,"*",null,null,null,10,55,0,55,10,55,22,275,83,280,null,null,null,null,null,null,"Region Sjælland"]
[null,"Næstved",15983,"2023-07-01",110,"*","*",67,67080,"*","*",36746,65,9,439,3,7,426,3,null,null,null,19,113,"*",113,"*",113,14,386,98,399,null,null,null,null,null,null,"Region Sjælland"]
[null,"Guldborgsund",10027,"2023-07-01",94,22,0,72,64180,20437,"*",43743,116,20,360,8,"*",343,"*",null,null,null,15,86,0,86,15,86,"*","*",83,369,null,null,null,null,null,null,"Region Sjælland"]
[null,"Vordingborg",7453,"2023-07-01",76,14,0,62,63612,8943,"*",54669,83,7,194,"*","*",188,"*",null,null,null,8,70,0,70,8,70,8,189,76,196,null,null,null,null,null,null,"Region Sjælland"]
[null,"Bornholm",6516,"2023-07-01",47,"*","*",26,27114,"*","*",13407,71,3,229,"*","*",220,5,null,null,null,9,47,"*",47,"*",47,6,200,27,200,null,null,null,null,null,null,"Region Hovedstaden"]
[null,"Middelfart",7854,"2023-07-01",23,17,0,6,13735,10716,"*",3019,49,6,238,"*","*","*","*",null,null,null,5,23,0,23,5,23,"*",223,56,225,null,null,null,null,null,null,"Region Syddanmark"]
[null,"Assens",7821,"2023-07-01",27,8,0,19,19533,9285,"*",10248,85,11,197,"*","*",188,"*",null,null,null,4,27,"*",27,"*",27,"*","*",61,195,null,null,null,null,null,null,"Region Syddanmark"]
[null,"Faaborg-Midtfyn",10225,"2023-07-01",58,"*","*",33,35086,"*","*",20578,82,10,235,0,"*",232,"*",null,null,null,4,56,0,56,4,56,"*",221,72,223,null,null,null,null,null,null,"Region Syddanmark"]
[null,"Kerteminde",4437,"2023-07-01",17,13,0,4,14833,"*","*","*",19,4,143,"*",0,140,"*",null,null,null,"*",14,0,14,"*",14,5,151,40,154,null,null,null,null,null,null,"Region Syddanmark"]
[null,"Nyborg",6010,"2023-07-01",22,19,0,3,19756,"*","*","*",52,6,109,"*","*","*","*",null,null,null,5,22,0,22,5,22,"*",98,18,100,null,null,null,null,null,null,"Region Syddanmark"]
[null,"Odense",37833,"2023-07-01",181,85,4,92,150211,"*","*",70285,225,31,1374,"*","*",1361,"*",null,null,null,26,185,5,185,21,185,"*",1491,416,1501,null,null,null,null,null,null,"Region Syddanmark"]
[null,"Svendborg",11542,"2023-07-01",55,36,0,19,35904,24335,"*",11569,76,4,343,"*","*",338,"*",null,null,null,14,59,5,59,9,59,14,320,68,323,null,null,null,null,null,null,"Region Syddanmark"]
[null,"Nordfyns",5619,"2023-07-01",28,16,0,12,20304,11129,"*",9175,58,7,111,0,4,103,4,null,null,null,6,30,"*",30,"*",30,6,136,62,142,null,null,null,null,null,null,"Region Syddanmark"]
[null,"Langeland",1632,"2023-07-01",19,9,0,10,9716,7466,"*",2250,27,"*",62,0,0,59,3,null,null,null,4,16,0,16,4,16,"*",78,31,78,null,null,null,null,null,null,"Region Syddanmark"]
[null,"Ærø",818,"2023-07-01",4,"*","*","*","*","*","*","*","*","*",8,0,0,8,0,null,null,null,0,4,0,4,0,4,0,8,"*",8,null,null,null,null,null,null,"Region Syddanmark"]
[null,"Haderslev",10483,"2023-07-01",30,10,0,20,22546,9495,"*",13051,138,27,269,0,5,264,0,null,null,null,6,33,"*",33,"*",33,12,209,74,213,null,null,null,null,null,null,"Region Syddanmark"]
[null,"Billund",5524,"2023-07-01",14,5,0,9,10400,2752,"*",7648,53,9,154,"*","*","*","*",null,null,null,6,20,"*",20,"*",20,"*",138,37,139,null,null,null,null,null,null,"Region Syddanmark"]
[null,"Sønderborg",13666,"2023-07-01",31,6,5,20,15310,7277,646,7387,118,5,325,"*","*",320,"*",null,null,null,16,43,8,43,8,43,"*","*",102,358,null,null,null,null,null,null,"Region Syddanmark"]
[null,"Tønder",6803,"2023-07-01",20,8,0,12,8816,2417,"*",6399,102,6,159,"*","*","*","*",null,null,null,4,21,"*",21,"*",21,"*",216,95,218,null,null,null,null,null,null,"Region Syddanmark"]
[null,"Esbjerg",22500,"2023-07-01",137,73,"*","*",130811,69182,"*","*",115,24,691,"*","*",683,"*",null,null,null,27,141,0,141,27,141,"*","*",147,672,null,null,null,null,null,null,"Region Syddanmark"]
[null,"Fanø",563,"2023-07-01",0,0,0,0,"*","*","*","*",0,0,"*","*",0,"*",0,null,null,null,0,0,0,0,0,0,"*","*","*",3,null,null,null,null,null,null,"Region Syddanmark"]
[null,"Varde",9942,"2023-07-01",17,5,0,12,10539,2076,"*",8463,69,24,336,"*","*","*","*",null,null,null,"*",16,0,16,"*",16,"*",329,91,331,null,null,null,null,null,null,"Region Syddanmark"]
[null,"Vejen",8855,"2023-07-01",32,"*","*",22,23580,"*","*",13510,68,4,189,"*","*","*","*",null,null,null,6,32,"*",32,"*",32,"*",188,53,189,null,null,null,null,null,null,"Region Syddanmark"]
[null,"Aabenraa",11229,"2023-07-01",35,23,0,12,16087,11545,"*",4542,103,10,346,"*","*",341,"*",null,null,null,7,35,0,35,7,35,"*","*",71,317,null,null,null,null,null,null,"Region Syddanmark"]
[null,"Fredericia",10011,"2023-07-01",31,9,0,22,15079,5643,"*",9436,87,16,337,6,8,320,3,null,null,null,3,24,"*",24,"*",24,"*","*",86,333,null,null,null,null,null,null,"Region Syddanmark"]
[null,"Horsens",20342,"2023-07-01",74,11,3,60,35473,"*","*",27047,104,25,411,0,11,395,5,null,null,null,6,65,"*",65,"*",65,17,390,89,400,null,null,null,null,null,null,"Region Midtjylland"]
[null,"Kolding",19575,"2023-07-01",34,12,0,22,15726,8445,"*",7281,99,12,369,0,0,369,0,null,null,null,5,33,0,33,5,33,5,345,90,345,null,null,null,null,null,null,"Region Syddanmark"]
[null,"Vejle",25700,"2023-07-01",51,"*","*",27,27463,"*","*",9823,181,29,611,"*","*",600,"*",null,null,null,11,55,0,55,11,55,13,550,129,553,null,null,null,null,null,null,"Region Syddanmark"]
[null,"Herning",18641,"2023-07-01",29,19,"*","*",13041,9967,"*","*",100,17,338,"*","*",331,"*",null,null,null,7,30,"*",30,"*",30,12,323,115,331,null,null,null,null,null,null,"Region Midtjylland"]
[null,"Holstebro",12428,"2023-07-01",34,18,"*","*",24901,16614,"*","*",89,15,214,"*","*","*","*",null,null,null,8,36,"*",36,"*",36,"*",205,44,206,null,null,null,null,null,null,"Region Midtjylland"]
[null,"Lemvig",3320,"2023-07-01",10,6,0,4,11550,"*","*","*",19,4,83,0,0,83,0,null,null,null,"*",10,0,10,"*",10,"*",84,16,84,null,null,null,null,null,null,"Region Midtjylland"]
[null,"Struer",3689,"2023-07-01",11,4,0,7,3557,"*","*","*",44,"*",99,"*","*","*","*",null,null,null,"*",9,0,9,"*",9,"*",97,23,97,null,null,null,null,null,null,"Region Midtjylland"]
[null,"Syddjurs",8648,"2023-07-01",25,"*","*",18,12157,"*","*",9662,51,11,251,"*","*",246,"*",null,null,null,5,27,"*",27,"*",27,"*","*",77,277,null,null,null,null,null,null,"Region Midtjylland"]
[null,"Norddjurs",6320,"2023-07-01",35,25,0,10,29306,21066,"*",8240,73,5,169,"*","*",163,"*",null,null,null,8,41,"*",41,"*",41,"*",180,44,182,null,null,null,null,null,null,"Region Midtjylland"]
[null,"Favrskov",11713,"2023-07-01",38,21,0,17,26366,17461,"*",8905,48,3,153,"*","*","*","*",null,null,null,5,37,0,37,5,37,"*","*",39,165,null,null,null,null,null,null,"Region Midtjylland"]
[null,"Odder",4895,"2023-07-01",13,"*","*","*",8639,"*","*","*",13,3,117,0,0,117,0,null,null,null,"*",15,0,15,"*",15,"*",120,35,121,null,null,null,null,null,null,"Region Midtjylland"]
[null,"Randers",19482,"2023-07-01",67,32,0,35,30242,15785,"*",14457,127,21,376,"*","*",369,"*",null,null,null,16,69,5,69,11,69,11,343,92,346,null,null,null,null,null,null,"Region Midtjylland"]
[null,"Silkeborg",21934,"2023-07-01",43,21,3,19,31615,17299,"*","*",88,16,451,0,"*",448,"*",null,null,null,5,40,"*",40,"*",40,"*","*",177,498,null,null,null,null,null,null,"Region Midtjylland"]
[null,"Samsø",570,"2023-07-01",4,"*","*","*","*","*","*","*",8,"*",33,"*","*","*","*",null,null,null,"*",4,0,4,"*",4,"*",32,7,33,null,null,null,null,null,null,"Region Midtjylland"]
[null,"Skanderborg",16379,"2023-07-01",21,"*","*",13,9734,"*","*",5108,42,10,208,"*","*",203,"*",null,null,null,3,17,0,17,3,17,"*","*",59,201,null,null,null,null,null,null,"Region Midtjylland"]
[null,"Aarhus",64601,"2023-07-01",161,110,13,38,134907,111343,2546,21018,225,26,1062,"*","*",1047,10,null,null,null,30,162,"*",162,"*",162,24,1094,323,1094,null,null,null,null,null,null,"Region Midtjylland"]
[null,"Ikast-Brande",8988,"2023-07-01",15,8,"*","*",8533,5872,"*","*",41,9,80,"*","*",76,"*",null,null,null,3,13,0,13,3,13,"*","*","*",80,null,null,null,null,null,null,"Region Midtjylland"]
[null,"Ringkøbing-Skjern",11274,"2023-07-01",43,18,0,25,30525,17726,"*",12799,66,4,295,0,0,295,0,null,null,null,7,43,"*",43,"*",43,5,281,63,281,null,null,null,null,null,null,"Region Midtjylland"]
[null,"Hedensted",9931,"2023-07-01",37,8,0,29,39003,12804,"*",26199,25,3,85,0,3,82,0,null,null,null,3,35,"*",35,"*",35,"*",65,16,67,null,null,null,null,null,null,"Region Midtjylland"]
[null,"Morsø",3598,"2023-07-01",8,"*","*","*",3482,"*","*","*",49,6,56,"*","*","*","*",null,null,null,"*",8,0,8,"*",8,0,53,17,53,null,null,null,null,null,null,"Region Nordjylland"]
[null,"Skive",8149,"2023-07-01",24,"*","*",14,14661,"*","*",5365,61,7,164,"*","*","*","*",null,null,null,"*",20,0,20,"*",20,"*",182,44,182,null,null,null,null,null,null,"Region Midtjylland"]
[null,"Thisted",8352,"2023-07-01",34,25,0,9,29585,24251,"*",5334,75,7,301,"*","*",297,"*",null,null,null,6,37,0,37,6,37,"*",305,84,309,null,null,null,null,null,null,"Region Nordjylland"]
[null,"Viborg",20163,"2023-07-01",58,38,0,20,47951,40574,"*",7377,147,27,409,"*","*",393,11,null,null,null,6,54,0,54,6,54,9,376,102,384,null,null,null,null,null,null,"Region Midtjylland"]
[null,"Brønderslev",7745,"2023-07-01",16,6,0,10,14037,5813,"*",8224,89,4,196,"*","*","*","*",null,null,null,5,19,0,19,5,19,"*",192,60,192,null,null,null,null,null,null,"Region Nordjylland"]
[null,"Frederikshavn",10006,"2023-07-01",66,34,"*","*",38840,25775,"*","*",116,16,287,"*","*",280,"*",null,null,null,9,61,"*",61,"*",61,"*","*",84,299,null,null,null,null,null,null,"Region Nordjylland"]
[null,"Vesthimmerlands",6914,"2023-07-01",31,13,0,18,23353,8956,"*",14397,78,9,198,"*","*",189,"*",null,null,null,"*",25,0,25,"*",25,"*",199,63,209,null,null,null,null,null,null,"Region Nordjylland"]
[null,"Læsø",209,"2023-07-01",0,0,0,0,"*","*","*","*","*",0,"*",0,0,4,0,null,null,null,0,0,0,0,0,0,0,"*",0,3,null,null,null,null,null,null,"Region Nordjylland"]
[null,"Rebild",7314,"2023-07-01",9,"*","*","*",8422,"*","*","*",38,4,114,"*","*","*","*",null,null,null,4,12,0,12,4,12,"*",118,29,118,null,null,null,null,null,null,"Region Nordjylland"]
[null,"Mariagerfjord",7817,"2023-07-01",27,13,0,14,29645,17791,"*",11854,81,13,225,"*","*","*","*",null,null,null,4,27,0,27,4,27,"*","*",57,243,null,null,null,null,null,null,"Region Nordjylland"]
[null,"Jammerbugt",7494,"2023-07-01",42,"*","*",32,34335,"*","*",19689,75,6,210,"*","*",205,"*",null,null,null,10,46,0,46,10,46,"*",224,60,224,null,null,null,null,null,null,"Region Nordjylland"]
[null,"Aalborg",39957,"2023-07-01",133,72,"*","*",126579,83632,"*","*",265,41,1254,0,6,1245,3,null,null,null,19,148,3,148,16,148,18,1246,282,1249,null,null,null,null,null,null,"Region Nordjylland"]
[null,"Hjørring",11900,"2023-07-01",30,"*","*",16,21540,"*","*",6930,140,17,237,"*","*","*","*",null,null,null,4,27,0,27,4,27,"*","*",84,254,null,null,null,null,null,null,"Region Nordjylland"]
[null,"København",110571,"2024-01-01",254,189,12,53,181227,142911,3671,34645,242,118,2405,14,13,2362,16,null,null,null,69,274,"*",274,"*",274,44,2409,661,2428,null,null,null,null,null,null,"Region Hovedstaden"]
[null,"Frederiksberg",17545,"2024-01-01",42,28,4,10,29564,25172,"*","*",34,9,255,"*",3,248,"*",null,null,null,5,40,0,40,5,40,11,237,52,244,null,null,null,null,null,null,"Region Hovedstaden"]
[null,"Ballerup",10654,"2024-01-01",30,13,0,17,25259,10539,"*",14720,36,8,304,0,7,293,4,null,null,null,"*",29,0,29,"*",29,9,298,61,304,null,null,null,null,null,null,"Region Hovedstaden"]
[null,"Brøndby",7989,"2024-01-01",33,14,0,19,18263,4534,"*",13729,31,7,156,"*","*",151,"*",null,null,null,11,40,0,40,11,40,"*","*",33,136,null,null,null,null,null,null,"Region Hovedstaden"]
[null,"Dragør",3297,"2024-01-01","*",0,0,"*","*","*","*","*","*",0,77,"*","*","*","*",null,null,null,"*",3,0,3,"*",3,"*",50,6,51,null,null,null,null,null,null,"Region Hovedstaden"]
[null,"Gentofte",16281,"2024-01-01",30,11,0,19,17148,8907,"*",8241,23,5,234,"*","*",230,"*",null,null,null,6,29,0,29,6,29,"*",243,52,244,null,null,null,null,null,null,"Region Hovedstaden"]
[null,"Gladsaxe",15627,"2024-01-01",43,20,0,23,33423,17059,"*",16364,43,12,486,"*",3,479,"*",null,null,null,3,38,0,38,3,38,"*","*",118,511,null,null,null,null,null,null,"Region Hovedstaden"]
[null,"Glostrup",4662,"2024-01-01",5,"*","*","*",3998,"*","*","*",13,7,110,"*","*",105,"*",null,null,null,0,3,0,3,0,3,"*","*",21,99,null,null,null,null,null,null,"Region Hovedstaden"]
[null,"Herlev",6463,"2024-01-01",13,"*","*","*",9636,"*","*","*",17,"*",172,"*","*","*","*",null,null,null,"*",12,0,12,"*",12,"*",166,25,167,null,null,null,null,null,null,"Region Hovedstaden"]
[null,"Albertslund",5822,"2024-01-01",24,12,0,12,23385,11585,"*",11800,26,6,161,0,4,154,3,null,null,null,3,24,0,24,3,24,"*","*",45,154,null,null,null,null,null,null,"Region Hovedstaden"]
[null,"Hvidovre",11992,"2024-01-01",48,26,"*","*",18418,9184,"*","*",45,12,280,"*","*",275,"*",null,null,null,"*",35,0,35,"*",35,"*",274,71,276,null,null,null,null,null,null,"Region Hovedstaden"]
[null,"Høje-Taastrup",12029,"2024-01-01",32,26,"*","*",24060,13034,"*","*",47,12,358,4,"*",350,"*",null,null,null,12,30,0,30,12,30,5,321,85,325,null,null,null,null,null,null,"Region Hovedstaden"]
[null,"Lyngby-Taarbæk",11981,"2024-01-01",23,13,"*","*",10779,5781,"*","*",20,3,221,"*","*",217,"*",null,null,null,6,23,0,23,6,23,"*","*",73,230,null,null,null,null,null,null,"Region Hovedstaden"]
[null,"Rødovre",9456,"2024-01-01",22,6,0,16,11458,3540,"*",7918,20,9,254,"*","*",250,"*",null,null,null,3,22,0,22,3,22,"*","*",37,247,null,null,null,null,null,null,"Region Hovedstaden"]
[null,"Ishøj",5118,"2024-01-01",31,6,0,25,35742,6765,"*",28977,21,4,151,0,0,148,3,null,null,null,4,34,0,34,4,34,"*",136,11,136,null,null,null,null,null,null,"Region Hovedstaden"]
[null,"Tårnby",9907,"2024-01-01",17,8,"*","*",14464,10341,"*","*",26,"*",100,"*","*",94,"*",null,null,null,"*",15,0,15,"*",15,"*",103,35,105,null,null,null,null,null,null,"Region Hovedstaden"]
[null,"Vallensbæk",4253,"2024-01-01",6,3,0,3,4561,"*","*","*",12,"*",69,0,0,69,0,null,null,null,"*",6,0,6,"*",6,"*",76,13,76,null,null,null,null,null,null,"Region Hovedstaden"]
[null,"Furesø",10045,"2024-01-01",15,9,"*","*",9925,6374,"*","*",22,3,190,"*","*","*","*",null,null,null,3,17,0,17,3,17,"*",183,42,185,null,null,null,null,null,null,"Region Hovedstaden"]
[null,"Allerød",6148,"2024-01-01",12,7,"*","*",8856,4976,"*","*",7,0,68,"*","*","*","*",null,null,null,4,16,"*",16,"*",16,0,89,26,89,null,null,null,null,null,null,"Region Hovedstaden"]
[null,"Fredensborg",8947,"2024-01-01",32,"*","*",19,15922,"*","*",6860,20,"*",193,0,3,187,3,null,null,null,4,27,0,27,4,27,10,194,43,200,null,null,null,null,null,null,"Region Hovedstaden"]
[null,"Helsingør",12013,"2024-01-01",31,20,"*","*",29528,17802,"*","*",41,8,363,0,0,358,5,null,null,null,6,30,"*",30,"*",30,"*",392,65,393,null,null,null,null,null,null,"Region Hovedstaden"]
[null,"Hillerød",11285,"2024-01-01",23,10,0,13,16754,11317,"*",5437,25,10,259,0,3,253,3,null,null,null,14,35,"*",35,"*",35,"*",252,48,253,null,null,null,null,null,null,"Region Hovedstaden"]
[null,"Hørsholm",4975,"2024-01-01",13,6,0,7,8159,4770,"*",3389,9,0,69,"*","*",66,0,null,null,null,3,15,"*",15,"*",15,"*","*",12,61,null,null,null,null,null,null,"Region Hovedstaden"]
[null,"Rudersdal",12855,"2024-01-01",19,12,"*","*",16370,14771,"*","*",30,7,197,"*","*","*","*",null,null,null,3,19,"*",19,"*",19,"*","*",48,200,null,null,null,null,null,null,"Region Hovedstaden"]
[null,"Egedal",10539,"2024-01-01",23,14,0,9,16488,7819,"*",8669,22,"*",215,0,5,210,0,null,null,null,"*",18,0,18,"*",18,6,210,54,214,null,null,null,null,null,null,"Region Hovedstaden"]
[null,"Frederikssund",8561,"2024-01-01",28,"*","*",17,16746,"*","*",5342,40,"*",276,0,3,268,5,null,null,null,7,28,"*",28,"*",28,"*","*",84,305,null,null,null,null,null,null,"Region Hovedstaden"]
[null,"Greve",11295,"2024-01-01",37,"*","*",20,20718,"*","*",8130,35,"*",202,"*","*","*","*",null,null,null,3,31,0,31,3,31,4,217,72,222,null,null,null,null,null,null,"Region Sjælland"]
[null,"Køge",12631,"2024-01-01",28,13,"*","*",21969,15730,"*","*",77,7,384,3,6,372,3,null,null,null,6,26,0,26,6,26,"*",372,103,377,null,null,null,null,null,null,"Region Sjælland"]
[null,"Halsnæs",5373,"2024-01-01",47,31,"*","*",32915,26462,"*","*",41,"*",267,0,3,261,3,null,null,null,5,47,"*",47,"*",47,"*",255,71,256,null,null,null,null,null,null,"Region Hovedstaden"]
[null,"Roskilde",18410,"2024-01-01",35,16,0,19,30761,21522,"*",9239,71,11,518,0,"*",514,"*",null,null,null,11,38,0,38,11,38,8,433,112,436,null,null,null,null,null,null,"Region Sjælland"]
[null,"Solrød",5687,"2024-01-01",12,5,0,7,11343,6836,"*",4507,4,4,95,"*","*","*","*",null,null,null,4,16,"*",16,"*",16,"*",87,34,87,null,null,null,null,null,null,"Region Sjælland"]
[null,"Gribskov",7277,"2024-01-01",50,28,"*","*",34709,21868,"*","*",26,10,268,"*","*",257,"*",null,null,null,9,48,0,48,9,48,"*",260,53,262,null,null,null,null,null,null,"Region Hovedstaden"]
[null,"Odsherred",4862,"2024-01-01",37,27,0,10,37258,26929,"*",10329,42,12,108,"*","*",103,"*",null,null,null,8,43,0,43,8,43,"*","*",32,120,null,null,null,null,null,null,"Region Sjælland"]
[null,"Holbæk",14723,"2024-01-01",33,3,3,27,23118,"*","*",18637,63,22,311,"*","*",303,"*",null,null,null,6,33,0,33,6,33,"*",332,96,334,null,null,null,null,null,null,"Region Sjælland"]
[null,"Faxe",6956,"2024-01-01",43,"*","*",35,43480,"*","*",33293,50,13,278,"*","*",267,6,null,null,null,7,46,"*",46,"*",46,8,313,70,317,null,null,null,null,null,null,"Region Sjælland"]
[null,"Kalundborg",8504,"2024-01-01",31,"*","*",21,18803,"*","*",10099,80,12,311,0,9,296,6,null,null,null,10,33,3,33,7,33,12,304,89,311,null,null,null,null,null,null,"Region Sjælland"]
[null,"Ringsted",7193,"2024-01-01",32,12,0,20,18551,6393,"*",12158,23,4,180,"*","*",173,"*",null,null,null,4,31,"*",31,"*",31,"*","*",49,184,null,null,null,null,null,null,"Region Sjælland"]
[null,"Slagelse",14496,"2024-01-01",79,14,0,65,64938,19332,"*",45606,128,23,497,"*","*",480,"*",null,null,null,13,82,"*",82,"*",82,10,459,143,463,null,null,null,null,null,null,"Region Sjælland"]
[null,"Stevns",4351,"2024-01-01",13,6,0,7,11604,2655,"*",8949,22,5,108,"*","*","*","*",null,null,null,4,12,"*",12,"*",12,"*","*",30,120,null,null,null,null,null,null,"Region Sjælland"]
[null,"Sorø",6100,"2024-01-01",22,"*","*",17,12925,"*","*",8156,30,14,124,"*","*",119,"*",null,null,null,3,16,0,16,3,16,"*","*",46,132,null,null,null,null,null,null,"Region Sjælland"]
[null,"Lejre",6366,"2024-01-01",19,11,0,8,14107,7013,"*",7094,18,4,116,0,"*",113,"*",null,null,null,"*",18,0,18,"*",18,"*",117,30,117,null,null,null,null,null,null,"Region Sjælland"]
[null,"Lolland",6069,"2024-01-01",51,23,3,25,40080,"*","*",17120,152,13,328,4,7,313,4,null,null,null,9,56,"*",56,"*",56,"*",308,92,318,null,null,null,null,null,null,"Region Sjælland"]
[null,"Næstved",15927,"2024-01-01",115,41,4,70,69353,"*","*",37233,66,7,465,8,"*",448,"*",null,null,null,15,110,"*",110,"*",110,23,429,97,439,null,null,null,null,null,null,"Region Sjælland"]
[null,"Guldborgsund",9870,"2024-01-01",106,23,0,83,56875,16572,"*",40303,118,17,392,"*",5,382,"*",null,null,null,17,94,0,94,17,94,"*","*",60,360,null,null,null,null,null,null,"Region Sjælland"]
[null,"Vordingborg",7357,"2024-01-01",78,"*","*",63,67368,"*","*",57756,79,12,173,"*","*","*","*",null,null,null,8,76,0,76,8,76,"*","*",69,194,null,null,null,null,null,null,"Region Sjælland"]
[null,"Bornholm",6513,"2024-01-01",43,23,0,20,23898,14908,"*",8990,74,4,209,"*","*",202,"*",null,null,null,12,47,"*",47,"*",47,6,225,56,229,null,null,null,null,null,null,"Region Hovedstaden"]
[null,"Middelfart",7799,"2024-01-01",24,17,0,7,14000,10176,"*",3824,50,7,228,0,3,225,0,null,null,null,6,23,3,23,3,23,"*",236,78,238,null,null,null,null,null,null,"Region Syddanmark"]
[null,"Assens",7765,"2024-01-01",24,6,0,18,15678,4032,"*",11646,86,11,177,"*","*",170,"*",null,null,null,4,27,"*",27,"*",27,"*","*",62,197,null,null,null,null,null,null,"Region Syddanmark"]
[null,"Faaborg-Midtfyn",10242,"2024-01-01",63,"*","*",36,43119,"*","*",25305,85,8,256,"*","*",251,"*",null,null,null,3,58,0,58,3,58,"*","*",56,235,null,null,null,null,null,null,"Region Syddanmark"]
[null,"Kerteminde",4418,"2024-01-01",20,"*","*","*",15481,"*","*","*",21,3,138,0,"*",135,"*",null,null,null,"*",17,0,17,"*",17,"*","*",33,143,null,null,null,null,null,null,"Region Syddanmark"]
[null,"Nyborg",6009,"2024-01-01",21,17,0,4,17686,"*","*","*",52,7,114,0,"*",111,"*",null,null,null,4,22,0,22,4,22,"*",107,31,109,null,null,null,null,null,null,"Region Syddanmark"]
[null,"Odense",37835,"2024-01-01",186,88,4,94,153984,"*","*",74524,221,31,1255,"*",13,1237,"*",null,null,null,17,181,"*",181,"*",181,"*",1361,376,1374,null,null,null,null,null,null,"Region Syddanmark"]
[null,"Svendborg",11568,"2024-01-01",49,31,"*","*",31529,22217,"*","*",70,4,334,0,5,329,0,null,null,null,15,55,"*",55,"*",55,"*","*",101,343,null,null,null,null,null,null,"Region Syddanmark"]
[null,"Nordfyns",5595,"2024-01-01",30,16,0,14,20989,11424,"*",9565,57,7,119,0,3,113,3,null,null,null,3,28,"*",28,"*",28,7,107,21,111,null,null,null,null,null,null,"Region Syddanmark"]
[null,"Langeland",1590,"2024-01-01",18,9,0,9,12198,9122,"*",3076,26,3,59,0,0,59,0,null,null,null,"*",19,0,19,"*",19,4,62,14,62,null,null,null,null,null,null,"Region Syddanmark"]
[null,"Ærø",800,"2024-01-01",5,"*","*","*",5959,"*","*","*","*","*",14,0,0,14,0,null,null,null,0,4,0,4,0,4,0,8,"*",8,null,null,null,null,null,null,"Region Syddanmark"]
[null,"Haderslev",10421,"2024-01-01",32,"*","*",24,24341,"*","*",14546,136,25,250,0,7,240,3,null,null,null,3,30,0,30,3,30,14,264,107,269,null,null,null,null,null,null,"Region Syddanmark"]
[null,"Billund",5486,"2024-01-01",18,5,0,13,12046,3672,"*",8374,52,9,157,"*","*","*","*",null,null,null,"*",14,0,14,"*",14,"*",153,50,154,null,null,null,null,null,null,"Region Syddanmark"]
[null,"Sønderborg",13578,"2024-01-01",37,8,6,23,16409,8072,874,7463,114,4,26,0,5,21,0,null,null,null,4,31,0,31,4,31,"*","*",309,325,null,null,null,null,null,null,"Region Syddanmark"]
[null,"Tønder",6810,"2024-01-01",18,8,0,10,9200,3665,"*",5535,104,5,154,"*","*","*","*",null,null,null,5,20,0,20,5,20,"*",158,51,159,null,null,null,null,null,null,"Region Syddanmark"]
[null,"Esbjerg",22369,"2024-01-01",135,81,"*","*",130760,77783,"*","*",114,24,734,"*","*",726,"*",null,null,null,18,137,"*",137,"*",137,"*","*",161,691,null,null,null,null,null,null,"Region Syddanmark"]
[null,"Fanø",559,"2024-01-01","*",0,0,0,"*","*","*","*",0,"*",0,0,0,0,0,null,null,null,0,0,0,0,0,0,"*","*","*","*",null,null,null,null,null,null,"Region Syddanmark"]
[null,"Varde",9886,"2024-01-01",13,4,0,9,8943,"*","*","*",67,24,348,"*","*",343,"*",null,null,null,6,17,0,17,6,17,"*",334,82,336,null,null,null,null,null,null,"Region Syddanmark"]
[null,"Vejen",8743,"2024-01-01",38,"*","*",25,23954,"*","*",12099,68,4,204,"*","*",200,"*",null,null,null,6,32,0,32,6,32,"*",188,46,189,null,null,null,null,null,null,"Region Syddanmark"]
[null,"Aabenraa",11182,"2024-01-01",30,24,0,6,16593,13657,"*",2936,95,9,365,4,"*",357,"*",null,null,null,10,35,"*",35,"*",35,"*","*",62,346,null,null,null,null,null,null,"Region Syddanmark"]
[null,"Fredericia",9985,"2024-01-01",34,10,0,24,17976,7345,"*",10631,84,18,359,0,5,351,3,null,null,null,3,31,0,31,3,31,14,323,84,337,null,null,null,null,null,null,"Region Syddanmark"]
[null,"Horsens",20469,"2024-01-01",71,13,3,55,40143,"*","*",30577,100,22,253,"*","*",236,"*",null,null,null,14,74,5,74,9,74,14,400,269,411,null,null,null,null,null,null,"Region Midtjylland"]
[null,"Kolding",19590,"2024-01-01",33,"*","*",20,16286,"*","*",7721,92,10,407,"*","*","*","*",null,null,null,8,34,0,34,8,34,7,369,77,369,null,null,null,null,null,null,"Region Syddanmark"]
[null,"Vejle",25697,"2024-01-01",53,25,0,28,32262,19365,"*",12897,182,29,676,0,3,665,8,null,null,null,5,51,0,51,5,51,"*",609,165,611,null,null,null,null,null,null,"Region Syddanmark"]
[null,"Herning",18563,"2024-01-01",29,18,"*","*",16356,12977,"*","*",94,18,346,0,5,336,5,null,null,null,3,29,"*",29,"*",29,"*","*",120,338,null,null,null,null,null,null,"Region Midtjylland"]
[null,"Holstebro",12344,"2024-01-01",38,"*","*",19,24836,"*","*",10193,83,15,228,0,"*",225,"*",null,null,null,4,34,0,34,4,34,"*",213,73,214,null,null,null,null,null,null,"Region Midtjylland"]
[null,"Lemvig",3243,"2024-01-01",12,8,0,4,12796,"*","*","*",17,4,77,0,0,77,0,null,null,null,"*",10,0,10,"*",10,"*",83,14,83,null,null,null,null,null,null,"Region Midtjylland"]
[null,"Struer",3701,"2024-01-01",12,3,0,9,3578,"*","*","*",42,"*",101,"*","*","*","*",null,null,null,3,11,0,11,3,11,"*",98,21,99,null,null,null,null,null,null,"Region Midtjylland"]
[null,"Syddjurs",8640,"2024-01-01",24,"*","*",17,15358,"*","*",11935,49,9,240,"*","*",233,3,null,null,null,"*",25,0,25,"*",25,"*",249,71,251,null,null,null,null,null,null,"Region Midtjylland"]
[null,"Norddjurs",6313,"2024-01-01",28,18,0,10,28513,20174,"*",8339,71,5,175,"*","*",165,"*",null,null,null,7,35,3,35,4,35,"*",167,35,169,null,null,null,null,null,null,"Region Midtjylland"]
[null,"Favrskov",11626,"2024-01-01",40,21,0,19,26234,15623,"*",10611,46,3,143,"*","*","*","*",null,null,null,3,38,0,38,3,38,"*",153,34,153,null,null,null,null,null,null,"Region Midtjylland"]
[null,"Odder",4913,"2024-01-01",10,"*","*","*",7537,"*","*","*",13,"*",104,0,0,104,0,null,null,null,4,13,0,13,4,13,"*",117,37,117,null,null,null,null,null,null,"Region Midtjylland"]
[null,"Randers",19488,"2024-01-01",61,"*","*",34,29573,"*","*",14612,119,16,376,"*","*",363,8,null,null,null,16,67,3,67,13,67,"*",375,111,376,null,null,null,null,null,null,"Region Midtjylland"]
[null,"Silkeborg",22059,"2024-01-01",37,18,"*","*",30104,19010,"*","*",91,16,486,"*","*",482,"*",null,null,null,11,43,"*",43,"*",43,"*","*",172,451,null,null,null,null,null,null,"Region Midtjylland"]
[null,"Samsø",543,"2024-01-01",5,"*","*","*",1048,"*","*","*",8,"*",35,"*","*","*","*",null,null,null,"*",4,0,4,"*",4,"*",32,7,33,null,null,null,null,null,null,"Region Midtjylland"]
[null,"Skanderborg",16316,"2024-01-01",23,8,0,15,10435,3925,"*",6510,40,12,218,"*","*","*","*",null,null,null,5,21,0,21,5,21,"*","*",53,208,null,null,null,null,null,null,"Region Midtjylland"]
[null,"Aarhus",64665,"2024-01-01",152,101,8,43,131601,109315,2065,20221,221,27,1012,"*","*",993,14,null,null,null,34,161,"*",161,"*",161,23,1057,314,1062,null,null,null,null,null,null,"Region Midtjylland"]
[null,"Ikast-Brande",9020,"2024-01-01",17,8,"*","*",6770,3839,"*","*",39,10,79,"*","*",74,"*",null,null,null,3,15,0,15,3,15,"*","*","*",80,null,null,null,null,null,null,"Region Midtjylland"]
[null,"Ringkøbing-Skjern",11161,"2024-01-01",38,14,0,24,30031,15201,"*",14830,70,5,288,"*","*","*","*",null,null,null,7,43,"*",43,"*",43,3,295,85,295,null,null,null,null,null,null,"Region Midtjylland"]
[null,"Hedensted",9859,"2024-01-01",40,10,0,30,45490,14575,"*",30915,26,3,79,"*","*","*","*",null,null,null,"*",37,0,37,"*",37,4,82,22,85,null,null,null,null,null,null,"Region Midtjylland"]
[null,"Morsø",3594,"2024-01-01",15,11,"*","*",5268,4376,"*","*",50,5,59,0,0,59,0,null,null,null,0,8,0,8,0,8,"*",55,9,56,null,null,null,null,null,null,"Region Nordjylland"]
[null,"Skive",8113,"2024-01-01",18,"*","*",10,10106,"*","*",4444,67,8,188,"*",0,185,"*",null,null,null,8,24,"*",24,"*",24,"*",164,32,164,null,null,null,null,null,null,"Region Midtjylland"]
[null,"Thisted",8227,"2024-01-01",32,22,0,10,29495,24512,"*",4983,80,7,308,0,"*",305,"*",null,null,null,6,34,"*",34,"*",34,"*","*",88,301,null,null,null,null,null,null,"Region Nordjylland"]
[null,"Viborg",20089,"2024-01-01",60,41,0,19,52074,42991,"*",9083,136,25,411,0,6,393,12,null,null,null,9,58,"*",58,"*",58,12,404,103,409,null,null,null,null,null,null,"Region Midtjylland"]
[null,"Brønderslev",7724,"2024-01-01",20,7,0,13,11558,5635,"*",5923,83,7,240,0,"*",237,"*",null,null,null,"*",16,0,16,"*",16,"*",194,44,196,null,null,null,null,null,null,"Region Nordjylland"]
[null,"Frederikshavn",9838,"2024-01-01",77,42,"*","*",44201,29105,"*","*",114,21,270,0,6,264,0,null,null,null,8,66,"*",66,"*",66,"*","*",85,287,null,null,null,null,null,null,"Region Nordjylland"]
[null,"Vesthimmerlands",6787,"2024-01-01",34,14,0,20,27743,9982,"*",17761,80,9,174,"*","*",171,"*",null,null,null,"*",31,"*",31,"*",31,"*","*",72,198,null,null,null,null,null,null,"Region Nordjylland"]
[null,"Læsø",205,"2024-01-01","*",0,0,0,"*","*","*","*","*",0,4,0,0,4,0,null,null,null,0,0,0,0,0,0,0,"*",0,"*",null,null,null,null,null,null,"Region Nordjylland"]
[null,"Rebild",7294,"2024-01-01",9,9,0,0,7446,7446,"*","*",38,5,138,"*","*","*","*",null,null,null,"*",9,"*",9,"*",9,"*",114,25,114,null,null,null,null,null,null,"Region Nordjylland"]
[null,"Mariagerfjord",7778,"2024-01-01",29,13,0,16,28698,16556,"*",12142,75,13,211,0,"*",208,"*",null,null,null,3,27,0,27,3,27,"*",224,75,225,null,null,null,null,null,null,"Region Nordjylland"]
[null,"Jammerbugt",7404,"2024-01-01",40,9,0,31,38901,16073,"*",22828,75,8,217,"*","*",213,"*",null,null,null,5,42,0,42,5,42,"*",209,47,210,null,null,null,null,null,null,"Region Nordjylland"]
[null,"Aalborg",39831,"2024-01-01",137,78,4,55,124991,84523,"*","*",267,42,1204,3,5,1193,3,null,null,null,20,133,"*",133,"*",133,31,1248,302,1254,null,null,null,null,null,null,"Region Nordjylland"]
[null,"Hjørring",11781,"2024-01-01",39,"*","*",20,24299,"*","*",6968,141,18,261,"*","*",256,"*",null,null,null,3,30,"*",30,"*",30,"*",236,76,237,null,null,null,null,null,null,"Region Nordjylland"]
[null,null,null,null,null,null,null,null,null,null,null,null,null,null,null,null,null,null,null,null,null,null,null,null,null,null,null,null,null,null,null,null,null,null,null,null,null,null,"Region Hovedstaden"]
[null,null,null,null,null,null,null,null,null,null,null,null,null,null,null,null,null,null,null,null,null,null,null,null,null,null,null,null,null,null,null,null,null,null,null,null,null,null,"Region Hovedstaden"]
[null,null,null,null,null,null,null,null,null,null,null,null,null,null,null,null,null,null,null,null,null,null,null,null,null,null,null,null,null,null,null,null,null,null,null,null,null,null,"Region Hovedstaden"]
[null,null,null,null,null,null,null,null,null,null,null,null,null,null,null,null,null,null,null,null,null,null,null,null,null,null,null,null,null,null,null,null,null,null,null,null,null,null,"Region Hovedstaden"]
[null,null,null,null,null,null,null,null,null,null,null,null,null,null,null,null,null,null,null,null,null,null,null,null,null,null,null,null,null,null,null,null,null,null,null,null,null,null,"Region Hovedstaden"]
[null,null,null,null,null,null,null,null,null,null,null,null,null,null,null,null,null,null,null,null,null,null,null,null,null,null,null,null,null,null,null,null,null,null,null,null,null,null,"Region Hovedstaden"]
[null,null,null,null,null,null,null,null,null,null,null,null,null,null,null,null,null,null,null,null,null,null,null,null,null,null,null,null,null,null,null,null,null,null,null,null,null,null,"Region Hovedstaden"]
[null,null,null,null,null,null,null,null,null,null,null,null,null,null,null,null,null,null,null,null,null,null,null,null,null,null,null,null,null,null,null,null,null,null,null,null,null,null,"Region Hovedstaden"]
[null,null,null,null,null,null,null,null,null,null,null,null,null,null,null,null,null,null,null,null,null,null,null,null,null,null,null,null,null,null,null,null,null,null,null,null,null,null,"Region Hovedstaden"]
[null,null,null,null,null,null,null,null,null,null,null,null,null,null,null,null,null,null,null,null,null,null,null,null,null,null,null,null,null,null,null,null,null,null,null,null,null,null,"Region Hovedstaden"]
[null,null,null,null,null,null,null,null,null,null,null,null,null,null,null,null,null,null,null,null,null,null,null,null,null,null,null,null,null,null,null,null,null,null,null,null,null,null,"Region Hovedstaden"]
[null,null,null,null,null,null,null,null,null,null,null,null,null,null,null,null,null,null,null,null,null,null,null,null,null,null,null,null,null,null,null,null,null,null,null,null,null,null,"Region Hovedstaden"]
[null,null,null,null,null,null,null,null,null,null,null,null,null,null,null,null,null,null,null,null,null,null,null,null,null,null,null,null,null,null,null,null,null,null,null,null,null,null,"Region Hovedstaden"]
[null,null,null,null,null,null,null,null,null,null,null,null,null,null,null,null,null,null,null,null,null,null,null,null,null,null,null,null,null,null,null,null,null,null,null,null,null,null,"Region Hovedstaden"]
[null,null,null,null,null,null,null,null,null,null,null,null,null,null,null,null,null,null,null,null,null,null,null,null,null,null,null,null,null,null,null,null,null,null,null,null,null,null,"Region Hovedstaden"]
[null,null,null,null,null,null,null,null,null,null,null,null,null,null,null,null,null,null,null,null,null,null,null,null,null,null,null,null,null,null,null,null,null,null,null,null,null,null,"Region Hovedstaden"]
[null,null,null,null,null,null,null,null,null,null,null,null,null,null,null,null,null,null,null,null,null,null,null,null,null,null,null,null,null,null,null,null,null,null,null,null,null,null,"Region Hovedstaden"]
[null,null,null,null,null,null,null,null,null,null,null,null,null,null,null,null,null,null,null,null,null,null,null,null,null,null,null,null,null,null,null,null,null,null,null,null,null,null,"Region Hovedstaden"]
[null,null,null,null,null,null,null,null,null,null,null,null,null,null,null,null,null,null,null,null,null,null,null,null,null,null,null,null,null,null,null,null,null,null,null,null,null,null,"Region Hovedstaden"]
[null,null,null,null,null,null,null,null,null,null,null,null,null,null,null,null,null,null,null,null,null,null,null,null,null,null,null,null,null,null,null,null,null,null,null,null,null,null,"Region Hovedstaden"]
[null,null,null,null,null,null,null,null,null,null,null,null,null,null,null,null,null,null,null,null,null,null,null,null,null,null,null,null,null,null,null,null,null,null,null,null,null,null,"Region Hovedstaden"]
[null,null,null,null,null,null,null,null,null,null,null,null,null,null,null,null,null,null,null,null,null,null,null,null,null,null,null,null,null,null,null,null,null,null,null,null,null,null,"Region Hovedstaden"]
[null,null,null,null,null,null,null,null,null,null,null,null,null,null,null,null,null,null,null,null,null,null,null,null,null,null,null,null,null,null,null,null,null,null,null,null,null,null,"Region Hovedstaden"]
[null,null,null,null,null,null,null,null,null,null,null,null,null,null,null,null,null,null,null,null,null,null,null,null,null,null,null,null,null,null,null,null,null,null,null,null,null,null,"Region Hovedstaden"]
[null,null,null,null,null,null,null,null,null,null,null,null,null,null,null,null,null,null,null,null,null,null,null,null,null,null,null,null,null,null,null,null,null,null,null,null,null,null,"Region Hovedstaden"]
[null,null,null,null,null,null,null,null,null,null,null,null,null,null,null,null,null,null,null,null,null,null,null,null,null,null,null,null,null,null,null,null,null,null,null,null,null,null,"Region Hovedstaden"]
[null,null,null,null,null,null,null,null,null,null,null,null,null,null,null,null,null,null,null,null,null,null,null,null,null,null,null,null,null,null,null,null,null,null,null,null,null,null,"Region Sjælland"]
[null,null,null,null,null,null,null,null,null,null,null,null,null,null,null,null,null,null,null,null,null,null,null,null,null,null,null,null,null,null,null,null,null,null,null,null,null,null,"Region Sjælland"]
[null,null,null,null,null,null,null,null,null,null,null,null,null,null,null,null,null,null,null,null,null,null,null,null,null,null,null,null,null,null,null,null,null,null,null,null,null,null,"Region Hovedstaden"]
[null,null,null,null,null,null,null,null,null,null,null,null,null,null,null,null,null,null,null,null,null,null,null,null,null,null,null,null,null,null,null,null,null,null,null,null,null,null,"Region Sjælland"]
[null,null,null,null,null,null,null,null,null,null,null,null,null,null,null,null,null,null,null,null,null,null,null,null,null,null,null,null,null,null,null,null,null,null,null,null,null,null,"Region Sjælland"]
[null,null,null,null,null,null,null,null,null,null,null,null,null,null,null,null,null,null,null,null,null,null,null,null,null,null,null,null,null,null,null,null,null,null,null,null,null,null,"Region Hovedstaden"]
[null,null,null,null,null,null,null,null,null,null,null,null,null,null,null,null,null,null,null,null,null,null,null,null,null,null,null,null,null,null,null,null,null,null,null,null,null,null,"Region Sjælland"]
[null,null,null,null,null,null,null,null,null,null,null,null,null,null,null,null,null,null,null,null,null,null,null,null,null,null,null,null,null,null,null,null,null,null,null,null,null,null,"Region Sjælland"]
[null,null,null,null,null,null,null,null,null,null,null,null,null,null,null,null,null,null,null,null,null,null,null,null,null,null,null,null,null,null,null,null,null,null,null,null,null,null,"Region Sjælland"]
[null,null,null,null,null,null,null,null,null,null,null,null,null,null,null,null,null,null,null,null,null,null,null,null,null,null,null,null,null,null,null,null,null,null,null,null,null,null,"Region Sjælland"]
[null,null,null,null,null,null,null,null,null,null,null,null,null,null,null,null,null,null,null,null,null,null,null,null,null,null,null,null,null,null,null,null,null,null,null,null,null,null,"Region Sjælland"]
[null,null,null,null,null,null,null,null,null,null,null,null,null,null,null,null,null,null,null,null,null,null,null,null,null,null,null,null,null,null,null,null,null,null,null,null,null,null,"Region Sjælland"]
[null,null,null,null,null,null,null,null,null,null,null,null,null,null,null,null,null,null,null,null,null,null,null,null,null,null,null,null,null,null,null,null,null,null,null,null,null,null,"Region Sjælland"]
[null,null,null,null,null,null,null,null,null,null,null,null,null,null,null,null,null,null,null,null,null,null,null,null,null,null,null,null,null,null,null,null,null,null,null,null,null,null,"Region Sjælland"]
[null,null,null,null,null,null,null,null,null,null,null,null,null,null,null,null,null,null,null,null,null,null,null,null,null,null,null,null,null,null,null,null,null,null,null,null,null,null,"Region Sjælland"]
[null,null,null,null,null,null,null,null,null,null,null,null,null,null,null,null,null,null,null,null,null,null,null,null,null,null,null,null,null,null,null,null,null,null,null,null,null,null,"Region Sjælland"]
[null,null,null,null,null,null,null,null,null,null,null,null,null,null,null,null,null,null,null,null,null,null,null,null,null,null,null,null,null,null,null,null,null,null,null,null,null,null,"Region Sjælland"]
[null,null,null,null,null,null,null,null,null,null,null,null,null,null,null,null,null,null,null,null,null,null,null,null,null,null,null,null,null,null,null,null,null,null,null,null,null,null,"Region Sjælland"]
[null,null,null,null,null,null,null,null,null,null,null,null,null,null,null,null,null,null,null,null,null,null,null,null,null,null,null,null,null,null,null,null,null,null,null,null,null,null,"Region Sjælland"]
[null,null,null,null,null,null,null,null,null,null,null,null,null,null,null,null,null,null,null,null,null,null,null,null,null,null,null,null,null,null,null,null,null,null,null,null,null,null,"Region Hovedstaden"]
[null,null,null,null,null,null,null,null,null,null,null,null,null,null,null,null,null,null,null,null,null,null,null,null,null,null,null,null,null,null,null,null,null,null,null,null,null,null,"Region Syddanmark"]
[null,null,null,null,null,null,null,null,null,null,null,null,null,null,null,null,null,null,null,null,null,null,null,null,null,null,null,null,null,null,null,null,null,null,null,null,null,null,"Region Syddanmark"]
[null,null,null,null,null,null,null,null,null,null,null,null,null,null,null,null,null,null,null,null,null,null,null,null,null,null,null,null,null,null,null,null,null,null,null,null,null,null,"Region Syddanmark"]
[null,null,null,null,null,null,null,null,null,null,null,null,null,null,null,null,null,null,null,null,null,null,null,null,null,null,null,null,null,null,null,null,null,null,null,null,null,null,"Region Syddanmark"]
[null,null,null,null,null,null,null,null,null,null,null,null,null,null,null,null,null,null,null,null,null,null,null,null,null,null,null,null,null,null,null,null,null,null,null,null,null,null,"Region Syddanmark"]
[null,null,null,null,null,null,null,null,null,null,null,null,null,null,null,null,null,null,null,null,null,null,null,null,null,null,null,null,null,null,null,null,null,null,null,null,null,null,"Region Syddanmark"]
[null,null,null,null,null,null,null,null,null,null,null,null,null,null,null,null,null,null,null,null,null,null,null,null,null,null,null,null,null,null,null,null,null,null,null,null,null,null,"Region Syddanmark"]
[null,null,null,null,null,null,null,null,null,null,null,null,null,null,null,null,null,null,null,null,null,null,null,null,null,null,null,null,null,null,null,null,null,null,null,null,null,null,"Region Syddanmark"]
[null,null,null,null,null,null,null,null,null,null,null,null,null,null,null,null,null,null,null,null,null,null,null,null,null,null,null,null,null,null,null,null,null,null,null,null,null,null,"Region Syddanmark"]
[null,null,null,null,null,null,null,null,null,null,null,null,null,null,null,null,null,null,null,null,null,null,null,null,null,null,null,null,null,null,null,null,null,null,null,null,null,null,"Region Syddanmark"]
[null,null,null,null,null,null,null,null,null,null,null,null,null,null,null,null,null,null,null,null,null,null,null,null,null,null,null,null,null,null,null,null,null,null,null,null,null,null,"Region Syddanmark"]
[null,null,null,null,null,null,null,null,null,null,null,null,null,null,null,null,null,null,null,null,null,null,null,null,null,null,null,null,null,null,null,null,null,null,null,null,null,null,"Region Syddanmark"]
[null,null,null,null,null,null,null,null,null,null,null,null,null,null,null,null,null,null,null,null,null,null,null,null,null,null,null,null,null,null,null,null,null,null,null,null,null,null,"Region Syddanmark"]
[null,null,null,null,null,null,null,null,null,null,null,null,null,null,null,null,null,null,null,null,null,null,null,null,null,null,null,null,null,null,null,null,null,null,null,null,null,null,"Region Syddanmark"]
[null,null,null,null,null,null,null,null,null,null,null,null,null,null,null,null,null,null,null,null,null,null,null,null,null,null,null,null,null,null,null,null,null,null,null,null,null,null,"Region Syddanmark"]
[null,null,null,null,null,null,null,null,null,null,null,null,null,null,null,null,null,null,null,null,null,null,null,null,null,null,null,null,null,null,null,null,null,null,null,null,null,null,"Region Syddanmark"]
[null,null,null,null,null,null,null,null,null,null,null,null,null,null,null,null,null,null,null,null,null,null,null,null,null,null,null,null,null,null,null,null,null,null,null,null,null,null,"Region Syddanmark"]
[null,null,null,null,null,null,null,null,null,null,null,null,null,null,null,null,null,null,null,null,null,null,null,null,null,null,null,null,null,null,null,null,null,null,null,null,null,null,"Region Syddanmark"]
[null,null,null,null,null,null,null,null,null,null,null,null,null,null,null,null,null,null,null,null,null,null,null,null,null,null,null,null,null,null,null,null,null,null,null,null,null,null,"Region Syddanmark"]
[null,null,null,null,null,null,null,null,null,null,null,null,null,null,null,null,null,null,null,null,null,null,null,null,null,null,null,null,null,null,null,null,null,null,null,null,null,null,"Region Syddanmark"]
[null,null,null,null,null,null,null,null,null,null,null,null,null,null,null,null,null,null,null,null,null,null,null,null,null,null,null,null,null,null,null,null,null,null,null,null,null,null,"Region Midtjylland"]
[null,null,null,null,null,null,null,null,null,null,null,null,null,null,null,null,null,null,null,null,null,null,null,null,null,null,null,null,null,null,null,null,null,null,null,null,null,null,"Region Syddanmark"]
[null,null,null,null,null,null,null,null,null,null,null,null,null,null,null,null,null,null,null,null,null,null,null,null,null,null,null,null,null,null,null,null,null,null,null,null,null,null,"Region Syddanmark"]
[null,null,null,null,null,null,null,null,null,null,null,null,null,null,null,null,null,null,null,null,null,null,null,null,null,null,null,null,null,null,null,null,null,null,null,null,null,null,"Region Midtjylland"]
[null,null,null,null,null,null,null,null,null,null,null,null,null,null,null,null,null,null,null,null,null,null,null,null,null,null,null,null,null,null,null,null,null,null,null,null,null,null,"Region Midtjylland"]
[null,null,null,null,null,null,null,null,null,null,null,null,null,null,null,null,null,null,null,null,null,null,null,null,null,null,null,null,null,null,null,null,null,null,null,null,null,null,"Region Midtjylland"]
[null,null,null,null,null,null,null,null,null,null,null,null,null,null,null,null,null,null,null,null,null,null,null,null,null,null,null,null,null,null,null,null,null,null,null,null,null,null,"Region Midtjylland"]
[null,null,null,null,null,null,null,null,null,null,null,null,null,null,null,null,null,null,null,null,null,null,null,null,null,null,null,null,null,null,null,null,null,null,null,null,null,null,"Region Midtjylland"]
[null,null,null,null,null,null,null,null,null,null,null,null,null,null,null,null,null,null,null,null,null,null,null,null,null,null,null,null,null,null,null,null,null,null,null,null,null,null,"Region Midtjylland"]
[null,null,null,null,null,null,null,null,null,null,null,null,null,null,null,null,null,null,null,null,null,null,null,null,null,null,null,null,null,null,null,null,null,null,null,null,null,null,"Region Midtjylland"]
[null,null,null,null,null,null,null,null,null,null,null,null,null,null,null,null,null,null,null,null,null,null,null,null,null,null,null,null,null,null,null,null,null,null,null,null,null,null,"Region Midtjylland"]
[null,null,null,null,null,null,null,null,null,null,null,null,null,null,null,null,null,null,null,null,null,null,null,null,null,null,null,null,null,null,null,null,null,null,null,null,null,null,"Region Midtjylland"]
[null,null,null,null,null,null,null,null,null,null,null,null,null,null,null,null,null,null,null,null,null,null,null,null,null,null,null,null,null,null,null,null,null,null,null,null,null,null,"Region Midtjylland"]
[null,null,null,null,null,null,null,null,null,null,null,null,null,null,null,null,null,null,null,null,null,null,null,null,null,null,null,null,null,null,null,null,null,null,null,null,null,null,"Region Midtjylland"]
[null,null,null,null,null,null,null,null,null,null,null,null,null,null,null,null,null,null,null,null,null,null,null,null,null,null,null,null,null,null,null,null,null,null,null,null,null,null,"Region Midtjylland"]
[null,null,null,null,null,null,null,null,null,null,null,null,null,null,null,null,null,null,null,null,null,null,null,null,null,null,null,null,null,null,null,null,null,null,null,null,null,null,"Region Midtjylland"]
[null,null,null,null,null,null,null,null,null,null,null,null,null,null,null,null,null,null,null,null,null,null,null,null,null,null,null,null,null,null,null,null,null,null,null,null,null,null,"Region Midtjylland"]
[null,null,null,null,null,null,null,null,null,null,null,null,null,null,null,null,null,null,null,null,null,null,null,null,null,null,null,null,null,null,null,null,null,null,null,null,null,null,"Region Midtjylland"]
[null,null,null,null,null,null,null,null,null,null,null,null,null,null,null,null,null,null,null,null,null,null,null,null,null,null,null,null,null,null,null,null,null,null,null,null,null,null,"Region Midtjylland"]
[null,null,null,null,null,null,null,null,null,null,null,null,null,null,null,null,null,null,null,null,null,null,null,null,null,null,null,null,null,null,null,null,null,null,null,null,null,null,"Region Nordjylland"]
[null,null,null,null,null,null,null,null,null,null,null,null,null,null,null,null,null,null,null,null,null,null,null,null,null,null,null,null,null,null,null,null,null,null,null,null,null,null,"Region Midtjylland"]
[null,null,null,null,null,null,null,null,null,null,null,null,null,null,null,null,null,null,null,null,null,null,null,null,null,null,null,null,null,null,null,null,null,null,null,null,null,null,"Region Nordjylland"]
[null,null,null,null,null,null,null,null,null,null,null,null,null,null,null,null,null,null,null,null,null,null,null,null,null,null,null,null,null,null,null,null,null,null,null,null,null,null,"Region Midtjylland"]
[null,null,null,null,null,null,null,null,null,null,null,null,null,null,null,null,null,null,null,null,null,null,null,null,null,null,null,null,null,null,null,null,null,null,null,null,null,null,"Region Nordjylland"]
[null,null,null,null,null,null,null,null,null,null,null,null,null,null,null,null,null,null,null,null,null,null,null,null,null,null,null,null,null,null,null,null,null,null,null,null,null,null,"Region Nordjylland"]
[null,null,null,null,null,null,null,null,null,null,null,null,null,null,null,null,null,null,null,null,null,null,null,null,null,null,null,null,null,null,null,null,null,null,null,null,null,null,"Region Nordjylland"]
[null,null,null,null,null,null,null,null,null,null,null,null,null,null,null,null,null,null,null,null,null,null,null,null,null,null,null,null,null,null,null,null,null,null,null,null,null,null,"Region Nordjylland"]
[null,null,null,null,null,null,null,null,null,null,null,null,null,null,null,null,null,null,null,null,null,null,null,null,null,null,null,null,null,null,null,null,null,null,null,null,null,null,"Region Nordjylland"]
[null,null,null,null,null,null,null,null,null,null,null,null,null,null,null,null,null,null,null,null,null,null,null,null,null,null,null,null,null,null,null,null,null,null,null,null,null,null,"Region Nordjylland"]
[null,null,null,null,null,null,null,null,null,null,null,null,null,null,null,null,null,null,null,null,null,null,null,null,null,null,null,null,null,null,null,null,null,null,null,null,null,null,"Region Nordjylland"]
[null,null,null,null,null,null,null,null,null,null,null,null,null,null,null,null,null,null,null,null,null,null,null,null,null,null,null,null,null,null,null,null,null,null,null,null,null,null,"Region Nordjylland"]
[null,null,null,null,null,null,null,null,null,null,null,null,null,null,null,null,null,null,null,null,null,null,null,null,null,null,null,null,null,null,null,null,null,null,null,null,null,null,"Region Nordjylland"]
[]
[]
[]
[]
[null,"Variable til brug for nøgletal 1-4, 5.2 samt 7",null,null,1,"1.1","1.2","1.3",2,"2.1","2.2","2.3",3,4,5,"5.1","5.2","5.3","5.4",6,"6.1","6.2",7,7,"7.1",null,"7.2",null,8,8,9,9,10,10,"10.1","10.1","10.2","10.2"]
[null,"Region","Antal indbyggere","År","Antal institutionsanbragte (udregnes i hjælpetabellen)","Antal anbragte på døgninstitution","Antal anbragte på sikret døgninstitution","Antal anbragte på socialpædagogiske opholdssteder","Varighed igangværende institutionsanbringelser","Varighed igangværende anbringelser på døgninstitution","Varighed igangværende anbringelser på sikret døgninstitution","Varighed igangværende anbringelser på socialpædagogisk opholdssted","Antal anbragte i plejefamilier","Antal anbragte i netværksplejefamilier","Antal modtagere af hjemmebaserede foranstaltninger","Antal modtagere af døgnophold","Antal modtagere af hjemmebaserede anbringelser","Antal modtagere af forebyggende foranstaltninger","Antal modtagere af forældrerettede indsatser","Forebyggende indsatser (§ 11, stk. 3-tilbud)","Myndighedsbevilgede § 11, stk. 3-tilbud (pr. 1.000 0-17-årige)","Øvrige § 11, stk. 3-tilbud (pr. 1.000 0-17-årige)","Antal institutionsanbragte 0-17 årige, og som nu ikke er anbragt på denne form (udregnes i hjælpetabellen)","Antal institutionsanbragte 0-17 årige pr. forrige kvartal","0-17 årige, der ved sidste opgørelse var institutionsanbragt, men nu er anbragt i anden form","Antal 0-17-årige institutionsanbragte forrige opgørelse","0-17 årige, der ved sidste opgørelse var institutionsanbragt, men nu ikke er anbragt","Antal 0-17-årige institutionsanbragte forrige opgørelse","0-17-årige, der ved sidste opgørelse modtog en hjemmebaseret foranstaltning, som nu er anbragt","Antal 0-17-årige, der modtog hjemmebaseret foranstaltning, og ikke var anbragt pr. forrige opgørelse","0-17-årige, der ved sidste opgørelse modtog hjemmebaseret foranstaltning, men som nu hverken modtager hjemmebaseret foranstaltning eller er anbragt","Antal 0-17-årige som ved forrige opgørelse modtog hjemmebaseret foranstaltning","Andel børn og unge, der har modtaget en § 11, stk. 3-indsats inden for de første 6 måneder af året, hvor der efterfølgende træffes en afgørelse om en § 50 undersøgelse i alt","Antal 0-17-årige der inden for de første 6 måneder har påbegyndt en § 11, stk. 3-indsats","Børn der har modtaget en myndighedsbevilget § 11, stk. 3-indsats inden for de første 6 måneder af året, hvor der efterfølgende træffes en afgørelse om en § 50 undersøgelse","Antal 0-17-årige der inden for de første 6 måneder har påbegyndt en myndighedsbevilget § 11, stk. 3-indsats","Børn der har modtaget en ikke-myndighedsbevilget § 11, stk. 3-indsats inden for de første 6 måneder af året, hvor der efterfølgende træffes en afgørelse om en § 50 undersøgelse","Antal 0-17-årige der inden for de første 6 måneder har påbegyndt en ikke-myndighedsbevilget § 11, stk. 3-indsats"]
[null,"Region Hovedstaden",null,"2017-01-01"]
[null,"Region Midtjylland",null,"2017-01-01"]
[null,"Region Nordjylland",null,"2017-01-01"]
[null,"Region Sjælland",null,"2017-01-01"]
[null,"Region Syddanmark",null,"2017-01-01"]
[null,"Region Hovedstaden",null,"2017-07-01"]
[null,"Region Midtjylland",null,"2017-07-01"]
[null,"Region Nordjylland",null,"2017-07-01"]
[null,"Region Sjælland",null,"2017-07-01"]
[null,"Region Syddanmark",null,"2017-07-01"]
[null,"Region Hovedstaden",null,"2018-01-01"]
[null,"Region Midtjylland",null,"2018-01-01"]
[null,"Region Nordjylland",null,"2018-01-01"]
[null,"Region Sjælland",null,"2018-01-01"]
[null,"Region Syddanmark",null,"2018-01-01"]
[null,"Region Hovedstaden",null,"2018-07-01"]
[null,"Region Midtjylland",null,"2018-07-01"]
[null,"Region Nordjylland",null,"2018-07-01"]
[null,"Region Sjælland",null,"2018-07-01"]
[null,"Region Syddanmark",null,"2018-07-01"]
[null,"Region Hovedstaden",null,"2019-01-01"]
[null,"Region Midtjylland",null,"2019-01-01"]
[null,"Region Nordjylland",null,"2019-01-01"]
[null,"Region Sjælland",null,"2019-01-01"]
[null,"Region Syddanmark",null,"2019-01-01"]
[null,"Region Hovedstaden",null,"2019-07-01"]
[null,"Region Midtjylland",null,"2019-07-01"]
[null,"Region Nordjylland",null,"2019-07-01"]
[null,"Region Sjælland",null,"2019-07-01"]
[null,"Region Syddanmark",null,"2019-07-01"]
[null,"Region Hovedstaden",null,"2020-01-01"]
[null,"Region Midtjylland",null,"2020-01-01"]
[null,"Region Nordjylland",null,"2020-01-01"]
[null,"Region Sjælland",null,"2020-01-01"]
[null,"Region Syddanmark",null,"2020-01-01"]
[null,"Region Hovedstaden",null,"2021-01-01"]
[null,"Region Midtjylland",null,"2021-01-01"]
[null,"Region Nordjylland",null,"2021-01-01"]
[null,"Region Sjælland",null,"2021-01-01"]
[null,"Region Syddanmark",null,"2021-01-01"]
[null,"Region Hovedstaden",null,"2021-07-01"]
[null,"Region Midtjylland",null,"2021-07-01"]
[null,"Region Nordjylland",null,"2021-07-01"]
[null,"Region Sjælland",null,"2021-07-01"]
[null,"Region Syddanmark",null,"2021-07-01"]
[null,"Region Hovedstaden",null,"2022-01-01"]
[null,"Region Midtjylland",null,"2022-01-01"]
[null,"Region Nordjylland",null,"2022-01-01"]
[null,"Region Sjælland",null,"2022-01-01"]
[null,"Region Syddanmark",null,"2022-01-01"]
[null,"Region Hovedstaden",null,"2022-07-01"]
[null,"Region Midtjylland",null,"2022-07-01"]
[null,"Region Nordjylland",null,"2022-07-01"]
[null,"Region Sjælland",null,"2022-07-01"]
[null,"Region Syddanmark",null,"2022-07-01"]
[]
[]
[]
[]
[]
[]
[]
[null,"Variable til brug for nøgletal 1-4, 5.2 samt 7",null,null,1,"1.1","1.2","1.3",2,"2.1","2.2","2.3",3,4,5,"5.1","5.2","5.3","5.4",6,"6.1","6.2",7,7,"7.1",null,"7.2",null,8,8,9,9,10,10,"10.1","10.1","10.2","10.2"]
[null,"Hele landet","Antal indbyggere","År","Antal institutionsanbragte  (udregnes i hjælpetabellen)","Antal anbragte på døgninstitution","Antal anbragte på sikret døgninstitution","Antal anbragte på socialpædagogiske opholdssteder","Varighed igangværende institutionsanbringelser","Varighed igangværende anbringelser på døgninstitution","Varighed igangværende anbringelser på sikret døgninstitution","Varighed igangværende anbringelser på socialpædagogisk opholdssted","Antal anbragte i plejefamilier","Antal anbragte i netværksplejefamilier","Antal modtagere af hjemmebaserede foranstaltninger","Antal modtagere af døgnophold","Antal modtagere af hjemmebaserede anbringelser","Antal modtagere af forebyggende foranstaltninger","Antal modtagere af forældrerettede indsatser","Forebyggende indsatser (§ 11, stk. 3-tilbud)","Myndighedsbevilgede § 11, stk. 3-tilbud (pr. 1.000 0-17-årige)","Øvrige § 11, stk. 3-tilbud (pr. 1.000 0-17-årige)","Antal institutionsanbragte 0-17 årige, og som nu ikke er anbragt på denne form (udregnes i hjælpetabellen)","Antal institutionsanbragte 0-17 årige pr. forrige kvartal","0-17 årige, der ved sidste opgørelse var institutionsanbragt, men nu er anbragt i anden form","Antal 0-17-årige institutionsanbragte forrige opgørelse","0-17 årige, der ved sidste opgørelse var institutionsanbragt, men nu ikke er anbragt","Antal 0-17-årige institutionsanbragte forrige opgørelse","0-17-årige, der ved sidste opgørelse modtog en hjemmebaseret foranstaltning, som nu er anbragt","Antal 0-17-årige, der modtog hjemmebaseret foranstaltning, og ikke var anbragt pr. forrige opgørelse","0-17-årige, der ved sidste opgørelse modtog hjemmebaseret foranstaltning, men som nu hverken modtager hjemmebaseret foranstaltning eller er anbragt","Antal 0-17-årige som ved forrige opgørelse modtog hjemmebaseret foranstaltning","Andel børn og unge, der har modtaget en § 11, stk. 3-indsats inden for de første 6 måneder af året, hvor der efterfølgende træffes en afgørelse om en § 50 undersøgelse i alt","Antal 0-17-årige der inden for de første 6 måneder har påbegyndt en § 11, stk. 3-indsats","Børn der har modtaget en myndighedsbevilget § 11, stk. 3-indsats inden for de første 6 måneder af året, hvor der efterfølgende træffes en afgørelse om en § 50 undersøgelse","Antal 0-17-årige der inden for de første 6 måneder har påbegyndt en myndighedsbevilget § 11, stk. 3-indsats","Børn der har modtaget en ikke-myndighedsbevilget § 11, stk. 3-indsats inden for de første 6 måneder af året, hvor der efterfølgende træffes en afgørelse om en § 50 undersøgelse","Antal 0-17-årige der inden for de første 6 måneder har påbegyndt en ikke-myndighedsbevilget § 11, stk. 3-indsats"]
[null,"Hele landet",1168201,"2017-01-01",3383,1818,81,1484,2919506,1742648,24418,1152440,6754,955,23714,82,362,22944,326,null,null,null,634,3435,76,3435,558,3435,816,23290,5448,23717]
[null,"Hele landet",1165363,"2017-07-01",3460,1809,80,1571,2864697,1681708,26592,1156397,6801,1000,23377,74,340,22668,295,null,null,null,655,3383,74,3383,581,3383,805,23270,5909,23714]
[null,"Hele landet",1165475,"2018-01-01",3369,1761,64,1544,2780084,1627312,18299,1134473,6761,965,23399,56,323,22731,289,null,null,null,699,3460,79,3460,620,3460,759,22963,5475,23377]
[null,"Hele landet",1162195,"2018-07-01",3409,1780,85,1544,2671592,1556475,18279,1096838,6807,944,23289,80,256,22685,268,null,null,null,638,3369,58,3369,580,3369,763,23020,6193,23399]
[null,"Hele landet",1160360,"2019-01-01",3309,1704,76,1529,2549944,1474692,20518,1054734,6779,944,24047,77,256,23481,233,null,null,null,674,3409,77,3409,597,3409,715,22953,5586,23289]
[null,"Hele landet",1156537,"2019-07-01",3282,1695,71,1516,2520675,1472207,23313,1025155,6771,917,23855,69,226,23358,202,null,null,null,604,3309,62,3309,542,3309,678,23714,6824,24047]
[null,"Hele landet",1156116,"2020-01-01",3274,1680,77,1517,2479646,1450623,20262,1008761,6665,899,24683,87,255,24142,199,null,null,null,650,3282,74,3282,576,3282,735,23560,6014,23855]
[null,"Hele landet",1153027,"2020-07-01",3343,1669,82,1592,2518184,1435480,20696,1062008,6603,922,24731,84,237,24211,199,null,null,null,559,3274,53,3274,506,3274,755,24341,5807,24683]
[null,"Hele landet",1152972,"2021-01-01",3404,1694,95,1615,2519364,1423295,18628,1077441,6547,947,25218,74,249,24678,217,null,null,null,597,3343,68,3343,529,3343,751,24410,6149,24731]
[null,"Hele landet",1151374,"2021-07-01",3494,1680,97,1717,2533338,1404018,21549,1107771,6540,952,26148,62,242,25657,187,null,null,null,589,3404,63,3404,526,3404,784,24895,5832,25218]
[null,"Hele landet",1151704,"2022-01-01",3486,1689,84,1713,2554433,1404124,18321,1131988,6449,935,26528,71,251,26024,182,null,null,null,660,3494,48,3494,612,3494,738,25844,6592,26148]
[null,"Hele landet",1157254,"2022-07-01",3675,1762,87,1826,2587666,1421269,18630,1147767,6384,963,26834,61,247,26344,182,null,null,null,574,3486,46,3486,528,3486,815,26206,6566,26528]
[null,"Hele landet",1155814,"2023-01-01",3708,1768,86,1854,2626422,1443374,16479,1166569,6297,1006,27394,72,247,26869,206,null,null,null,656,3675,56,3675,600,3675,765,26526,6891,26834]
[null,"Hele landet",1151415,"2023-07-01",3769,1815,91,1863,2688953,1489560,16033,1183360,6295,1009,27599,84,242,27053,220,null,null,null,616,3708,60,3708,556,3708,732,27075,7084,27394]
[null,"Hele landet",1148490,"2024-01-01",3790,1800,95,1895,2761895,1543409,20710,1197776,6187,1030,27256,75,264,26668,249,null,null,null,641,3769,57,3769,584,3769,770,27273,7593,27599]
[]
[]
[]
[]
[]
[null,"Valg af Kommune",null,"Dags dato",null,"Valg nøgletal"]
[null,48,null,{"$f":"TODAY()","v":"2024-10-28"},null,1]
[]
[null,"Valg af\nsammenligningskommune",null,"Dato for ny model","Denne skal opdateres årligt","Valg registernøgletal","Valg indtastning",null,"Vis userform"]
[null,48,null,"2024-12-10",null,1,1,null,{"$f":"IF(D1667>D1670,FALSE,TRUE)","v":true},true]
[]
[null,null,null,null,null,null,null,null,null,"Denne liste skal opdateres årligt, og det samme skal det navngivne område \"År_liste\""]
[null,"Nummer","Liste over kommuner","Region",null,"Nummer","Liste over nøgletal",null,"Nummer","Liste over kvartaler","Kvartal-navn"]
[null,1,"Albertslund","Region Hovedstaden",null,1,"Vis alle",null,1,20171,{"$f":"LEFT(J1674,4)&\" \"&RIGHT(J1674,1)&\". halvår\"","v":"2017 1. halvår"}]
[null,2,"Allerød","Region Hovedstaden",null,2,"Nøgletal 1 - Institutionsanbringelser",null,2,20172,{"$f":"LEFT(J1675,4)&\" \"&RIGHT(J1675,1)&\". halvår\"","v":"2017 2. halvår"}]
[null,3,"Assens","Region Syddanmark",null,3,"Nøgletal 2 - Varighed af institutionsanbringelser",null,3,20181,{"$f":"LEFT(J1676,4)&\" \"&RIGHT(J1676,1)&\". halvår\"","v":"2018 1. halvår"}]
[null,4,"Ballerup","Region Hovedstaden",null,4,"Nøgletal 3 - Anbragte i plejefamilie",null,4,20182,"2018 2. halvår"]
[null,5,"Billund","Region Syddanmark",null,5,"Nøgletal 4 - Anbragte i netværksplejefamilie",null,5,20191,"2019 1. halvår"]
[null,6,"Bornholm","Region Hovedstaden",null,6,"Nøgletal 5 - Hjemmebaserede foranstaltninger",null,6,20192,"2019 2. halvår"]
[null,7,"Brøndby","Region Hovedstaden",null,7,"Nøgletal 6 - Forebyggende indsatser (§ 11.3 tilbud)",null,7,20201,"2020 1. halvår"]
[null,8,"Brønderslev","Region Nordjylland",null,8,"Nøgletal 7 - Tidligere institutionsanbragte",null,8,20202,"2020 2. halvår"]
[null,9,"Dragør","Region Hovedstaden",null,9,"Nøgletal 8 - Fra hjemmebaseret foranst. og op ad indsatstrappen",null,9,20211,"2021 1. halvår"]
[null,10,"Egedal","Region Hovedstaden",null,10,"Nøgletal 9 - Fra hjemmebaseret foranst. og ned ad indsatstrappen",null,10,20212,"2021 2. halvår"]
[null,11,"Esbjerg","Region Syddanmark",null,11,"Nøgletal 10 - Fra forebyggende indsatser og op ad trappen",null,11,20221,"2022 1. halvår"]
[null,12,"Fanø","Region Syddanmark",null,12,"Nøgletal 11 - Frekvens af opfølgninger",null,12,20222,"2022 2. halvår"]
[null,13,"Favrskov","Region Midtjylland",null,null,null,null,13,20231,"2023 1. halvår"]
[null,14,"Faxe","Region Sjælland",null,null,null,null,14,20232,"2023 2. halvår"]
[null,15,"Fredensborg","Region Hovedstaden",null,null,null,null,15,20241,"2024 1. halvår"]
[null,16,"Fredericia","Region Syddanmark",null,null,null,null,16]
[null,17,"Frederiksberg","Region Hovedstaden",null,null,null,null,17]
[null,18,"Frederikshavn","Region Nordjylland",null,"Nummer","Liste over registernøgletal",null,18]
[null,19,"Frederikssund","Region Hovedstaden",null,1,"Vis alle",null,19]
[null,20,"Furesø","Region Hovedstaden",null,2,"Nøgletal 1 - Institutionsanbringelser",null,20]
[null,21,"Faaborg-Midtfyn","Region Syddanmark",null,3,"Nøgletal 2 - Varighed af institutionsanbringelser",null,21]
[null,22,"Gentofte","Region Hovedstaden",null,4,"Nøgletal 3 - Anbragte i plejefamilie",null,22]
[null,23,"Gladsaxe","Region Hovedstaden",null,5,"Nøgletal 4 - Anbragte i netværksplejefamilie",null,23]
[null,24,"Glostrup","Region Hovedstaden",null,6,"Nøgletal 5 - Hjemmebaserede foranstaltninger",null,24]
[null,25,"Greve","Region Sjælland",null,7,"Nøgletal 7 - Tidligere institutionsanbragte",null,25]
[null,26,"Gribskov","Region Hovedstaden",null,8,"Nøgletal 8 - Fra hjemmebaseret foranst. og op ad indsatstrappen"]
[null,27,"Guldborgsund","Region Sjælland",null,9,"Nøgletal 9 - Fra hjemmebaseret foranst. og ned ad indsatstrappen"]
[null,28,"Haderslev","Region Syddanmark"]
[null,29,"Halsnæs","Region Hovedstaden"]
[null,30,"Hedensted","Region Midtjylland"]
[null,31,"Helsingør","Region Hovedstaden",null,"Nummer","Liste over indtastnings-nøgletal"]
[null,32,"Herlev","Region Hovedstaden",null,1,"Vis alle"]
[null,33,"Herning","Region Midtjylland",null,2,"Nøgletal 6 - Forebyggende indsatser (§ 11, stk. 3-tilbud)"]
[null,34,"Hillerød","Region Hovedstaden",null,3,"Nøgletal 10 - Udvikling i forebyggende indsatser (§ 11, stk. 3-tilbud)"]
[null,35,"Hjørring","Region Nordjylland",null,4,"Nøgletal 11 - Opfølgninger"]
[null,36,"Holbæk","Region Sjælland"]
[null,37,"Holstebro","Region Midtjylland"]
[null,38,"Horsens","Region Midtjylland"]
[null,39,"Hvidovre","Region Hovedstaden"]
[null,40,"Høje-Taastrup","Region Hovedstaden"]
[null,41,"Hørsholm","Region Hovedstaden"]
[null,42,"Ikast-Brande","Region Midtjylland"]
[null,43,"Ishøj","Region Hovedstaden"]
[null,44,"Jammerbugt","Region Nordjylland"]
[null,45,"Kalundborg","Region Sjælland"]
[null,46,"Kerteminde","Region Syddanmark"]
[null,47,"Kolding","Region Syddanmark"]
[null,48,"København","Region Hovedstaden"]
[null,49,"Køge","Region Sjælland"]
[null,50,"Langeland","Region Syddanmark"]
[null,51,"Lejre","Region Sjælland"]
[null,52,"Lemvig","Region Midtjylland"]
[null,53,"Lolland","Region Sjælland"]
[null,54,"Lyngby-Taarbæk","Region Hovedstaden"]
[null,55,"Læsø","Region Nordjylland"]
[null,56,"Mariagerfjord","Region Nordjylland"]
[null,57,"Middelfart","Region Syddanmark"]
[null,58,"Morsø","Region Nordjylland"]
[null,59,"Norddjurs","Region Midtjylland"]
[null,60,"Nordfyns","Region Syddanmark"]
[null,61,"Nyborg","Region Syddanmark"]
[null,62,"Næstved","Region Sjælland"]
[null,63,"Odder","Region Midtjylland"]
[null,64,"Odense","Region Syddanmark"]
[null,65,"Odsherred","Region Sjælland"]
[null,66,"Randers","Region Midtjylland"]
[null,67,"Rebild","Region Nordjylland"]
[null,68,"Ringkøbing-Skjern","Region Midtjylland"]
[null,69,"Ringsted","Region Sjælland"]
[null,70,"Roskilde","Region Sjælland"]
[null,71,"Rudersdal","Region Hovedstaden"]
[null,72,"Rødovre","Region Hovedstaden"]
[null,73,"Samsø","Region Midtjylland"]
[null,74,"Silkeborg","Region Midtjylland"]
[null,75,"Skanderborg","Region Midtjylland"]
[null,76,"Skive","Region Midtjylland"]
[null,77,"Slagelse","Region Sjælland"]
[null,78,"Solrød","Region Sjælland"]
[null,79,"Sorø","Region Sjælland"]
[null,80,"Stevns","Region Sjælland"]
[null,81,"Struer","Region Midtjylland"]
[null,82,"Svendborg","Region Syddanmark"]
[null,83,"Syddjurs","Region Midtjylland"]
[null,84,"Sønderborg","Region Syddanmark"]
[null,85,"Thisted","Region Nordjylland"]
[null,86,"Tønder","Region Syddanmark"]
[null,87,"Tårnby","Region Hovedstaden"]
[null,88,"Vallensbæk","Region Hovedstaden"]
[null,89,"Varde","Region Syddanmark"]
[null,90,"Vejen","Region Syddanmark"]
[null,91,"Vejle","Region Syddanmark"]
[null,92,"Vesthimmerlands","Region Nordjylland"]
[null,93,"Viborg","Region Midtjylland"]
[null,94,"Vordingborg","Region Sjælland"]
[null,95,"Ærø","Region Syddanmark"]
[null,96,"Aabenraa","Region Syddanmark"]
[null,97,"Aalborg","Region Nordjylland"]
[null,98,"Aarhus","Region Midtjylland"]